{"text_format":"1","workbook":"xlsx","n_sheets":6,"sheets":["Eternit","Stückliste","Schelling ","Alphacam","Originalbestellung","Farben"],"not_rendered":{"charts":0,"images":5,"macros":1,"external_links":6,"defined_names":78,"comments":0,"pivot_tables":0},"unopened":[],"bounds":{"document_bytes":16777216,"sheet_cells":100000,"rows_first":2000,"rows_last":500,"rows_between":2000,"halvings":0,"cell_chars":16384,"cell_head_chars":4096},"cells_cut":0,"cells_raw":0,"read":"whole","date_system":"1900"}

{"sheet":"Eternit","index":0,"n_rows":1027,"n_cols":13,"rows_kept":1027,"cut":false,"hidden":false,"merged":[[0,7,0,10],[0,11,0,12],[0,0,1,0],[0,1,1,1],[0,2,1,2],[0,3,1,3],[0,4,1,4],[0,5,0,6]]}
["Palettierung ","Vermerk","Platten-dicke","Pos.","Stück","Plattenformat",null,"Rasterabstand der Löcher",null,null,null,"Anzahl Löcher"]
[null,null,null,null,null,"Länge X mm","Breite Y mm","X1","X2","Y1","Y2","XL","YL"]
[{"$f":"Stückliste!AN1","v":"a"},{"$f":"Stückliste!AR1","v":"5.5"},{"$f":"Stückliste!AQ22","v":8},{"$f":"Stückliste!A56","v":0},{"$f":"Stückliste!E56","v":0},{"$f":"Stückliste!J56","v":0},{"$f":"Stückliste!O56","v":0},{"$f":"Stückliste!T56","v":0},{"$f":"Stückliste!W56","v":0},{"$f":"Stückliste!Z56","v":0},{"$f":"Stückliste!AC56","v":0},{"$f":"Stückliste!AF56","v":0},{"$f":"Stückliste!AI56","v":0}]
[{"$f":"A3","v":"a"},{"$f":"B3","v":"5.5"},{"$f":"C3","v":8},{"$f":"Stückliste!A57","v":0},{"$f":"Stückliste!E57","v":0},{"$f":"Stückliste!J57","v":0},{"$f":"Stückliste!O57","v":0},{"$f":"Stückliste!T57","v":0},{"$f":"Stückliste!W57","v":0},{"$f":"Stückliste!Z57","v":0},{"$f":"Stückliste!AC57","v":0},{"$f":"Stückliste!AF57","v":0},{"$f":"Stückliste!AI57","v":0}]
[{"$f":"A4","v":"a"},{"$f":"B4","v":"5.5"},{"$f":"C4","v":8},{"$f":"Stückliste!A58","v":0},{"$f":"Stückliste!E58","v":0},{"$f":"Stückliste!J58","v":0},{"$f":"Stückliste!O58","v":0},{"$f":"Stückliste!T58","v":0},{"$f":"Stückliste!W58","v":0},{"$f":"Stückliste!Z58","v":0},{"$f":"Stückliste!AC58","v":0},{"$f":"Stückliste!AF58","v":0},{"$f":"Stückliste!AI58","v":0}]
["a","5.5",8,{"$f":"Stückliste!A59","v":0},{"$f":"Stückliste!E59","v":0},{"$f":"Stückliste!J59","v":0},{"$f":"Stückliste!O59","v":0},{"$f":"Stückliste!T59","v":0},{"$f":"Stückliste!W59","v":0},{"$f":"Stückliste!Z59","v":0},{"$f":"Stückliste!AC59","v":0},{"$f":"Stückliste!AF59","v":0},{"$f":"Stückliste!AI59","v":0}]
["a","5.5",8,{"$f":"Stückliste!A60","v":0},{"$f":"Stückliste!E60","v":0},{"$f":"Stückliste!J60","v":0},{"$f":"Stückliste!O60","v":0},{"$f":"Stückliste!T60","v":0},{"$f":"Stückliste!W60","v":0},{"$f":"Stückliste!Z60","v":0},{"$f":"Stückliste!AC60","v":0},{"$f":"Stückliste!AF60","v":0},{"$f":"Stückliste!AI60","v":0}]
["a","5.5",8,{"$f":"Stückliste!A61","v":0},{"$f":"Stückliste!E61","v":0},{"$f":"Stückliste!J61","v":0},{"$f":"Stückliste!O61","v":0},{"$f":"Stückliste!T61","v":0},{"$f":"Stückliste!W61","v":0},{"$f":"Stückliste!Z61","v":0},{"$f":"Stückliste!AC61","v":0},{"$f":"Stückliste!AF61","v":0},{"$f":"Stückliste!AI61","v":0}]
["a","5.5",8,{"$f":"Stückliste!A62","v":0},{"$f":"Stückliste!E62","v":0},{"$f":"Stückliste!J62","v":0},{"$f":"Stückliste!O62","v":0},{"$f":"Stückliste!T62","v":0},{"$f":"Stückliste!W62","v":0},{"$f":"Stückliste!Z62","v":0},{"$f":"Stückliste!AC62","v":0},{"$f":"Stückliste!AF62","v":0},{"$f":"Stückliste!AI62","v":0}]
["a","5.5",8,{"$f":"Stückliste!A63","v":0},{"$f":"Stückliste!E63","v":0},{"$f":"Stückliste!J63","v":0},{"$f":"Stückliste!O63","v":0},{"$f":"Stückliste!T63","v":0},{"$f":"Stückliste!W63","v":0},{"$f":"Stückliste!Z63","v":0},{"$f":"Stückliste!AC63","v":0},{"$f":"Stückliste!AF63","v":0},{"$f":"Stückliste!AI63","v":0}]
["a","5.5",8,{"$f":"Stückliste!A64","v":0},{"$f":"Stückliste!E64","v":0},{"$f":"Stückliste!J64","v":0},{"$f":"Stückliste!O64","v":0},{"$f":"Stückliste!T64","v":0},{"$f":"Stückliste!W64","v":0},{"$f":"Stückliste!Z64","v":0},{"$f":"Stückliste!AC64","v":0},{"$f":"Stückliste!AF64","v":0},{"$f":"Stückliste!AI64","v":0}]
["a","5.5",8,{"$f":"Stückliste!A65","v":0},{"$f":"Stückliste!E65","v":0},{"$f":"Stückliste!J65","v":0},{"$f":"Stückliste!O65","v":0},{"$f":"Stückliste!T65","v":0},{"$f":"Stückliste!W65","v":0},{"$f":"Stückliste!Z65","v":0},{"$f":"Stückliste!AC65","v":0},{"$f":"Stückliste!AF65","v":0},{"$f":"Stückliste!AI65","v":0}]
["a","5.5",8,{"$f":"Stückliste!A66","v":0},{"$f":"Stückliste!E66","v":0},{"$f":"Stückliste!J66","v":0},{"$f":"Stückliste!O66","v":0},{"$f":"Stückliste!T66","v":0},{"$f":"Stückliste!W66","v":0},{"$f":"Stückliste!Z66","v":0},{"$f":"Stückliste!AC66","v":0},{"$f":"Stückliste!AF66","v":0},{"$f":"Stückliste!AI66","v":0}]
["a","5.5",8,{"$f":"Stückliste!A67","v":0},{"$f":"Stückliste!E67","v":0},{"$f":"Stückliste!J67","v":0},{"$f":"Stückliste!O67","v":0},{"$f":"Stückliste!T67","v":0},{"$f":"Stückliste!W67","v":0},{"$f":"Stückliste!Z67","v":0},{"$f":"Stückliste!AC67","v":0},{"$f":"Stückliste!AF67","v":0},{"$f":"Stückliste!AI67","v":0}]
["a","5.5",8,{"$f":"Stückliste!A68","v":0},{"$f":"Stückliste!E68","v":0},{"$f":"Stückliste!J68","v":0},{"$f":"Stückliste!O68","v":0},{"$f":"Stückliste!T68","v":0},{"$f":"Stückliste!W68","v":0},{"$f":"Stückliste!Z68","v":0},{"$f":"Stückliste!AC68","v":0},{"$f":"Stückliste!AF68","v":0},{"$f":"Stückliste!AI68","v":0}]
["a","5.5",8,{"$f":"Stückliste!A69","v":0},{"$f":"Stückliste!E69","v":0},{"$f":"Stückliste!J69","v":0},{"$f":"Stückliste!O69","v":0},{"$f":"Stückliste!T69","v":0},{"$f":"Stückliste!W69","v":0},{"$f":"Stückliste!Z69","v":0},{"$f":"Stückliste!AC69","v":0},{"$f":"Stückliste!AF69","v":0},{"$f":"Stückliste!AI69","v":0}]
["a","5.5",8,{"$f":"Stückliste!A70","v":0},{"$f":"Stückliste!E70","v":0},{"$f":"Stückliste!J70","v":0},{"$f":"Stückliste!O70","v":0},{"$f":"Stückliste!T70","v":0},{"$f":"Stückliste!W70","v":0},{"$f":"Stückliste!Z70","v":0},{"$f":"Stückliste!AC70","v":0},{"$f":"Stückliste!AF70","v":0},{"$f":"Stückliste!AI70","v":0}]
["a","5.5",8,{"$f":"Stückliste!A71","v":0},{"$f":"Stückliste!E71","v":0},{"$f":"Stückliste!J71","v":0},{"$f":"Stückliste!O71","v":0},{"$f":"Stückliste!T71","v":0},{"$f":"Stückliste!W71","v":0},{"$f":"Stückliste!Z71","v":0},{"$f":"Stückliste!AC71","v":0},{"$f":"Stückliste!AF71","v":0},{"$f":"Stückliste!AI71","v":0}]
["a","5.5",8,{"$f":"Stückliste!A72","v":0},{"$f":"Stückliste!E72","v":0},{"$f":"Stückliste!J72","v":0},{"$f":"Stückliste!O72","v":0},{"$f":"Stückliste!T72","v":0},{"$f":"Stückliste!W72","v":0},{"$f":"Stückliste!Z72","v":0},{"$f":"Stückliste!AC72","v":0},{"$f":"Stückliste!AF72","v":0},{"$f":"Stückliste!AI72","v":0}]
["a","5.5",8,{"$f":"Stückliste!A73","v":0},{"$f":"Stückliste!E73","v":0},{"$f":"Stückliste!J73","v":0},{"$f":"Stückliste!O73","v":0},{"$f":"Stückliste!T73","v":0},{"$f":"Stückliste!W73","v":0},{"$f":"Stückliste!Z73","v":0},{"$f":"Stückliste!AC73","v":0},{"$f":"Stückliste!AF73","v":0},{"$f":"Stückliste!AI73","v":0}]
["a","5.5",8,{"$f":"Stückliste!A74","v":0},{"$f":"Stückliste!E74","v":0},{"$f":"Stückliste!J74","v":0},{"$f":"Stückliste!O74","v":0},{"$f":"Stückliste!T74","v":0},{"$f":"Stückliste!W74","v":0},{"$f":"Stückliste!Z74","v":0},{"$f":"Stückliste!AC74","v":0},{"$f":"Stückliste!AF74","v":0},{"$f":"Stückliste!AI74","v":0}]
["a","5.5",8,{"$f":"Stückliste!A75","v":0},{"$f":"Stückliste!E75","v":0},{"$f":"Stückliste!J75","v":0},{"$f":"Stückliste!O75","v":0},{"$f":"Stückliste!T75","v":0},{"$f":"Stückliste!W75","v":0},{"$f":"Stückliste!Z75","v":0},{"$f":"Stückliste!AC75","v":0},{"$f":"Stückliste!AF75","v":0},{"$f":"Stückliste!AI75","v":0}]
["a","5.5",8,{"$f":"Stückliste!A76","v":0},{"$f":"Stückliste!E76","v":0},{"$f":"Stückliste!J76","v":0},{"$f":"Stückliste!O76","v":0},{"$f":"Stückliste!T76","v":0},{"$f":"Stückliste!W76","v":0},{"$f":"Stückliste!Z76","v":0},{"$f":"Stückliste!AC76","v":0},{"$f":"Stückliste!AF76","v":0},{"$f":"Stückliste!AI76","v":0}]
["a","5.5",8,{"$f":"Stückliste!A77","v":0},{"$f":"Stückliste!E77","v":0},{"$f":"Stückliste!J77","v":0},{"$f":"Stückliste!O77","v":0},{"$f":"Stückliste!T77","v":0},{"$f":"Stückliste!W77","v":0},{"$f":"Stückliste!Z77","v":0},{"$f":"Stückliste!AC77","v":0},{"$f":"Stückliste!AF77","v":0},{"$f":"Stückliste!AI77","v":0}]
["a","5.5",8,{"$f":"Stückliste!A78","v":0},{"$f":"Stückliste!E78","v":0},{"$f":"Stückliste!J78","v":0},{"$f":"Stückliste!O78","v":0},{"$f":"Stückliste!T78","v":0},{"$f":"Stückliste!W78","v":0},{"$f":"Stückliste!Z78","v":0},{"$f":"Stückliste!AC78","v":0},{"$f":"Stückliste!AF78","v":0},{"$f":"Stückliste!AI78","v":0}]
["a","5.5",8,{"$f":"Stückliste!A79","v":0},{"$f":"Stückliste!E79","v":0},{"$f":"Stückliste!J79","v":0},{"$f":"Stückliste!O79","v":0},{"$f":"Stückliste!T79","v":0},{"$f":"Stückliste!W79","v":0},{"$f":"Stückliste!Z79","v":0},{"$f":"Stückliste!AC79","v":0},{"$f":"Stückliste!AF79","v":0},{"$f":"Stückliste!AI79","v":0}]
["a","5.5",8,{"$f":"Stückliste!A80","v":0},{"$f":"Stückliste!E80","v":0},{"$f":"Stückliste!J80","v":0},{"$f":"Stückliste!O80","v":0},{"$f":"Stückliste!T80","v":0},{"$f":"Stückliste!W80","v":0},{"$f":"Stückliste!Z80","v":0},{"$f":"Stückliste!AC80","v":0},{"$f":"Stückliste!AF80","v":0},{"$f":"Stückliste!AI80","v":0}]
["a","5.5",8,{"$f":"Stückliste!A81","v":0},{"$f":"Stückliste!E81","v":0},{"$f":"Stückliste!J81","v":0},{"$f":"Stückliste!O81","v":0},{"$f":"Stückliste!T81","v":0},{"$f":"Stückliste!W81","v":0},{"$f":"Stückliste!Z81","v":0},{"$f":"Stückliste!AC81","v":0},{"$f":"Stückliste!AF81","v":0},{"$f":"Stückliste!AI81","v":0}]
["a","5.5",8,{"$f":"Stückliste!A82","v":0},{"$f":"Stückliste!E82","v":0},{"$f":"Stückliste!J82","v":0},{"$f":"Stückliste!O82","v":0},{"$f":"Stückliste!T82","v":0},{"$f":"Stückliste!W82","v":0},{"$f":"Stückliste!Z82","v":0},{"$f":"Stückliste!AC82","v":0},{"$f":"Stückliste!AF82","v":0},{"$f":"Stückliste!AI82","v":0}]
["a","5.5",8,{"$f":"Stückliste!A83","v":0},{"$f":"Stückliste!E83","v":0},{"$f":"Stückliste!J83","v":0},{"$f":"Stückliste!O83","v":0},{"$f":"Stückliste!T83","v":0},{"$f":"Stückliste!W83","v":0},{"$f":"Stückliste!Z83","v":0},{"$f":"Stückliste!AC83","v":0},{"$f":"Stückliste!AF83","v":0},{"$f":"Stückliste!AI83","v":0}]
["a","5.5",8,{"$f":"Stückliste!A84","v":0},{"$f":"Stückliste!E84","v":0},{"$f":"Stückliste!J84","v":0},{"$f":"Stückliste!O84","v":0},{"$f":"Stückliste!T84","v":0},{"$f":"Stückliste!W84","v":0},{"$f":"Stückliste!Z84","v":0},{"$f":"Stückliste!AC84","v":0},{"$f":"Stückliste!AF84","v":0},{"$f":"Stückliste!AI84","v":0}]
["a","5.5",8,{"$f":"Stückliste!A85","v":0},{"$f":"Stückliste!E85","v":0},{"$f":"Stückliste!J85","v":0},{"$f":"Stückliste!O85","v":0},{"$f":"Stückliste!T85","v":0},{"$f":"Stückliste!W85","v":0},{"$f":"Stückliste!Z85","v":0},{"$f":"Stückliste!AC85","v":0},{"$f":"Stückliste!AF85","v":0},{"$f":"Stückliste!AI85","v":0}]
["a","5.5",8,{"$f":"Stückliste!A86","v":0},{"$f":"Stückliste!E86","v":0},{"$f":"Stückliste!J86","v":0},{"$f":"Stückliste!O86","v":0},{"$f":"Stückliste!T86","v":0},{"$f":"Stückliste!W86","v":0},{"$f":"Stückliste!Z86","v":0},{"$f":"Stückliste!AC86","v":0},{"$f":"Stückliste!AF86","v":0},{"$f":"Stückliste!AI86","v":0}]
["a","5.5",8,{"$f":"Stückliste!A87","v":0},{"$f":"Stückliste!E87","v":0},{"$f":"Stückliste!J87","v":0},{"$f":"Stückliste!O87","v":0},{"$f":"Stückliste!T87","v":0},{"$f":"Stückliste!W87","v":0},{"$f":"Stückliste!Z87","v":0},{"$f":"Stückliste!AC87","v":0},{"$f":"Stückliste!AF87","v":0},{"$f":"Stückliste!AI87","v":0}]
["a","5.5",8,{"$f":"Stückliste!A88","v":0},{"$f":"Stückliste!E88","v":0},{"$f":"Stückliste!J88","v":0},{"$f":"Stückliste!O88","v":0},{"$f":"Stückliste!T88","v":0},{"$f":"Stückliste!W88","v":0},{"$f":"Stückliste!Z88","v":0},{"$f":"Stückliste!AC88","v":0},{"$f":"Stückliste!AF88","v":0},{"$f":"Stückliste!AI88","v":0}]
["a","5.5",8,{"$f":"Stückliste!A89","v":0},{"$f":"Stückliste!E89","v":0},{"$f":"Stückliste!J89","v":0},{"$f":"Stückliste!O89","v":0},{"$f":"Stückliste!T89","v":0},{"$f":"Stückliste!W89","v":0},{"$f":"Stückliste!Z89","v":0},{"$f":"Stückliste!AC89","v":0},{"$f":"Stückliste!AF89","v":0},{"$f":"Stückliste!AI89","v":0}]
["a","5.5",8,{"$f":"Stückliste!A90","v":0},{"$f":"Stückliste!E90","v":0},{"$f":"Stückliste!J90","v":0},{"$f":"Stückliste!O90","v":0},{"$f":"Stückliste!T90","v":0},{"$f":"Stückliste!W90","v":0},{"$f":"Stückliste!Z90","v":0},{"$f":"Stückliste!AC90","v":0},{"$f":"Stückliste!AF90","v":0},{"$f":"Stückliste!AI90","v":0}]
["a","5.5",8,{"$f":"Stückliste!A91","v":0},{"$f":"Stückliste!E91","v":0},{"$f":"Stückliste!J91","v":0},{"$f":"Stückliste!O91","v":0},{"$f":"Stückliste!T91","v":0},{"$f":"Stückliste!W91","v":0},{"$f":"Stückliste!Z91","v":0},{"$f":"Stückliste!AC91","v":0},{"$f":"Stückliste!AF91","v":0},{"$f":"Stückliste!AI91","v":0}]
["a","5.5",8,{"$f":"Stückliste!A92","v":0},{"$f":"Stückliste!E92","v":0},{"$f":"Stückliste!J92","v":0},{"$f":"Stückliste!O92","v":0},{"$f":"Stückliste!T92","v":0},{"$f":"Stückliste!W92","v":0},{"$f":"Stückliste!Z92","v":0},{"$f":"Stückliste!AC92","v":0},{"$f":"Stückliste!AF92","v":0},{"$f":"Stückliste!AI92","v":0}]
["a","5.5",8,{"$f":"Stückliste!A93","v":0},{"$f":"Stückliste!E93","v":0},{"$f":"Stückliste!J93","v":0},{"$f":"Stückliste!O93","v":0},{"$f":"Stückliste!T93","v":0},{"$f":"Stückliste!W93","v":0},{"$f":"Stückliste!Z93","v":0},{"$f":"Stückliste!AC93","v":0},{"$f":"Stückliste!AF93","v":0},{"$f":"Stückliste!AI93","v":0}]
["a","5.5",8,{"$f":"Stückliste!A94","v":0},{"$f":"Stückliste!E94","v":0},{"$f":"Stückliste!J94","v":0},{"$f":"Stückliste!O94","v":0},{"$f":"Stückliste!T94","v":0},{"$f":"Stückliste!W94","v":0},{"$f":"Stückliste!Z94","v":0},{"$f":"Stückliste!AC94","v":0},{"$f":"Stückliste!AF94","v":0},{"$f":"Stückliste!AI94","v":0}]
["a","5.5",8,{"$f":"Stückliste!A95","v":0},{"$f":"Stückliste!E95","v":0},{"$f":"Stückliste!J95","v":0},{"$f":"Stückliste!O95","v":0},{"$f":"Stückliste!T95","v":0},{"$f":"Stückliste!W95","v":0},{"$f":"Stückliste!Z95","v":0},{"$f":"Stückliste!AC95","v":0},{"$f":"Stückliste!AF95","v":0},{"$f":"Stückliste!AI95","v":0}]
["a","5.5",8,{"$f":"Stückliste!A96","v":0},{"$f":"Stückliste!E96","v":0},{"$f":"Stückliste!J96","v":0},{"$f":"Stückliste!O96","v":0},{"$f":"Stückliste!T96","v":0},{"$f":"Stückliste!W96","v":0},{"$f":"Stückliste!Z96","v":0},{"$f":"Stückliste!AC96","v":0},{"$f":"Stückliste!AF96","v":0},{"$f":"Stückliste!AI96","v":0}]
["a","5.5",8,{"$f":"Stückliste!A97","v":0},{"$f":"Stückliste!E97","v":0},{"$f":"Stückliste!J97","v":0},{"$f":"Stückliste!O97","v":0},{"$f":"Stückliste!T97","v":0},{"$f":"Stückliste!W97","v":0},{"$f":"Stückliste!Z97","v":0},{"$f":"Stückliste!AC97","v":0},{"$f":"Stückliste!AF97","v":0},{"$f":"Stückliste!AI97","v":0}]
["a","5.5",8,{"$f":"Stückliste!A98","v":0},{"$f":"Stückliste!E98","v":0},{"$f":"Stückliste!J98","v":0},{"$f":"Stückliste!O98","v":0},{"$f":"Stückliste!T98","v":0},{"$f":"Stückliste!W98","v":0},{"$f":"Stückliste!Z98","v":0},{"$f":"Stückliste!AC98","v":0},{"$f":"Stückliste!AF98","v":0},{"$f":"Stückliste!AI98","v":0}]
["a","5.5",8,{"$f":"Stückliste!A99","v":0},{"$f":"Stückliste!E99","v":0},{"$f":"Stückliste!J99","v":0},{"$f":"Stückliste!O99","v":0},{"$f":"Stückliste!T99","v":0},{"$f":"Stückliste!W99","v":0},{"$f":"Stückliste!Z99","v":0},{"$f":"Stückliste!AC99","v":0},{"$f":"Stückliste!AF99","v":0},{"$f":"Stückliste!AI99","v":0}]
["a","5.5",8,{"$f":"Stückliste!A100","v":0},{"$f":"Stückliste!E100","v":0},{"$f":"Stückliste!J100","v":0},{"$f":"Stückliste!O100","v":0},{"$f":"Stückliste!T100","v":0},{"$f":"Stückliste!W100","v":0},{"$f":"Stückliste!Z100","v":0},{"$f":"Stückliste!AC100","v":0},{"$f":"Stückliste!AF100","v":0},{"$f":"Stückliste!AI100","v":0}]
["a","5.5",8,{"$f":"Stückliste!A101","v":0},{"$f":"Stückliste!E101","v":0},{"$f":"Stückliste!J101","v":0},{"$f":"Stückliste!O101","v":0},{"$f":"Stückliste!T101","v":0},{"$f":"Stückliste!W101","v":0},{"$f":"Stückliste!Z101","v":0},{"$f":"Stückliste!AC101","v":0},{"$f":"Stückliste!AF101","v":0},{"$f":"Stückliste!AI101","v":0}]
["a","5.5",8,{"$f":"Stückliste!A102","v":0},{"$f":"Stückliste!E102","v":0},{"$f":"Stückliste!J102","v":0},{"$f":"Stückliste!O102","v":0},{"$f":"Stückliste!T102","v":0},{"$f":"Stückliste!W102","v":0},{"$f":"Stückliste!Z102","v":0},{"$f":"Stückliste!AC102","v":0},{"$f":"Stückliste!AF102","v":0},{"$f":"Stückliste!AI102","v":0}]
["a","5.5",8,{"$f":"Stückliste!A103","v":0},{"$f":"Stückliste!E103","v":0},{"$f":"Stückliste!J103","v":0},{"$f":"Stückliste!O103","v":0},{"$f":"Stückliste!T103","v":0},{"$f":"Stückliste!W103","v":0},{"$f":"Stückliste!Z103","v":0},{"$f":"Stückliste!AC103","v":0},{"$f":"Stückliste!AF103","v":0},{"$f":"Stückliste!AI103","v":0}]
["a","5.5",8,{"$f":"Stückliste!A104","v":0},{"$f":"Stückliste!E104","v":0},{"$f":"Stückliste!J104","v":0},{"$f":"Stückliste!O104","v":0},{"$f":"Stückliste!T104","v":0},{"$f":"Stückliste!W104","v":0},{"$f":"Stückliste!Z104","v":0},{"$f":"Stückliste!AC104","v":0},{"$f":"Stückliste!AF104","v":0},{"$f":"Stückliste!AI104","v":0}]
["a","5.5",8,{"$f":"Stückliste!A105","v":0},{"$f":"Stückliste!E105","v":0},{"$f":"Stückliste!J105","v":0},{"$f":"Stückliste!O105","v":0},{"$f":"Stückliste!T105","v":0},{"$f":"Stückliste!W105","v":0},{"$f":"Stückliste!Z105","v":0},{"$f":"Stückliste!AC105","v":0},{"$f":"Stückliste!AF105","v":0},{"$f":"Stückliste!AI105","v":0}]
["a","5.5",8,{"$f":"Stückliste!A106","v":0},{"$f":"Stückliste!E106","v":0},{"$f":"Stückliste!J106","v":0},{"$f":"Stückliste!O106","v":0},{"$f":"Stückliste!T106","v":0},{"$f":"Stückliste!W106","v":0},{"$f":"Stückliste!Z106","v":0},{"$f":"Stückliste!AC106","v":0},{"$f":"Stückliste!AF106","v":0},{"$f":"Stückliste!AI106","v":0}]
["a","5.5",8,{"$f":"Stückliste!A107","v":0},{"$f":"Stückliste!E107","v":0},{"$f":"Stückliste!J107","v":0},{"$f":"Stückliste!O107","v":0},{"$f":"Stückliste!T107","v":0},{"$f":"Stückliste!W107","v":0},{"$f":"Stückliste!Z107","v":0},{"$f":"Stückliste!AC107","v":0},{"$f":"Stückliste!AF107","v":0},{"$f":"Stückliste!AI107","v":0}]
["a","5.5",8,{"$f":"Stückliste!A108","v":0},{"$f":"Stückliste!E108","v":0},{"$f":"Stückliste!J108","v":0},{"$f":"Stückliste!O108","v":0},{"$f":"Stückliste!T108","v":0},{"$f":"Stückliste!W108","v":0},{"$f":"Stückliste!Z108","v":0},{"$f":"Stückliste!AC108","v":0},{"$f":"Stückliste!AF108","v":0},{"$f":"Stückliste!AI108","v":0}]
["a","5.5",8,{"$f":"Stückliste!A109","v":0},{"$f":"Stückliste!E109","v":0},{"$f":"Stückliste!J109","v":0},{"$f":"Stückliste!O109","v":0},{"$f":"Stückliste!T109","v":0},{"$f":"Stückliste!W109","v":0},{"$f":"Stückliste!Z109","v":0},{"$f":"Stückliste!AC109","v":0},{"$f":"Stückliste!AF109","v":0},{"$f":"Stückliste!AI109","v":0}]
["a","5.5",8,{"$f":"Stückliste!A110","v":0},{"$f":"Stückliste!E110","v":0},{"$f":"Stückliste!J110","v":0},{"$f":"Stückliste!O110","v":0},{"$f":"Stückliste!T110","v":0},{"$f":"Stückliste!W110","v":0},{"$f":"Stückliste!Z110","v":0},{"$f":"Stückliste!AC110","v":0},{"$f":"Stückliste!AF110","v":0},{"$f":"Stückliste!AI110","v":0}]
["a","5.5",8,{"$f":"Stückliste!A111","v":0},{"$f":"Stückliste!E111","v":0},{"$f":"Stückliste!J111","v":0},{"$f":"Stückliste!O111","v":0},{"$f":"Stückliste!T111","v":0},{"$f":"Stückliste!W111","v":0},{"$f":"Stückliste!Z111","v":0},{"$f":"Stückliste!AC111","v":0},{"$f":"Stückliste!AF111","v":0},{"$f":"Stückliste!AI111","v":0}]
["a","5.5",8,{"$f":"Stückliste!A112","v":0},{"$f":"Stückliste!E112","v":0},{"$f":"Stückliste!J112","v":0},{"$f":"Stückliste!O112","v":0},{"$f":"Stückliste!T112","v":0},{"$f":"Stückliste!W112","v":0},{"$f":"Stückliste!Z112","v":0},{"$f":"Stückliste!AC112","v":0},{"$f":"Stückliste!AF112","v":0},{"$f":"Stückliste!AI112","v":0}]
["a","5.5",8,{"$f":"Stückliste!A113","v":0},{"$f":"Stückliste!E113","v":0},{"$f":"Stückliste!J113","v":0},{"$f":"Stückliste!O113","v":0},{"$f":"Stückliste!T113","v":0},{"$f":"Stückliste!W113","v":0},{"$f":"Stückliste!Z113","v":0},{"$f":"Stückliste!AC113","v":0},{"$f":"Stückliste!AF113","v":0},{"$f":"Stückliste!AI113","v":0}]
["a","5.5",8,{"$f":"Stückliste!A114","v":0},{"$f":"Stückliste!E114","v":0},{"$f":"Stückliste!J114","v":0},{"$f":"Stückliste!O114","v":0},{"$f":"Stückliste!T114","v":0},{"$f":"Stückliste!W114","v":0},{"$f":"Stückliste!Z114","v":0},{"$f":"Stückliste!AC114","v":0},{"$f":"Stückliste!AF114","v":0},{"$f":"Stückliste!AI114","v":0}]
["a","5.5",8,{"$f":"Stückliste!A115","v":0},{"$f":"Stückliste!E115","v":0},{"$f":"Stückliste!J115","v":0},{"$f":"Stückliste!O115","v":0},{"$f":"Stückliste!T115","v":0},{"$f":"Stückliste!W115","v":0},{"$f":"Stückliste!Z115","v":0},{"$f":"Stückliste!AC115","v":0},{"$f":"Stückliste!AF115","v":0},{"$f":"Stückliste!AI115","v":0}]
["a","5.5",8,{"$f":"Stückliste!A116","v":0},{"$f":"Stückliste!E116","v":0},{"$f":"Stückliste!J116","v":0},{"$f":"Stückliste!O116","v":0},{"$f":"Stückliste!T116","v":0},{"$f":"Stückliste!W116","v":0},{"$f":"Stückliste!Z116","v":0},{"$f":"Stückliste!AC116","v":0},{"$f":"Stückliste!AF116","v":0},{"$f":"Stückliste!AI116","v":0}]
["a","5.5",8,{"$f":"Stückliste!A117","v":0},{"$f":"Stückliste!E117","v":0},{"$f":"Stückliste!J117","v":0},{"$f":"Stückliste!O117","v":0},{"$f":"Stückliste!T117","v":0},{"$f":"Stückliste!W117","v":0},{"$f":"Stückliste!Z117","v":0},{"$f":"Stückliste!AC117","v":0},{"$f":"Stückliste!AF117","v":0},{"$f":"Stückliste!AI117","v":0}]
["a","5.5",8,{"$f":"Stückliste!A118","v":0},{"$f":"Stückliste!E118","v":0},{"$f":"Stückliste!J118","v":0},{"$f":"Stückliste!O118","v":0},{"$f":"Stückliste!T118","v":0},{"$f":"Stückliste!W118","v":0},{"$f":"Stückliste!Z118","v":0},{"$f":"Stückliste!AC118","v":0},{"$f":"Stückliste!AF118","v":0},{"$f":"Stückliste!AI118","v":0}]
["a","5.5",8,{"$f":"Stückliste!A119","v":0},{"$f":"Stückliste!E119","v":0},{"$f":"Stückliste!J119","v":0},{"$f":"Stückliste!O119","v":0},{"$f":"Stückliste!T119","v":0},{"$f":"Stückliste!W119","v":0},{"$f":"Stückliste!Z119","v":0},{"$f":"Stückliste!AC119","v":0},{"$f":"Stückliste!AF119","v":0},{"$f":"Stückliste!AI119","v":0}]
["a","5.5",8,{"$f":"Stückliste!A120","v":0},{"$f":"Stückliste!E120","v":0},{"$f":"Stückliste!J120","v":0},{"$f":"Stückliste!O120","v":0},{"$f":"Stückliste!T120","v":0},{"$f":"Stückliste!W120","v":0},{"$f":"Stückliste!Z120","v":0},{"$f":"Stückliste!AC120","v":0},{"$f":"Stückliste!AF120","v":0},{"$f":"Stückliste!AI120","v":0}]
["a","5.5",8,{"$f":"Stückliste!A121","v":0},{"$f":"Stückliste!E121","v":0},{"$f":"Stückliste!J121","v":0},{"$f":"Stückliste!O121","v":0},{"$f":"Stückliste!T121","v":0},{"$f":"Stückliste!W121","v":0},{"$f":"Stückliste!Z121","v":0},{"$f":"Stückliste!AC121","v":0},{"$f":"Stückliste!AF121","v":0},{"$f":"Stückliste!AI121","v":0}]
[{"$f":"A68","v":"a"},{"$f":"B68","v":"5.5"},{"$f":"C68","v":8},{"$f":"Stückliste!A122","v":0},{"$f":"Stückliste!E122","v":0},{"$f":"Stückliste!J122","v":0},{"$f":"Stückliste!O122","v":0},{"$f":"Stückliste!T122","v":0},{"$f":"Stückliste!W122","v":0},{"$f":"Stückliste!Z122","v":0},{"$f":"Stückliste!AC122","v":0},{"$f":"Stückliste!AF122","v":0},{"$f":"Stückliste!AI122","v":0}]
["a","5.5",8,{"$f":"Stückliste!A123","v":0},{"$f":"Stückliste!E123","v":0},{"$f":"Stückliste!J123","v":0},{"$f":"Stückliste!O123","v":0},{"$f":"Stückliste!T123","v":0},{"$f":"Stückliste!W123","v":0},{"$f":"Stückliste!Z123","v":0},{"$f":"Stückliste!AC123","v":0},{"$f":"Stückliste!AF123","v":0},{"$f":"Stückliste!AI123","v":0}]
["a","5.5",8,{"$f":"Stückliste!A124","v":0},{"$f":"Stückliste!E124","v":0},{"$f":"Stückliste!J124","v":0},{"$f":"Stückliste!O124","v":0},{"$f":"Stückliste!T124","v":0},{"$f":"Stückliste!W124","v":0},{"$f":"Stückliste!Z124","v":0},{"$f":"Stückliste!AC124","v":0},{"$f":"Stückliste!AF124","v":0},{"$f":"Stückliste!AI124","v":0}]
["a","5.5",8,{"$f":"Stückliste!A125","v":0},{"$f":"Stückliste!E125","v":0},{"$f":"Stückliste!J125","v":0},{"$f":"Stückliste!O125","v":0},{"$f":"Stückliste!T125","v":0},{"$f":"Stückliste!W125","v":0},{"$f":"Stückliste!Z125","v":0},{"$f":"Stückliste!AC125","v":0},{"$f":"Stückliste!AF125","v":0},{"$f":"Stückliste!AI125","v":0}]
["a","5.5",8,{"$f":"Stückliste!A126","v":0},{"$f":"Stückliste!E126","v":0},{"$f":"Stückliste!J126","v":0},{"$f":"Stückliste!O126","v":0},{"$f":"Stückliste!T126","v":0},{"$f":"Stückliste!W126","v":0},{"$f":"Stückliste!Z126","v":0},{"$f":"Stückliste!AC126","v":0},{"$f":"Stückliste!AF126","v":0},{"$f":"Stückliste!AI126","v":0}]
["a","5.5",8,{"$f":"Stückliste!A127","v":0},{"$f":"Stückliste!E127","v":0},{"$f":"Stückliste!J127","v":0},{"$f":"Stückliste!O127","v":0},{"$f":"Stückliste!T127","v":0},{"$f":"Stückliste!W127","v":0},{"$f":"Stückliste!Z127","v":0},{"$f":"Stückliste!AC127","v":0},{"$f":"Stückliste!AF127","v":0},{"$f":"Stückliste!AI127","v":0}]
["a","5.5",8,{"$f":"Stückliste!A128","v":0},{"$f":"Stückliste!E128","v":0},{"$f":"Stückliste!J128","v":0},{"$f":"Stückliste!O128","v":0},{"$f":"Stückliste!T128","v":0},{"$f":"Stückliste!W128","v":0},{"$f":"Stückliste!Z128","v":0},{"$f":"Stückliste!AC128","v":0},{"$f":"Stückliste!AF128","v":0},{"$f":"Stückliste!AI128","v":0}]
["a","5.5",8,{"$f":"Stückliste!A129","v":0},{"$f":"Stückliste!E129","v":0},{"$f":"Stückliste!J129","v":0},{"$f":"Stückliste!O129","v":0},{"$f":"Stückliste!T129","v":0},{"$f":"Stückliste!W129","v":0},{"$f":"Stückliste!Z129","v":0},{"$f":"Stückliste!AC129","v":0},{"$f":"Stückliste!AF129","v":0},{"$f":"Stückliste!AI129","v":0}]
["a","5.5",8,{"$f":"Stückliste!A130","v":0},{"$f":"Stückliste!E130","v":0},{"$f":"Stückliste!J130","v":0},{"$f":"Stückliste!O130","v":0},{"$f":"Stückliste!T130","v":0},{"$f":"Stückliste!W130","v":0},{"$f":"Stückliste!Z130","v":0},{"$f":"Stückliste!AC130","v":0},{"$f":"Stückliste!AF130","v":0},{"$f":"Stückliste!AI130","v":0}]
["a","5.5",8,{"$f":"Stückliste!A131","v":0},{"$f":"Stückliste!E131","v":0},{"$f":"Stückliste!J131","v":0},{"$f":"Stückliste!O131","v":0},{"$f":"Stückliste!T131","v":0},{"$f":"Stückliste!W131","v":0},{"$f":"Stückliste!Z131","v":0},{"$f":"Stückliste!AC131","v":0},{"$f":"Stückliste!AF131","v":0},{"$f":"Stückliste!AI131","v":0}]
["a","5.5",8,{"$f":"Stückliste!A132","v":0},{"$f":"Stückliste!E132","v":0},{"$f":"Stückliste!J132","v":0},{"$f":"Stückliste!O132","v":0},{"$f":"Stückliste!T132","v":0},{"$f":"Stückliste!W132","v":0},{"$f":"Stückliste!Z132","v":0},{"$f":"Stückliste!AC132","v":0},{"$f":"Stückliste!AF132","v":0},{"$f":"Stückliste!AI132","v":0}]
["a","5.5",8,{"$f":"Stückliste!A133","v":0},{"$f":"Stückliste!E133","v":0},{"$f":"Stückliste!J133","v":0},{"$f":"Stückliste!O133","v":0},{"$f":"Stückliste!T133","v":0},{"$f":"Stückliste!W133","v":0},{"$f":"Stückliste!Z133","v":0},{"$f":"Stückliste!AC133","v":0},{"$f":"Stückliste!AF133","v":0},{"$f":"Stückliste!AI133","v":0}]
["a","5.5",8,{"$f":"Stückliste!A134","v":0},{"$f":"Stückliste!E134","v":0},{"$f":"Stückliste!J134","v":0},{"$f":"Stückliste!O134","v":0},{"$f":"Stückliste!T134","v":0},{"$f":"Stückliste!W134","v":0},{"$f":"Stückliste!Z134","v":0},{"$f":"Stückliste!AC134","v":0},{"$f":"Stückliste!AF134","v":0},{"$f":"Stückliste!AI134","v":0}]
["a","5.5",8,{"$f":"Stückliste!A135","v":0},{"$f":"Stückliste!E135","v":0},{"$f":"Stückliste!J135","v":0},{"$f":"Stückliste!O135","v":0},{"$f":"Stückliste!T135","v":0},{"$f":"Stückliste!W135","v":0},{"$f":"Stückliste!Z135","v":0},{"$f":"Stückliste!AC135","v":0},{"$f":"Stückliste!AF135","v":0},{"$f":"Stückliste!AI135","v":0}]
["a","5.5",8,{"$f":"Stückliste!A136","v":0},{"$f":"Stückliste!E136","v":0},{"$f":"Stückliste!J136","v":0},{"$f":"Stückliste!O136","v":0},{"$f":"Stückliste!T136","v":0},{"$f":"Stückliste!W136","v":0},{"$f":"Stückliste!Z136","v":0},{"$f":"Stückliste!AC136","v":0},{"$f":"Stückliste!AF136","v":0},{"$f":"Stückliste!AI136","v":0}]
["a","5.5",8,{"$f":"Stückliste!A137","v":0},{"$f":"Stückliste!E137","v":0},{"$f":"Stückliste!J137","v":0},{"$f":"Stückliste!O137","v":0},{"$f":"Stückliste!T137","v":0},{"$f":"Stückliste!W137","v":0},{"$f":"Stückliste!Z137","v":0},{"$f":"Stückliste!AC137","v":0},{"$f":"Stückliste!AF137","v":0},{"$f":"Stückliste!AI137","v":0}]
["a","5.5",8,{"$f":"Stückliste!A138","v":0},{"$f":"Stückliste!E138","v":0},{"$f":"Stückliste!J138","v":0},{"$f":"Stückliste!O138","v":0},{"$f":"Stückliste!T138","v":0},{"$f":"Stückliste!W138","v":0},{"$f":"Stückliste!Z138","v":0},{"$f":"Stückliste!AC138","v":0},{"$f":"Stückliste!AF138","v":0},{"$f":"Stückliste!AI138","v":0}]
["a","5.5",8,{"$f":"Stückliste!A139","v":0},{"$f":"Stückliste!E139","v":0},{"$f":"Stückliste!J139","v":0},{"$f":"Stückliste!O139","v":0},{"$f":"Stückliste!T139","v":0},{"$f":"Stückliste!W139","v":0},{"$f":"Stückliste!Z139","v":0},{"$f":"Stückliste!AC139","v":0},{"$f":"Stückliste!AF139","v":0},{"$f":"Stückliste!AI139","v":0}]
["a","5.5",8,{"$f":"Stückliste!A140","v":0},{"$f":"Stückliste!E140","v":0},{"$f":"Stückliste!J140","v":0},{"$f":"Stückliste!O140","v":0},{"$f":"Stückliste!T140","v":0},{"$f":"Stückliste!W140","v":0},{"$f":"Stückliste!Z140","v":0},{"$f":"Stückliste!AC140","v":0},{"$f":"Stückliste!AF140","v":0},{"$f":"Stückliste!AI140","v":0}]
["a","5.5",8,{"$f":"Stückliste!A141","v":0},{"$f":"Stückliste!E141","v":0},{"$f":"Stückliste!J141","v":0},{"$f":"Stückliste!O141","v":0},{"$f":"Stückliste!T141","v":0},{"$f":"Stückliste!W141","v":0},{"$f":"Stückliste!Z141","v":0},{"$f":"Stückliste!AC141","v":0},{"$f":"Stückliste!AF141","v":0},{"$f":"Stückliste!AI141","v":0}]
["a","5.5",8,{"$f":"Stückliste!A142","v":0},{"$f":"Stückliste!E142","v":0},{"$f":"Stückliste!J142","v":0},{"$f":"Stückliste!O142","v":0},{"$f":"Stückliste!T142","v":0},{"$f":"Stückliste!W142","v":0},{"$f":"Stückliste!Z142","v":0},{"$f":"Stückliste!AC142","v":0},{"$f":"Stückliste!AF142","v":0},{"$f":"Stückliste!AI142","v":0}]
["a","5.5",8,{"$f":"Stückliste!A143","v":0},{"$f":"Stückliste!E143","v":0},{"$f":"Stückliste!J143","v":0},{"$f":"Stückliste!O143","v":0},{"$f":"Stückliste!T143","v":0},{"$f":"Stückliste!W143","v":0},{"$f":"Stückliste!Z143","v":0},{"$f":"Stückliste!AC143","v":0},{"$f":"Stückliste!AF143","v":0},{"$f":"Stückliste!AI143","v":0}]
["a","5.5",8,{"$f":"Stückliste!A144","v":0},{"$f":"Stückliste!E144","v":0},{"$f":"Stückliste!J144","v":0},{"$f":"Stückliste!O144","v":0},{"$f":"Stückliste!T144","v":0},{"$f":"Stückliste!W144","v":0},{"$f":"Stückliste!Z144","v":0},{"$f":"Stückliste!AC144","v":0},{"$f":"Stückliste!AF144","v":0},{"$f":"Stückliste!AI144","v":0}]
["a","5.5",8,{"$f":"Stückliste!A145","v":0},{"$f":"Stückliste!E145","v":0},{"$f":"Stückliste!J145","v":0},{"$f":"Stückliste!O145","v":0},{"$f":"Stückliste!T145","v":0},{"$f":"Stückliste!W145","v":0},{"$f":"Stückliste!Z145","v":0},{"$f":"Stückliste!AC145","v":0},{"$f":"Stückliste!AF145","v":0},{"$f":"Stückliste!AI145","v":0}]
["a","5.5",8,{"$f":"Stückliste!A146","v":0},{"$f":"Stückliste!E146","v":0},{"$f":"Stückliste!J146","v":0},{"$f":"Stückliste!O146","v":0},{"$f":"Stückliste!T146","v":0},{"$f":"Stückliste!W146","v":0},{"$f":"Stückliste!Z146","v":0},{"$f":"Stückliste!AC146","v":0},{"$f":"Stückliste!AF146","v":0},{"$f":"Stückliste!AI146","v":0}]
["a","5.5",8,{"$f":"Stückliste!A147","v":0},{"$f":"Stückliste!E147","v":0},{"$f":"Stückliste!J147","v":0},{"$f":"Stückliste!O147","v":0},{"$f":"Stückliste!T147","v":0},{"$f":"Stückliste!W147","v":0},{"$f":"Stückliste!Z147","v":0},{"$f":"Stückliste!AC147","v":0},{"$f":"Stückliste!AF147","v":0},{"$f":"Stückliste!AI147","v":0}]
["a","5.5",8,{"$f":"Stückliste!A148","v":0},{"$f":"Stückliste!E148","v":0},{"$f":"Stückliste!J148","v":0},{"$f":"Stückliste!O148","v":0},{"$f":"Stückliste!T148","v":0},{"$f":"Stückliste!W148","v":0},{"$f":"Stückliste!Z148","v":0},{"$f":"Stückliste!AC148","v":0},{"$f":"Stückliste!AF148","v":0},{"$f":"Stückliste!AI148","v":0}]
["a","5.5",8,{"$f":"Stückliste!A149","v":0},{"$f":"Stückliste!E149","v":0},{"$f":"Stückliste!J149","v":0},{"$f":"Stückliste!O149","v":0},{"$f":"Stückliste!T149","v":0},{"$f":"Stückliste!W149","v":0},{"$f":"Stückliste!Z149","v":0},{"$f":"Stückliste!AC149","v":0},{"$f":"Stückliste!AF149","v":0},{"$f":"Stückliste!AI149","v":0}]
["a","5.5",8,{"$f":"Stückliste!A150","v":0},{"$f":"Stückliste!E150","v":0},{"$f":"Stückliste!J150","v":0},{"$f":"Stückliste!O150","v":0},{"$f":"Stückliste!T150","v":0},{"$f":"Stückliste!W150","v":0},{"$f":"Stückliste!Z150","v":0},{"$f":"Stückliste!AC150","v":0},{"$f":"Stückliste!AF150","v":0},{"$f":"Stückliste!AI150","v":0}]
["a","5.5",8,{"$f":"Stückliste!A151","v":0},{"$f":"Stückliste!E151","v":0},{"$f":"Stückliste!J151","v":0},{"$f":"Stückliste!O151","v":0},{"$f":"Stückliste!T151","v":0},{"$f":"Stückliste!W151","v":0},{"$f":"Stückliste!Z151","v":0},{"$f":"Stückliste!AC151","v":0},{"$f":"Stückliste!AF151","v":0},{"$f":"Stückliste!AI151","v":0}]
["a","5.5",8,{"$f":"Stückliste!A152","v":0},{"$f":"Stückliste!E152","v":0},{"$f":"Stückliste!J152","v":0},{"$f":"Stückliste!O152","v":0},{"$f":"Stückliste!T152","v":0},{"$f":"Stückliste!W152","v":0},{"$f":"Stückliste!Z152","v":0},{"$f":"Stückliste!AC152","v":0},{"$f":"Stückliste!AF152","v":0},{"$f":"Stückliste!AI152","v":0}]
["a","5.5",8,{"$f":"Stückliste!A153","v":0},{"$f":"Stückliste!E153","v":0},{"$f":"Stückliste!J153","v":0},{"$f":"Stückliste!O153","v":0},{"$f":"Stückliste!T153","v":0},{"$f":"Stückliste!W153","v":0},{"$f":"Stückliste!Z153","v":0},{"$f":"Stückliste!AC153","v":0},{"$f":"Stückliste!AF153","v":0},{"$f":"Stückliste!AI153","v":0}]
["a","5.5",8,{"$f":"Stückliste!A154","v":0},{"$f":"Stückliste!E154","v":0},{"$f":"Stückliste!J154","v":0},{"$f":"Stückliste!O154","v":0},{"$f":"Stückliste!T154","v":0},{"$f":"Stückliste!W154","v":0},{"$f":"Stückliste!Z154","v":0},{"$f":"Stückliste!AC154","v":0},{"$f":"Stückliste!AF154","v":0},{"$f":"Stückliste!AI154","v":0}]
["a","5.5",8,{"$f":"Stückliste!A155","v":0},{"$f":"Stückliste!E155","v":0},{"$f":"Stückliste!J155","v":0},{"$f":"Stückliste!O155","v":0},{"$f":"Stückliste!T155","v":0},{"$f":"Stückliste!W155","v":0},{"$f":"Stückliste!Z155","v":0},{"$f":"Stückliste!AC155","v":0},{"$f":"Stückliste!AF155","v":0},{"$f":"Stückliste!AI155","v":0}]
["a","5.5",8,{"$f":"Stückliste!A156","v":0},{"$f":"Stückliste!E156","v":0},{"$f":"Stückliste!J156","v":0},{"$f":"Stückliste!O156","v":0},{"$f":"Stückliste!T156","v":0},{"$f":"Stückliste!W156","v":0},{"$f":"Stückliste!Z156","v":0},{"$f":"Stückliste!AC156","v":0},{"$f":"Stückliste!AF156","v":0},{"$f":"Stückliste!AI156","v":0}]
["a","5.5",8,{"$f":"Stückliste!A157","v":0},{"$f":"Stückliste!E157","v":0},{"$f":"Stückliste!J157","v":0},{"$f":"Stückliste!O157","v":0},{"$f":"Stückliste!T157","v":0},{"$f":"Stückliste!W157","v":0},{"$f":"Stückliste!Z157","v":0},{"$f":"Stückliste!AC157","v":0},{"$f":"Stückliste!AF157","v":0},{"$f":"Stückliste!AI157","v":0}]
["a","5.5",8,{"$f":"Stückliste!A158","v":0},{"$f":"Stückliste!E158","v":0},{"$f":"Stückliste!J158","v":0},{"$f":"Stückliste!O158","v":0},{"$f":"Stückliste!T158","v":0},{"$f":"Stückliste!W158","v":0},{"$f":"Stückliste!Z158","v":0},{"$f":"Stückliste!AC158","v":0},{"$f":"Stückliste!AF158","v":0},{"$f":"Stückliste!AI158","v":0}]
["a","5.5",8,{"$f":"Stückliste!A159","v":0},{"$f":"Stückliste!E159","v":0},{"$f":"Stückliste!J159","v":0},{"$f":"Stückliste!O159","v":0},{"$f":"Stückliste!T159","v":0},{"$f":"Stückliste!W159","v":0},{"$f":"Stückliste!Z159","v":0},{"$f":"Stückliste!AC159","v":0},{"$f":"Stückliste!AF159","v":0},{"$f":"Stückliste!AI159","v":0}]
["a","5.5",8,{"$f":"Stückliste!A160","v":0},{"$f":"Stückliste!E160","v":0},{"$f":"Stückliste!J160","v":0},{"$f":"Stückliste!O160","v":0},{"$f":"Stückliste!T160","v":0},{"$f":"Stückliste!W160","v":0},{"$f":"Stückliste!Z160","v":0},{"$f":"Stückliste!AC160","v":0},{"$f":"Stückliste!AF160","v":0},{"$f":"Stückliste!AI160","v":0}]
["a","5.5",8,{"$f":"Stückliste!A161","v":0},{"$f":"Stückliste!E161","v":0},{"$f":"Stückliste!J161","v":0},{"$f":"Stückliste!O161","v":0},{"$f":"Stückliste!T161","v":0},{"$f":"Stückliste!W161","v":0},{"$f":"Stückliste!Z161","v":0},{"$f":"Stückliste!AC161","v":0},{"$f":"Stückliste!AF161","v":0},{"$f":"Stückliste!AI161","v":0}]
["a","5.5",8,{"$f":"Stückliste!A162","v":0},{"$f":"Stückliste!E162","v":0},{"$f":"Stückliste!J162","v":0},{"$f":"Stückliste!O162","v":0},{"$f":"Stückliste!T162","v":0},{"$f":"Stückliste!W162","v":0},{"$f":"Stückliste!Z162","v":0},{"$f":"Stückliste!AC162","v":0},{"$f":"Stückliste!AF162","v":0},{"$f":"Stückliste!AI162","v":0}]
["a","5.5",8,{"$f":"Stückliste!A163","v":0},{"$f":"Stückliste!E163","v":0},{"$f":"Stückliste!J163","v":0},{"$f":"Stückliste!O163","v":0},{"$f":"Stückliste!T163","v":0},{"$f":"Stückliste!W163","v":0},{"$f":"Stückliste!Z163","v":0},{"$f":"Stückliste!AC163","v":0},{"$f":"Stückliste!AF163","v":0},{"$f":"Stückliste!AI163","v":0}]
["a","5.5",8,{"$f":"Stückliste!A164","v":0},{"$f":"Stückliste!E164","v":0},{"$f":"Stückliste!J164","v":0},{"$f":"Stückliste!O164","v":0},{"$f":"Stückliste!T164","v":0},{"$f":"Stückliste!W164","v":0},{"$f":"Stückliste!Z164","v":0},{"$f":"Stückliste!AC164","v":0},{"$f":"Stückliste!AF164","v":0},{"$f":"Stückliste!AI164","v":0}]
["a","5.5",8,{"$f":"Stückliste!A165","v":0},{"$f":"Stückliste!E165","v":0},{"$f":"Stückliste!J165","v":0},{"$f":"Stückliste!O165","v":0},{"$f":"Stückliste!T165","v":0},{"$f":"Stückliste!W165","v":0},{"$f":"Stückliste!Z165","v":0},{"$f":"Stückliste!AC165","v":0},{"$f":"Stückliste!AF165","v":0},{"$f":"Stückliste!AI165","v":0}]
["a","5.5",8,{"$f":"Stückliste!A166","v":0},{"$f":"Stückliste!E166","v":0},{"$f":"Stückliste!J166","v":0},{"$f":"Stückliste!O166","v":0},{"$f":"Stückliste!T166","v":0},{"$f":"Stückliste!W166","v":0},{"$f":"Stückliste!Z166","v":0},{"$f":"Stückliste!AC166","v":0},{"$f":"Stückliste!AF166","v":0},{"$f":"Stückliste!AI166","v":0}]
["a","5.5",8,{"$f":"Stückliste!A167","v":0},{"$f":"Stückliste!E167","v":0},{"$f":"Stückliste!J167","v":0},{"$f":"Stückliste!O167","v":0},{"$f":"Stückliste!T167","v":0},{"$f":"Stückliste!W167","v":0},{"$f":"Stückliste!Z167","v":0},{"$f":"Stückliste!AC167","v":0},{"$f":"Stückliste!AF167","v":0},{"$f":"Stückliste!AI167","v":0}]
["a","5.5",8,{"$f":"Stückliste!A168","v":0},{"$f":"Stückliste!E168","v":0},{"$f":"Stückliste!J168","v":0},{"$f":"Stückliste!O168","v":0},{"$f":"Stückliste!T168","v":0},{"$f":"Stückliste!W168","v":0},{"$f":"Stückliste!Z168","v":0},{"$f":"Stückliste!AC168","v":0},{"$f":"Stückliste!AF168","v":0},{"$f":"Stückliste!AI168","v":0}]
["a","5.5",8,{"$f":"Stückliste!A169","v":0},{"$f":"Stückliste!E169","v":0},{"$f":"Stückliste!J169","v":0},{"$f":"Stückliste!O169","v":0},{"$f":"Stückliste!T169","v":0},{"$f":"Stückliste!W169","v":0},{"$f":"Stückliste!Z169","v":0},{"$f":"Stückliste!AC169","v":0},{"$f":"Stückliste!AF169","v":0},{"$f":"Stückliste!AI169","v":0}]
["a","5.5",8,{"$f":"Stückliste!A170","v":0},{"$f":"Stückliste!E170","v":0},{"$f":"Stückliste!J170","v":0},{"$f":"Stückliste!O170","v":0},{"$f":"Stückliste!T170","v":0},{"$f":"Stückliste!W170","v":0},{"$f":"Stückliste!Z170","v":0},{"$f":"Stückliste!AC170","v":0},{"$f":"Stückliste!AF170","v":0},{"$f":"Stückliste!AI170","v":0}]
["a","5.5",8,{"$f":"Stückliste!A171","v":0},{"$f":"Stückliste!E171","v":0},{"$f":"Stückliste!J171","v":0},{"$f":"Stückliste!O171","v":0},{"$f":"Stückliste!T171","v":0},{"$f":"Stückliste!W171","v":0},{"$f":"Stückliste!Z171","v":0},{"$f":"Stückliste!AC171","v":0},{"$f":"Stückliste!AF171","v":0},{"$f":"Stückliste!AI171","v":0}]
["a","5.5",8,{"$f":"Stückliste!A172","v":0},{"$f":"Stückliste!E172","v":0},{"$f":"Stückliste!J172","v":0},{"$f":"Stückliste!O172","v":0},{"$f":"Stückliste!T172","v":0},{"$f":"Stückliste!W172","v":0},{"$f":"Stückliste!Z172","v":0},{"$f":"Stückliste!AC172","v":0},{"$f":"Stückliste!AF172","v":0},{"$f":"Stückliste!AI172","v":0}]
["a","5.5",8,{"$f":"Stückliste!A173","v":0},{"$f":"Stückliste!E173","v":0},{"$f":"Stückliste!J173","v":0},{"$f":"Stückliste!O173","v":0},{"$f":"Stückliste!T173","v":0},{"$f":"Stückliste!W173","v":0},{"$f":"Stückliste!Z173","v":0},{"$f":"Stückliste!AC173","v":0},{"$f":"Stückliste!AF173","v":0},{"$f":"Stückliste!AI173","v":0}]
["a","5.5",8,{"$f":"Stückliste!A174","v":0},{"$f":"Stückliste!E174","v":0},{"$f":"Stückliste!J174","v":0},{"$f":"Stückliste!O174","v":0},{"$f":"Stückliste!T174","v":0},{"$f":"Stückliste!W174","v":0},{"$f":"Stückliste!Z174","v":0},{"$f":"Stückliste!AC174","v":0},{"$f":"Stückliste!AF174","v":0},{"$f":"Stückliste!AI174","v":0}]
["a","5.5",8,{"$f":"Stückliste!A175","v":0},{"$f":"Stückliste!E175","v":0},{"$f":"Stückliste!J175","v":0},{"$f":"Stückliste!O175","v":0},{"$f":"Stückliste!T175","v":0},{"$f":"Stückliste!W175","v":0},{"$f":"Stückliste!Z175","v":0},{"$f":"Stückliste!AC175","v":0},{"$f":"Stückliste!AF175","v":0},{"$f":"Stückliste!AI175","v":0}]
["a","5.5",8,{"$f":"Stückliste!A176","v":0},{"$f":"Stückliste!E176","v":0},{"$f":"Stückliste!J176","v":0},{"$f":"Stückliste!O176","v":0},{"$f":"Stückliste!T176","v":0},{"$f":"Stückliste!W176","v":0},{"$f":"Stückliste!Z176","v":0},{"$f":"Stückliste!AC176","v":0},{"$f":"Stückliste!AF176","v":0},{"$f":"Stückliste!AI176","v":0}]
["a","5.5",8,{"$f":"Stückliste!A177","v":0},{"$f":"Stückliste!E177","v":0},{"$f":"Stückliste!J177","v":0},{"$f":"Stückliste!O177","v":0},{"$f":"Stückliste!T177","v":0},{"$f":"Stückliste!W177","v":0},{"$f":"Stückliste!Z177","v":0},{"$f":"Stückliste!AC177","v":0},{"$f":"Stückliste!AF177","v":0},{"$f":"Stückliste!AI177","v":0}]
["a","5.5",8,{"$f":"Stückliste!A178","v":0},{"$f":"Stückliste!E178","v":0},{"$f":"Stückliste!J178","v":0},{"$f":"Stückliste!O178","v":0},{"$f":"Stückliste!T178","v":0},{"$f":"Stückliste!W178","v":0},{"$f":"Stückliste!Z178","v":0},{"$f":"Stückliste!AC178","v":0},{"$f":"Stückliste!AF178","v":0},{"$f":"Stückliste!AI178","v":0}]
["a","5.5",8,{"$f":"Stückliste!A179","v":0},{"$f":"Stückliste!E179","v":0},{"$f":"Stückliste!J179","v":0},{"$f":"Stückliste!O179","v":0},{"$f":"Stückliste!T179","v":0},{"$f":"Stückliste!W179","v":0},{"$f":"Stückliste!Z179","v":0},{"$f":"Stückliste!AC179","v":0},{"$f":"Stückliste!AF179","v":0},{"$f":"Stückliste!AI179","v":0}]
["a","5.5",8,{"$f":"Stückliste!A180","v":0},{"$f":"Stückliste!E180","v":0},{"$f":"Stückliste!J180","v":0},{"$f":"Stückliste!O180","v":0},{"$f":"Stückliste!T180","v":0},{"$f":"Stückliste!W180","v":0},{"$f":"Stückliste!Z180","v":0},{"$f":"Stückliste!AC180","v":0},{"$f":"Stückliste!AF180","v":0},{"$f":"Stückliste!AI180","v":0}]
["a","5.5",8,{"$f":"Stückliste!A181","v":0},{"$f":"Stückliste!E181","v":0},{"$f":"Stückliste!J181","v":0},{"$f":"Stückliste!O181","v":0},{"$f":"Stückliste!T181","v":0},{"$f":"Stückliste!W181","v":0},{"$f":"Stückliste!Z181","v":0},{"$f":"Stückliste!AC181","v":0},{"$f":"Stückliste!AF181","v":0},{"$f":"Stückliste!AI181","v":0}]
["a","5.5",8,{"$f":"Stückliste!A182","v":0},{"$f":"Stückliste!E182","v":0},{"$f":"Stückliste!J182","v":0},{"$f":"Stückliste!O182","v":0},{"$f":"Stückliste!T182","v":0},{"$f":"Stückliste!W182","v":0},{"$f":"Stückliste!Z182","v":0},{"$f":"Stückliste!AC182","v":0},{"$f":"Stückliste!AF182","v":0},{"$f":"Stückliste!AI182","v":0}]
["a","5.5",8,{"$f":"Stückliste!A183","v":0},{"$f":"Stückliste!E183","v":0},{"$f":"Stückliste!J183","v":0},{"$f":"Stückliste!O183","v":0},{"$f":"Stückliste!T183","v":0},{"$f":"Stückliste!W183","v":0},{"$f":"Stückliste!Z183","v":0},{"$f":"Stückliste!AC183","v":0},{"$f":"Stückliste!AF183","v":0},{"$f":"Stückliste!AI183","v":0}]
["a","5.5",8,{"$f":"Stückliste!A184","v":0},{"$f":"Stückliste!E184","v":0},{"$f":"Stückliste!J184","v":0},{"$f":"Stückliste!O184","v":0},{"$f":"Stückliste!T184","v":0},{"$f":"Stückliste!W184","v":0},{"$f":"Stückliste!Z184","v":0},{"$f":"Stückliste!AC184","v":0},{"$f":"Stückliste!AF184","v":0},{"$f":"Stückliste!AI184","v":0}]
["a","5.5",8,{"$f":"Stückliste!A185","v":0},{"$f":"Stückliste!E185","v":0},{"$f":"Stückliste!J185","v":0},{"$f":"Stückliste!O185","v":0},{"$f":"Stückliste!T185","v":0},{"$f":"Stückliste!W185","v":0},{"$f":"Stückliste!Z185","v":0},{"$f":"Stückliste!AC185","v":0},{"$f":"Stückliste!AF185","v":0},{"$f":"Stückliste!AI185","v":0}]
[{"$f":"A132","v":"a"},{"$f":"B132","v":"5.5"},{"$f":"C132","v":8},{"$f":"Stückliste!A186","v":0},{"$f":"Stückliste!E186","v":0},{"$f":"Stückliste!J186","v":0},{"$f":"Stückliste!O186","v":0},{"$f":"Stückliste!T186","v":0},{"$f":"Stückliste!W186","v":0},{"$f":"Stückliste!Z186","v":0},{"$f":"Stückliste!AC186","v":0},{"$f":"Stückliste!AF186","v":0},{"$f":"Stückliste!AI186","v":0}]
["a","5.5",8,{"$f":"Stückliste!A187","v":0},{"$f":"Stückliste!E187","v":0},{"$f":"Stückliste!J187","v":0},{"$f":"Stückliste!O187","v":0},{"$f":"Stückliste!T187","v":0},{"$f":"Stückliste!W187","v":0},{"$f":"Stückliste!Z187","v":0},{"$f":"Stückliste!AC187","v":0},{"$f":"Stückliste!AF187","v":0},{"$f":"Stückliste!AI187","v":0}]
["a","5.5",8,{"$f":"Stückliste!A188","v":0},{"$f":"Stückliste!E188","v":0},{"$f":"Stückliste!J188","v":0},{"$f":"Stückliste!O188","v":0},{"$f":"Stückliste!T188","v":0},{"$f":"Stückliste!W188","v":0},{"$f":"Stückliste!Z188","v":0},{"$f":"Stückliste!AC188","v":0},{"$f":"Stückliste!AF188","v":0},{"$f":"Stückliste!AI188","v":0}]
["a","5.5",8,{"$f":"Stückliste!A189","v":0},{"$f":"Stückliste!E189","v":0},{"$f":"Stückliste!J189","v":0},{"$f":"Stückliste!O189","v":0},{"$f":"Stückliste!T189","v":0},{"$f":"Stückliste!W189","v":0},{"$f":"Stückliste!Z189","v":0},{"$f":"Stückliste!AC189","v":0},{"$f":"Stückliste!AF189","v":0},{"$f":"Stückliste!AI189","v":0}]
["a","5.5",8,{"$f":"Stückliste!A190","v":0},{"$f":"Stückliste!E190","v":0},{"$f":"Stückliste!J190","v":0},{"$f":"Stückliste!O190","v":0},{"$f":"Stückliste!T190","v":0},{"$f":"Stückliste!W190","v":0},{"$f":"Stückliste!Z190","v":0},{"$f":"Stückliste!AC190","v":0},{"$f":"Stückliste!AF190","v":0},{"$f":"Stückliste!AI190","v":0}]
["a","5.5",8,{"$f":"Stückliste!A191","v":0},{"$f":"Stückliste!E191","v":0},{"$f":"Stückliste!J191","v":0},{"$f":"Stückliste!O191","v":0},{"$f":"Stückliste!T191","v":0},{"$f":"Stückliste!W191","v":0},{"$f":"Stückliste!Z191","v":0},{"$f":"Stückliste!AC191","v":0},{"$f":"Stückliste!AF191","v":0},{"$f":"Stückliste!AI191","v":0}]
["a","5.5",8,{"$f":"Stückliste!A192","v":0},{"$f":"Stückliste!E192","v":0},{"$f":"Stückliste!J192","v":0},{"$f":"Stückliste!O192","v":0},{"$f":"Stückliste!T192","v":0},{"$f":"Stückliste!W192","v":0},{"$f":"Stückliste!Z192","v":0},{"$f":"Stückliste!AC192","v":0},{"$f":"Stückliste!AF192","v":0},{"$f":"Stückliste!AI192","v":0}]
["a","5.5",8,{"$f":"Stückliste!A193","v":0},{"$f":"Stückliste!E193","v":0},{"$f":"Stückliste!J193","v":0},{"$f":"Stückliste!O193","v":0},{"$f":"Stückliste!T193","v":0},{"$f":"Stückliste!W193","v":0},{"$f":"Stückliste!Z193","v":0},{"$f":"Stückliste!AC193","v":0},{"$f":"Stückliste!AF193","v":0},{"$f":"Stückliste!AI193","v":0}]
["a","5.5",8,{"$f":"Stückliste!A194","v":0},{"$f":"Stückliste!E194","v":0},{"$f":"Stückliste!J194","v":0},{"$f":"Stückliste!O194","v":0},{"$f":"Stückliste!T194","v":0},{"$f":"Stückliste!W194","v":0},{"$f":"Stückliste!Z194","v":0},{"$f":"Stückliste!AC194","v":0},{"$f":"Stückliste!AF194","v":0},{"$f":"Stückliste!AI194","v":0}]
["a","5.5",8,{"$f":"Stückliste!A195","v":0},{"$f":"Stückliste!E195","v":0},{"$f":"Stückliste!J195","v":0},{"$f":"Stückliste!O195","v":0},{"$f":"Stückliste!T195","v":0},{"$f":"Stückliste!W195","v":0},{"$f":"Stückliste!Z195","v":0},{"$f":"Stückliste!AC195","v":0},{"$f":"Stückliste!AF195","v":0},{"$f":"Stückliste!AI195","v":0}]
["a","5.5",8,{"$f":"Stückliste!A196","v":0},{"$f":"Stückliste!E196","v":0},{"$f":"Stückliste!J196","v":0},{"$f":"Stückliste!O196","v":0},{"$f":"Stückliste!T196","v":0},{"$f":"Stückliste!W196","v":0},{"$f":"Stückliste!Z196","v":0},{"$f":"Stückliste!AC196","v":0},{"$f":"Stückliste!AF196","v":0},{"$f":"Stückliste!AI196","v":0}]
["a","5.5",8,{"$f":"Stückliste!A197","v":0},{"$f":"Stückliste!E197","v":0},{"$f":"Stückliste!J197","v":0},{"$f":"Stückliste!O197","v":0},{"$f":"Stückliste!T197","v":0},{"$f":"Stückliste!W197","v":0},{"$f":"Stückliste!Z197","v":0},{"$f":"Stückliste!AC197","v":0},{"$f":"Stückliste!AF197","v":0},{"$f":"Stückliste!AI197","v":0}]
["a","5.5",8,{"$f":"Stückliste!A198","v":0},{"$f":"Stückliste!E198","v":0},{"$f":"Stückliste!J198","v":0},{"$f":"Stückliste!O198","v":0},{"$f":"Stückliste!T198","v":0},{"$f":"Stückliste!W198","v":0},{"$f":"Stückliste!Z198","v":0},{"$f":"Stückliste!AC198","v":0},{"$f":"Stückliste!AF198","v":0},{"$f":"Stückliste!AI198","v":0}]
["a","5.5",8,{"$f":"Stückliste!A199","v":0},{"$f":"Stückliste!E199","v":0},{"$f":"Stückliste!J199","v":0},{"$f":"Stückliste!O199","v":0},{"$f":"Stückliste!T199","v":0},{"$f":"Stückliste!W199","v":0},{"$f":"Stückliste!Z199","v":0},{"$f":"Stückliste!AC199","v":0},{"$f":"Stückliste!AF199","v":0},{"$f":"Stückliste!AI199","v":0}]
["a","5.5",8,{"$f":"Stückliste!A200","v":0},{"$f":"Stückliste!E200","v":0},{"$f":"Stückliste!J200","v":0},{"$f":"Stückliste!O200","v":0},{"$f":"Stückliste!T200","v":0},{"$f":"Stückliste!W200","v":0},{"$f":"Stückliste!Z200","v":0},{"$f":"Stückliste!AC200","v":0},{"$f":"Stückliste!AF200","v":0},{"$f":"Stückliste!AI200","v":0}]
["a","5.5",8,{"$f":"Stückliste!A201","v":0},{"$f":"Stückliste!E201","v":0},{"$f":"Stückliste!J201","v":0},{"$f":"Stückliste!O201","v":0},{"$f":"Stückliste!T201","v":0},{"$f":"Stückliste!W201","v":0},{"$f":"Stückliste!Z201","v":0},{"$f":"Stückliste!AC201","v":0},{"$f":"Stückliste!AF201","v":0},{"$f":"Stückliste!AI201","v":0}]
["a","5.5",8,{"$f":"Stückliste!A202","v":0},{"$f":"Stückliste!E202","v":0},{"$f":"Stückliste!J202","v":0},{"$f":"Stückliste!O202","v":0},{"$f":"Stückliste!T202","v":0},{"$f":"Stückliste!W202","v":0},{"$f":"Stückliste!Z202","v":0},{"$f":"Stückliste!AC202","v":0},{"$f":"Stückliste!AF202","v":0},{"$f":"Stückliste!AI202","v":0}]
["a","5.5",8,{"$f":"Stückliste!A203","v":0},{"$f":"Stückliste!E203","v":0},{"$f":"Stückliste!J203","v":0},{"$f":"Stückliste!O203","v":0},{"$f":"Stückliste!T203","v":0},{"$f":"Stückliste!W203","v":0},{"$f":"Stückliste!Z203","v":0},{"$f":"Stückliste!AC203","v":0},{"$f":"Stückliste!AF203","v":0},{"$f":"Stückliste!AI203","v":0}]
["a","5.5",8,{"$f":"Stückliste!A204","v":0},{"$f":"Stückliste!E204","v":0},{"$f":"Stückliste!J204","v":0},{"$f":"Stückliste!O204","v":0},{"$f":"Stückliste!T204","v":0},{"$f":"Stückliste!W204","v":0},{"$f":"Stückliste!Z204","v":0},{"$f":"Stückliste!AC204","v":0},{"$f":"Stückliste!AF204","v":0},{"$f":"Stückliste!AI204","v":0}]
["a","5.5",8,{"$f":"Stückliste!A205","v":0},{"$f":"Stückliste!E205","v":0},{"$f":"Stückliste!J205","v":0},{"$f":"Stückliste!O205","v":0},{"$f":"Stückliste!T205","v":0},{"$f":"Stückliste!W205","v":0},{"$f":"Stückliste!Z205","v":0},{"$f":"Stückliste!AC205","v":0},{"$f":"Stückliste!AF205","v":0},{"$f":"Stückliste!AI205","v":0}]
["a","5.5",8,{"$f":"Stückliste!A206","v":0},{"$f":"Stückliste!E206","v":0},{"$f":"Stückliste!J206","v":0},{"$f":"Stückliste!O206","v":0},{"$f":"Stückliste!T206","v":0},{"$f":"Stückliste!W206","v":0},{"$f":"Stückliste!Z206","v":0},{"$f":"Stückliste!AC206","v":0},{"$f":"Stückliste!AF206","v":0},{"$f":"Stückliste!AI206","v":0}]
["a","5.5",8,{"$f":"Stückliste!A207","v":0},{"$f":"Stückliste!E207","v":0},{"$f":"Stückliste!J207","v":0},{"$f":"Stückliste!O207","v":0},{"$f":"Stückliste!T207","v":0},{"$f":"Stückliste!W207","v":0},{"$f":"Stückliste!Z207","v":0},{"$f":"Stückliste!AC207","v":0},{"$f":"Stückliste!AF207","v":0},{"$f":"Stückliste!AI207","v":0}]
["a","5.5",8,{"$f":"Stückliste!A208","v":0},{"$f":"Stückliste!E208","v":0},{"$f":"Stückliste!J208","v":0},{"$f":"Stückliste!O208","v":0},{"$f":"Stückliste!T208","v":0},{"$f":"Stückliste!W208","v":0},{"$f":"Stückliste!Z208","v":0},{"$f":"Stückliste!AC208","v":0},{"$f":"Stückliste!AF208","v":0},{"$f":"Stückliste!AI208","v":0}]
["a","5.5",8,{"$f":"Stückliste!A209","v":0},{"$f":"Stückliste!E209","v":0},{"$f":"Stückliste!J209","v":0},{"$f":"Stückliste!O209","v":0},{"$f":"Stückliste!T209","v":0},{"$f":"Stückliste!W209","v":0},{"$f":"Stückliste!Z209","v":0},{"$f":"Stückliste!AC209","v":0},{"$f":"Stückliste!AF209","v":0},{"$f":"Stückliste!AI209","v":0}]
["a","5.5",8,{"$f":"Stückliste!A210","v":0},{"$f":"Stückliste!E210","v":0},{"$f":"Stückliste!J210","v":0},{"$f":"Stückliste!O210","v":0},{"$f":"Stückliste!T210","v":0},{"$f":"Stückliste!W210","v":0},{"$f":"Stückliste!Z210","v":0},{"$f":"Stückliste!AC210","v":0},{"$f":"Stückliste!AF210","v":0},{"$f":"Stückliste!AI210","v":0}]
["a","5.5",8,{"$f":"Stückliste!A211","v":0},{"$f":"Stückliste!E211","v":0},{"$f":"Stückliste!J211","v":0},{"$f":"Stückliste!O211","v":0},{"$f":"Stückliste!T211","v":0},{"$f":"Stückliste!W211","v":0},{"$f":"Stückliste!Z211","v":0},{"$f":"Stückliste!AC211","v":0},{"$f":"Stückliste!AF211","v":0},{"$f":"Stückliste!AI211","v":0}]
["a","5.5",8,{"$f":"Stückliste!A212","v":0},{"$f":"Stückliste!E212","v":0},{"$f":"Stückliste!J212","v":0},{"$f":"Stückliste!O212","v":0},{"$f":"Stückliste!T212","v":0},{"$f":"Stückliste!W212","v":0},{"$f":"Stückliste!Z212","v":0},{"$f":"Stückliste!AC212","v":0},{"$f":"Stückliste!AF212","v":0},{"$f":"Stückliste!AI212","v":0}]
["a","5.5",8,{"$f":"Stückliste!A213","v":0},{"$f":"Stückliste!E213","v":0},{"$f":"Stückliste!J213","v":0},{"$f":"Stückliste!O213","v":0},{"$f":"Stückliste!T213","v":0},{"$f":"Stückliste!W213","v":0},{"$f":"Stückliste!Z213","v":0},{"$f":"Stückliste!AC213","v":0},{"$f":"Stückliste!AF213","v":0},{"$f":"Stückliste!AI213","v":0}]
["a","5.5",8,{"$f":"Stückliste!A214","v":0},{"$f":"Stückliste!E214","v":0},{"$f":"Stückliste!J214","v":0},{"$f":"Stückliste!O214","v":0},{"$f":"Stückliste!T214","v":0},{"$f":"Stückliste!W214","v":0},{"$f":"Stückliste!Z214","v":0},{"$f":"Stückliste!AC214","v":0},{"$f":"Stückliste!AF214","v":0},{"$f":"Stückliste!AI214","v":0}]
["a","5.5",8,{"$f":"Stückliste!A215","v":0},{"$f":"Stückliste!E215","v":0},{"$f":"Stückliste!J215","v":0},{"$f":"Stückliste!O215","v":0},{"$f":"Stückliste!T215","v":0},{"$f":"Stückliste!W215","v":0},{"$f":"Stückliste!Z215","v":0},{"$f":"Stückliste!AC215","v":0},{"$f":"Stückliste!AF215","v":0},{"$f":"Stückliste!AI215","v":0}]
["a","5.5",8,{"$f":"Stückliste!A216","v":0},{"$f":"Stückliste!E216","v":0},{"$f":"Stückliste!J216","v":0},{"$f":"Stückliste!O216","v":0},{"$f":"Stückliste!T216","v":0},{"$f":"Stückliste!W216","v":0},{"$f":"Stückliste!Z216","v":0},{"$f":"Stückliste!AC216","v":0},{"$f":"Stückliste!AF216","v":0},{"$f":"Stückliste!AI216","v":0}]
["a","5.5",8,{"$f":"Stückliste!A217","v":0},{"$f":"Stückliste!E217","v":0},{"$f":"Stückliste!J217","v":0},{"$f":"Stückliste!O217","v":0},{"$f":"Stückliste!T217","v":0},{"$f":"Stückliste!W217","v":0},{"$f":"Stückliste!Z217","v":0},{"$f":"Stückliste!AC217","v":0},{"$f":"Stückliste!AF217","v":0},{"$f":"Stückliste!AI217","v":0}]
["a","5.5",8,{"$f":"Stückliste!A218","v":0},{"$f":"Stückliste!E218","v":0},{"$f":"Stückliste!J218","v":0},{"$f":"Stückliste!O218","v":0},{"$f":"Stückliste!T218","v":0},{"$f":"Stückliste!W218","v":0},{"$f":"Stückliste!Z218","v":0},{"$f":"Stückliste!AC218","v":0},{"$f":"Stückliste!AF218","v":0},{"$f":"Stückliste!AI218","v":0}]
["a","5.5",8,{"$f":"Stückliste!A219","v":0},{"$f":"Stückliste!E219","v":0},{"$f":"Stückliste!J219","v":0},{"$f":"Stückliste!O219","v":0},{"$f":"Stückliste!T219","v":0},{"$f":"Stückliste!W219","v":0},{"$f":"Stückliste!Z219","v":0},{"$f":"Stückliste!AC219","v":0},{"$f":"Stückliste!AF219","v":0},{"$f":"Stückliste!AI219","v":0}]
["a","5.5",8,{"$f":"Stückliste!A220","v":0},{"$f":"Stückliste!E220","v":0},{"$f":"Stückliste!J220","v":0},{"$f":"Stückliste!O220","v":0},{"$f":"Stückliste!T220","v":0},{"$f":"Stückliste!W220","v":0},{"$f":"Stückliste!Z220","v":0},{"$f":"Stückliste!AC220","v":0},{"$f":"Stückliste!AF220","v":0},{"$f":"Stückliste!AI220","v":0}]
["a","5.5",8,{"$f":"Stückliste!A221","v":0},{"$f":"Stückliste!E221","v":0},{"$f":"Stückliste!J221","v":0},{"$f":"Stückliste!O221","v":0},{"$f":"Stückliste!T221","v":0},{"$f":"Stückliste!W221","v":0},{"$f":"Stückliste!Z221","v":0},{"$f":"Stückliste!AC221","v":0},{"$f":"Stückliste!AF221","v":0},{"$f":"Stückliste!AI221","v":0}]
["a","5.5",8,{"$f":"Stückliste!A222","v":0},{"$f":"Stückliste!E222","v":0},{"$f":"Stückliste!J222","v":0},{"$f":"Stückliste!O222","v":0},{"$f":"Stückliste!T222","v":0},{"$f":"Stückliste!W222","v":0},{"$f":"Stückliste!Z222","v":0},{"$f":"Stückliste!AC222","v":0},{"$f":"Stückliste!AF222","v":0},{"$f":"Stückliste!AI222","v":0}]
["a","5.5",8,{"$f":"Stückliste!A223","v":0},{"$f":"Stückliste!E223","v":0},{"$f":"Stückliste!J223","v":0},{"$f":"Stückliste!O223","v":0},{"$f":"Stückliste!T223","v":0},{"$f":"Stückliste!W223","v":0},{"$f":"Stückliste!Z223","v":0},{"$f":"Stückliste!AC223","v":0},{"$f":"Stückliste!AF223","v":0},{"$f":"Stückliste!AI223","v":0}]
["a","5.5",8,{"$f":"Stückliste!A224","v":0},{"$f":"Stückliste!E224","v":0},{"$f":"Stückliste!J224","v":0},{"$f":"Stückliste!O224","v":0},{"$f":"Stückliste!T224","v":0},{"$f":"Stückliste!W224","v":0},{"$f":"Stückliste!Z224","v":0},{"$f":"Stückliste!AC224","v":0},{"$f":"Stückliste!AF224","v":0},{"$f":"Stückliste!AI224","v":0}]
["a","5.5",8,{"$f":"Stückliste!A225","v":0},{"$f":"Stückliste!E225","v":0},{"$f":"Stückliste!J225","v":0},{"$f":"Stückliste!O225","v":0},{"$f":"Stückliste!T225","v":0},{"$f":"Stückliste!W225","v":0},{"$f":"Stückliste!Z225","v":0},{"$f":"Stückliste!AC225","v":0},{"$f":"Stückliste!AF225","v":0},{"$f":"Stückliste!AI225","v":0}]
["a","5.5",8,{"$f":"Stückliste!A226","v":0},{"$f":"Stückliste!E226","v":0},{"$f":"Stückliste!J226","v":0},{"$f":"Stückliste!O226","v":0},{"$f":"Stückliste!T226","v":0},{"$f":"Stückliste!W226","v":0},{"$f":"Stückliste!Z226","v":0},{"$f":"Stückliste!AC226","v":0},{"$f":"Stückliste!AF226","v":0},{"$f":"Stückliste!AI226","v":0}]
["a","5.5",8,{"$f":"Stückliste!A227","v":0},{"$f":"Stückliste!E227","v":0},{"$f":"Stückliste!J227","v":0},{"$f":"Stückliste!O227","v":0},{"$f":"Stückliste!T227","v":0},{"$f":"Stückliste!W227","v":0},{"$f":"Stückliste!Z227","v":0},{"$f":"Stückliste!AC227","v":0},{"$f":"Stückliste!AF227","v":0},{"$f":"Stückliste!AI227","v":0}]
["a","5.5",8,{"$f":"Stückliste!A228","v":0},{"$f":"Stückliste!E228","v":0},{"$f":"Stückliste!J228","v":0},{"$f":"Stückliste!O228","v":0},{"$f":"Stückliste!T228","v":0},{"$f":"Stückliste!W228","v":0},{"$f":"Stückliste!Z228","v":0},{"$f":"Stückliste!AC228","v":0},{"$f":"Stückliste!AF228","v":0},{"$f":"Stückliste!AI228","v":0}]
["a","5.5",8,{"$f":"Stückliste!A229","v":0},{"$f":"Stückliste!E229","v":0},{"$f":"Stückliste!J229","v":0},{"$f":"Stückliste!O229","v":0},{"$f":"Stückliste!T229","v":0},{"$f":"Stückliste!W229","v":0},{"$f":"Stückliste!Z229","v":0},{"$f":"Stückliste!AC229","v":0},{"$f":"Stückliste!AF229","v":0},{"$f":"Stückliste!AI229","v":0}]
["a","5.5",8,{"$f":"Stückliste!A230","v":0},{"$f":"Stückliste!E230","v":0},{"$f":"Stückliste!J230","v":0},{"$f":"Stückliste!O230","v":0},{"$f":"Stückliste!T230","v":0},{"$f":"Stückliste!W230","v":0},{"$f":"Stückliste!Z230","v":0},{"$f":"Stückliste!AC230","v":0},{"$f":"Stückliste!AF230","v":0},{"$f":"Stückliste!AI230","v":0}]
["a","5.5",8,{"$f":"Stückliste!A231","v":0},{"$f":"Stückliste!E231","v":0},{"$f":"Stückliste!J231","v":0},{"$f":"Stückliste!O231","v":0},{"$f":"Stückliste!T231","v":0},{"$f":"Stückliste!W231","v":0},{"$f":"Stückliste!Z231","v":0},{"$f":"Stückliste!AC231","v":0},{"$f":"Stückliste!AF231","v":0},{"$f":"Stückliste!AI231","v":0}]
["a","5.5",8,{"$f":"Stückliste!A232","v":0},{"$f":"Stückliste!E232","v":0},{"$f":"Stückliste!J232","v":0},{"$f":"Stückliste!O232","v":0},{"$f":"Stückliste!T232","v":0},{"$f":"Stückliste!W232","v":0},{"$f":"Stückliste!Z232","v":0},{"$f":"Stückliste!AC232","v":0},{"$f":"Stückliste!AF232","v":0},{"$f":"Stückliste!AI232","v":0}]
["a","5.5",8,{"$f":"Stückliste!A233","v":0},{"$f":"Stückliste!E233","v":0},{"$f":"Stückliste!J233","v":0},{"$f":"Stückliste!O233","v":0},{"$f":"Stückliste!T233","v":0},{"$f":"Stückliste!W233","v":0},{"$f":"Stückliste!Z233","v":0},{"$f":"Stückliste!AC233","v":0},{"$f":"Stückliste!AF233","v":0},{"$f":"Stückliste!AI233","v":0}]
["a","5.5",8,{"$f":"Stückliste!A234","v":0},{"$f":"Stückliste!E234","v":0},{"$f":"Stückliste!J234","v":0},{"$f":"Stückliste!O234","v":0},{"$f":"Stückliste!T234","v":0},{"$f":"Stückliste!W234","v":0},{"$f":"Stückliste!Z234","v":0},{"$f":"Stückliste!AC234","v":0},{"$f":"Stückliste!AF234","v":0},{"$f":"Stückliste!AI234","v":0}]
["a","5.5",8,{"$f":"Stückliste!A235","v":0},{"$f":"Stückliste!E235","v":0},{"$f":"Stückliste!J235","v":0},{"$f":"Stückliste!O235","v":0},{"$f":"Stückliste!T235","v":0},{"$f":"Stückliste!W235","v":0},{"$f":"Stückliste!Z235","v":0},{"$f":"Stückliste!AC235","v":0},{"$f":"Stückliste!AF235","v":0},{"$f":"Stückliste!AI235","v":0}]
["a","5.5",8,{"$f":"Stückliste!A236","v":0},{"$f":"Stückliste!E236","v":0},{"$f":"Stückliste!J236","v":0},{"$f":"Stückliste!O236","v":0},{"$f":"Stückliste!T236","v":0},{"$f":"Stückliste!W236","v":0},{"$f":"Stückliste!Z236","v":0},{"$f":"Stückliste!AC236","v":0},{"$f":"Stückliste!AF236","v":0},{"$f":"Stückliste!AI236","v":0}]
["a","5.5",8,{"$f":"Stückliste!A237","v":0},{"$f":"Stückliste!E237","v":0},{"$f":"Stückliste!J237","v":0},{"$f":"Stückliste!O237","v":0},{"$f":"Stückliste!T237","v":0},{"$f":"Stückliste!W237","v":0},{"$f":"Stückliste!Z237","v":0},{"$f":"Stückliste!AC237","v":0},{"$f":"Stückliste!AF237","v":0},{"$f":"Stückliste!AI237","v":0}]
["a","5.5",8,{"$f":"Stückliste!A238","v":0},{"$f":"Stückliste!E238","v":0},{"$f":"Stückliste!J238","v":0},{"$f":"Stückliste!O238","v":0},{"$f":"Stückliste!T238","v":0},{"$f":"Stückliste!W238","v":0},{"$f":"Stückliste!Z238","v":0},{"$f":"Stückliste!AC238","v":0},{"$f":"Stückliste!AF238","v":0},{"$f":"Stückliste!AI238","v":0}]
["a","5.5",8,{"$f":"Stückliste!A239","v":0},{"$f":"Stückliste!E239","v":0},{"$f":"Stückliste!J239","v":0},{"$f":"Stückliste!O239","v":0},{"$f":"Stückliste!T239","v":0},{"$f":"Stückliste!W239","v":0},{"$f":"Stückliste!Z239","v":0},{"$f":"Stückliste!AC239","v":0},{"$f":"Stückliste!AF239","v":0},{"$f":"Stückliste!AI239","v":0}]
["a","5.5",8,{"$f":"Stückliste!A240","v":0},{"$f":"Stückliste!E240","v":0},{"$f":"Stückliste!J240","v":0},{"$f":"Stückliste!O240","v":0},{"$f":"Stückliste!T240","v":0},{"$f":"Stückliste!W240","v":0},{"$f":"Stückliste!Z240","v":0},{"$f":"Stückliste!AC240","v":0},{"$f":"Stückliste!AF240","v":0},{"$f":"Stückliste!AI240","v":0}]
["a","5.5",8,{"$f":"Stückliste!A241","v":0},{"$f":"Stückliste!E241","v":0},{"$f":"Stückliste!J241","v":0},{"$f":"Stückliste!O241","v":0},{"$f":"Stückliste!T241","v":0},{"$f":"Stückliste!W241","v":0},{"$f":"Stückliste!Z241","v":0},{"$f":"Stückliste!AC241","v":0},{"$f":"Stückliste!AF241","v":0},{"$f":"Stückliste!AI241","v":0}]
["a","5.5",8,{"$f":"Stückliste!A242","v":0},{"$f":"Stückliste!E242","v":0},{"$f":"Stückliste!J242","v":0},{"$f":"Stückliste!O242","v":0},{"$f":"Stückliste!T242","v":0},{"$f":"Stückliste!W242","v":0},{"$f":"Stückliste!Z242","v":0},{"$f":"Stückliste!AC242","v":0},{"$f":"Stückliste!AF242","v":0},{"$f":"Stückliste!AI242","v":0}]
["a","5.5",8,{"$f":"Stückliste!A243","v":0},{"$f":"Stückliste!E243","v":0},{"$f":"Stückliste!J243","v":0},{"$f":"Stückliste!O243","v":0},{"$f":"Stückliste!T243","v":0},{"$f":"Stückliste!W243","v":0},{"$f":"Stückliste!Z243","v":0},{"$f":"Stückliste!AC243","v":0},{"$f":"Stückliste!AF243","v":0},{"$f":"Stückliste!AI243","v":0}]
["a","5.5",8,{"$f":"Stückliste!A244","v":0},{"$f":"Stückliste!E244","v":0},{"$f":"Stückliste!J244","v":0},{"$f":"Stückliste!O244","v":0},{"$f":"Stückliste!T244","v":0},{"$f":"Stückliste!W244","v":0},{"$f":"Stückliste!Z244","v":0},{"$f":"Stückliste!AC244","v":0},{"$f":"Stückliste!AF244","v":0},{"$f":"Stückliste!AI244","v":0}]
["a","5.5",8,{"$f":"Stückliste!A245","v":0},{"$f":"Stückliste!E245","v":0},{"$f":"Stückliste!J245","v":0},{"$f":"Stückliste!O245","v":0},{"$f":"Stückliste!T245","v":0},{"$f":"Stückliste!W245","v":0},{"$f":"Stückliste!Z245","v":0},{"$f":"Stückliste!AC245","v":0},{"$f":"Stückliste!AF245","v":0},{"$f":"Stückliste!AI245","v":0}]
["a","5.5",8,{"$f":"Stückliste!A246","v":0},{"$f":"Stückliste!E246","v":0},{"$f":"Stückliste!J246","v":0},{"$f":"Stückliste!O246","v":0},{"$f":"Stückliste!T246","v":0},{"$f":"Stückliste!W246","v":0},{"$f":"Stückliste!Z246","v":0},{"$f":"Stückliste!AC246","v":0},{"$f":"Stückliste!AF246","v":0},{"$f":"Stückliste!AI246","v":0}]
["a","5.5",8,{"$f":"Stückliste!A247","v":0},{"$f":"Stückliste!E247","v":0},{"$f":"Stückliste!J247","v":0},{"$f":"Stückliste!O247","v":0},{"$f":"Stückliste!T247","v":0},{"$f":"Stückliste!W247","v":0},{"$f":"Stückliste!Z247","v":0},{"$f":"Stückliste!AC247","v":0},{"$f":"Stückliste!AF247","v":0},{"$f":"Stückliste!AI247","v":0}]
["a","5.5",8,{"$f":"Stückliste!A248","v":0},{"$f":"Stückliste!E248","v":0},{"$f":"Stückliste!J248","v":0},{"$f":"Stückliste!O248","v":0},{"$f":"Stückliste!T248","v":0},{"$f":"Stückliste!W248","v":0},{"$f":"Stückliste!Z248","v":0},{"$f":"Stückliste!AC248","v":0},{"$f":"Stückliste!AF248","v":0},{"$f":"Stückliste!AI248","v":0}]
["a","5.5",8,{"$f":"Stückliste!A249","v":0},{"$f":"Stückliste!E249","v":0},{"$f":"Stückliste!J249","v":0},{"$f":"Stückliste!O249","v":0},{"$f":"Stückliste!T249","v":0},{"$f":"Stückliste!W249","v":0},{"$f":"Stückliste!Z249","v":0},{"$f":"Stückliste!AC249","v":0},{"$f":"Stückliste!AF249","v":0},{"$f":"Stückliste!AI249","v":0}]
[{"$f":"A196","v":"a"},{"$f":"B196","v":"5.5"},{"$f":"C196","v":8},{"$f":"Stückliste!A250","v":0},{"$f":"Stückliste!E250","v":0},{"$f":"Stückliste!J250","v":0},{"$f":"Stückliste!O250","v":0},{"$f":"Stückliste!T250","v":0},{"$f":"Stückliste!W250","v":0},{"$f":"Stückliste!Z250","v":0},{"$f":"Stückliste!AC250","v":0},{"$f":"Stückliste!AF250","v":0},{"$f":"Stückliste!AI250","v":0}]
["a","5.5",8,{"$f":"Stückliste!A251","v":0},{"$f":"Stückliste!E251","v":0},{"$f":"Stückliste!J251","v":0},{"$f":"Stückliste!O251","v":0},{"$f":"Stückliste!T251","v":0},{"$f":"Stückliste!W251","v":0},{"$f":"Stückliste!Z251","v":0},{"$f":"Stückliste!AC251","v":0},{"$f":"Stückliste!AF251","v":0},{"$f":"Stückliste!AI251","v":0}]
["a","5.5",8,{"$f":"Stückliste!A252","v":0},{"$f":"Stückliste!E252","v":0},{"$f":"Stückliste!J252","v":0},{"$f":"Stückliste!O252","v":0},{"$f":"Stückliste!T252","v":0},{"$f":"Stückliste!W252","v":0},{"$f":"Stückliste!Z252","v":0},{"$f":"Stückliste!AC252","v":0},{"$f":"Stückliste!AF252","v":0},{"$f":"Stückliste!AI252","v":0}]
["a","5.5",8,{"$f":"Stückliste!A253","v":0},{"$f":"Stückliste!E253","v":0},{"$f":"Stückliste!J253","v":0},{"$f":"Stückliste!O253","v":0},{"$f":"Stückliste!T253","v":0},{"$f":"Stückliste!W253","v":0},{"$f":"Stückliste!Z253","v":0},{"$f":"Stückliste!AC253","v":0},{"$f":"Stückliste!AF253","v":0},{"$f":"Stückliste!AI253","v":0}]
["a","5.5",8,{"$f":"Stückliste!A254","v":0},{"$f":"Stückliste!E254","v":0},{"$f":"Stückliste!J254","v":0},{"$f":"Stückliste!O254","v":0},{"$f":"Stückliste!T254","v":0},{"$f":"Stückliste!W254","v":0},{"$f":"Stückliste!Z254","v":0},{"$f":"Stückliste!AC254","v":0},{"$f":"Stückliste!AF254","v":0},{"$f":"Stückliste!AI254","v":0}]
["a","5.5",8,{"$f":"Stückliste!A255","v":0},{"$f":"Stückliste!E255","v":0},{"$f":"Stückliste!J255","v":0},{"$f":"Stückliste!O255","v":0},{"$f":"Stückliste!T255","v":0},{"$f":"Stückliste!W255","v":0},{"$f":"Stückliste!Z255","v":0},{"$f":"Stückliste!AC255","v":0},{"$f":"Stückliste!AF255","v":0},{"$f":"Stückliste!AI255","v":0}]
["a","5.5",8,{"$f":"Stückliste!A256","v":0},{"$f":"Stückliste!E256","v":0},{"$f":"Stückliste!J256","v":0},{"$f":"Stückliste!O256","v":0},{"$f":"Stückliste!T256","v":0},{"$f":"Stückliste!W256","v":0},{"$f":"Stückliste!Z256","v":0},{"$f":"Stückliste!AC256","v":0},{"$f":"Stückliste!AF256","v":0},{"$f":"Stückliste!AI256","v":0}]
["a","5.5",8,{"$f":"Stückliste!A257","v":0},{"$f":"Stückliste!E257","v":0},{"$f":"Stückliste!J257","v":0},{"$f":"Stückliste!O257","v":0},{"$f":"Stückliste!T257","v":0},{"$f":"Stückliste!W257","v":0},{"$f":"Stückliste!Z257","v":0},{"$f":"Stückliste!AC257","v":0},{"$f":"Stückliste!AF257","v":0},{"$f":"Stückliste!AI257","v":0}]
["a","5.5",8,{"$f":"Stückliste!A258","v":0},{"$f":"Stückliste!E258","v":0},{"$f":"Stückliste!J258","v":0},{"$f":"Stückliste!O258","v":0},{"$f":"Stückliste!T258","v":0},{"$f":"Stückliste!W258","v":0},{"$f":"Stückliste!Z258","v":0},{"$f":"Stückliste!AC258","v":0},{"$f":"Stückliste!AF258","v":0},{"$f":"Stückliste!AI258","v":0}]
["a","5.5",8,{"$f":"Stückliste!A259","v":0},{"$f":"Stückliste!E259","v":0},{"$f":"Stückliste!J259","v":0},{"$f":"Stückliste!O259","v":0},{"$f":"Stückliste!T259","v":0},{"$f":"Stückliste!W259","v":0},{"$f":"Stückliste!Z259","v":0},{"$f":"Stückliste!AC259","v":0},{"$f":"Stückliste!AF259","v":0},{"$f":"Stückliste!AI259","v":0}]
["a","5.5",8,{"$f":"Stückliste!A260","v":0},{"$f":"Stückliste!E260","v":0},{"$f":"Stückliste!J260","v":0},{"$f":"Stückliste!O260","v":0},{"$f":"Stückliste!T260","v":0},{"$f":"Stückliste!W260","v":0},{"$f":"Stückliste!Z260","v":0},{"$f":"Stückliste!AC260","v":0},{"$f":"Stückliste!AF260","v":0},{"$f":"Stückliste!AI260","v":0}]
["a","5.5",8,{"$f":"Stückliste!A261","v":0},{"$f":"Stückliste!E261","v":0},{"$f":"Stückliste!J261","v":0},{"$f":"Stückliste!O261","v":0},{"$f":"Stückliste!T261","v":0},{"$f":"Stückliste!W261","v":0},{"$f":"Stückliste!Z261","v":0},{"$f":"Stückliste!AC261","v":0},{"$f":"Stückliste!AF261","v":0},{"$f":"Stückliste!AI261","v":0}]
["a","5.5",8,{"$f":"Stückliste!A262","v":0},{"$f":"Stückliste!E262","v":0},{"$f":"Stückliste!J262","v":0},{"$f":"Stückliste!O262","v":0},{"$f":"Stückliste!T262","v":0},{"$f":"Stückliste!W262","v":0},{"$f":"Stückliste!Z262","v":0},{"$f":"Stückliste!AC262","v":0},{"$f":"Stückliste!AF262","v":0},{"$f":"Stückliste!AI262","v":0}]
["a","5.5",8,{"$f":"Stückliste!A263","v":0},{"$f":"Stückliste!E263","v":0},{"$f":"Stückliste!J263","v":0},{"$f":"Stückliste!O263","v":0},{"$f":"Stückliste!T263","v":0},{"$f":"Stückliste!W263","v":0},{"$f":"Stückliste!Z263","v":0},{"$f":"Stückliste!AC263","v":0},{"$f":"Stückliste!AF263","v":0},{"$f":"Stückliste!AI263","v":0}]
["a","5.5",8,{"$f":"Stückliste!A264","v":0},{"$f":"Stückliste!E264","v":0},{"$f":"Stückliste!J264","v":0},{"$f":"Stückliste!O264","v":0},{"$f":"Stückliste!T264","v":0},{"$f":"Stückliste!W264","v":0},{"$f":"Stückliste!Z264","v":0},{"$f":"Stückliste!AC264","v":0},{"$f":"Stückliste!AF264","v":0},{"$f":"Stückliste!AI264","v":0}]
["a","5.5",8,{"$f":"Stückliste!A265","v":0},{"$f":"Stückliste!E265","v":0},{"$f":"Stückliste!J265","v":0},{"$f":"Stückliste!O265","v":0},{"$f":"Stückliste!T265","v":0},{"$f":"Stückliste!W265","v":0},{"$f":"Stückliste!Z265","v":0},{"$f":"Stückliste!AC265","v":0},{"$f":"Stückliste!AF265","v":0},{"$f":"Stückliste!AI265","v":0}]
["a","5.5",8,{"$f":"Stückliste!A266","v":0},{"$f":"Stückliste!E266","v":0},{"$f":"Stückliste!J266","v":0},{"$f":"Stückliste!O266","v":0},{"$f":"Stückliste!T266","v":0},{"$f":"Stückliste!W266","v":0},{"$f":"Stückliste!Z266","v":0},{"$f":"Stückliste!AC266","v":0},{"$f":"Stückliste!AF266","v":0},{"$f":"Stückliste!AI266","v":0}]
["a","5.5",8,{"$f":"Stückliste!A267","v":0},{"$f":"Stückliste!E267","v":0},{"$f":"Stückliste!J267","v":0},{"$f":"Stückliste!O267","v":0},{"$f":"Stückliste!T267","v":0},{"$f":"Stückliste!W267","v":0},{"$f":"Stückliste!Z267","v":0},{"$f":"Stückliste!AC267","v":0},{"$f":"Stückliste!AF267","v":0},{"$f":"Stückliste!AI267","v":0}]
["a","5.5",8,{"$f":"Stückliste!A268","v":0},{"$f":"Stückliste!E268","v":0},{"$f":"Stückliste!J268","v":0},{"$f":"Stückliste!O268","v":0},{"$f":"Stückliste!T268","v":0},{"$f":"Stückliste!W268","v":0},{"$f":"Stückliste!Z268","v":0},{"$f":"Stückliste!AC268","v":0},{"$f":"Stückliste!AF268","v":0},{"$f":"Stückliste!AI268","v":0}]
["a","5.5",8,{"$f":"Stückliste!A269","v":0},{"$f":"Stückliste!E269","v":0},{"$f":"Stückliste!J269","v":0},{"$f":"Stückliste!O269","v":0},{"$f":"Stückliste!T269","v":0},{"$f":"Stückliste!W269","v":0},{"$f":"Stückliste!Z269","v":0},{"$f":"Stückliste!AC269","v":0},{"$f":"Stückliste!AF269","v":0},{"$f":"Stückliste!AI269","v":0}]
["a","5.5",8,{"$f":"Stückliste!A270","v":0},{"$f":"Stückliste!E270","v":0},{"$f":"Stückliste!J270","v":0},{"$f":"Stückliste!O270","v":0},{"$f":"Stückliste!T270","v":0},{"$f":"Stückliste!W270","v":0},{"$f":"Stückliste!Z270","v":0},{"$f":"Stückliste!AC270","v":0},{"$f":"Stückliste!AF270","v":0},{"$f":"Stückliste!AI270","v":0}]
["a","5.5",8,{"$f":"Stückliste!A271","v":0},{"$f":"Stückliste!E271","v":0},{"$f":"Stückliste!J271","v":0},{"$f":"Stückliste!O271","v":0},{"$f":"Stückliste!T271","v":0},{"$f":"Stückliste!W271","v":0},{"$f":"Stückliste!Z271","v":0},{"$f":"Stückliste!AC271","v":0},{"$f":"Stückliste!AF271","v":0},{"$f":"Stückliste!AI271","v":0}]
["a","5.5",8,{"$f":"Stückliste!A272","v":0},{"$f":"Stückliste!E272","v":0},{"$f":"Stückliste!J272","v":0},{"$f":"Stückliste!O272","v":0},{"$f":"Stückliste!T272","v":0},{"$f":"Stückliste!W272","v":0},{"$f":"Stückliste!Z272","v":0},{"$f":"Stückliste!AC272","v":0},{"$f":"Stückliste!AF272","v":0},{"$f":"Stückliste!AI272","v":0}]
["a","5.5",8,{"$f":"Stückliste!A273","v":0},{"$f":"Stückliste!E273","v":0},{"$f":"Stückliste!J273","v":0},{"$f":"Stückliste!O273","v":0},{"$f":"Stückliste!T273","v":0},{"$f":"Stückliste!W273","v":0},{"$f":"Stückliste!Z273","v":0},{"$f":"Stückliste!AC273","v":0},{"$f":"Stückliste!AF273","v":0},{"$f":"Stückliste!AI273","v":0}]
["a","5.5",8,{"$f":"Stückliste!A274","v":0},{"$f":"Stückliste!E274","v":0},{"$f":"Stückliste!J274","v":0},{"$f":"Stückliste!O274","v":0},{"$f":"Stückliste!T274","v":0},{"$f":"Stückliste!W274","v":0},{"$f":"Stückliste!Z274","v":0},{"$f":"Stückliste!AC274","v":0},{"$f":"Stückliste!AF274","v":0},{"$f":"Stückliste!AI274","v":0}]
["a","5.5",8,{"$f":"Stückliste!A275","v":0},{"$f":"Stückliste!E275","v":0},{"$f":"Stückliste!J275","v":0},{"$f":"Stückliste!O275","v":0},{"$f":"Stückliste!T275","v":0},{"$f":"Stückliste!W275","v":0},{"$f":"Stückliste!Z275","v":0},{"$f":"Stückliste!AC275","v":0},{"$f":"Stückliste!AF275","v":0},{"$f":"Stückliste!AI275","v":0}]
["a","5.5",8,{"$f":"Stückliste!A276","v":0},{"$f":"Stückliste!E276","v":0},{"$f":"Stückliste!J276","v":0},{"$f":"Stückliste!O276","v":0},{"$f":"Stückliste!T276","v":0},{"$f":"Stückliste!W276","v":0},{"$f":"Stückliste!Z276","v":0},{"$f":"Stückliste!AC276","v":0},{"$f":"Stückliste!AF276","v":0},{"$f":"Stückliste!AI276","v":0}]
["a","5.5",8,{"$f":"Stückliste!A277","v":0},{"$f":"Stückliste!E277","v":0},{"$f":"Stückliste!J277","v":0},{"$f":"Stückliste!O277","v":0},{"$f":"Stückliste!T277","v":0},{"$f":"Stückliste!W277","v":0},{"$f":"Stückliste!Z277","v":0},{"$f":"Stückliste!AC277","v":0},{"$f":"Stückliste!AF277","v":0},{"$f":"Stückliste!AI277","v":0}]
["a","5.5",8,{"$f":"Stückliste!A278","v":0},{"$f":"Stückliste!E278","v":0},{"$f":"Stückliste!J278","v":0},{"$f":"Stückliste!O278","v":0},{"$f":"Stückliste!T278","v":0},{"$f":"Stückliste!W278","v":0},{"$f":"Stückliste!Z278","v":0},{"$f":"Stückliste!AC278","v":0},{"$f":"Stückliste!AF278","v":0},{"$f":"Stückliste!AI278","v":0}]
["a","5.5",8,{"$f":"Stückliste!A279","v":0},{"$f":"Stückliste!E279","v":0},{"$f":"Stückliste!J279","v":0},{"$f":"Stückliste!O279","v":0},{"$f":"Stückliste!T279","v":0},{"$f":"Stückliste!W279","v":0},{"$f":"Stückliste!Z279","v":0},{"$f":"Stückliste!AC279","v":0},{"$f":"Stückliste!AF279","v":0},{"$f":"Stückliste!AI279","v":0}]
["a","5.5",8,{"$f":"Stückliste!A280","v":0},{"$f":"Stückliste!E280","v":0},{"$f":"Stückliste!J280","v":0},{"$f":"Stückliste!O280","v":0},{"$f":"Stückliste!T280","v":0},{"$f":"Stückliste!W280","v":0},{"$f":"Stückliste!Z280","v":0},{"$f":"Stückliste!AC280","v":0},{"$f":"Stückliste!AF280","v":0},{"$f":"Stückliste!AI280","v":0}]
["a","5.5",8,{"$f":"Stückliste!A281","v":0},{"$f":"Stückliste!E281","v":0},{"$f":"Stückliste!J281","v":0},{"$f":"Stückliste!O281","v":0},{"$f":"Stückliste!T281","v":0},{"$f":"Stückliste!W281","v":0},{"$f":"Stückliste!Z281","v":0},{"$f":"Stückliste!AC281","v":0},{"$f":"Stückliste!AF281","v":0},{"$f":"Stückliste!AI281","v":0}]
["a","5.5",8,{"$f":"Stückliste!A282","v":0},{"$f":"Stückliste!E282","v":0},{"$f":"Stückliste!J282","v":0},{"$f":"Stückliste!O282","v":0},{"$f":"Stückliste!T282","v":0},{"$f":"Stückliste!W282","v":0},{"$f":"Stückliste!Z282","v":0},{"$f":"Stückliste!AC282","v":0},{"$f":"Stückliste!AF282","v":0},{"$f":"Stückliste!AI282","v":0}]
["a","5.5",8,{"$f":"Stückliste!A283","v":0},{"$f":"Stückliste!E283","v":0},{"$f":"Stückliste!J283","v":0},{"$f":"Stückliste!O283","v":0},{"$f":"Stückliste!T283","v":0},{"$f":"Stückliste!W283","v":0},{"$f":"Stückliste!Z283","v":0},{"$f":"Stückliste!AC283","v":0},{"$f":"Stückliste!AF283","v":0},{"$f":"Stückliste!AI283","v":0}]
["a","5.5",8,{"$f":"Stückliste!A284","v":0},{"$f":"Stückliste!E284","v":0},{"$f":"Stückliste!J284","v":0},{"$f":"Stückliste!O284","v":0},{"$f":"Stückliste!T284","v":0},{"$f":"Stückliste!W284","v":0},{"$f":"Stückliste!Z284","v":0},{"$f":"Stückliste!AC284","v":0},{"$f":"Stückliste!AF284","v":0},{"$f":"Stückliste!AI284","v":0}]
["a","5.5",8,{"$f":"Stückliste!A285","v":0},{"$f":"Stückliste!E285","v":0},{"$f":"Stückliste!J285","v":0},{"$f":"Stückliste!O285","v":0},{"$f":"Stückliste!T285","v":0},{"$f":"Stückliste!W285","v":0},{"$f":"Stückliste!Z285","v":0},{"$f":"Stückliste!AC285","v":0},{"$f":"Stückliste!AF285","v":0},{"$f":"Stückliste!AI285","v":0}]
["a","5.5",8,{"$f":"Stückliste!A286","v":0},{"$f":"Stückliste!E286","v":0},{"$f":"Stückliste!J286","v":0},{"$f":"Stückliste!O286","v":0},{"$f":"Stückliste!T286","v":0},{"$f":"Stückliste!W286","v":0},{"$f":"Stückliste!Z286","v":0},{"$f":"Stückliste!AC286","v":0},{"$f":"Stückliste!AF286","v":0},{"$f":"Stückliste!AI286","v":0}]
["a","5.5",8,{"$f":"Stückliste!A287","v":0},{"$f":"Stückliste!E287","v":0},{"$f":"Stückliste!J287","v":0},{"$f":"Stückliste!O287","v":0},{"$f":"Stückliste!T287","v":0},{"$f":"Stückliste!W287","v":0},{"$f":"Stückliste!Z287","v":0},{"$f":"Stückliste!AC287","v":0},{"$f":"Stückliste!AF287","v":0},{"$f":"Stückliste!AI287","v":0}]
["a","5.5",8,{"$f":"Stückliste!A288","v":0},{"$f":"Stückliste!E288","v":0},{"$f":"Stückliste!J288","v":0},{"$f":"Stückliste!O288","v":0},{"$f":"Stückliste!T288","v":0},{"$f":"Stückliste!W288","v":0},{"$f":"Stückliste!Z288","v":0},{"$f":"Stückliste!AC288","v":0},{"$f":"Stückliste!AF288","v":0},{"$f":"Stückliste!AI288","v":0}]
["a","5.5",8,{"$f":"Stückliste!A289","v":0},{"$f":"Stückliste!E289","v":0},{"$f":"Stückliste!J289","v":0},{"$f":"Stückliste!O289","v":0},{"$f":"Stückliste!T289","v":0},{"$f":"Stückliste!W289","v":0},{"$f":"Stückliste!Z289","v":0},{"$f":"Stückliste!AC289","v":0},{"$f":"Stückliste!AF289","v":0},{"$f":"Stückliste!AI289","v":0}]
["a","5.5",8,{"$f":"Stückliste!A290","v":0},{"$f":"Stückliste!E290","v":0},{"$f":"Stückliste!J290","v":0},{"$f":"Stückliste!O290","v":0},{"$f":"Stückliste!T290","v":0},{"$f":"Stückliste!W290","v":0},{"$f":"Stückliste!Z290","v":0},{"$f":"Stückliste!AC290","v":0},{"$f":"Stückliste!AF290","v":0},{"$f":"Stückliste!AI290","v":0}]
["a","5.5",8,{"$f":"Stückliste!A291","v":0},{"$f":"Stückliste!E291","v":0},{"$f":"Stückliste!J291","v":0},{"$f":"Stückliste!O291","v":0},{"$f":"Stückliste!T291","v":0},{"$f":"Stückliste!W291","v":0},{"$f":"Stückliste!Z291","v":0},{"$f":"Stückliste!AC291","v":0},{"$f":"Stückliste!AF291","v":0},{"$f":"Stückliste!AI291","v":0}]
["a","5.5",8,{"$f":"Stückliste!A292","v":0},{"$f":"Stückliste!E292","v":0},{"$f":"Stückliste!J292","v":0},{"$f":"Stückliste!O292","v":0},{"$f":"Stückliste!T292","v":0},{"$f":"Stückliste!W292","v":0},{"$f":"Stückliste!Z292","v":0},{"$f":"Stückliste!AC292","v":0},{"$f":"Stückliste!AF292","v":0},{"$f":"Stückliste!AI292","v":0}]
["a","5.5",8,{"$f":"Stückliste!A293","v":0},{"$f":"Stückliste!E293","v":0},{"$f":"Stückliste!J293","v":0},{"$f":"Stückliste!O293","v":0},{"$f":"Stückliste!T293","v":0},{"$f":"Stückliste!W293","v":0},{"$f":"Stückliste!Z293","v":0},{"$f":"Stückliste!AC293","v":0},{"$f":"Stückliste!AF293","v":0},{"$f":"Stückliste!AI293","v":0}]
["a","5.5",8,{"$f":"Stückliste!A294","v":0},{"$f":"Stückliste!E294","v":0},{"$f":"Stückliste!J294","v":0},{"$f":"Stückliste!O294","v":0},{"$f":"Stückliste!T294","v":0},{"$f":"Stückliste!W294","v":0},{"$f":"Stückliste!Z294","v":0},{"$f":"Stückliste!AC294","v":0},{"$f":"Stückliste!AF294","v":0},{"$f":"Stückliste!AI294","v":0}]
["a","5.5",8,{"$f":"Stückliste!A295","v":0},{"$f":"Stückliste!E295","v":0},{"$f":"Stückliste!J295","v":0},{"$f":"Stückliste!O295","v":0},{"$f":"Stückliste!T295","v":0},{"$f":"Stückliste!W295","v":0},{"$f":"Stückliste!Z295","v":0},{"$f":"Stückliste!AC295","v":0},{"$f":"Stückliste!AF295","v":0},{"$f":"Stückliste!AI295","v":0}]
["a","5.5",8,{"$f":"Stückliste!A296","v":0},{"$f":"Stückliste!E296","v":0},{"$f":"Stückliste!J296","v":0},{"$f":"Stückliste!O296","v":0},{"$f":"Stückliste!T296","v":0},{"$f":"Stückliste!W296","v":0},{"$f":"Stückliste!Z296","v":0},{"$f":"Stückliste!AC296","v":0},{"$f":"Stückliste!AF296","v":0},{"$f":"Stückliste!AI296","v":0}]
["a","5.5",8,{"$f":"Stückliste!A297","v":0},{"$f":"Stückliste!E297","v":0},{"$f":"Stückliste!J297","v":0},{"$f":"Stückliste!O297","v":0},{"$f":"Stückliste!T297","v":0},{"$f":"Stückliste!W297","v":0},{"$f":"Stückliste!Z297","v":0},{"$f":"Stückliste!AC297","v":0},{"$f":"Stückliste!AF297","v":0},{"$f":"Stückliste!AI297","v":0}]
["a","5.5",8,{"$f":"Stückliste!A298","v":0},{"$f":"Stückliste!E298","v":0},{"$f":"Stückliste!J298","v":0},{"$f":"Stückliste!O298","v":0},{"$f":"Stückliste!T298","v":0},{"$f":"Stückliste!W298","v":0},{"$f":"Stückliste!Z298","v":0},{"$f":"Stückliste!AC298","v":0},{"$f":"Stückliste!AF298","v":0},{"$f":"Stückliste!AI298","v":0}]
["a","5.5",8,{"$f":"Stückliste!A299","v":0},{"$f":"Stückliste!E299","v":0},{"$f":"Stückliste!J299","v":0},{"$f":"Stückliste!O299","v":0},{"$f":"Stückliste!T299","v":0},{"$f":"Stückliste!W299","v":0},{"$f":"Stückliste!Z299","v":0},{"$f":"Stückliste!AC299","v":0},{"$f":"Stückliste!AF299","v":0},{"$f":"Stückliste!AI299","v":0}]
["a","5.5",8,{"$f":"Stückliste!A300","v":0},{"$f":"Stückliste!E300","v":0},{"$f":"Stückliste!J300","v":0},{"$f":"Stückliste!O300","v":0},{"$f":"Stückliste!T300","v":0},{"$f":"Stückliste!W300","v":0},{"$f":"Stückliste!Z300","v":0},{"$f":"Stückliste!AC300","v":0},{"$f":"Stückliste!AF300","v":0},{"$f":"Stückliste!AI300","v":0}]
["a","5.5",8,{"$f":"Stückliste!A301","v":0},{"$f":"Stückliste!E301","v":0},{"$f":"Stückliste!J301","v":0},{"$f":"Stückliste!O301","v":0},{"$f":"Stückliste!T301","v":0},{"$f":"Stückliste!W301","v":0},{"$f":"Stückliste!Z301","v":0},{"$f":"Stückliste!AC301","v":0},{"$f":"Stückliste!AF301","v":0},{"$f":"Stückliste!AI301","v":0}]
["a","5.5",8,{"$f":"Stückliste!A302","v":0},{"$f":"Stückliste!E302","v":0},{"$f":"Stückliste!J302","v":0},{"$f":"Stückliste!O302","v":0},{"$f":"Stückliste!T302","v":0},{"$f":"Stückliste!W302","v":0},{"$f":"Stückliste!Z302","v":0},{"$f":"Stückliste!AC302","v":0},{"$f":"Stückliste!AF302","v":0},{"$f":"Stückliste!AI302","v":0}]
["a","5.5",8,{"$f":"Stückliste!A303","v":0},{"$f":"Stückliste!E303","v":0},{"$f":"Stückliste!J303","v":0},{"$f":"Stückliste!O303","v":0},{"$f":"Stückliste!T303","v":0},{"$f":"Stückliste!W303","v":0},{"$f":"Stückliste!Z303","v":0},{"$f":"Stückliste!AC303","v":0},{"$f":"Stückliste!AF303","v":0},{"$f":"Stückliste!AI303","v":0}]
["a","5.5",8,{"$f":"Stückliste!A304","v":0},{"$f":"Stückliste!E304","v":0},{"$f":"Stückliste!J304","v":0},{"$f":"Stückliste!O304","v":0},{"$f":"Stückliste!T304","v":0},{"$f":"Stückliste!W304","v":0},{"$f":"Stückliste!Z304","v":0},{"$f":"Stückliste!AC304","v":0},{"$f":"Stückliste!AF304","v":0},{"$f":"Stückliste!AI304","v":0}]
["a","5.5",8,{"$f":"Stückliste!A305","v":0},{"$f":"Stückliste!E305","v":0},{"$f":"Stückliste!J305","v":0},{"$f":"Stückliste!O305","v":0},{"$f":"Stückliste!T305","v":0},{"$f":"Stückliste!W305","v":0},{"$f":"Stückliste!Z305","v":0},{"$f":"Stückliste!AC305","v":0},{"$f":"Stückliste!AF305","v":0},{"$f":"Stückliste!AI305","v":0}]
["a","5.5",8,{"$f":"Stückliste!A306","v":0},{"$f":"Stückliste!E306","v":0},{"$f":"Stückliste!J306","v":0},{"$f":"Stückliste!O306","v":0},{"$f":"Stückliste!T306","v":0},{"$f":"Stückliste!W306","v":0},{"$f":"Stückliste!Z306","v":0},{"$f":"Stückliste!AC306","v":0},{"$f":"Stückliste!AF306","v":0},{"$f":"Stückliste!AI306","v":0}]
["a","5.5",8,{"$f":"Stückliste!A307","v":0},{"$f":"Stückliste!E307","v":0},{"$f":"Stückliste!J307","v":0},{"$f":"Stückliste!O307","v":0},{"$f":"Stückliste!T307","v":0},{"$f":"Stückliste!W307","v":0},{"$f":"Stückliste!Z307","v":0},{"$f":"Stückliste!AC307","v":0},{"$f":"Stückliste!AF307","v":0},{"$f":"Stückliste!AI307","v":0}]
["a","5.5",8,{"$f":"Stückliste!A308","v":0},{"$f":"Stückliste!E308","v":0},{"$f":"Stückliste!J308","v":0},{"$f":"Stückliste!O308","v":0},{"$f":"Stückliste!T308","v":0},{"$f":"Stückliste!W308","v":0},{"$f":"Stückliste!Z308","v":0},{"$f":"Stückliste!AC308","v":0},{"$f":"Stückliste!AF308","v":0},{"$f":"Stückliste!AI308","v":0}]
["a","5.5",8,{"$f":"Stückliste!A309","v":0},{"$f":"Stückliste!E309","v":0},{"$f":"Stückliste!J309","v":0},{"$f":"Stückliste!O309","v":0},{"$f":"Stückliste!T309","v":0},{"$f":"Stückliste!W309","v":0},{"$f":"Stückliste!Z309","v":0},{"$f":"Stückliste!AC309","v":0},{"$f":"Stückliste!AF309","v":0},{"$f":"Stückliste!AI309","v":0}]
["a","5.5",8,{"$f":"Stückliste!A310","v":0},{"$f":"Stückliste!E310","v":0},{"$f":"Stückliste!J310","v":0},{"$f":"Stückliste!O310","v":0},{"$f":"Stückliste!T310","v":0},{"$f":"Stückliste!W310","v":0},{"$f":"Stückliste!Z310","v":0},{"$f":"Stückliste!AC310","v":0},{"$f":"Stückliste!AF310","v":0},{"$f":"Stückliste!AI310","v":0}]
["a","5.5",8,{"$f":"Stückliste!A311","v":0},{"$f":"Stückliste!E311","v":0},{"$f":"Stückliste!J311","v":0},{"$f":"Stückliste!O311","v":0},{"$f":"Stückliste!T311","v":0},{"$f":"Stückliste!W311","v":0},{"$f":"Stückliste!Z311","v":0},{"$f":"Stückliste!AC311","v":0},{"$f":"Stückliste!AF311","v":0},{"$f":"Stückliste!AI311","v":0}]
["a","5.5",8,{"$f":"Stückliste!A312","v":0},{"$f":"Stückliste!E312","v":0},{"$f":"Stückliste!J312","v":0},{"$f":"Stückliste!O312","v":0},{"$f":"Stückliste!T312","v":0},{"$f":"Stückliste!W312","v":0},{"$f":"Stückliste!Z312","v":0},{"$f":"Stückliste!AC312","v":0},{"$f":"Stückliste!AF312","v":0},{"$f":"Stückliste!AI312","v":0}]
["a","5.5",8,{"$f":"Stückliste!A313","v":0},{"$f":"Stückliste!E313","v":0},{"$f":"Stückliste!J313","v":0},{"$f":"Stückliste!O313","v":0},{"$f":"Stückliste!T313","v":0},{"$f":"Stückliste!W313","v":0},{"$f":"Stückliste!Z313","v":0},{"$f":"Stückliste!AC313","v":0},{"$f":"Stückliste!AF313","v":0},{"$f":"Stückliste!AI313","v":0}]
[{"$f":"A260","v":"a"},{"$f":"B260","v":"5.5"},{"$f":"C260","v":8},{"$f":"Stückliste!A314","v":0},{"$f":"Stückliste!E314","v":0},{"$f":"Stückliste!J314","v":0},{"$f":"Stückliste!O314","v":0},{"$f":"Stückliste!T314","v":0},{"$f":"Stückliste!W314","v":0},{"$f":"Stückliste!Z314","v":0},{"$f":"Stückliste!AC314","v":0},{"$f":"Stückliste!AF314","v":0},{"$f":"Stückliste!AI314","v":0}]
["a","5.5",8,{"$f":"Stückliste!A315","v":0},{"$f":"Stückliste!E315","v":0},{"$f":"Stückliste!J315","v":0},{"$f":"Stückliste!O315","v":0},{"$f":"Stückliste!T315","v":0},{"$f":"Stückliste!W315","v":0},{"$f":"Stückliste!Z315","v":0},{"$f":"Stückliste!AC315","v":0},{"$f":"Stückliste!AF315","v":0},{"$f":"Stückliste!AI315","v":0}]
["a","5.5",8,{"$f":"Stückliste!A316","v":0},{"$f":"Stückliste!E316","v":0},{"$f":"Stückliste!J316","v":0},{"$f":"Stückliste!O316","v":0},{"$f":"Stückliste!T316","v":0},{"$f":"Stückliste!W316","v":0},{"$f":"Stückliste!Z316","v":0},{"$f":"Stückliste!AC316","v":0},{"$f":"Stückliste!AF316","v":0},{"$f":"Stückliste!AI316","v":0}]
["a","5.5",8,{"$f":"Stückliste!A317","v":0},{"$f":"Stückliste!E317","v":0},{"$f":"Stückliste!J317","v":0},{"$f":"Stückliste!O317","v":0},{"$f":"Stückliste!T317","v":0},{"$f":"Stückliste!W317","v":0},{"$f":"Stückliste!Z317","v":0},{"$f":"Stückliste!AC317","v":0},{"$f":"Stückliste!AF317","v":0},{"$f":"Stückliste!AI317","v":0}]
["a","5.5",8,{"$f":"Stückliste!A318","v":0},{"$f":"Stückliste!E318","v":0},{"$f":"Stückliste!J318","v":0},{"$f":"Stückliste!O318","v":0},{"$f":"Stückliste!T318","v":0},{"$f":"Stückliste!W318","v":0},{"$f":"Stückliste!Z318","v":0},{"$f":"Stückliste!AC318","v":0},{"$f":"Stückliste!AF318","v":0},{"$f":"Stückliste!AI318","v":0}]
["a","5.5",8,{"$f":"Stückliste!A319","v":0},{"$f":"Stückliste!E319","v":0},{"$f":"Stückliste!J319","v":0},{"$f":"Stückliste!O319","v":0},{"$f":"Stückliste!T319","v":0},{"$f":"Stückliste!W319","v":0},{"$f":"Stückliste!Z319","v":0},{"$f":"Stückliste!AC319","v":0},{"$f":"Stückliste!AF319","v":0},{"$f":"Stückliste!AI319","v":0}]
["a","5.5",8,{"$f":"Stückliste!A320","v":0},{"$f":"Stückliste!E320","v":0},{"$f":"Stückliste!J320","v":0},{"$f":"Stückliste!O320","v":0},{"$f":"Stückliste!T320","v":0},{"$f":"Stückliste!W320","v":0},{"$f":"Stückliste!Z320","v":0},{"$f":"Stückliste!AC320","v":0},{"$f":"Stückliste!AF320","v":0},{"$f":"Stückliste!AI320","v":0}]
["a","5.5",8,{"$f":"Stückliste!A321","v":0},{"$f":"Stückliste!E321","v":0},{"$f":"Stückliste!J321","v":0},{"$f":"Stückliste!O321","v":0},{"$f":"Stückliste!T321","v":0},{"$f":"Stückliste!W321","v":0},{"$f":"Stückliste!Z321","v":0},{"$f":"Stückliste!AC321","v":0},{"$f":"Stückliste!AF321","v":0},{"$f":"Stückliste!AI321","v":0}]
["a","5.5",8,{"$f":"Stückliste!A322","v":0},{"$f":"Stückliste!E322","v":0},{"$f":"Stückliste!J322","v":0},{"$f":"Stückliste!O322","v":0},{"$f":"Stückliste!T322","v":0},{"$f":"Stückliste!W322","v":0},{"$f":"Stückliste!Z322","v":0},{"$f":"Stückliste!AC322","v":0},{"$f":"Stückliste!AF322","v":0},{"$f":"Stückliste!AI322","v":0}]
["a","5.5",8,{"$f":"Stückliste!A323","v":0},{"$f":"Stückliste!E323","v":0},{"$f":"Stückliste!J323","v":0},{"$f":"Stückliste!O323","v":0},{"$f":"Stückliste!T323","v":0},{"$f":"Stückliste!W323","v":0},{"$f":"Stückliste!Z323","v":0},{"$f":"Stückliste!AC323","v":0},{"$f":"Stückliste!AF323","v":0},{"$f":"Stückliste!AI323","v":0}]
["a","5.5",8,{"$f":"Stückliste!A324","v":0},{"$f":"Stückliste!E324","v":0},{"$f":"Stückliste!J324","v":0},{"$f":"Stückliste!O324","v":0},{"$f":"Stückliste!T324","v":0},{"$f":"Stückliste!W324","v":0},{"$f":"Stückliste!Z324","v":0},{"$f":"Stückliste!AC324","v":0},{"$f":"Stückliste!AF324","v":0},{"$f":"Stückliste!AI324","v":0}]
["a","5.5",8,{"$f":"Stückliste!A325","v":0},{"$f":"Stückliste!E325","v":0},{"$f":"Stückliste!J325","v":0},{"$f":"Stückliste!O325","v":0},{"$f":"Stückliste!T325","v":0},{"$f":"Stückliste!W325","v":0},{"$f":"Stückliste!Z325","v":0},{"$f":"Stückliste!AC325","v":0},{"$f":"Stückliste!AF325","v":0},{"$f":"Stückliste!AI325","v":0}]
["a","5.5",8,{"$f":"Stückliste!A326","v":0},{"$f":"Stückliste!E326","v":0},{"$f":"Stückliste!J326","v":0},{"$f":"Stückliste!O326","v":0},{"$f":"Stückliste!T326","v":0},{"$f":"Stückliste!W326","v":0},{"$f":"Stückliste!Z326","v":0},{"$f":"Stückliste!AC326","v":0},{"$f":"Stückliste!AF326","v":0},{"$f":"Stückliste!AI326","v":0}]
["a","5.5",8,{"$f":"Stückliste!A327","v":0},{"$f":"Stückliste!E327","v":0},{"$f":"Stückliste!J327","v":0},{"$f":"Stückliste!O327","v":0},{"$f":"Stückliste!T327","v":0},{"$f":"Stückliste!W327","v":0},{"$f":"Stückliste!Z327","v":0},{"$f":"Stückliste!AC327","v":0},{"$f":"Stückliste!AF327","v":0},{"$f":"Stückliste!AI327","v":0}]
["a","5.5",8,{"$f":"Stückliste!A328","v":0},{"$f":"Stückliste!E328","v":0},{"$f":"Stückliste!J328","v":0},{"$f":"Stückliste!O328","v":0},{"$f":"Stückliste!T328","v":0},{"$f":"Stückliste!W328","v":0},{"$f":"Stückliste!Z328","v":0},{"$f":"Stückliste!AC328","v":0},{"$f":"Stückliste!AF328","v":0},{"$f":"Stückliste!AI328","v":0}]
["a","5.5",8,{"$f":"Stückliste!A329","v":0},{"$f":"Stückliste!E329","v":0},{"$f":"Stückliste!J329","v":0},{"$f":"Stückliste!O329","v":0},{"$f":"Stückliste!T329","v":0},{"$f":"Stückliste!W329","v":0},{"$f":"Stückliste!Z329","v":0},{"$f":"Stückliste!AC329","v":0},{"$f":"Stückliste!AF329","v":0},{"$f":"Stückliste!AI329","v":0}]
["a","5.5",8,{"$f":"Stückliste!A330","v":0},{"$f":"Stückliste!E330","v":0},{"$f":"Stückliste!J330","v":0},{"$f":"Stückliste!O330","v":0},{"$f":"Stückliste!T330","v":0},{"$f":"Stückliste!W330","v":0},{"$f":"Stückliste!Z330","v":0},{"$f":"Stückliste!AC330","v":0},{"$f":"Stückliste!AF330","v":0},{"$f":"Stückliste!AI330","v":0}]
["a","5.5",8,{"$f":"Stückliste!A331","v":0},{"$f":"Stückliste!E331","v":0},{"$f":"Stückliste!J331","v":0},{"$f":"Stückliste!O331","v":0},{"$f":"Stückliste!T331","v":0},{"$f":"Stückliste!W331","v":0},{"$f":"Stückliste!Z331","v":0},{"$f":"Stückliste!AC331","v":0},{"$f":"Stückliste!AF331","v":0},{"$f":"Stückliste!AI331","v":0}]
["a","5.5",8,{"$f":"Stückliste!A332","v":0},{"$f":"Stückliste!E332","v":0},{"$f":"Stückliste!J332","v":0},{"$f":"Stückliste!O332","v":0},{"$f":"Stückliste!T332","v":0},{"$f":"Stückliste!W332","v":0},{"$f":"Stückliste!Z332","v":0},{"$f":"Stückliste!AC332","v":0},{"$f":"Stückliste!AF332","v":0},{"$f":"Stückliste!AI332","v":0}]
["a","5.5",8,{"$f":"Stückliste!A333","v":0},{"$f":"Stückliste!E333","v":0},{"$f":"Stückliste!J333","v":0},{"$f":"Stückliste!O333","v":0},{"$f":"Stückliste!T333","v":0},{"$f":"Stückliste!W333","v":0},{"$f":"Stückliste!Z333","v":0},{"$f":"Stückliste!AC333","v":0},{"$f":"Stückliste!AF333","v":0},{"$f":"Stückliste!AI333","v":0}]
["a","5.5",8,{"$f":"Stückliste!A334","v":0},{"$f":"Stückliste!E334","v":0},{"$f":"Stückliste!J334","v":0},{"$f":"Stückliste!O334","v":0},{"$f":"Stückliste!T334","v":0},{"$f":"Stückliste!W334","v":0},{"$f":"Stückliste!Z334","v":0},{"$f":"Stückliste!AC334","v":0},{"$f":"Stückliste!AF334","v":0},{"$f":"Stückliste!AI334","v":0}]
["a","5.5",8,{"$f":"Stückliste!A335","v":0},{"$f":"Stückliste!E335","v":0},{"$f":"Stückliste!J335","v":0},{"$f":"Stückliste!O335","v":0},{"$f":"Stückliste!T335","v":0},{"$f":"Stückliste!W335","v":0},{"$f":"Stückliste!Z335","v":0},{"$f":"Stückliste!AC335","v":0},{"$f":"Stückliste!AF335","v":0},{"$f":"Stückliste!AI335","v":0}]
["a","5.5",8,{"$f":"Stückliste!A336","v":0},{"$f":"Stückliste!E336","v":0},{"$f":"Stückliste!J336","v":0},{"$f":"Stückliste!O336","v":0},{"$f":"Stückliste!T336","v":0},{"$f":"Stückliste!W336","v":0},{"$f":"Stückliste!Z336","v":0},{"$f":"Stückliste!AC336","v":0},{"$f":"Stückliste!AF336","v":0},{"$f":"Stückliste!AI336","v":0}]
["a","5.5",8,{"$f":"Stückliste!A337","v":0},{"$f":"Stückliste!E337","v":0},{"$f":"Stückliste!J337","v":0},{"$f":"Stückliste!O337","v":0},{"$f":"Stückliste!T337","v":0},{"$f":"Stückliste!W337","v":0},{"$f":"Stückliste!Z337","v":0},{"$f":"Stückliste!AC337","v":0},{"$f":"Stückliste!AF337","v":0},{"$f":"Stückliste!AI337","v":0}]
["a","5.5",8,{"$f":"Stückliste!A338","v":0},{"$f":"Stückliste!E338","v":0},{"$f":"Stückliste!J338","v":0},{"$f":"Stückliste!O338","v":0},{"$f":"Stückliste!T338","v":0},{"$f":"Stückliste!W338","v":0},{"$f":"Stückliste!Z338","v":0},{"$f":"Stückliste!AC338","v":0},{"$f":"Stückliste!AF338","v":0},{"$f":"Stückliste!AI338","v":0}]
["a","5.5",8,{"$f":"Stückliste!A339","v":0},{"$f":"Stückliste!E339","v":0},{"$f":"Stückliste!J339","v":0},{"$f":"Stückliste!O339","v":0},{"$f":"Stückliste!T339","v":0},{"$f":"Stückliste!W339","v":0},{"$f":"Stückliste!Z339","v":0},{"$f":"Stückliste!AC339","v":0},{"$f":"Stückliste!AF339","v":0},{"$f":"Stückliste!AI339","v":0}]
["a","5.5",8,{"$f":"Stückliste!A340","v":0},{"$f":"Stückliste!E340","v":0},{"$f":"Stückliste!J340","v":0},{"$f":"Stückliste!O340","v":0},{"$f":"Stückliste!T340","v":0},{"$f":"Stückliste!W340","v":0},{"$f":"Stückliste!Z340","v":0},{"$f":"Stückliste!AC340","v":0},{"$f":"Stückliste!AF340","v":0},{"$f":"Stückliste!AI340","v":0}]
["a","5.5",8,{"$f":"Stückliste!A341","v":0},{"$f":"Stückliste!E341","v":0},{"$f":"Stückliste!J341","v":0},{"$f":"Stückliste!O341","v":0},{"$f":"Stückliste!T341","v":0},{"$f":"Stückliste!W341","v":0},{"$f":"Stückliste!Z341","v":0},{"$f":"Stückliste!AC341","v":0},{"$f":"Stückliste!AF341","v":0},{"$f":"Stückliste!AI341","v":0}]
["a","5.5",8,{"$f":"Stückliste!A342","v":0},{"$f":"Stückliste!E342","v":0},{"$f":"Stückliste!J342","v":0},{"$f":"Stückliste!O342","v":0},{"$f":"Stückliste!T342","v":0},{"$f":"Stückliste!W342","v":0},{"$f":"Stückliste!Z342","v":0},{"$f":"Stückliste!AC342","v":0},{"$f":"Stückliste!AF342","v":0},{"$f":"Stückliste!AI342","v":0}]
["a","5.5",8,{"$f":"Stückliste!A343","v":0},{"$f":"Stückliste!E343","v":0},{"$f":"Stückliste!J343","v":0},{"$f":"Stückliste!O343","v":0},{"$f":"Stückliste!T343","v":0},{"$f":"Stückliste!W343","v":0},{"$f":"Stückliste!Z343","v":0},{"$f":"Stückliste!AC343","v":0},{"$f":"Stückliste!AF343","v":0},{"$f":"Stückliste!AI343","v":0}]
["a","5.5",8,{"$f":"Stückliste!A344","v":0},{"$f":"Stückliste!E344","v":0},{"$f":"Stückliste!J344","v":0},{"$f":"Stückliste!O344","v":0},{"$f":"Stückliste!T344","v":0},{"$f":"Stückliste!W344","v":0},{"$f":"Stückliste!Z344","v":0},{"$f":"Stückliste!AC344","v":0},{"$f":"Stückliste!AF344","v":0},{"$f":"Stückliste!AI344","v":0}]
["a","5.5",8,{"$f":"Stückliste!A345","v":0},{"$f":"Stückliste!E345","v":0},{"$f":"Stückliste!J345","v":0},{"$f":"Stückliste!O345","v":0},{"$f":"Stückliste!T345","v":0},{"$f":"Stückliste!W345","v":0},{"$f":"Stückliste!Z345","v":0},{"$f":"Stückliste!AC345","v":0},{"$f":"Stückliste!AF345","v":0},{"$f":"Stückliste!AI345","v":0}]
["a","5.5",8,{"$f":"Stückliste!A346","v":0},{"$f":"Stückliste!E346","v":0},{"$f":"Stückliste!J346","v":0},{"$f":"Stückliste!O346","v":0},{"$f":"Stückliste!T346","v":0},{"$f":"Stückliste!W346","v":0},{"$f":"Stückliste!Z346","v":0},{"$f":"Stückliste!AC346","v":0},{"$f":"Stückliste!AF346","v":0},{"$f":"Stückliste!AI346","v":0}]
["a","5.5",8,{"$f":"Stückliste!A347","v":0},{"$f":"Stückliste!E347","v":0},{"$f":"Stückliste!J347","v":0},{"$f":"Stückliste!O347","v":0},{"$f":"Stückliste!T347","v":0},{"$f":"Stückliste!W347","v":0},{"$f":"Stückliste!Z347","v":0},{"$f":"Stückliste!AC347","v":0},{"$f":"Stückliste!AF347","v":0},{"$f":"Stückliste!AI347","v":0}]
["a","5.5",8,{"$f":"Stückliste!A348","v":0},{"$f":"Stückliste!E348","v":0},{"$f":"Stückliste!J348","v":0},{"$f":"Stückliste!O348","v":0},{"$f":"Stückliste!T348","v":0},{"$f":"Stückliste!W348","v":0},{"$f":"Stückliste!Z348","v":0},{"$f":"Stückliste!AC348","v":0},{"$f":"Stückliste!AF348","v":0},{"$f":"Stückliste!AI348","v":0}]
["a","5.5",8,{"$f":"Stückliste!A349","v":0},{"$f":"Stückliste!E349","v":0},{"$f":"Stückliste!J349","v":0},{"$f":"Stückliste!O349","v":0},{"$f":"Stückliste!T349","v":0},{"$f":"Stückliste!W349","v":0},{"$f":"Stückliste!Z349","v":0},{"$f":"Stückliste!AC349","v":0},{"$f":"Stückliste!AF349","v":0},{"$f":"Stückliste!AI349","v":0}]
["a","5.5",8,{"$f":"Stückliste!A350","v":0},{"$f":"Stückliste!E350","v":0},{"$f":"Stückliste!J350","v":0},{"$f":"Stückliste!O350","v":0},{"$f":"Stückliste!T350","v":0},{"$f":"Stückliste!W350","v":0},{"$f":"Stückliste!Z350","v":0},{"$f":"Stückliste!AC350","v":0},{"$f":"Stückliste!AF350","v":0},{"$f":"Stückliste!AI350","v":0}]
["a","5.5",8,{"$f":"Stückliste!A351","v":0},{"$f":"Stückliste!E351","v":0},{"$f":"Stückliste!J351","v":0},{"$f":"Stückliste!O351","v":0},{"$f":"Stückliste!T351","v":0},{"$f":"Stückliste!W351","v":0},{"$f":"Stückliste!Z351","v":0},{"$f":"Stückliste!AC351","v":0},{"$f":"Stückliste!AF351","v":0},{"$f":"Stückliste!AI351","v":0}]
["a","5.5",8,{"$f":"Stückliste!A352","v":0},{"$f":"Stückliste!E352","v":0},{"$f":"Stückliste!J352","v":0},{"$f":"Stückliste!O352","v":0},{"$f":"Stückliste!T352","v":0},{"$f":"Stückliste!W352","v":0},{"$f":"Stückliste!Z352","v":0},{"$f":"Stückliste!AC352","v":0},{"$f":"Stückliste!AF352","v":0},{"$f":"Stückliste!AI352","v":0}]
["a","5.5",8,{"$f":"Stückliste!A353","v":0},{"$f":"Stückliste!E353","v":0},{"$f":"Stückliste!J353","v":0},{"$f":"Stückliste!O353","v":0},{"$f":"Stückliste!T353","v":0},{"$f":"Stückliste!W353","v":0},{"$f":"Stückliste!Z353","v":0},{"$f":"Stückliste!AC353","v":0},{"$f":"Stückliste!AF353","v":0},{"$f":"Stückliste!AI353","v":0}]
["a","5.5",8,{"$f":"Stückliste!A354","v":0},{"$f":"Stückliste!E354","v":0},{"$f":"Stückliste!J354","v":0},{"$f":"Stückliste!O354","v":0},{"$f":"Stückliste!T354","v":0},{"$f":"Stückliste!W354","v":0},{"$f":"Stückliste!Z354","v":0},{"$f":"Stückliste!AC354","v":0},{"$f":"Stückliste!AF354","v":0},{"$f":"Stückliste!AI354","v":0}]
["a","5.5",8,{"$f":"Stückliste!A355","v":0},{"$f":"Stückliste!E355","v":0},{"$f":"Stückliste!J355","v":0},{"$f":"Stückliste!O355","v":0},{"$f":"Stückliste!T355","v":0},{"$f":"Stückliste!W355","v":0},{"$f":"Stückliste!Z355","v":0},{"$f":"Stückliste!AC355","v":0},{"$f":"Stückliste!AF355","v":0},{"$f":"Stückliste!AI355","v":0}]
["a","5.5",8,{"$f":"Stückliste!A356","v":0},{"$f":"Stückliste!E356","v":0},{"$f":"Stückliste!J356","v":0},{"$f":"Stückliste!O356","v":0},{"$f":"Stückliste!T356","v":0},{"$f":"Stückliste!W356","v":0},{"$f":"Stückliste!Z356","v":0},{"$f":"Stückliste!AC356","v":0},{"$f":"Stückliste!AF356","v":0},{"$f":"Stückliste!AI356","v":0}]
["a","5.5",8,{"$f":"Stückliste!A357","v":0},{"$f":"Stückliste!E357","v":0},{"$f":"Stückliste!J357","v":0},{"$f":"Stückliste!O357","v":0},{"$f":"Stückliste!T357","v":0},{"$f":"Stückliste!W357","v":0},{"$f":"Stückliste!Z357","v":0},{"$f":"Stückliste!AC357","v":0},{"$f":"Stückliste!AF357","v":0},{"$f":"Stückliste!AI357","v":0}]
["a","5.5",8,{"$f":"Stückliste!A358","v":0},{"$f":"Stückliste!E358","v":0},{"$f":"Stückliste!J358","v":0},{"$f":"Stückliste!O358","v":0},{"$f":"Stückliste!T358","v":0},{"$f":"Stückliste!W358","v":0},{"$f":"Stückliste!Z358","v":0},{"$f":"Stückliste!AC358","v":0},{"$f":"Stückliste!AF358","v":0},{"$f":"Stückliste!AI358","v":0}]
["a","5.5",8,{"$f":"Stückliste!A359","v":0},{"$f":"Stückliste!E359","v":0},{"$f":"Stückliste!J359","v":0},{"$f":"Stückliste!O359","v":0},{"$f":"Stückliste!T359","v":0},{"$f":"Stückliste!W359","v":0},{"$f":"Stückliste!Z359","v":0},{"$f":"Stückliste!AC359","v":0},{"$f":"Stückliste!AF359","v":0},{"$f":"Stückliste!AI359","v":0}]
["a","5.5",8,{"$f":"Stückliste!A360","v":0},{"$f":"Stückliste!E360","v":0},{"$f":"Stückliste!J360","v":0},{"$f":"Stückliste!O360","v":0},{"$f":"Stückliste!T360","v":0},{"$f":"Stückliste!W360","v":0},{"$f":"Stückliste!Z360","v":0},{"$f":"Stückliste!AC360","v":0},{"$f":"Stückliste!AF360","v":0},{"$f":"Stückliste!AI360","v":0}]
["a","5.5",8,{"$f":"Stückliste!A361","v":0},{"$f":"Stückliste!E361","v":0},{"$f":"Stückliste!J361","v":0},{"$f":"Stückliste!O361","v":0},{"$f":"Stückliste!T361","v":0},{"$f":"Stückliste!W361","v":0},{"$f":"Stückliste!Z361","v":0},{"$f":"Stückliste!AC361","v":0},{"$f":"Stückliste!AF361","v":0},{"$f":"Stückliste!AI361","v":0}]
["a","5.5",8,{"$f":"Stückliste!A362","v":0},{"$f":"Stückliste!E362","v":0},{"$f":"Stückliste!J362","v":0},{"$f":"Stückliste!O362","v":0},{"$f":"Stückliste!T362","v":0},{"$f":"Stückliste!W362","v":0},{"$f":"Stückliste!Z362","v":0},{"$f":"Stückliste!AC362","v":0},{"$f":"Stückliste!AF362","v":0},{"$f":"Stückliste!AI362","v":0}]
["a","5.5",8,{"$f":"Stückliste!A363","v":0},{"$f":"Stückliste!E363","v":0},{"$f":"Stückliste!J363","v":0},{"$f":"Stückliste!O363","v":0},{"$f":"Stückliste!T363","v":0},{"$f":"Stückliste!W363","v":0},{"$f":"Stückliste!Z363","v":0},{"$f":"Stückliste!AC363","v":0},{"$f":"Stückliste!AF363","v":0},{"$f":"Stückliste!AI363","v":0}]
["a","5.5",8,{"$f":"Stückliste!A364","v":0},{"$f":"Stückliste!E364","v":0},{"$f":"Stückliste!J364","v":0},{"$f":"Stückliste!O364","v":0},{"$f":"Stückliste!T364","v":0},{"$f":"Stückliste!W364","v":0},{"$f":"Stückliste!Z364","v":0},{"$f":"Stückliste!AC364","v":0},{"$f":"Stückliste!AF364","v":0},{"$f":"Stückliste!AI364","v":0}]
["a","5.5",8,{"$f":"Stückliste!A365","v":0},{"$f":"Stückliste!E365","v":0},{"$f":"Stückliste!J365","v":0},{"$f":"Stückliste!O365","v":0},{"$f":"Stückliste!T365","v":0},{"$f":"Stückliste!W365","v":0},{"$f":"Stückliste!Z365","v":0},{"$f":"Stückliste!AC365","v":0},{"$f":"Stückliste!AF365","v":0},{"$f":"Stückliste!AI365","v":0}]
["a","5.5",8,{"$f":"Stückliste!A366","v":0},{"$f":"Stückliste!E366","v":0},{"$f":"Stückliste!J366","v":0},{"$f":"Stückliste!O366","v":0},{"$f":"Stückliste!T366","v":0},{"$f":"Stückliste!W366","v":0},{"$f":"Stückliste!Z366","v":0},{"$f":"Stückliste!AC366","v":0},{"$f":"Stückliste!AF366","v":0},{"$f":"Stückliste!AI366","v":0}]
["a","5.5",8,{"$f":"Stückliste!A367","v":0},{"$f":"Stückliste!E367","v":0},{"$f":"Stückliste!J367","v":0},{"$f":"Stückliste!O367","v":0},{"$f":"Stückliste!T367","v":0},{"$f":"Stückliste!W367","v":0},{"$f":"Stückliste!Z367","v":0},{"$f":"Stückliste!AC367","v":0},{"$f":"Stückliste!AF367","v":0},{"$f":"Stückliste!AI367","v":0}]
["a","5.5",8,{"$f":"Stückliste!A368","v":0},{"$f":"Stückliste!E368","v":0},{"$f":"Stückliste!J368","v":0},{"$f":"Stückliste!O368","v":0},{"$f":"Stückliste!T368","v":0},{"$f":"Stückliste!W368","v":0},{"$f":"Stückliste!Z368","v":0},{"$f":"Stückliste!AC368","v":0},{"$f":"Stückliste!AF368","v":0},{"$f":"Stückliste!AI368","v":0}]
["a","5.5",8,{"$f":"Stückliste!A369","v":0},{"$f":"Stückliste!E369","v":0},{"$f":"Stückliste!J369","v":0},{"$f":"Stückliste!O369","v":0},{"$f":"Stückliste!T369","v":0},{"$f":"Stückliste!W369","v":0},{"$f":"Stückliste!Z369","v":0},{"$f":"Stückliste!AC369","v":0},{"$f":"Stückliste!AF369","v":0},{"$f":"Stückliste!AI369","v":0}]
["a","5.5",8,{"$f":"Stückliste!A370","v":0},{"$f":"Stückliste!E370","v":0},{"$f":"Stückliste!J370","v":0},{"$f":"Stückliste!O370","v":0},{"$f":"Stückliste!T370","v":0},{"$f":"Stückliste!W370","v":0},{"$f":"Stückliste!Z370","v":0},{"$f":"Stückliste!AC370","v":0},{"$f":"Stückliste!AF370","v":0},{"$f":"Stückliste!AI370","v":0}]
["a","5.5",8,{"$f":"Stückliste!A371","v":0},{"$f":"Stückliste!E371","v":0},{"$f":"Stückliste!J371","v":0},{"$f":"Stückliste!O371","v":0},{"$f":"Stückliste!T371","v":0},{"$f":"Stückliste!W371","v":0},{"$f":"Stückliste!Z371","v":0},{"$f":"Stückliste!AC371","v":0},{"$f":"Stückliste!AF371","v":0},{"$f":"Stückliste!AI371","v":0}]
["a","5.5",8,{"$f":"Stückliste!A372","v":0},{"$f":"Stückliste!E372","v":0},{"$f":"Stückliste!J372","v":0},{"$f":"Stückliste!O372","v":0},{"$f":"Stückliste!T372","v":0},{"$f":"Stückliste!W372","v":0},{"$f":"Stückliste!Z372","v":0},{"$f":"Stückliste!AC372","v":0},{"$f":"Stückliste!AF372","v":0},{"$f":"Stückliste!AI372","v":0}]
["a","5.5",8,{"$f":"Stückliste!A373","v":0},{"$f":"Stückliste!E373","v":0},{"$f":"Stückliste!J373","v":0},{"$f":"Stückliste!O373","v":0},{"$f":"Stückliste!T373","v":0},{"$f":"Stückliste!W373","v":0},{"$f":"Stückliste!Z373","v":0},{"$f":"Stückliste!AC373","v":0},{"$f":"Stückliste!AF373","v":0},{"$f":"Stückliste!AI373","v":0}]
["a","5.5",8,{"$f":"Stückliste!A374","v":0},{"$f":"Stückliste!E374","v":0},{"$f":"Stückliste!J374","v":0},{"$f":"Stückliste!O374","v":0},{"$f":"Stückliste!T374","v":0},{"$f":"Stückliste!W374","v":0},{"$f":"Stückliste!Z374","v":0},{"$f":"Stückliste!AC374","v":0},{"$f":"Stückliste!AF374","v":0},{"$f":"Stückliste!AI374","v":0}]
["a","5.5",8,{"$f":"Stückliste!A375","v":0},{"$f":"Stückliste!E375","v":0},{"$f":"Stückliste!J375","v":0},{"$f":"Stückliste!O375","v":0},{"$f":"Stückliste!T375","v":0},{"$f":"Stückliste!W375","v":0},{"$f":"Stückliste!Z375","v":0},{"$f":"Stückliste!AC375","v":0},{"$f":"Stückliste!AF375","v":0},{"$f":"Stückliste!AI375","v":0}]
["a","5.5",8,{"$f":"Stückliste!A376","v":0},{"$f":"Stückliste!E376","v":0},{"$f":"Stückliste!J376","v":0},{"$f":"Stückliste!O376","v":0},{"$f":"Stückliste!T376","v":0},{"$f":"Stückliste!W376","v":0},{"$f":"Stückliste!Z376","v":0},{"$f":"Stückliste!AC376","v":0},{"$f":"Stückliste!AF376","v":0},{"$f":"Stückliste!AI376","v":0}]
["a","5.5",8,{"$f":"Stückliste!A377","v":0},{"$f":"Stückliste!E377","v":0},{"$f":"Stückliste!J377","v":0},{"$f":"Stückliste!O377","v":0},{"$f":"Stückliste!T377","v":0},{"$f":"Stückliste!W377","v":0},{"$f":"Stückliste!Z377","v":0},{"$f":"Stückliste!AC377","v":0},{"$f":"Stückliste!AF377","v":0},{"$f":"Stückliste!AI377","v":0}]
[{"$f":"A324","v":"a"},{"$f":"B324","v":"5.5"},{"$f":"C324","v":8},{"$f":"Stückliste!A378","v":0},{"$f":"Stückliste!E378","v":0},{"$f":"Stückliste!J378","v":0},{"$f":"Stückliste!O378","v":0},{"$f":"Stückliste!T378","v":0},{"$f":"Stückliste!W378","v":0},{"$f":"Stückliste!Z378","v":0},{"$f":"Stückliste!AC378","v":0},{"$f":"Stückliste!AF378","v":0},{"$f":"Stückliste!AI378","v":0}]
["a","5.5",8,{"$f":"Stückliste!A379","v":0},{"$f":"Stückliste!E379","v":0},{"$f":"Stückliste!J379","v":0},{"$f":"Stückliste!O379","v":0},{"$f":"Stückliste!T379","v":0},{"$f":"Stückliste!W379","v":0},{"$f":"Stückliste!Z379","v":0},{"$f":"Stückliste!AC379","v":0},{"$f":"Stückliste!AF379","v":0},{"$f":"Stückliste!AI379","v":0}]
["a","5.5",8,{"$f":"Stückliste!A380","v":0},{"$f":"Stückliste!E380","v":0},{"$f":"Stückliste!J380","v":0},{"$f":"Stückliste!O380","v":0},{"$f":"Stückliste!T380","v":0},{"$f":"Stückliste!W380","v":0},{"$f":"Stückliste!Z380","v":0},{"$f":"Stückliste!AC380","v":0},{"$f":"Stückliste!AF380","v":0},{"$f":"Stückliste!AI380","v":0}]
["a","5.5",8,{"$f":"Stückliste!A381","v":0},{"$f":"Stückliste!E381","v":0},{"$f":"Stückliste!J381","v":0},{"$f":"Stückliste!O381","v":0},{"$f":"Stückliste!T381","v":0},{"$f":"Stückliste!W381","v":0},{"$f":"Stückliste!Z381","v":0},{"$f":"Stückliste!AC381","v":0},{"$f":"Stückliste!AF381","v":0},{"$f":"Stückliste!AI381","v":0}]
["a","5.5",8,{"$f":"Stückliste!A382","v":0},{"$f":"Stückliste!E382","v":0},{"$f":"Stückliste!J382","v":0},{"$f":"Stückliste!O382","v":0},{"$f":"Stückliste!T382","v":0},{"$f":"Stückliste!W382","v":0},{"$f":"Stückliste!Z382","v":0},{"$f":"Stückliste!AC382","v":0},{"$f":"Stückliste!AF382","v":0},{"$f":"Stückliste!AI382","v":0}]
["a","5.5",8,{"$f":"Stückliste!A383","v":0},{"$f":"Stückliste!E383","v":0},{"$f":"Stückliste!J383","v":0},{"$f":"Stückliste!O383","v":0},{"$f":"Stückliste!T383","v":0},{"$f":"Stückliste!W383","v":0},{"$f":"Stückliste!Z383","v":0},{"$f":"Stückliste!AC383","v":0},{"$f":"Stückliste!AF383","v":0},{"$f":"Stückliste!AI383","v":0}]
["a","5.5",8,{"$f":"Stückliste!A384","v":0},{"$f":"Stückliste!E384","v":0},{"$f":"Stückliste!J384","v":0},{"$f":"Stückliste!O384","v":0},{"$f":"Stückliste!T384","v":0},{"$f":"Stückliste!W384","v":0},{"$f":"Stückliste!Z384","v":0},{"$f":"Stückliste!AC384","v":0},{"$f":"Stückliste!AF384","v":0},{"$f":"Stückliste!AI384","v":0}]
["a","5.5",8,{"$f":"Stückliste!A385","v":0},{"$f":"Stückliste!E385","v":0},{"$f":"Stückliste!J385","v":0},{"$f":"Stückliste!O385","v":0},{"$f":"Stückliste!T385","v":0},{"$f":"Stückliste!W385","v":0},{"$f":"Stückliste!Z385","v":0},{"$f":"Stückliste!AC385","v":0},{"$f":"Stückliste!AF385","v":0},{"$f":"Stückliste!AI385","v":0}]
["a","5.5",8,{"$f":"Stückliste!A386","v":0},{"$f":"Stückliste!E386","v":0},{"$f":"Stückliste!J386","v":0},{"$f":"Stückliste!O386","v":0},{"$f":"Stückliste!T386","v":0},{"$f":"Stückliste!W386","v":0},{"$f":"Stückliste!Z386","v":0},{"$f":"Stückliste!AC386","v":0},{"$f":"Stückliste!AF386","v":0},{"$f":"Stückliste!AI386","v":0}]
["a","5.5",8,{"$f":"Stückliste!A387","v":0},{"$f":"Stückliste!E387","v":0},{"$f":"Stückliste!J387","v":0},{"$f":"Stückliste!O387","v":0},{"$f":"Stückliste!T387","v":0},{"$f":"Stückliste!W387","v":0},{"$f":"Stückliste!Z387","v":0},{"$f":"Stückliste!AC387","v":0},{"$f":"Stückliste!AF387","v":0},{"$f":"Stückliste!AI387","v":0}]
["a","5.5",8,{"$f":"Stückliste!A388","v":0},{"$f":"Stückliste!E388","v":0},{"$f":"Stückliste!J388","v":0},{"$f":"Stückliste!O388","v":0},{"$f":"Stückliste!T388","v":0},{"$f":"Stückliste!W388","v":0},{"$f":"Stückliste!Z388","v":0},{"$f":"Stückliste!AC388","v":0},{"$f":"Stückliste!AF388","v":0},{"$f":"Stückliste!AI388","v":0}]
["a","5.5",8,{"$f":"Stückliste!A389","v":0},{"$f":"Stückliste!E389","v":0},{"$f":"Stückliste!J389","v":0},{"$f":"Stückliste!O389","v":0},{"$f":"Stückliste!T389","v":0},{"$f":"Stückliste!W389","v":0},{"$f":"Stückliste!Z389","v":0},{"$f":"Stückliste!AC389","v":0},{"$f":"Stückliste!AF389","v":0},{"$f":"Stückliste!AI389","v":0}]
["a","5.5",8,{"$f":"Stückliste!A390","v":0},{"$f":"Stückliste!E390","v":0},{"$f":"Stückliste!J390","v":0},{"$f":"Stückliste!O390","v":0},{"$f":"Stückliste!T390","v":0},{"$f":"Stückliste!W390","v":0},{"$f":"Stückliste!Z390","v":0},{"$f":"Stückliste!AC390","v":0},{"$f":"Stückliste!AF390","v":0},{"$f":"Stückliste!AI390","v":0}]
["a","5.5",8,{"$f":"Stückliste!A391","v":0},{"$f":"Stückliste!E391","v":0},{"$f":"Stückliste!J391","v":0},{"$f":"Stückliste!O391","v":0},{"$f":"Stückliste!T391","v":0},{"$f":"Stückliste!W391","v":0},{"$f":"Stückliste!Z391","v":0},{"$f":"Stückliste!AC391","v":0},{"$f":"Stückliste!AF391","v":0},{"$f":"Stückliste!AI391","v":0}]
["a","5.5",8,{"$f":"Stückliste!A392","v":0},{"$f":"Stückliste!E392","v":0},{"$f":"Stückliste!J392","v":0},{"$f":"Stückliste!O392","v":0},{"$f":"Stückliste!T392","v":0},{"$f":"Stückliste!W392","v":0},{"$f":"Stückliste!Z392","v":0},{"$f":"Stückliste!AC392","v":0},{"$f":"Stückliste!AF392","v":0},{"$f":"Stückliste!AI392","v":0}]
["a","5.5",8,{"$f":"Stückliste!A393","v":0},{"$f":"Stückliste!E393","v":0},{"$f":"Stückliste!J393","v":0},{"$f":"Stückliste!O393","v":0},{"$f":"Stückliste!T393","v":0},{"$f":"Stückliste!W393","v":0},{"$f":"Stückliste!Z393","v":0},{"$f":"Stückliste!AC393","v":0},{"$f":"Stückliste!AF393","v":0},{"$f":"Stückliste!AI393","v":0}]
["a","5.5",8,{"$f":"Stückliste!A394","v":0},{"$f":"Stückliste!E394","v":0},{"$f":"Stückliste!J394","v":0},{"$f":"Stückliste!O394","v":0},{"$f":"Stückliste!T394","v":0},{"$f":"Stückliste!W394","v":0},{"$f":"Stückliste!Z394","v":0},{"$f":"Stückliste!AC394","v":0},{"$f":"Stückliste!AF394","v":0},{"$f":"Stückliste!AI394","v":0}]
["a","5.5",8,{"$f":"Stückliste!A395","v":0},{"$f":"Stückliste!E395","v":0},{"$f":"Stückliste!J395","v":0},{"$f":"Stückliste!O395","v":0},{"$f":"Stückliste!T395","v":0},{"$f":"Stückliste!W395","v":0},{"$f":"Stückliste!Z395","v":0},{"$f":"Stückliste!AC395","v":0},{"$f":"Stückliste!AF395","v":0},{"$f":"Stückliste!AI395","v":0}]
["a","5.5",8,{"$f":"Stückliste!A396","v":0},{"$f":"Stückliste!E396","v":0},{"$f":"Stückliste!J396","v":0},{"$f":"Stückliste!O396","v":0},{"$f":"Stückliste!T396","v":0},{"$f":"Stückliste!W396","v":0},{"$f":"Stückliste!Z396","v":0},{"$f":"Stückliste!AC396","v":0},{"$f":"Stückliste!AF396","v":0},{"$f":"Stückliste!AI396","v":0}]
["a","5.5",8,{"$f":"Stückliste!A397","v":0},{"$f":"Stückliste!E397","v":0},{"$f":"Stückliste!J397","v":0},{"$f":"Stückliste!O397","v":0},{"$f":"Stückliste!T397","v":0},{"$f":"Stückliste!W397","v":0},{"$f":"Stückliste!Z397","v":0},{"$f":"Stückliste!AC397","v":0},{"$f":"Stückliste!AF397","v":0},{"$f":"Stückliste!AI397","v":0}]
["a","5.5",8,{"$f":"Stückliste!A398","v":0},{"$f":"Stückliste!E398","v":0},{"$f":"Stückliste!J398","v":0},{"$f":"Stückliste!O398","v":0},{"$f":"Stückliste!T398","v":0},{"$f":"Stückliste!W398","v":0},{"$f":"Stückliste!Z398","v":0},{"$f":"Stückliste!AC398","v":0},{"$f":"Stückliste!AF398","v":0},{"$f":"Stückliste!AI398","v":0}]
["a","5.5",8,{"$f":"Stückliste!A399","v":0},{"$f":"Stückliste!E399","v":0},{"$f":"Stückliste!J399","v":0},{"$f":"Stückliste!O399","v":0},{"$f":"Stückliste!T399","v":0},{"$f":"Stückliste!W399","v":0},{"$f":"Stückliste!Z399","v":0},{"$f":"Stückliste!AC399","v":0},{"$f":"Stückliste!AF399","v":0},{"$f":"Stückliste!AI399","v":0}]
["a","5.5",8,{"$f":"Stückliste!A400","v":0},{"$f":"Stückliste!E400","v":0},{"$f":"Stückliste!J400","v":0},{"$f":"Stückliste!O400","v":0},{"$f":"Stückliste!T400","v":0},{"$f":"Stückliste!W400","v":0},{"$f":"Stückliste!Z400","v":0},{"$f":"Stückliste!AC400","v":0},{"$f":"Stückliste!AF400","v":0},{"$f":"Stückliste!AI400","v":0}]
["a","5.5",8,{"$f":"Stückliste!A401","v":0},{"$f":"Stückliste!E401","v":0},{"$f":"Stückliste!J401","v":0},{"$f":"Stückliste!O401","v":0},{"$f":"Stückliste!T401","v":0},{"$f":"Stückliste!W401","v":0},{"$f":"Stückliste!Z401","v":0},{"$f":"Stückliste!AC401","v":0},{"$f":"Stückliste!AF401","v":0},{"$f":"Stückliste!AI401","v":0}]
["a","5.5",8,{"$f":"Stückliste!A402","v":0},{"$f":"Stückliste!E402","v":0},{"$f":"Stückliste!J402","v":0},{"$f":"Stückliste!O402","v":0},{"$f":"Stückliste!T402","v":0},{"$f":"Stückliste!W402","v":0},{"$f":"Stückliste!Z402","v":0},{"$f":"Stückliste!AC402","v":0},{"$f":"Stückliste!AF402","v":0},{"$f":"Stückliste!AI402","v":0}]
["a","5.5",8,{"$f":"Stückliste!A403","v":0},{"$f":"Stückliste!E403","v":0},{"$f":"Stückliste!J403","v":0},{"$f":"Stückliste!O403","v":0},{"$f":"Stückliste!T403","v":0},{"$f":"Stückliste!W403","v":0},{"$f":"Stückliste!Z403","v":0},{"$f":"Stückliste!AC403","v":0},{"$f":"Stückliste!AF403","v":0},{"$f":"Stückliste!AI403","v":0}]
["a","5.5",8,{"$f":"Stückliste!A404","v":0},{"$f":"Stückliste!E404","v":0},{"$f":"Stückliste!J404","v":0},{"$f":"Stückliste!O404","v":0},{"$f":"Stückliste!T404","v":0},{"$f":"Stückliste!W404","v":0},{"$f":"Stückliste!Z404","v":0},{"$f":"Stückliste!AC404","v":0},{"$f":"Stückliste!AF404","v":0},{"$f":"Stückliste!AI404","v":0}]
["a","5.5",8,{"$f":"Stückliste!A405","v":0},{"$f":"Stückliste!E405","v":0},{"$f":"Stückliste!J405","v":0},{"$f":"Stückliste!O405","v":0},{"$f":"Stückliste!T405","v":0},{"$f":"Stückliste!W405","v":0},{"$f":"Stückliste!Z405","v":0},{"$f":"Stückliste!AC405","v":0},{"$f":"Stückliste!AF405","v":0},{"$f":"Stückliste!AI405","v":0}]
["a","5.5",8,{"$f":"Stückliste!A406","v":0},{"$f":"Stückliste!E406","v":0},{"$f":"Stückliste!J406","v":0},{"$f":"Stückliste!O406","v":0},{"$f":"Stückliste!T406","v":0},{"$f":"Stückliste!W406","v":0},{"$f":"Stückliste!Z406","v":0},{"$f":"Stückliste!AC406","v":0},{"$f":"Stückliste!AF406","v":0},{"$f":"Stückliste!AI406","v":0}]
["a","5.5",8,{"$f":"Stückliste!A407","v":0},{"$f":"Stückliste!E407","v":0},{"$f":"Stückliste!J407","v":0},{"$f":"Stückliste!O407","v":0},{"$f":"Stückliste!T407","v":0},{"$f":"Stückliste!W407","v":0},{"$f":"Stückliste!Z407","v":0},{"$f":"Stückliste!AC407","v":0},{"$f":"Stückliste!AF407","v":0},{"$f":"Stückliste!AI407","v":0}]
["a","5.5",8,{"$f":"Stückliste!A408","v":0},{"$f":"Stückliste!E408","v":0},{"$f":"Stückliste!J408","v":0},{"$f":"Stückliste!O408","v":0},{"$f":"Stückliste!T408","v":0},{"$f":"Stückliste!W408","v":0},{"$f":"Stückliste!Z408","v":0},{"$f":"Stückliste!AC408","v":0},{"$f":"Stückliste!AF408","v":0},{"$f":"Stückliste!AI408","v":0}]
["a","5.5",8,{"$f":"Stückliste!A409","v":0},{"$f":"Stückliste!E409","v":0},{"$f":"Stückliste!J409","v":0},{"$f":"Stückliste!O409","v":0},{"$f":"Stückliste!T409","v":0},{"$f":"Stückliste!W409","v":0},{"$f":"Stückliste!Z409","v":0},{"$f":"Stückliste!AC409","v":0},{"$f":"Stückliste!AF409","v":0},{"$f":"Stückliste!AI409","v":0}]
["a","5.5",8,{"$f":"Stückliste!A410","v":0},{"$f":"Stückliste!E410","v":0},{"$f":"Stückliste!J410","v":0},{"$f":"Stückliste!O410","v":0},{"$f":"Stückliste!T410","v":0},{"$f":"Stückliste!W410","v":0},{"$f":"Stückliste!Z410","v":0},{"$f":"Stückliste!AC410","v":0},{"$f":"Stückliste!AF410","v":0},{"$f":"Stückliste!AI410","v":0}]
["a","5.5",8,{"$f":"Stückliste!A411","v":0},{"$f":"Stückliste!E411","v":0},{"$f":"Stückliste!J411","v":0},{"$f":"Stückliste!O411","v":0},{"$f":"Stückliste!T411","v":0},{"$f":"Stückliste!W411","v":0},{"$f":"Stückliste!Z411","v":0},{"$f":"Stückliste!AC411","v":0},{"$f":"Stückliste!AF411","v":0},{"$f":"Stückliste!AI411","v":0}]
["a","5.5",8,{"$f":"Stückliste!A412","v":0},{"$f":"Stückliste!E412","v":0},{"$f":"Stückliste!J412","v":0},{"$f":"Stückliste!O412","v":0},{"$f":"Stückliste!T412","v":0},{"$f":"Stückliste!W412","v":0},{"$f":"Stückliste!Z412","v":0},{"$f":"Stückliste!AC412","v":0},{"$f":"Stückliste!AF412","v":0},{"$f":"Stückliste!AI412","v":0}]
["a","5.5",8,{"$f":"Stückliste!A413","v":0},{"$f":"Stückliste!E413","v":0},{"$f":"Stückliste!J413","v":0},{"$f":"Stückliste!O413","v":0},{"$f":"Stückliste!T413","v":0},{"$f":"Stückliste!W413","v":0},{"$f":"Stückliste!Z413","v":0},{"$f":"Stückliste!AC413","v":0},{"$f":"Stückliste!AF413","v":0},{"$f":"Stückliste!AI413","v":0}]
["a","5.5",8,{"$f":"Stückliste!A414","v":0},{"$f":"Stückliste!E414","v":0},{"$f":"Stückliste!J414","v":0},{"$f":"Stückliste!O414","v":0},{"$f":"Stückliste!T414","v":0},{"$f":"Stückliste!W414","v":0},{"$f":"Stückliste!Z414","v":0},{"$f":"Stückliste!AC414","v":0},{"$f":"Stückliste!AF414","v":0},{"$f":"Stückliste!AI414","v":0}]
["a","5.5",8,{"$f":"Stückliste!A415","v":0},{"$f":"Stückliste!E415","v":0},{"$f":"Stückliste!J415","v":0},{"$f":"Stückliste!O415","v":0},{"$f":"Stückliste!T415","v":0},{"$f":"Stückliste!W415","v":0},{"$f":"Stückliste!Z415","v":0},{"$f":"Stückliste!AC415","v":0},{"$f":"Stückliste!AF415","v":0},{"$f":"Stückliste!AI415","v":0}]
["a","5.5",8,{"$f":"Stückliste!A416","v":0},{"$f":"Stückliste!E416","v":0},{"$f":"Stückliste!J416","v":0},{"$f":"Stückliste!O416","v":0},{"$f":"Stückliste!T416","v":0},{"$f":"Stückliste!W416","v":0},{"$f":"Stückliste!Z416","v":0},{"$f":"Stückliste!AC416","v":0},{"$f":"Stückliste!AF416","v":0},{"$f":"Stückliste!AI416","v":0}]
["a","5.5",8,{"$f":"Stückliste!A417","v":0},{"$f":"Stückliste!E417","v":0},{"$f":"Stückliste!J417","v":0},{"$f":"Stückliste!O417","v":0},{"$f":"Stückliste!T417","v":0},{"$f":"Stückliste!W417","v":0},{"$f":"Stückliste!Z417","v":0},{"$f":"Stückliste!AC417","v":0},{"$f":"Stückliste!AF417","v":0},{"$f":"Stückliste!AI417","v":0}]
["a","5.5",8,{"$f":"Stückliste!A418","v":0},{"$f":"Stückliste!E418","v":0},{"$f":"Stückliste!J418","v":0},{"$f":"Stückliste!O418","v":0},{"$f":"Stückliste!T418","v":0},{"$f":"Stückliste!W418","v":0},{"$f":"Stückliste!Z418","v":0},{"$f":"Stückliste!AC418","v":0},{"$f":"Stückliste!AF418","v":0},{"$f":"Stückliste!AI418","v":0}]
["a","5.5",8,{"$f":"Stückliste!A419","v":0},{"$f":"Stückliste!E419","v":0},{"$f":"Stückliste!J419","v":0},{"$f":"Stückliste!O419","v":0},{"$f":"Stückliste!T419","v":0},{"$f":"Stückliste!W419","v":0},{"$f":"Stückliste!Z419","v":0},{"$f":"Stückliste!AC419","v":0},{"$f":"Stückliste!AF419","v":0},{"$f":"Stückliste!AI419","v":0}]
["a","5.5",8,{"$f":"Stückliste!A420","v":0},{"$f":"Stückliste!E420","v":0},{"$f":"Stückliste!J420","v":0},{"$f":"Stückliste!O420","v":0},{"$f":"Stückliste!T420","v":0},{"$f":"Stückliste!W420","v":0},{"$f":"Stückliste!Z420","v":0},{"$f":"Stückliste!AC420","v":0},{"$f":"Stückliste!AF420","v":0},{"$f":"Stückliste!AI420","v":0}]
["a","5.5",8,{"$f":"Stückliste!A421","v":0},{"$f":"Stückliste!E421","v":0},{"$f":"Stückliste!J421","v":0},{"$f":"Stückliste!O421","v":0},{"$f":"Stückliste!T421","v":0},{"$f":"Stückliste!W421","v":0},{"$f":"Stückliste!Z421","v":0},{"$f":"Stückliste!AC421","v":0},{"$f":"Stückliste!AF421","v":0},{"$f":"Stückliste!AI421","v":0}]
["a","5.5",8,{"$f":"Stückliste!A422","v":0},{"$f":"Stückliste!E422","v":0},{"$f":"Stückliste!J422","v":0},{"$f":"Stückliste!O422","v":0},{"$f":"Stückliste!T422","v":0},{"$f":"Stückliste!W422","v":0},{"$f":"Stückliste!Z422","v":0},{"$f":"Stückliste!AC422","v":0},{"$f":"Stückliste!AF422","v":0},{"$f":"Stückliste!AI422","v":0}]
["a","5.5",8,{"$f":"Stückliste!A423","v":0},{"$f":"Stückliste!E423","v":0},{"$f":"Stückliste!J423","v":0},{"$f":"Stückliste!O423","v":0},{"$f":"Stückliste!T423","v":0},{"$f":"Stückliste!W423","v":0},{"$f":"Stückliste!Z423","v":0},{"$f":"Stückliste!AC423","v":0},{"$f":"Stückliste!AF423","v":0},{"$f":"Stückliste!AI423","v":0}]
["a","5.5",8,{"$f":"Stückliste!A424","v":0},{"$f":"Stückliste!E424","v":0},{"$f":"Stückliste!J424","v":0},{"$f":"Stückliste!O424","v":0},{"$f":"Stückliste!T424","v":0},{"$f":"Stückliste!W424","v":0},{"$f":"Stückliste!Z424","v":0},{"$f":"Stückliste!AC424","v":0},{"$f":"Stückliste!AF424","v":0},{"$f":"Stückliste!AI424","v":0}]
["a","5.5",8,{"$f":"Stückliste!A425","v":0},{"$f":"Stückliste!E425","v":0},{"$f":"Stückliste!J425","v":0},{"$f":"Stückliste!O425","v":0},{"$f":"Stückliste!T425","v":0},{"$f":"Stückliste!W425","v":0},{"$f":"Stückliste!Z425","v":0},{"$f":"Stückliste!AC425","v":0},{"$f":"Stückliste!AF425","v":0},{"$f":"Stückliste!AI425","v":0}]
["a","5.5",8,{"$f":"Stückliste!A426","v":0},{"$f":"Stückliste!E426","v":0},{"$f":"Stückliste!J426","v":0},{"$f":"Stückliste!O426","v":0},{"$f":"Stückliste!T426","v":0},{"$f":"Stückliste!W426","v":0},{"$f":"Stückliste!Z426","v":0},{"$f":"Stückliste!AC426","v":0},{"$f":"Stückliste!AF426","v":0},{"$f":"Stückliste!AI426","v":0}]
["a","5.5",8,{"$f":"Stückliste!A427","v":0},{"$f":"Stückliste!E427","v":0},{"$f":"Stückliste!J427","v":0},{"$f":"Stückliste!O427","v":0},{"$f":"Stückliste!T427","v":0},{"$f":"Stückliste!W427","v":0},{"$f":"Stückliste!Z427","v":0},{"$f":"Stückliste!AC427","v":0},{"$f":"Stückliste!AF427","v":0},{"$f":"Stückliste!AI427","v":0}]
["a","5.5",8,{"$f":"Stückliste!A428","v":0},{"$f":"Stückliste!E428","v":0},{"$f":"Stückliste!J428","v":0},{"$f":"Stückliste!O428","v":0},{"$f":"Stückliste!T428","v":0},{"$f":"Stückliste!W428","v":0},{"$f":"Stückliste!Z428","v":0},{"$f":"Stückliste!AC428","v":0},{"$f":"Stückliste!AF428","v":0},{"$f":"Stückliste!AI428","v":0}]
["a","5.5",8,{"$f":"Stückliste!A429","v":0},{"$f":"Stückliste!E429","v":0},{"$f":"Stückliste!J429","v":0},{"$f":"Stückliste!O429","v":0},{"$f":"Stückliste!T429","v":0},{"$f":"Stückliste!W429","v":0},{"$f":"Stückliste!Z429","v":0},{"$f":"Stückliste!AC429","v":0},{"$f":"Stückliste!AF429","v":0},{"$f":"Stückliste!AI429","v":0}]
["a","5.5",8,{"$f":"Stückliste!A430","v":0},{"$f":"Stückliste!E430","v":0},{"$f":"Stückliste!J430","v":0},{"$f":"Stückliste!O430","v":0},{"$f":"Stückliste!T430","v":0},{"$f":"Stückliste!W430","v":0},{"$f":"Stückliste!Z430","v":0},{"$f":"Stückliste!AC430","v":0},{"$f":"Stückliste!AF430","v":0},{"$f":"Stückliste!AI430","v":0}]
["a","5.5",8,{"$f":"Stückliste!A431","v":0},{"$f":"Stückliste!E431","v":0},{"$f":"Stückliste!J431","v":0},{"$f":"Stückliste!O431","v":0},{"$f":"Stückliste!T431","v":0},{"$f":"Stückliste!W431","v":0},{"$f":"Stückliste!Z431","v":0},{"$f":"Stückliste!AC431","v":0},{"$f":"Stückliste!AF431","v":0},{"$f":"Stückliste!AI431","v":0}]
["a","5.5",8,{"$f":"Stückliste!A432","v":0},{"$f":"Stückliste!E432","v":0},{"$f":"Stückliste!J432","v":0},{"$f":"Stückliste!O432","v":0},{"$f":"Stückliste!T432","v":0},{"$f":"Stückliste!W432","v":0},{"$f":"Stückliste!Z432","v":0},{"$f":"Stückliste!AC432","v":0},{"$f":"Stückliste!AF432","v":0},{"$f":"Stückliste!AI432","v":0}]
["a","5.5",8,{"$f":"Stückliste!A433","v":0},{"$f":"Stückliste!E433","v":0},{"$f":"Stückliste!J433","v":0},{"$f":"Stückliste!O433","v":0},{"$f":"Stückliste!T433","v":0},{"$f":"Stückliste!W433","v":0},{"$f":"Stückliste!Z433","v":0},{"$f":"Stückliste!AC433","v":0},{"$f":"Stückliste!AF433","v":0},{"$f":"Stückliste!AI433","v":0}]
["a","5.5",8,{"$f":"Stückliste!A434","v":0},{"$f":"Stückliste!E434","v":0},{"$f":"Stückliste!J434","v":0},{"$f":"Stückliste!O434","v":0},{"$f":"Stückliste!T434","v":0},{"$f":"Stückliste!W434","v":0},{"$f":"Stückliste!Z434","v":0},{"$f":"Stückliste!AC434","v":0},{"$f":"Stückliste!AF434","v":0},{"$f":"Stückliste!AI434","v":0}]
["a","5.5",8,{"$f":"Stückliste!A435","v":0},{"$f":"Stückliste!E435","v":0},{"$f":"Stückliste!J435","v":0},{"$f":"Stückliste!O435","v":0},{"$f":"Stückliste!T435","v":0},{"$f":"Stückliste!W435","v":0},{"$f":"Stückliste!Z435","v":0},{"$f":"Stückliste!AC435","v":0},{"$f":"Stückliste!AF435","v":0},{"$f":"Stückliste!AI435","v":0}]
["a","5.5",8,{"$f":"Stückliste!A436","v":0},{"$f":"Stückliste!E436","v":0},{"$f":"Stückliste!J436","v":0},{"$f":"Stückliste!O436","v":0},{"$f":"Stückliste!T436","v":0},{"$f":"Stückliste!W436","v":0},{"$f":"Stückliste!Z436","v":0},{"$f":"Stückliste!AC436","v":0},{"$f":"Stückliste!AF436","v":0},{"$f":"Stückliste!AI436","v":0}]
["a","5.5",8,{"$f":"Stückliste!A437","v":0},{"$f":"Stückliste!E437","v":0},{"$f":"Stückliste!J437","v":0},{"$f":"Stückliste!O437","v":0},{"$f":"Stückliste!T437","v":0},{"$f":"Stückliste!W437","v":0},{"$f":"Stückliste!Z437","v":0},{"$f":"Stückliste!AC437","v":0},{"$f":"Stückliste!AF437","v":0},{"$f":"Stückliste!AI437","v":0}]
["a","5.5",8,{"$f":"Stückliste!A438","v":0},{"$f":"Stückliste!E438","v":0},{"$f":"Stückliste!J438","v":0},{"$f":"Stückliste!O438","v":0},{"$f":"Stückliste!T438","v":0},{"$f":"Stückliste!W438","v":0},{"$f":"Stückliste!Z438","v":0},{"$f":"Stückliste!AC438","v":0},{"$f":"Stückliste!AF438","v":0},{"$f":"Stückliste!AI438","v":0}]
["a","5.5",8,{"$f":"Stückliste!A439","v":0},{"$f":"Stückliste!E439","v":0},{"$f":"Stückliste!J439","v":0},{"$f":"Stückliste!O439","v":0},{"$f":"Stückliste!T439","v":0},{"$f":"Stückliste!W439","v":0},{"$f":"Stückliste!Z439","v":0},{"$f":"Stückliste!AC439","v":0},{"$f":"Stückliste!AF439","v":0},{"$f":"Stückliste!AI439","v":0}]
["a","5.5",8,{"$f":"Stückliste!A440","v":0},{"$f":"Stückliste!E440","v":0},{"$f":"Stückliste!J440","v":0},{"$f":"Stückliste!O440","v":0},{"$f":"Stückliste!T440","v":0},{"$f":"Stückliste!W440","v":0},{"$f":"Stückliste!Z440","v":0},{"$f":"Stückliste!AC440","v":0},{"$f":"Stückliste!AF440","v":0},{"$f":"Stückliste!AI440","v":0}]
["a","5.5",8,{"$f":"Stückliste!A441","v":0},{"$f":"Stückliste!E441","v":0},{"$f":"Stückliste!J441","v":0},{"$f":"Stückliste!O441","v":0},{"$f":"Stückliste!T441","v":0},{"$f":"Stückliste!W441","v":0},{"$f":"Stückliste!Z441","v":0},{"$f":"Stückliste!AC441","v":0},{"$f":"Stückliste!AF441","v":0},{"$f":"Stückliste!AI441","v":0}]
[{"$f":"A388","v":"a"},{"$f":"B388","v":"5.5"},{"$f":"C388","v":8},{"$f":"Stückliste!A442","v":0},{"$f":"Stückliste!E442","v":0},{"$f":"Stückliste!J442","v":0},{"$f":"Stückliste!O442","v":0},{"$f":"Stückliste!T442","v":0},{"$f":"Stückliste!W442","v":0},{"$f":"Stückliste!Z442","v":0},{"$f":"Stückliste!AC442","v":0},{"$f":"Stückliste!AF442","v":0},{"$f":"Stückliste!AI442","v":0}]
["a","5.5",8,{"$f":"Stückliste!A443","v":0},{"$f":"Stückliste!E443","v":0},{"$f":"Stückliste!J443","v":0},{"$f":"Stückliste!O443","v":0},{"$f":"Stückliste!T443","v":0},{"$f":"Stückliste!W443","v":0},{"$f":"Stückliste!Z443","v":0},{"$f":"Stückliste!AC443","v":0},{"$f":"Stückliste!AF443","v":0},{"$f":"Stückliste!AI443","v":0}]
["a","5.5",8,{"$f":"Stückliste!A444","v":0},{"$f":"Stückliste!E444","v":0},{"$f":"Stückliste!J444","v":0},{"$f":"Stückliste!O444","v":0},{"$f":"Stückliste!T444","v":0},{"$f":"Stückliste!W444","v":0},{"$f":"Stückliste!Z444","v":0},{"$f":"Stückliste!AC444","v":0},{"$f":"Stückliste!AF444","v":0},{"$f":"Stückliste!AI444","v":0}]
["a","5.5",8,{"$f":"Stückliste!A445","v":0},{"$f":"Stückliste!E445","v":0},{"$f":"Stückliste!J445","v":0},{"$f":"Stückliste!O445","v":0},{"$f":"Stückliste!T445","v":0},{"$f":"Stückliste!W445","v":0},{"$f":"Stückliste!Z445","v":0},{"$f":"Stückliste!AC445","v":0},{"$f":"Stückliste!AF445","v":0},{"$f":"Stückliste!AI445","v":0}]
["a","5.5",8,{"$f":"Stückliste!A446","v":0},{"$f":"Stückliste!E446","v":0},{"$f":"Stückliste!J446","v":0},{"$f":"Stückliste!O446","v":0},{"$f":"Stückliste!T446","v":0},{"$f":"Stückliste!W446","v":0},{"$f":"Stückliste!Z446","v":0},{"$f":"Stückliste!AC446","v":0},{"$f":"Stückliste!AF446","v":0},{"$f":"Stückliste!AI446","v":0}]
["a","5.5",8,{"$f":"Stückliste!A447","v":0},{"$f":"Stückliste!E447","v":0},{"$f":"Stückliste!J447","v":0},{"$f":"Stückliste!O447","v":0},{"$f":"Stückliste!T447","v":0},{"$f":"Stückliste!W447","v":0},{"$f":"Stückliste!Z447","v":0},{"$f":"Stückliste!AC447","v":0},{"$f":"Stückliste!AF447","v":0},{"$f":"Stückliste!AI447","v":0}]
["a","5.5",8,{"$f":"Stückliste!A448","v":0},{"$f":"Stückliste!E448","v":0},{"$f":"Stückliste!J448","v":0},{"$f":"Stückliste!O448","v":0},{"$f":"Stückliste!T448","v":0},{"$f":"Stückliste!W448","v":0},{"$f":"Stückliste!Z448","v":0},{"$f":"Stückliste!AC448","v":0},{"$f":"Stückliste!AF448","v":0},{"$f":"Stückliste!AI448","v":0}]
["a","5.5",8,{"$f":"Stückliste!A449","v":0},{"$f":"Stückliste!E449","v":0},{"$f":"Stückliste!J449","v":0},{"$f":"Stückliste!O449","v":0},{"$f":"Stückliste!T449","v":0},{"$f":"Stückliste!W449","v":0},{"$f":"Stückliste!Z449","v":0},{"$f":"Stückliste!AC449","v":0},{"$f":"Stückliste!AF449","v":0},{"$f":"Stückliste!AI449","v":0}]
["a","5.5",8,{"$f":"Stückliste!A450","v":0},{"$f":"Stückliste!E450","v":0},{"$f":"Stückliste!J450","v":0},{"$f":"Stückliste!O450","v":0},{"$f":"Stückliste!T450","v":0},{"$f":"Stückliste!W450","v":0},{"$f":"Stückliste!Z450","v":0},{"$f":"Stückliste!AC450","v":0},{"$f":"Stückliste!AF450","v":0},{"$f":"Stückliste!AI450","v":0}]
["a","5.5",8,{"$f":"Stückliste!A451","v":0},{"$f":"Stückliste!E451","v":0},{"$f":"Stückliste!J451","v":0},{"$f":"Stückliste!O451","v":0},{"$f":"Stückliste!T451","v":0},{"$f":"Stückliste!W451","v":0},{"$f":"Stückliste!Z451","v":0},{"$f":"Stückliste!AC451","v":0},{"$f":"Stückliste!AF451","v":0},{"$f":"Stückliste!AI451","v":0}]
["a","5.5",8,{"$f":"Stückliste!A452","v":0},{"$f":"Stückliste!E452","v":0},{"$f":"Stückliste!J452","v":0},{"$f":"Stückliste!O452","v":0},{"$f":"Stückliste!T452","v":0},{"$f":"Stückliste!W452","v":0},{"$f":"Stückliste!Z452","v":0},{"$f":"Stückliste!AC452","v":0},{"$f":"Stückliste!AF452","v":0},{"$f":"Stückliste!AI452","v":0}]
["a","5.5",8,{"$f":"Stückliste!A453","v":0},{"$f":"Stückliste!E453","v":0},{"$f":"Stückliste!J453","v":0},{"$f":"Stückliste!O453","v":0},{"$f":"Stückliste!T453","v":0},{"$f":"Stückliste!W453","v":0},{"$f":"Stückliste!Z453","v":0},{"$f":"Stückliste!AC453","v":0},{"$f":"Stückliste!AF453","v":0},{"$f":"Stückliste!AI453","v":0}]
["a","5.5",8,{"$f":"Stückliste!A454","v":0},{"$f":"Stückliste!E454","v":0},{"$f":"Stückliste!J454","v":0},{"$f":"Stückliste!O454","v":0},{"$f":"Stückliste!T454","v":0},{"$f":"Stückliste!W454","v":0},{"$f":"Stückliste!Z454","v":0},{"$f":"Stückliste!AC454","v":0},{"$f":"Stückliste!AF454","v":0},{"$f":"Stückliste!AI454","v":0}]
["a","5.5",8,{"$f":"Stückliste!A455","v":0},{"$f":"Stückliste!E455","v":0},{"$f":"Stückliste!J455","v":0},{"$f":"Stückliste!O455","v":0},{"$f":"Stückliste!T455","v":0},{"$f":"Stückliste!W455","v":0},{"$f":"Stückliste!Z455","v":0},{"$f":"Stückliste!AC455","v":0},{"$f":"Stückliste!AF455","v":0},{"$f":"Stückliste!AI455","v":0}]
["a","5.5",8,{"$f":"Stückliste!A456","v":0},{"$f":"Stückliste!E456","v":0},{"$f":"Stückliste!J456","v":0},{"$f":"Stückliste!O456","v":0},{"$f":"Stückliste!T456","v":0},{"$f":"Stückliste!W456","v":0},{"$f":"Stückliste!Z456","v":0},{"$f":"Stückliste!AC456","v":0},{"$f":"Stückliste!AF456","v":0},{"$f":"Stückliste!AI456","v":0}]
["a","5.5",8,{"$f":"Stückliste!A457","v":0},{"$f":"Stückliste!E457","v":0},{"$f":"Stückliste!J457","v":0},{"$f":"Stückliste!O457","v":0},{"$f":"Stückliste!T457","v":0},{"$f":"Stückliste!W457","v":0},{"$f":"Stückliste!Z457","v":0},{"$f":"Stückliste!AC457","v":0},{"$f":"Stückliste!AF457","v":0},{"$f":"Stückliste!AI457","v":0}]
["a","5.5",8,{"$f":"Stückliste!A458","v":0},{"$f":"Stückliste!E458","v":0},{"$f":"Stückliste!J458","v":0},{"$f":"Stückliste!O458","v":0},{"$f":"Stückliste!T458","v":0},{"$f":"Stückliste!W458","v":0},{"$f":"Stückliste!Z458","v":0},{"$f":"Stückliste!AC458","v":0},{"$f":"Stückliste!AF458","v":0},{"$f":"Stückliste!AI458","v":0}]
["a","5.5",8,{"$f":"Stückliste!A459","v":0},{"$f":"Stückliste!E459","v":0},{"$f":"Stückliste!J459","v":0},{"$f":"Stückliste!O459","v":0},{"$f":"Stückliste!T459","v":0},{"$f":"Stückliste!W459","v":0},{"$f":"Stückliste!Z459","v":0},{"$f":"Stückliste!AC459","v":0},{"$f":"Stückliste!AF459","v":0},{"$f":"Stückliste!AI459","v":0}]
["a","5.5",8,{"$f":"Stückliste!A460","v":0},{"$f":"Stückliste!E460","v":0},{"$f":"Stückliste!J460","v":0},{"$f":"Stückliste!O460","v":0},{"$f":"Stückliste!T460","v":0},{"$f":"Stückliste!W460","v":0},{"$f":"Stückliste!Z460","v":0},{"$f":"Stückliste!AC460","v":0},{"$f":"Stückliste!AF460","v":0},{"$f":"Stückliste!AI460","v":0}]
["a","5.5",8,{"$f":"Stückliste!A461","v":0},{"$f":"Stückliste!E461","v":0},{"$f":"Stückliste!J461","v":0},{"$f":"Stückliste!O461","v":0},{"$f":"Stückliste!T461","v":0},{"$f":"Stückliste!W461","v":0},{"$f":"Stückliste!Z461","v":0},{"$f":"Stückliste!AC461","v":0},{"$f":"Stückliste!AF461","v":0},{"$f":"Stückliste!AI461","v":0}]
["a","5.5",8,{"$f":"Stückliste!A462","v":0},{"$f":"Stückliste!E462","v":0},{"$f":"Stückliste!J462","v":0},{"$f":"Stückliste!O462","v":0},{"$f":"Stückliste!T462","v":0},{"$f":"Stückliste!W462","v":0},{"$f":"Stückliste!Z462","v":0},{"$f":"Stückliste!AC462","v":0},{"$f":"Stückliste!AF462","v":0},{"$f":"Stückliste!AI462","v":0}]
["a","5.5",8,{"$f":"Stückliste!A463","v":0},{"$f":"Stückliste!E463","v":0},{"$f":"Stückliste!J463","v":0},{"$f":"Stückliste!O463","v":0},{"$f":"Stückliste!T463","v":0},{"$f":"Stückliste!W463","v":0},{"$f":"Stückliste!Z463","v":0},{"$f":"Stückliste!AC463","v":0},{"$f":"Stückliste!AF463","v":0},{"$f":"Stückliste!AI463","v":0}]
["a","5.5",8,{"$f":"Stückliste!A464","v":0},{"$f":"Stückliste!E464","v":0},{"$f":"Stückliste!J464","v":0},{"$f":"Stückliste!O464","v":0},{"$f":"Stückliste!T464","v":0},{"$f":"Stückliste!W464","v":0},{"$f":"Stückliste!Z464","v":0},{"$f":"Stückliste!AC464","v":0},{"$f":"Stückliste!AF464","v":0},{"$f":"Stückliste!AI464","v":0}]
["a","5.5",8,{"$f":"Stückliste!A465","v":0},{"$f":"Stückliste!E465","v":0},{"$f":"Stückliste!J465","v":0},{"$f":"Stückliste!O465","v":0},{"$f":"Stückliste!T465","v":0},{"$f":"Stückliste!W465","v":0},{"$f":"Stückliste!Z465","v":0},{"$f":"Stückliste!AC465","v":0},{"$f":"Stückliste!AF465","v":0},{"$f":"Stückliste!AI465","v":0}]
["a","5.5",8,{"$f":"Stückliste!A466","v":0},{"$f":"Stückliste!E466","v":0},{"$f":"Stückliste!J466","v":0},{"$f":"Stückliste!O466","v":0},{"$f":"Stückliste!T466","v":0},{"$f":"Stückliste!W466","v":0},{"$f":"Stückliste!Z466","v":0},{"$f":"Stückliste!AC466","v":0},{"$f":"Stückliste!AF466","v":0},{"$f":"Stückliste!AI466","v":0}]
["a","5.5",8,{"$f":"Stückliste!A467","v":0},{"$f":"Stückliste!E467","v":0},{"$f":"Stückliste!J467","v":0},{"$f":"Stückliste!O467","v":0},{"$f":"Stückliste!T467","v":0},{"$f":"Stückliste!W467","v":0},{"$f":"Stückliste!Z467","v":0},{"$f":"Stückliste!AC467","v":0},{"$f":"Stückliste!AF467","v":0},{"$f":"Stückliste!AI467","v":0}]
["a","5.5",8,{"$f":"Stückliste!A468","v":0},{"$f":"Stückliste!E468","v":0},{"$f":"Stückliste!J468","v":0},{"$f":"Stückliste!O468","v":0},{"$f":"Stückliste!T468","v":0},{"$f":"Stückliste!W468","v":0},{"$f":"Stückliste!Z468","v":0},{"$f":"Stückliste!AC468","v":0},{"$f":"Stückliste!AF468","v":0},{"$f":"Stückliste!AI468","v":0}]
["a","5.5",8,{"$f":"Stückliste!A469","v":0},{"$f":"Stückliste!E469","v":0},{"$f":"Stückliste!J469","v":0},{"$f":"Stückliste!O469","v":0},{"$f":"Stückliste!T469","v":0},{"$f":"Stückliste!W469","v":0},{"$f":"Stückliste!Z469","v":0},{"$f":"Stückliste!AC469","v":0},{"$f":"Stückliste!AF469","v":0},{"$f":"Stückliste!AI469","v":0}]
["a","5.5",8,{"$f":"Stückliste!A470","v":0},{"$f":"Stückliste!E470","v":0},{"$f":"Stückliste!J470","v":0},{"$f":"Stückliste!O470","v":0},{"$f":"Stückliste!T470","v":0},{"$f":"Stückliste!W470","v":0},{"$f":"Stückliste!Z470","v":0},{"$f":"Stückliste!AC470","v":0},{"$f":"Stückliste!AF470","v":0},{"$f":"Stückliste!AI470","v":0}]
["a","5.5",8,{"$f":"Stückliste!A471","v":0},{"$f":"Stückliste!E471","v":0},{"$f":"Stückliste!J471","v":0},{"$f":"Stückliste!O471","v":0},{"$f":"Stückliste!T471","v":0},{"$f":"Stückliste!W471","v":0},{"$f":"Stückliste!Z471","v":0},{"$f":"Stückliste!AC471","v":0},{"$f":"Stückliste!AF471","v":0},{"$f":"Stückliste!AI471","v":0}]
["a","5.5",8,{"$f":"Stückliste!A472","v":0},{"$f":"Stückliste!E472","v":0},{"$f":"Stückliste!J472","v":0},{"$f":"Stückliste!O472","v":0},{"$f":"Stückliste!T472","v":0},{"$f":"Stückliste!W472","v":0},{"$f":"Stückliste!Z472","v":0},{"$f":"Stückliste!AC472","v":0},{"$f":"Stückliste!AF472","v":0},{"$f":"Stückliste!AI472","v":0}]
["a","5.5",8,{"$f":"Stückliste!A473","v":0},{"$f":"Stückliste!E473","v":0},{"$f":"Stückliste!J473","v":0},{"$f":"Stückliste!O473","v":0},{"$f":"Stückliste!T473","v":0},{"$f":"Stückliste!W473","v":0},{"$f":"Stückliste!Z473","v":0},{"$f":"Stückliste!AC473","v":0},{"$f":"Stückliste!AF473","v":0},{"$f":"Stückliste!AI473","v":0}]
["a","5.5",8,{"$f":"Stückliste!A474","v":0},{"$f":"Stückliste!E474","v":0},{"$f":"Stückliste!J474","v":0},{"$f":"Stückliste!O474","v":0},{"$f":"Stückliste!T474","v":0},{"$f":"Stückliste!W474","v":0},{"$f":"Stückliste!Z474","v":0},{"$f":"Stückliste!AC474","v":0},{"$f":"Stückliste!AF474","v":0},{"$f":"Stückliste!AI474","v":0}]
["a","5.5",8,{"$f":"Stückliste!A475","v":0},{"$f":"Stückliste!E475","v":0},{"$f":"Stückliste!J475","v":0},{"$f":"Stückliste!O475","v":0},{"$f":"Stückliste!T475","v":0},{"$f":"Stückliste!W475","v":0},{"$f":"Stückliste!Z475","v":0},{"$f":"Stückliste!AC475","v":0},{"$f":"Stückliste!AF475","v":0},{"$f":"Stückliste!AI475","v":0}]
["a","5.5",8,{"$f":"Stückliste!A476","v":0},{"$f":"Stückliste!E476","v":0},{"$f":"Stückliste!J476","v":0},{"$f":"Stückliste!O476","v":0},{"$f":"Stückliste!T476","v":0},{"$f":"Stückliste!W476","v":0},{"$f":"Stückliste!Z476","v":0},{"$f":"Stückliste!AC476","v":0},{"$f":"Stückliste!AF476","v":0},{"$f":"Stückliste!AI476","v":0}]
["a","5.5",8,{"$f":"Stückliste!A477","v":0},{"$f":"Stückliste!E477","v":0},{"$f":"Stückliste!J477","v":0},{"$f":"Stückliste!O477","v":0},{"$f":"Stückliste!T477","v":0},{"$f":"Stückliste!W477","v":0},{"$f":"Stückliste!Z477","v":0},{"$f":"Stückliste!AC477","v":0},{"$f":"Stückliste!AF477","v":0},{"$f":"Stückliste!AI477","v":0}]
["a","5.5",8,{"$f":"Stückliste!A478","v":0},{"$f":"Stückliste!E478","v":0},{"$f":"Stückliste!J478","v":0},{"$f":"Stückliste!O478","v":0},{"$f":"Stückliste!T478","v":0},{"$f":"Stückliste!W478","v":0},{"$f":"Stückliste!Z478","v":0},{"$f":"Stückliste!AC478","v":0},{"$f":"Stückliste!AF478","v":0},{"$f":"Stückliste!AI478","v":0}]
["a","5.5",8,{"$f":"Stückliste!A479","v":0},{"$f":"Stückliste!E479","v":0},{"$f":"Stückliste!J479","v":0},{"$f":"Stückliste!O479","v":0},{"$f":"Stückliste!T479","v":0},{"$f":"Stückliste!W479","v":0},{"$f":"Stückliste!Z479","v":0},{"$f":"Stückliste!AC479","v":0},{"$f":"Stückliste!AF479","v":0},{"$f":"Stückliste!AI479","v":0}]
["a","5.5",8,{"$f":"Stückliste!A480","v":0},{"$f":"Stückliste!E480","v":0},{"$f":"Stückliste!J480","v":0},{"$f":"Stückliste!O480","v":0},{"$f":"Stückliste!T480","v":0},{"$f":"Stückliste!W480","v":0},{"$f":"Stückliste!Z480","v":0},{"$f":"Stückliste!AC480","v":0},{"$f":"Stückliste!AF480","v":0},{"$f":"Stückliste!AI480","v":0}]
["a","5.5",8,{"$f":"Stückliste!A481","v":0},{"$f":"Stückliste!E481","v":0},{"$f":"Stückliste!J481","v":0},{"$f":"Stückliste!O481","v":0},{"$f":"Stückliste!T481","v":0},{"$f":"Stückliste!W481","v":0},{"$f":"Stückliste!Z481","v":0},{"$f":"Stückliste!AC481","v":0},{"$f":"Stückliste!AF481","v":0},{"$f":"Stückliste!AI481","v":0}]
["a","5.5",8,{"$f":"Stückliste!A482","v":0},{"$f":"Stückliste!E482","v":0},{"$f":"Stückliste!J482","v":0},{"$f":"Stückliste!O482","v":0},{"$f":"Stückliste!T482","v":0},{"$f":"Stückliste!W482","v":0},{"$f":"Stückliste!Z482","v":0},{"$f":"Stückliste!AC482","v":0},{"$f":"Stückliste!AF482","v":0},{"$f":"Stückliste!AI482","v":0}]
["a","5.5",8,{"$f":"Stückliste!A483","v":0},{"$f":"Stückliste!E483","v":0},{"$f":"Stückliste!J483","v":0},{"$f":"Stückliste!O483","v":0},{"$f":"Stückliste!T483","v":0},{"$f":"Stückliste!W483","v":0},{"$f":"Stückliste!Z483","v":0},{"$f":"Stückliste!AC483","v":0},{"$f":"Stückliste!AF483","v":0},{"$f":"Stückliste!AI483","v":0}]
["a","5.5",8,{"$f":"Stückliste!A484","v":0},{"$f":"Stückliste!E484","v":0},{"$f":"Stückliste!J484","v":0},{"$f":"Stückliste!O484","v":0},{"$f":"Stückliste!T484","v":0},{"$f":"Stückliste!W484","v":0},{"$f":"Stückliste!Z484","v":0},{"$f":"Stückliste!AC484","v":0},{"$f":"Stückliste!AF484","v":0},{"$f":"Stückliste!AI484","v":0}]
["a","5.5",8,{"$f":"Stückliste!A485","v":0},{"$f":"Stückliste!E485","v":0},{"$f":"Stückliste!J485","v":0},{"$f":"Stückliste!O485","v":0},{"$f":"Stückliste!T485","v":0},{"$f":"Stückliste!W485","v":0},{"$f":"Stückliste!Z485","v":0},{"$f":"Stückliste!AC485","v":0},{"$f":"Stückliste!AF485","v":0},{"$f":"Stückliste!AI485","v":0}]
["a","5.5",8,{"$f":"Stückliste!A486","v":0},{"$f":"Stückliste!E486","v":0},{"$f":"Stückliste!J486","v":0},{"$f":"Stückliste!O486","v":0},{"$f":"Stückliste!T486","v":0},{"$f":"Stückliste!W486","v":0},{"$f":"Stückliste!Z486","v":0},{"$f":"Stückliste!AC486","v":0},{"$f":"Stückliste!AF486","v":0},{"$f":"Stückliste!AI486","v":0}]
["a","5.5",8,{"$f":"Stückliste!A487","v":0},{"$f":"Stückliste!E487","v":0},{"$f":"Stückliste!J487","v":0},{"$f":"Stückliste!O487","v":0},{"$f":"Stückliste!T487","v":0},{"$f":"Stückliste!W487","v":0},{"$f":"Stückliste!Z487","v":0},{"$f":"Stückliste!AC487","v":0},{"$f":"Stückliste!AF487","v":0},{"$f":"Stückliste!AI487","v":0}]
["a","5.5",8,{"$f":"Stückliste!A488","v":0},{"$f":"Stückliste!E488","v":0},{"$f":"Stückliste!J488","v":0},{"$f":"Stückliste!O488","v":0},{"$f":"Stückliste!T488","v":0},{"$f":"Stückliste!W488","v":0},{"$f":"Stückliste!Z488","v":0},{"$f":"Stückliste!AC488","v":0},{"$f":"Stückliste!AF488","v":0},{"$f":"Stückliste!AI488","v":0}]
["a","5.5",8,{"$f":"Stückliste!A489","v":0},{"$f":"Stückliste!E489","v":0},{"$f":"Stückliste!J489","v":0},{"$f":"Stückliste!O489","v":0},{"$f":"Stückliste!T489","v":0},{"$f":"Stückliste!W489","v":0},{"$f":"Stückliste!Z489","v":0},{"$f":"Stückliste!AC489","v":0},{"$f":"Stückliste!AF489","v":0},{"$f":"Stückliste!AI489","v":0}]
["a","5.5",8,{"$f":"Stückliste!A490","v":0},{"$f":"Stückliste!E490","v":0},{"$f":"Stückliste!J490","v":0},{"$f":"Stückliste!O490","v":0},{"$f":"Stückliste!T490","v":0},{"$f":"Stückliste!W490","v":0},{"$f":"Stückliste!Z490","v":0},{"$f":"Stückliste!AC490","v":0},{"$f":"Stückliste!AF490","v":0},{"$f":"Stückliste!AI490","v":0}]
["a","5.5",8,{"$f":"Stückliste!A491","v":0},{"$f":"Stückliste!E491","v":0},{"$f":"Stückliste!J491","v":0},{"$f":"Stückliste!O491","v":0},{"$f":"Stückliste!T491","v":0},{"$f":"Stückliste!W491","v":0},{"$f":"Stückliste!Z491","v":0},{"$f":"Stückliste!AC491","v":0},{"$f":"Stückliste!AF491","v":0},{"$f":"Stückliste!AI491","v":0}]
["a","5.5",8,{"$f":"Stückliste!A492","v":0},{"$f":"Stückliste!E492","v":0},{"$f":"Stückliste!J492","v":0},{"$f":"Stückliste!O492","v":0},{"$f":"Stückliste!T492","v":0},{"$f":"Stückliste!W492","v":0},{"$f":"Stückliste!Z492","v":0},{"$f":"Stückliste!AC492","v":0},{"$f":"Stückliste!AF492","v":0},{"$f":"Stückliste!AI492","v":0}]
["a","5.5",8,{"$f":"Stückliste!A493","v":0},{"$f":"Stückliste!E493","v":0},{"$f":"Stückliste!J493","v":0},{"$f":"Stückliste!O493","v":0},{"$f":"Stückliste!T493","v":0},{"$f":"Stückliste!W493","v":0},{"$f":"Stückliste!Z493","v":0},{"$f":"Stückliste!AC493","v":0},{"$f":"Stückliste!AF493","v":0},{"$f":"Stückliste!AI493","v":0}]
["a","5.5",8,{"$f":"Stückliste!A494","v":0},{"$f":"Stückliste!E494","v":0},{"$f":"Stückliste!J494","v":0},{"$f":"Stückliste!O494","v":0},{"$f":"Stückliste!T494","v":0},{"$f":"Stückliste!W494","v":0},{"$f":"Stückliste!Z494","v":0},{"$f":"Stückliste!AC494","v":0},{"$f":"Stückliste!AF494","v":0},{"$f":"Stückliste!AI494","v":0}]
["a","5.5",8,{"$f":"Stückliste!A495","v":0},{"$f":"Stückliste!E495","v":0},{"$f":"Stückliste!J495","v":0},{"$f":"Stückliste!O495","v":0},{"$f":"Stückliste!T495","v":0},{"$f":"Stückliste!W495","v":0},{"$f":"Stückliste!Z495","v":0},{"$f":"Stückliste!AC495","v":0},{"$f":"Stückliste!AF495","v":0},{"$f":"Stückliste!AI495","v":0}]
["a","5.5",8,{"$f":"Stückliste!A496","v":0},{"$f":"Stückliste!E496","v":0},{"$f":"Stückliste!J496","v":0},{"$f":"Stückliste!O496","v":0},{"$f":"Stückliste!T496","v":0},{"$f":"Stückliste!W496","v":0},{"$f":"Stückliste!Z496","v":0},{"$f":"Stückliste!AC496","v":0},{"$f":"Stückliste!AF496","v":0},{"$f":"Stückliste!AI496","v":0}]
["a","5.5",8,{"$f":"Stückliste!A497","v":0},{"$f":"Stückliste!E497","v":0},{"$f":"Stückliste!J497","v":0},{"$f":"Stückliste!O497","v":0},{"$f":"Stückliste!T497","v":0},{"$f":"Stückliste!W497","v":0},{"$f":"Stückliste!Z497","v":0},{"$f":"Stückliste!AC497","v":0},{"$f":"Stückliste!AF497","v":0},{"$f":"Stückliste!AI497","v":0}]
["a","5.5",8,{"$f":"Stückliste!A498","v":0},{"$f":"Stückliste!E498","v":0},{"$f":"Stückliste!J498","v":0},{"$f":"Stückliste!O498","v":0},{"$f":"Stückliste!T498","v":0},{"$f":"Stückliste!W498","v":0},{"$f":"Stückliste!Z498","v":0},{"$f":"Stückliste!AC498","v":0},{"$f":"Stückliste!AF498","v":0},{"$f":"Stückliste!AI498","v":0}]
["a","5.5",8,{"$f":"Stückliste!A499","v":0},{"$f":"Stückliste!E499","v":0},{"$f":"Stückliste!J499","v":0},{"$f":"Stückliste!O499","v":0},{"$f":"Stückliste!T499","v":0},{"$f":"Stückliste!W499","v":0},{"$f":"Stückliste!Z499","v":0},{"$f":"Stückliste!AC499","v":0},{"$f":"Stückliste!AF499","v":0},{"$f":"Stückliste!AI499","v":0}]
["a","5.5",8,{"$f":"Stückliste!A500","v":0},{"$f":"Stückliste!E500","v":0},{"$f":"Stückliste!J500","v":0},{"$f":"Stückliste!O500","v":0},{"$f":"Stückliste!T500","v":0},{"$f":"Stückliste!W500","v":0},{"$f":"Stückliste!Z500","v":0},{"$f":"Stückliste!AC500","v":0},{"$f":"Stückliste!AF500","v":0},{"$f":"Stückliste!AI500","v":0}]
["a","5.5",8,{"$f":"Stückliste!A501","v":0},{"$f":"Stückliste!E501","v":0},{"$f":"Stückliste!J501","v":0},{"$f":"Stückliste!O501","v":0},{"$f":"Stückliste!T501","v":0},{"$f":"Stückliste!W501","v":0},{"$f":"Stückliste!Z501","v":0},{"$f":"Stückliste!AC501","v":0},{"$f":"Stückliste!AF501","v":0},{"$f":"Stückliste!AI501","v":0}]
["a","5.5",8,{"$f":"Stückliste!A502","v":0},{"$f":"Stückliste!E502","v":0},{"$f":"Stückliste!J502","v":0},{"$f":"Stückliste!O502","v":0},{"$f":"Stückliste!T502","v":0},{"$f":"Stückliste!W502","v":0},{"$f":"Stückliste!Z502","v":0},{"$f":"Stückliste!AC502","v":0},{"$f":"Stückliste!AF502","v":0},{"$f":"Stückliste!AI502","v":0}]
["a","5.5",8,{"$f":"Stückliste!A503","v":0},{"$f":"Stückliste!E503","v":0},{"$f":"Stückliste!J503","v":0},{"$f":"Stückliste!O503","v":0},{"$f":"Stückliste!T503","v":0},{"$f":"Stückliste!W503","v":0},{"$f":"Stückliste!Z503","v":0},{"$f":"Stückliste!AC503","v":0},{"$f":"Stückliste!AF503","v":0},{"$f":"Stückliste!AI503","v":0}]
["a","5.5",8,{"$f":"Stückliste!A504","v":0},{"$f":"Stückliste!E504","v":0},{"$f":"Stückliste!J504","v":0},{"$f":"Stückliste!O504","v":0},{"$f":"Stückliste!T504","v":0},{"$f":"Stückliste!W504","v":0},{"$f":"Stückliste!Z504","v":0},{"$f":"Stückliste!AC504","v":0},{"$f":"Stückliste!AF504","v":0},{"$f":"Stückliste!AI504","v":0}]
["a","5.5",8,{"$f":"Stückliste!A505","v":0},{"$f":"Stückliste!E505","v":0},{"$f":"Stückliste!J505","v":0},{"$f":"Stückliste!O505","v":0},{"$f":"Stückliste!T505","v":0},{"$f":"Stückliste!W505","v":0},{"$f":"Stückliste!Z505","v":0},{"$f":"Stückliste!AC505","v":0},{"$f":"Stückliste!AF505","v":0},{"$f":"Stückliste!AI505","v":0}]
[{"$f":"A452","v":"a"},{"$f":"B452","v":"5.5"},{"$f":"C452","v":8},{"$f":"Stückliste!A506","v":0},{"$f":"Stückliste!E506","v":0},{"$f":"Stückliste!J506","v":0},{"$f":"Stückliste!O506","v":0},{"$f":"Stückliste!T506","v":0},{"$f":"Stückliste!W506","v":0},{"$f":"Stückliste!Z506","v":0},{"$f":"Stückliste!AC506","v":0},{"$f":"Stückliste!AF506","v":0},{"$f":"Stückliste!AI506","v":0}]
["a","5.5",8,{"$f":"Stückliste!A507","v":0},{"$f":"Stückliste!E507","v":0},{"$f":"Stückliste!J507","v":0},{"$f":"Stückliste!O507","v":0},{"$f":"Stückliste!T507","v":0},{"$f":"Stückliste!W507","v":0},{"$f":"Stückliste!Z507","v":0},{"$f":"Stückliste!AC507","v":0},{"$f":"Stückliste!AF507","v":0},{"$f":"Stückliste!AI507","v":0}]
["a","5.5",8,{"$f":"Stückliste!A508","v":0},{"$f":"Stückliste!E508","v":0},{"$f":"Stückliste!J508","v":0},{"$f":"Stückliste!O508","v":0},{"$f":"Stückliste!T508","v":0},{"$f":"Stückliste!W508","v":0},{"$f":"Stückliste!Z508","v":0},{"$f":"Stückliste!AC508","v":0},{"$f":"Stückliste!AF508","v":0},{"$f":"Stückliste!AI508","v":0}]
["a","5.5",8,{"$f":"Stückliste!A509","v":0},{"$f":"Stückliste!E509","v":0},{"$f":"Stückliste!J509","v":0},{"$f":"Stückliste!O509","v":0},{"$f":"Stückliste!T509","v":0},{"$f":"Stückliste!W509","v":0},{"$f":"Stückliste!Z509","v":0},{"$f":"Stückliste!AC509","v":0},{"$f":"Stückliste!AF509","v":0},{"$f":"Stückliste!AI509","v":0}]
["a","5.5",8,{"$f":"Stückliste!A510","v":0},{"$f":"Stückliste!E510","v":0},{"$f":"Stückliste!J510","v":0},{"$f":"Stückliste!O510","v":0},{"$f":"Stückliste!T510","v":0},{"$f":"Stückliste!W510","v":0},{"$f":"Stückliste!Z510","v":0},{"$f":"Stückliste!AC510","v":0},{"$f":"Stückliste!AF510","v":0},{"$f":"Stückliste!AI510","v":0}]
["a","5.5",8,{"$f":"Stückliste!A511","v":0},{"$f":"Stückliste!E511","v":0},{"$f":"Stückliste!J511","v":0},{"$f":"Stückliste!O511","v":0},{"$f":"Stückliste!T511","v":0},{"$f":"Stückliste!W511","v":0},{"$f":"Stückliste!Z511","v":0},{"$f":"Stückliste!AC511","v":0},{"$f":"Stückliste!AF511","v":0},{"$f":"Stückliste!AI511","v":0}]
["a","5.5",8,{"$f":"Stückliste!A512","v":0},{"$f":"Stückliste!E512","v":0},{"$f":"Stückliste!J512","v":0},{"$f":"Stückliste!O512","v":0},{"$f":"Stückliste!T512","v":0},{"$f":"Stückliste!W512","v":0},{"$f":"Stückliste!Z512","v":0},{"$f":"Stückliste!AC512","v":0},{"$f":"Stückliste!AF512","v":0},{"$f":"Stückliste!AI512","v":0}]
["a","5.5",8,{"$f":"Stückliste!A513","v":0},{"$f":"Stückliste!E513","v":0},{"$f":"Stückliste!J513","v":0},{"$f":"Stückliste!O513","v":0},{"$f":"Stückliste!T513","v":0},{"$f":"Stückliste!W513","v":0},{"$f":"Stückliste!Z513","v":0},{"$f":"Stückliste!AC513","v":0},{"$f":"Stückliste!AF513","v":0},{"$f":"Stückliste!AI513","v":0}]
["a","5.5",8,{"$f":"Stückliste!A514","v":0},{"$f":"Stückliste!E514","v":0},{"$f":"Stückliste!J514","v":0},{"$f":"Stückliste!O514","v":0},{"$f":"Stückliste!T514","v":0},{"$f":"Stückliste!W514","v":0},{"$f":"Stückliste!Z514","v":0},{"$f":"Stückliste!AC514","v":0},{"$f":"Stückliste!AF514","v":0},{"$f":"Stückliste!AI514","v":0}]
["a","5.5",8,{"$f":"Stückliste!A515","v":0},{"$f":"Stückliste!E515","v":0},{"$f":"Stückliste!J515","v":0},{"$f":"Stückliste!O515","v":0},{"$f":"Stückliste!T515","v":0},{"$f":"Stückliste!W515","v":0},{"$f":"Stückliste!Z515","v":0},{"$f":"Stückliste!AC515","v":0},{"$f":"Stückliste!AF515","v":0},{"$f":"Stückliste!AI515","v":0}]
["a","5.5",8,{"$f":"Stückliste!A516","v":0},{"$f":"Stückliste!E516","v":0},{"$f":"Stückliste!J516","v":0},{"$f":"Stückliste!O516","v":0},{"$f":"Stückliste!T516","v":0},{"$f":"Stückliste!W516","v":0},{"$f":"Stückliste!Z516","v":0},{"$f":"Stückliste!AC516","v":0},{"$f":"Stückliste!AF516","v":0},{"$f":"Stückliste!AI516","v":0}]
["a","5.5",8,{"$f":"Stückliste!A517","v":0},{"$f":"Stückliste!E517","v":0},{"$f":"Stückliste!J517","v":0},{"$f":"Stückliste!O517","v":0},{"$f":"Stückliste!T517","v":0},{"$f":"Stückliste!W517","v":0},{"$f":"Stückliste!Z517","v":0},{"$f":"Stückliste!AC517","v":0},{"$f":"Stückliste!AF517","v":0},{"$f":"Stückliste!AI517","v":0}]
["a","5.5",8,{"$f":"Stückliste!A518","v":0},{"$f":"Stückliste!E518","v":0},{"$f":"Stückliste!J518","v":0},{"$f":"Stückliste!O518","v":0},{"$f":"Stückliste!T518","v":0},{"$f":"Stückliste!W518","v":0},{"$f":"Stückliste!Z518","v":0},{"$f":"Stückliste!AC518","v":0},{"$f":"Stückliste!AF518","v":0},{"$f":"Stückliste!AI518","v":0}]
["a","5.5",8,{"$f":"Stückliste!A519","v":0},{"$f":"Stückliste!E519","v":0},{"$f":"Stückliste!J519","v":0},{"$f":"Stückliste!O519","v":0},{"$f":"Stückliste!T519","v":0},{"$f":"Stückliste!W519","v":0},{"$f":"Stückliste!Z519","v":0},{"$f":"Stückliste!AC519","v":0},{"$f":"Stückliste!AF519","v":0},{"$f":"Stückliste!AI519","v":0}]
["a","5.5",8,{"$f":"Stückliste!A520","v":0},{"$f":"Stückliste!E520","v":0},{"$f":"Stückliste!J520","v":0},{"$f":"Stückliste!O520","v":0},{"$f":"Stückliste!T520","v":0},{"$f":"Stückliste!W520","v":0},{"$f":"Stückliste!Z520","v":0},{"$f":"Stückliste!AC520","v":0},{"$f":"Stückliste!AF520","v":0},{"$f":"Stückliste!AI520","v":0}]
["a","5.5",8,{"$f":"Stückliste!A521","v":0},{"$f":"Stückliste!E521","v":0},{"$f":"Stückliste!J521","v":0},{"$f":"Stückliste!O521","v":0},{"$f":"Stückliste!T521","v":0},{"$f":"Stückliste!W521","v":0},{"$f":"Stückliste!Z521","v":0},{"$f":"Stückliste!AC521","v":0},{"$f":"Stückliste!AF521","v":0},{"$f":"Stückliste!AI521","v":0}]
["a","5.5",8,{"$f":"Stückliste!A522","v":0},{"$f":"Stückliste!E522","v":0},{"$f":"Stückliste!J522","v":0},{"$f":"Stückliste!O522","v":0},{"$f":"Stückliste!T522","v":0},{"$f":"Stückliste!W522","v":0},{"$f":"Stückliste!Z522","v":0},{"$f":"Stückliste!AC522","v":0},{"$f":"Stückliste!AF522","v":0},{"$f":"Stückliste!AI522","v":0}]
["a","5.5",8,{"$f":"Stückliste!A523","v":0},{"$f":"Stückliste!E523","v":0},{"$f":"Stückliste!J523","v":0},{"$f":"Stückliste!O523","v":0},{"$f":"Stückliste!T523","v":0},{"$f":"Stückliste!W523","v":0},{"$f":"Stückliste!Z523","v":0},{"$f":"Stückliste!AC523","v":0},{"$f":"Stückliste!AF523","v":0},{"$f":"Stückliste!AI523","v":0}]
["a","5.5",8,{"$f":"Stückliste!A524","v":0},{"$f":"Stückliste!E524","v":0},{"$f":"Stückliste!J524","v":0},{"$f":"Stückliste!O524","v":0},{"$f":"Stückliste!T524","v":0},{"$f":"Stückliste!W524","v":0},{"$f":"Stückliste!Z524","v":0},{"$f":"Stückliste!AC524","v":0},{"$f":"Stückliste!AF524","v":0},{"$f":"Stückliste!AI524","v":0}]
["a","5.5",8,{"$f":"Stückliste!A525","v":0},{"$f":"Stückliste!E525","v":0},{"$f":"Stückliste!J525","v":0},{"$f":"Stückliste!O525","v":0},{"$f":"Stückliste!T525","v":0},{"$f":"Stückliste!W525","v":0},{"$f":"Stückliste!Z525","v":0},{"$f":"Stückliste!AC525","v":0},{"$f":"Stückliste!AF525","v":0},{"$f":"Stückliste!AI525","v":0}]
["a","5.5",8,{"$f":"Stückliste!A526","v":0},{"$f":"Stückliste!E526","v":0},{"$f":"Stückliste!J526","v":0},{"$f":"Stückliste!O526","v":0},{"$f":"Stückliste!T526","v":0},{"$f":"Stückliste!W526","v":0},{"$f":"Stückliste!Z526","v":0},{"$f":"Stückliste!AC526","v":0},{"$f":"Stückliste!AF526","v":0},{"$f":"Stückliste!AI526","v":0}]
["a","5.5",8,{"$f":"Stückliste!A527","v":0},{"$f":"Stückliste!E527","v":0},{"$f":"Stückliste!J527","v":0},{"$f":"Stückliste!O527","v":0},{"$f":"Stückliste!T527","v":0},{"$f":"Stückliste!W527","v":0},{"$f":"Stückliste!Z527","v":0},{"$f":"Stückliste!AC527","v":0},{"$f":"Stückliste!AF527","v":0},{"$f":"Stückliste!AI527","v":0}]
["a","5.5",8,{"$f":"Stückliste!A528","v":0},{"$f":"Stückliste!E528","v":0},{"$f":"Stückliste!J528","v":0},{"$f":"Stückliste!O528","v":0},{"$f":"Stückliste!T528","v":0},{"$f":"Stückliste!W528","v":0},{"$f":"Stückliste!Z528","v":0},{"$f":"Stückliste!AC528","v":0},{"$f":"Stückliste!AF528","v":0},{"$f":"Stückliste!AI528","v":0}]
["a","5.5",8,{"$f":"Stückliste!A529","v":0},{"$f":"Stückliste!E529","v":0},{"$f":"Stückliste!J529","v":0},{"$f":"Stückliste!O529","v":0},{"$f":"Stückliste!T529","v":0},{"$f":"Stückliste!W529","v":0},{"$f":"Stückliste!Z529","v":0},{"$f":"Stückliste!AC529","v":0},{"$f":"Stückliste!AF529","v":0},{"$f":"Stückliste!AI529","v":0}]
["a","5.5",8,{"$f":"Stückliste!A530","v":0},{"$f":"Stückliste!E530","v":0},{"$f":"Stückliste!J530","v":0},{"$f":"Stückliste!O530","v":0},{"$f":"Stückliste!T530","v":0},{"$f":"Stückliste!W530","v":0},{"$f":"Stückliste!Z530","v":0},{"$f":"Stückliste!AC530","v":0},{"$f":"Stückliste!AF530","v":0},{"$f":"Stückliste!AI530","v":0}]
["a","5.5",8,{"$f":"Stückliste!A531","v":0},{"$f":"Stückliste!E531","v":0},{"$f":"Stückliste!J531","v":0},{"$f":"Stückliste!O531","v":0},{"$f":"Stückliste!T531","v":0},{"$f":"Stückliste!W531","v":0},{"$f":"Stückliste!Z531","v":0},{"$f":"Stückliste!AC531","v":0},{"$f":"Stückliste!AF531","v":0},{"$f":"Stückliste!AI531","v":0}]
["a","5.5",8,{"$f":"Stückliste!A532","v":0},{"$f":"Stückliste!E532","v":0},{"$f":"Stückliste!J532","v":0},{"$f":"Stückliste!O532","v":0},{"$f":"Stückliste!T532","v":0},{"$f":"Stückliste!W532","v":0},{"$f":"Stückliste!Z532","v":0},{"$f":"Stückliste!AC532","v":0},{"$f":"Stückliste!AF532","v":0},{"$f":"Stückliste!AI532","v":0}]
["a","5.5",8,{"$f":"Stückliste!A533","v":0},{"$f":"Stückliste!E533","v":0},{"$f":"Stückliste!J533","v":0},{"$f":"Stückliste!O533","v":0},{"$f":"Stückliste!T533","v":0},{"$f":"Stückliste!W533","v":0},{"$f":"Stückliste!Z533","v":0},{"$f":"Stückliste!AC533","v":0},{"$f":"Stückliste!AF533","v":0},{"$f":"Stückliste!AI533","v":0}]
["a","5.5",8,{"$f":"Stückliste!A534","v":0},{"$f":"Stückliste!E534","v":0},{"$f":"Stückliste!J534","v":0},{"$f":"Stückliste!O534","v":0},{"$f":"Stückliste!T534","v":0},{"$f":"Stückliste!W534","v":0},{"$f":"Stückliste!Z534","v":0},{"$f":"Stückliste!AC534","v":0},{"$f":"Stückliste!AF534","v":0},{"$f":"Stückliste!AI534","v":0}]
["a","5.5",8,{"$f":"Stückliste!A535","v":0},{"$f":"Stückliste!E535","v":0},{"$f":"Stückliste!J535","v":0},{"$f":"Stückliste!O535","v":0},{"$f":"Stückliste!T535","v":0},{"$f":"Stückliste!W535","v":0},{"$f":"Stückliste!Z535","v":0},{"$f":"Stückliste!AC535","v":0},{"$f":"Stückliste!AF535","v":0},{"$f":"Stückliste!AI535","v":0}]
["a","5.5",8,{"$f":"Stückliste!A536","v":0},{"$f":"Stückliste!E536","v":0},{"$f":"Stückliste!J536","v":0},{"$f":"Stückliste!O536","v":0},{"$f":"Stückliste!T536","v":0},{"$f":"Stückliste!W536","v":0},{"$f":"Stückliste!Z536","v":0},{"$f":"Stückliste!AC536","v":0},{"$f":"Stückliste!AF536","v":0},{"$f":"Stückliste!AI536","v":0}]
["a","5.5",8,{"$f":"Stückliste!A537","v":0},{"$f":"Stückliste!E537","v":0},{"$f":"Stückliste!J537","v":0},{"$f":"Stückliste!O537","v":0},{"$f":"Stückliste!T537","v":0},{"$f":"Stückliste!W537","v":0},{"$f":"Stückliste!Z537","v":0},{"$f":"Stückliste!AC537","v":0},{"$f":"Stückliste!AF537","v":0},{"$f":"Stückliste!AI537","v":0}]
["a","5.5",8,{"$f":"Stückliste!A538","v":0},{"$f":"Stückliste!E538","v":0},{"$f":"Stückliste!J538","v":0},{"$f":"Stückliste!O538","v":0},{"$f":"Stückliste!T538","v":0},{"$f":"Stückliste!W538","v":0},{"$f":"Stückliste!Z538","v":0},{"$f":"Stückliste!AC538","v":0},{"$f":"Stückliste!AF538","v":0},{"$f":"Stückliste!AI538","v":0}]
["a","5.5",8,{"$f":"Stückliste!A539","v":0},{"$f":"Stückliste!E539","v":0},{"$f":"Stückliste!J539","v":0},{"$f":"Stückliste!O539","v":0},{"$f":"Stückliste!T539","v":0},{"$f":"Stückliste!W539","v":0},{"$f":"Stückliste!Z539","v":0},{"$f":"Stückliste!AC539","v":0},{"$f":"Stückliste!AF539","v":0},{"$f":"Stückliste!AI539","v":0}]
["a","5.5",8,{"$f":"Stückliste!A540","v":0},{"$f":"Stückliste!E540","v":0},{"$f":"Stückliste!J540","v":0},{"$f":"Stückliste!O540","v":0},{"$f":"Stückliste!T540","v":0},{"$f":"Stückliste!W540","v":0},{"$f":"Stückliste!Z540","v":0},{"$f":"Stückliste!AC540","v":0},{"$f":"Stückliste!AF540","v":0},{"$f":"Stückliste!AI540","v":0}]
["a","5.5",8,{"$f":"Stückliste!A541","v":0},{"$f":"Stückliste!E541","v":0},{"$f":"Stückliste!J541","v":0},{"$f":"Stückliste!O541","v":0},{"$f":"Stückliste!T541","v":0},{"$f":"Stückliste!W541","v":0},{"$f":"Stückliste!Z541","v":0},{"$f":"Stückliste!AC541","v":0},{"$f":"Stückliste!AF541","v":0},{"$f":"Stückliste!AI541","v":0}]
["a","5.5",8,{"$f":"Stückliste!A542","v":0},{"$f":"Stückliste!E542","v":0},{"$f":"Stückliste!J542","v":0},{"$f":"Stückliste!O542","v":0},{"$f":"Stückliste!T542","v":0},{"$f":"Stückliste!W542","v":0},{"$f":"Stückliste!Z542","v":0},{"$f":"Stückliste!AC542","v":0},{"$f":"Stückliste!AF542","v":0},{"$f":"Stückliste!AI542","v":0}]
["a","5.5",8,{"$f":"Stückliste!A543","v":0},{"$f":"Stückliste!E543","v":0},{"$f":"Stückliste!J543","v":0},{"$f":"Stückliste!O543","v":0},{"$f":"Stückliste!T543","v":0},{"$f":"Stückliste!W543","v":0},{"$f":"Stückliste!Z543","v":0},{"$f":"Stückliste!AC543","v":0},{"$f":"Stückliste!AF543","v":0},{"$f":"Stückliste!AI543","v":0}]
["a","5.5",8,{"$f":"Stückliste!A544","v":0},{"$f":"Stückliste!E544","v":0},{"$f":"Stückliste!J544","v":0},{"$f":"Stückliste!O544","v":0},{"$f":"Stückliste!T544","v":0},{"$f":"Stückliste!W544","v":0},{"$f":"Stückliste!Z544","v":0},{"$f":"Stückliste!AC544","v":0},{"$f":"Stückliste!AF544","v":0},{"$f":"Stückliste!AI544","v":0}]
["a","5.5",8,{"$f":"Stückliste!A545","v":0},{"$f":"Stückliste!E545","v":0},{"$f":"Stückliste!J545","v":0},{"$f":"Stückliste!O545","v":0},{"$f":"Stückliste!T545","v":0},{"$f":"Stückliste!W545","v":0},{"$f":"Stückliste!Z545","v":0},{"$f":"Stückliste!AC545","v":0},{"$f":"Stückliste!AF545","v":0},{"$f":"Stückliste!AI545","v":0}]
["a","5.5",8,{"$f":"Stückliste!A546","v":0},{"$f":"Stückliste!E546","v":0},{"$f":"Stückliste!J546","v":0},{"$f":"Stückliste!O546","v":0},{"$f":"Stückliste!T546","v":0},{"$f":"Stückliste!W546","v":0},{"$f":"Stückliste!Z546","v":0},{"$f":"Stückliste!AC546","v":0},{"$f":"Stückliste!AF546","v":0},{"$f":"Stückliste!AI546","v":0}]
["a","5.5",8,{"$f":"Stückliste!A547","v":0},{"$f":"Stückliste!E547","v":0},{"$f":"Stückliste!J547","v":0},{"$f":"Stückliste!O547","v":0},{"$f":"Stückliste!T547","v":0},{"$f":"Stückliste!W547","v":0},{"$f":"Stückliste!Z547","v":0},{"$f":"Stückliste!AC547","v":0},{"$f":"Stückliste!AF547","v":0},{"$f":"Stückliste!AI547","v":0}]
["a","5.5",8,{"$f":"Stückliste!A548","v":0},{"$f":"Stückliste!E548","v":0},{"$f":"Stückliste!J548","v":0},{"$f":"Stückliste!O548","v":0},{"$f":"Stückliste!T548","v":0},{"$f":"Stückliste!W548","v":0},{"$f":"Stückliste!Z548","v":0},{"$f":"Stückliste!AC548","v":0},{"$f":"Stückliste!AF548","v":0},{"$f":"Stückliste!AI548","v":0}]
["a","5.5",8,{"$f":"Stückliste!A549","v":0},{"$f":"Stückliste!E549","v":0},{"$f":"Stückliste!J549","v":0},{"$f":"Stückliste!O549","v":0},{"$f":"Stückliste!T549","v":0},{"$f":"Stückliste!W549","v":0},{"$f":"Stückliste!Z549","v":0},{"$f":"Stückliste!AC549","v":0},{"$f":"Stückliste!AF549","v":0},{"$f":"Stückliste!AI549","v":0}]
["a","5.5",8,{"$f":"Stückliste!A550","v":0},{"$f":"Stückliste!E550","v":0},{"$f":"Stückliste!J550","v":0},{"$f":"Stückliste!O550","v":0},{"$f":"Stückliste!T550","v":0},{"$f":"Stückliste!W550","v":0},{"$f":"Stückliste!Z550","v":0},{"$f":"Stückliste!AC550","v":0},{"$f":"Stückliste!AF550","v":0},{"$f":"Stückliste!AI550","v":0}]
["a","5.5",8,{"$f":"Stückliste!A551","v":0},{"$f":"Stückliste!E551","v":0},{"$f":"Stückliste!J551","v":0},{"$f":"Stückliste!O551","v":0},{"$f":"Stückliste!T551","v":0},{"$f":"Stückliste!W551","v":0},{"$f":"Stückliste!Z551","v":0},{"$f":"Stückliste!AC551","v":0},{"$f":"Stückliste!AF551","v":0},{"$f":"Stückliste!AI551","v":0}]
["a","5.5",8,{"$f":"Stückliste!A552","v":0},{"$f":"Stückliste!E552","v":0},{"$f":"Stückliste!J552","v":0},{"$f":"Stückliste!O552","v":0},{"$f":"Stückliste!T552","v":0},{"$f":"Stückliste!W552","v":0},{"$f":"Stückliste!Z552","v":0},{"$f":"Stückliste!AC552","v":0},{"$f":"Stückliste!AF552","v":0},{"$f":"Stückliste!AI552","v":0}]
["a","5.5",8,{"$f":"Stückliste!A553","v":0},{"$f":"Stückliste!E553","v":0},{"$f":"Stückliste!J553","v":0},{"$f":"Stückliste!O553","v":0},{"$f":"Stückliste!T553","v":0},{"$f":"Stückliste!W553","v":0},{"$f":"Stückliste!Z553","v":0},{"$f":"Stückliste!AC553","v":0},{"$f":"Stückliste!AF553","v":0},{"$f":"Stückliste!AI553","v":0}]
["a","5.5",8,{"$f":"Stückliste!A554","v":0},{"$f":"Stückliste!E554","v":0},{"$f":"Stückliste!J554","v":0},{"$f":"Stückliste!O554","v":0},{"$f":"Stückliste!T554","v":0},{"$f":"Stückliste!W554","v":0},{"$f":"Stückliste!Z554","v":0},{"$f":"Stückliste!AC554","v":0},{"$f":"Stückliste!AF554","v":0},{"$f":"Stückliste!AI554","v":0}]
["a","5.5",8,{"$f":"Stückliste!A555","v":0},{"$f":"Stückliste!E555","v":0},{"$f":"Stückliste!J555","v":0},{"$f":"Stückliste!O555","v":0},{"$f":"Stückliste!T555","v":0},{"$f":"Stückliste!W555","v":0},{"$f":"Stückliste!Z555","v":0},{"$f":"Stückliste!AC555","v":0},{"$f":"Stückliste!AF555","v":0},{"$f":"Stückliste!AI555","v":0}]
["a","5.5",8,{"$f":"Stückliste!A556","v":0},{"$f":"Stückliste!E556","v":0},{"$f":"Stückliste!J556","v":0},{"$f":"Stückliste!O556","v":0},{"$f":"Stückliste!T556","v":0},{"$f":"Stückliste!W556","v":0},{"$f":"Stückliste!Z556","v":0},{"$f":"Stückliste!AC556","v":0},{"$f":"Stückliste!AF556","v":0},{"$f":"Stückliste!AI556","v":0}]
["a","5.5",8,{"$f":"Stückliste!A557","v":0},{"$f":"Stückliste!E557","v":0},{"$f":"Stückliste!J557","v":0},{"$f":"Stückliste!O557","v":0},{"$f":"Stückliste!T557","v":0},{"$f":"Stückliste!W557","v":0},{"$f":"Stückliste!Z557","v":0},{"$f":"Stückliste!AC557","v":0},{"$f":"Stückliste!AF557","v":0},{"$f":"Stückliste!AI557","v":0}]
["a","5.5",8,{"$f":"Stückliste!A558","v":0},{"$f":"Stückliste!E558","v":0},{"$f":"Stückliste!J558","v":0},{"$f":"Stückliste!O558","v":0},{"$f":"Stückliste!T558","v":0},{"$f":"Stückliste!W558","v":0},{"$f":"Stückliste!Z558","v":0},{"$f":"Stückliste!AC558","v":0},{"$f":"Stückliste!AF558","v":0},{"$f":"Stückliste!AI558","v":0}]
["a","5.5",8,{"$f":"Stückliste!A559","v":0},{"$f":"Stückliste!E559","v":0},{"$f":"Stückliste!J559","v":0},{"$f":"Stückliste!O559","v":0},{"$f":"Stückliste!T559","v":0},{"$f":"Stückliste!W559","v":0},{"$f":"Stückliste!Z559","v":0},{"$f":"Stückliste!AC559","v":0},{"$f":"Stückliste!AF559","v":0},{"$f":"Stückliste!AI559","v":0}]
["a","5.5",8,{"$f":"Stückliste!A560","v":0},{"$f":"Stückliste!E560","v":0},{"$f":"Stückliste!J560","v":0},{"$f":"Stückliste!O560","v":0},{"$f":"Stückliste!T560","v":0},{"$f":"Stückliste!W560","v":0},{"$f":"Stückliste!Z560","v":0},{"$f":"Stückliste!AC560","v":0},{"$f":"Stückliste!AF560","v":0},{"$f":"Stückliste!AI560","v":0}]
["a","5.5",8,{"$f":"Stückliste!A561","v":0},{"$f":"Stückliste!E561","v":0},{"$f":"Stückliste!J561","v":0},{"$f":"Stückliste!O561","v":0},{"$f":"Stückliste!T561","v":0},{"$f":"Stückliste!W561","v":0},{"$f":"Stückliste!Z561","v":0},{"$f":"Stückliste!AC561","v":0},{"$f":"Stückliste!AF561","v":0},{"$f":"Stückliste!AI561","v":0}]
["a","5.5",8,{"$f":"Stückliste!A562","v":0},{"$f":"Stückliste!E562","v":0},{"$f":"Stückliste!J562","v":0},{"$f":"Stückliste!O562","v":0},{"$f":"Stückliste!T562","v":0},{"$f":"Stückliste!W562","v":0},{"$f":"Stückliste!Z562","v":0},{"$f":"Stückliste!AC562","v":0},{"$f":"Stückliste!AF562","v":0},{"$f":"Stückliste!AI562","v":0}]
["a","5.5",8,{"$f":"Stückliste!A563","v":0},{"$f":"Stückliste!E563","v":0},{"$f":"Stückliste!J563","v":0},{"$f":"Stückliste!O563","v":0},{"$f":"Stückliste!T563","v":0},{"$f":"Stückliste!W563","v":0},{"$f":"Stückliste!Z563","v":0},{"$f":"Stückliste!AC563","v":0},{"$f":"Stückliste!AF563","v":0},{"$f":"Stückliste!AI563","v":0}]
["a","5.5",8,{"$f":"Stückliste!A564","v":0},{"$f":"Stückliste!E564","v":0},{"$f":"Stückliste!J564","v":0},{"$f":"Stückliste!O564","v":0},{"$f":"Stückliste!T564","v":0},{"$f":"Stückliste!W564","v":0},{"$f":"Stückliste!Z564","v":0},{"$f":"Stückliste!AC564","v":0},{"$f":"Stückliste!AF564","v":0},{"$f":"Stückliste!AI564","v":0}]
["a","5.5",8,{"$f":"Stückliste!A565","v":0},{"$f":"Stückliste!E565","v":0},{"$f":"Stückliste!J565","v":0},{"$f":"Stückliste!O565","v":0},{"$f":"Stückliste!T565","v":0},{"$f":"Stückliste!W565","v":0},{"$f":"Stückliste!Z565","v":0},{"$f":"Stückliste!AC565","v":0},{"$f":"Stückliste!AF565","v":0},{"$f":"Stückliste!AI565","v":0}]
["a","5.5",8,{"$f":"Stückliste!A566","v":0},{"$f":"Stückliste!E566","v":0},{"$f":"Stückliste!J566","v":0},{"$f":"Stückliste!O566","v":0},{"$f":"Stückliste!T566","v":0},{"$f":"Stückliste!W566","v":0},{"$f":"Stückliste!Z566","v":0},{"$f":"Stückliste!AC566","v":0},{"$f":"Stückliste!AF566","v":0},{"$f":"Stückliste!AI566","v":0}]
["a","5.5",8,{"$f":"Stückliste!A567","v":0},{"$f":"Stückliste!E567","v":0},{"$f":"Stückliste!J567","v":0},{"$f":"Stückliste!O567","v":0},{"$f":"Stückliste!T567","v":0},{"$f":"Stückliste!W567","v":0},{"$f":"Stückliste!Z567","v":0},{"$f":"Stückliste!AC567","v":0},{"$f":"Stückliste!AF567","v":0},{"$f":"Stückliste!AI567","v":0}]
["a","5.5",8,{"$f":"Stückliste!A568","v":0},{"$f":"Stückliste!E568","v":0},{"$f":"Stückliste!J568","v":0},{"$f":"Stückliste!O568","v":0},{"$f":"Stückliste!T568","v":0},{"$f":"Stückliste!W568","v":0},{"$f":"Stückliste!Z568","v":0},{"$f":"Stückliste!AC568","v":0},{"$f":"Stückliste!AF568","v":0},{"$f":"Stückliste!AI568","v":0}]
["a","5.5",8,{"$f":"Stückliste!A569","v":0},{"$f":"Stückliste!E569","v":0},{"$f":"Stückliste!J569","v":0},{"$f":"Stückliste!O569","v":0},{"$f":"Stückliste!T569","v":0},{"$f":"Stückliste!W569","v":0},{"$f":"Stückliste!Z569","v":0},{"$f":"Stückliste!AC569","v":0},{"$f":"Stückliste!AF569","v":0},{"$f":"Stückliste!AI569","v":0}]
[{"$f":"A516","v":"a"},{"$f":"B516","v":"5.5"},{"$f":"C516","v":8},{"$f":"Stückliste!A570","v":0},{"$f":"Stückliste!E570","v":0},{"$f":"Stückliste!J570","v":0},{"$f":"Stückliste!O570","v":0},{"$f":"Stückliste!T570","v":0},{"$f":"Stückliste!W570","v":0},{"$f":"Stückliste!Z570","v":0},{"$f":"Stückliste!AC570","v":0},{"$f":"Stückliste!AF570","v":0},{"$f":"Stückliste!AI570","v":0}]
["a","5.5",8,{"$f":"Stückliste!A571","v":0},{"$f":"Stückliste!E571","v":0},{"$f":"Stückliste!J571","v":0},{"$f":"Stückliste!O571","v":0},{"$f":"Stückliste!T571","v":0},{"$f":"Stückliste!W571","v":0},{"$f":"Stückliste!Z571","v":0},{"$f":"Stückliste!AC571","v":0},{"$f":"Stückliste!AF571","v":0},{"$f":"Stückliste!AI571","v":0}]
["a","5.5",8,{"$f":"Stückliste!A572","v":0},{"$f":"Stückliste!E572","v":0},{"$f":"Stückliste!J572","v":0},{"$f":"Stückliste!O572","v":0},{"$f":"Stückliste!T572","v":0},{"$f":"Stückliste!W572","v":0},{"$f":"Stückliste!Z572","v":0},{"$f":"Stückliste!AC572","v":0},{"$f":"Stückliste!AF572","v":0},{"$f":"Stückliste!AI572","v":0}]
["a","5.5",8,{"$f":"Stückliste!A573","v":0},{"$f":"Stückliste!E573","v":0},{"$f":"Stückliste!J573","v":0},{"$f":"Stückliste!O573","v":0},{"$f":"Stückliste!T573","v":0},{"$f":"Stückliste!W573","v":0},{"$f":"Stückliste!Z573","v":0},{"$f":"Stückliste!AC573","v":0},{"$f":"Stückliste!AF573","v":0},{"$f":"Stückliste!AI573","v":0}]
["a","5.5",8,{"$f":"Stückliste!A574","v":0},{"$f":"Stückliste!E574","v":0},{"$f":"Stückliste!J574","v":0},{"$f":"Stückliste!O574","v":0},{"$f":"Stückliste!T574","v":0},{"$f":"Stückliste!W574","v":0},{"$f":"Stückliste!Z574","v":0},{"$f":"Stückliste!AC574","v":0},{"$f":"Stückliste!AF574","v":0},{"$f":"Stückliste!AI574","v":0}]
["a","5.5",8,{"$f":"Stückliste!A575","v":0},{"$f":"Stückliste!E575","v":0},{"$f":"Stückliste!J575","v":0},{"$f":"Stückliste!O575","v":0},{"$f":"Stückliste!T575","v":0},{"$f":"Stückliste!W575","v":0},{"$f":"Stückliste!Z575","v":0},{"$f":"Stückliste!AC575","v":0},{"$f":"Stückliste!AF575","v":0},{"$f":"Stückliste!AI575","v":0}]
["a","5.5",8,{"$f":"Stückliste!A576","v":0},{"$f":"Stückliste!E576","v":0},{"$f":"Stückliste!J576","v":0},{"$f":"Stückliste!O576","v":0},{"$f":"Stückliste!T576","v":0},{"$f":"Stückliste!W576","v":0},{"$f":"Stückliste!Z576","v":0},{"$f":"Stückliste!AC576","v":0},{"$f":"Stückliste!AF576","v":0},{"$f":"Stückliste!AI576","v":0}]
["a","5.5",8,{"$f":"Stückliste!A577","v":0},{"$f":"Stückliste!E577","v":0},{"$f":"Stückliste!J577","v":0},{"$f":"Stückliste!O577","v":0},{"$f":"Stückliste!T577","v":0},{"$f":"Stückliste!W577","v":0},{"$f":"Stückliste!Z577","v":0},{"$f":"Stückliste!AC577","v":0},{"$f":"Stückliste!AF577","v":0},{"$f":"Stückliste!AI577","v":0}]
["a","5.5",8,{"$f":"Stückliste!A578","v":0},{"$f":"Stückliste!E578","v":0},{"$f":"Stückliste!J578","v":0},{"$f":"Stückliste!O578","v":0},{"$f":"Stückliste!T578","v":0},{"$f":"Stückliste!W578","v":0},{"$f":"Stückliste!Z578","v":0},{"$f":"Stückliste!AC578","v":0},{"$f":"Stückliste!AF578","v":0},{"$f":"Stückliste!AI578","v":0}]
["a","5.5",8,{"$f":"Stückliste!A579","v":0},{"$f":"Stückliste!E579","v":0},{"$f":"Stückliste!J579","v":0},{"$f":"Stückliste!O579","v":0},{"$f":"Stückliste!T579","v":0},{"$f":"Stückliste!W579","v":0},{"$f":"Stückliste!Z579","v":0},{"$f":"Stückliste!AC579","v":0},{"$f":"Stückliste!AF579","v":0},{"$f":"Stückliste!AI579","v":0}]
["a","5.5",8,{"$f":"Stückliste!A580","v":0},{"$f":"Stückliste!E580","v":0},{"$f":"Stückliste!J580","v":0},{"$f":"Stückliste!O580","v":0},{"$f":"Stückliste!T580","v":0},{"$f":"Stückliste!W580","v":0},{"$f":"Stückliste!Z580","v":0},{"$f":"Stückliste!AC580","v":0},{"$f":"Stückliste!AF580","v":0},{"$f":"Stückliste!AI580","v":0}]
["a","5.5",8,{"$f":"Stückliste!A581","v":0},{"$f":"Stückliste!E581","v":0},{"$f":"Stückliste!J581","v":0},{"$f":"Stückliste!O581","v":0},{"$f":"Stückliste!T581","v":0},{"$f":"Stückliste!W581","v":0},{"$f":"Stückliste!Z581","v":0},{"$f":"Stückliste!AC581","v":0},{"$f":"Stückliste!AF581","v":0},{"$f":"Stückliste!AI581","v":0}]
["a","5.5",8,{"$f":"Stückliste!A582","v":0},{"$f":"Stückliste!E582","v":0},{"$f":"Stückliste!J582","v":0},{"$f":"Stückliste!O582","v":0},{"$f":"Stückliste!T582","v":0},{"$f":"Stückliste!W582","v":0},{"$f":"Stückliste!Z582","v":0},{"$f":"Stückliste!AC582","v":0},{"$f":"Stückliste!AF582","v":0},{"$f":"Stückliste!AI582","v":0}]
["a","5.5",8,{"$f":"Stückliste!A583","v":0},{"$f":"Stückliste!E583","v":0},{"$f":"Stückliste!J583","v":0},{"$f":"Stückliste!O583","v":0},{"$f":"Stückliste!T583","v":0},{"$f":"Stückliste!W583","v":0},{"$f":"Stückliste!Z583","v":0},{"$f":"Stückliste!AC583","v":0},{"$f":"Stückliste!AF583","v":0},{"$f":"Stückliste!AI583","v":0}]
["a","5.5",8,{"$f":"Stückliste!A584","v":0},{"$f":"Stückliste!E584","v":0},{"$f":"Stückliste!J584","v":0},{"$f":"Stückliste!O584","v":0},{"$f":"Stückliste!T584","v":0},{"$f":"Stückliste!W584","v":0},{"$f":"Stückliste!Z584","v":0},{"$f":"Stückliste!AC584","v":0},{"$f":"Stückliste!AF584","v":0},{"$f":"Stückliste!AI584","v":0}]
["a","5.5",8,{"$f":"Stückliste!A585","v":0},{"$f":"Stückliste!E585","v":0},{"$f":"Stückliste!J585","v":0},{"$f":"Stückliste!O585","v":0},{"$f":"Stückliste!T585","v":0},{"$f":"Stückliste!W585","v":0},{"$f":"Stückliste!Z585","v":0},{"$f":"Stückliste!AC585","v":0},{"$f":"Stückliste!AF585","v":0},{"$f":"Stückliste!AI585","v":0}]
["a","5.5",8,{"$f":"Stückliste!A586","v":0},{"$f":"Stückliste!E586","v":0},{"$f":"Stückliste!J586","v":0},{"$f":"Stückliste!O586","v":0},{"$f":"Stückliste!T586","v":0},{"$f":"Stückliste!W586","v":0},{"$f":"Stückliste!Z586","v":0},{"$f":"Stückliste!AC586","v":0},{"$f":"Stückliste!AF586","v":0},{"$f":"Stückliste!AI586","v":0}]
["a","5.5",8,{"$f":"Stückliste!A587","v":0},{"$f":"Stückliste!E587","v":0},{"$f":"Stückliste!J587","v":0},{"$f":"Stückliste!O587","v":0},{"$f":"Stückliste!T587","v":0},{"$f":"Stückliste!W587","v":0},{"$f":"Stückliste!Z587","v":0},{"$f":"Stückliste!AC587","v":0},{"$f":"Stückliste!AF587","v":0},{"$f":"Stückliste!AI587","v":0}]
["a","5.5",8,{"$f":"Stückliste!A588","v":0},{"$f":"Stückliste!E588","v":0},{"$f":"Stückliste!J588","v":0},{"$f":"Stückliste!O588","v":0},{"$f":"Stückliste!T588","v":0},{"$f":"Stückliste!W588","v":0},{"$f":"Stückliste!Z588","v":0},{"$f":"Stückliste!AC588","v":0},{"$f":"Stückliste!AF588","v":0},{"$f":"Stückliste!AI588","v":0}]
["a","5.5",8,{"$f":"Stückliste!A589","v":0},{"$f":"Stückliste!E589","v":0},{"$f":"Stückliste!J589","v":0},{"$f":"Stückliste!O589","v":0},{"$f":"Stückliste!T589","v":0},{"$f":"Stückliste!W589","v":0},{"$f":"Stückliste!Z589","v":0},{"$f":"Stückliste!AC589","v":0},{"$f":"Stückliste!AF589","v":0},{"$f":"Stückliste!AI589","v":0}]
["a","5.5",8,{"$f":"Stückliste!A590","v":0},{"$f":"Stückliste!E590","v":0},{"$f":"Stückliste!J590","v":0},{"$f":"Stückliste!O590","v":0},{"$f":"Stückliste!T590","v":0},{"$f":"Stückliste!W590","v":0},{"$f":"Stückliste!Z590","v":0},{"$f":"Stückliste!AC590","v":0},{"$f":"Stückliste!AF590","v":0},{"$f":"Stückliste!AI590","v":0}]
["a","5.5",8,{"$f":"Stückliste!A591","v":0},{"$f":"Stückliste!E591","v":0},{"$f":"Stückliste!J591","v":0},{"$f":"Stückliste!O591","v":0},{"$f":"Stückliste!T591","v":0},{"$f":"Stückliste!W591","v":0},{"$f":"Stückliste!Z591","v":0},{"$f":"Stückliste!AC591","v":0},{"$f":"Stückliste!AF591","v":0},{"$f":"Stückliste!AI591","v":0}]
["a","5.5",8,{"$f":"Stückliste!A592","v":0},{"$f":"Stückliste!E592","v":0},{"$f":"Stückliste!J592","v":0},{"$f":"Stückliste!O592","v":0},{"$f":"Stückliste!T592","v":0},{"$f":"Stückliste!W592","v":0},{"$f":"Stückliste!Z592","v":0},{"$f":"Stückliste!AC592","v":0},{"$f":"Stückliste!AF592","v":0},{"$f":"Stückliste!AI592","v":0}]
["a","5.5",8,{"$f":"Stückliste!A593","v":0},{"$f":"Stückliste!E593","v":0},{"$f":"Stückliste!J593","v":0},{"$f":"Stückliste!O593","v":0},{"$f":"Stückliste!T593","v":0},{"$f":"Stückliste!W593","v":0},{"$f":"Stückliste!Z593","v":0},{"$f":"Stückliste!AC593","v":0},{"$f":"Stückliste!AF593","v":0},{"$f":"Stückliste!AI593","v":0}]
["a","5.5",8,{"$f":"Stückliste!A594","v":0},{"$f":"Stückliste!E594","v":0},{"$f":"Stückliste!J594","v":0},{"$f":"Stückliste!O594","v":0},{"$f":"Stückliste!T594","v":0},{"$f":"Stückliste!W594","v":0},{"$f":"Stückliste!Z594","v":0},{"$f":"Stückliste!AC594","v":0},{"$f":"Stückliste!AF594","v":0},{"$f":"Stückliste!AI594","v":0}]
["a","5.5",8,{"$f":"Stückliste!A595","v":0},{"$f":"Stückliste!E595","v":0},{"$f":"Stückliste!J595","v":0},{"$f":"Stückliste!O595","v":0},{"$f":"Stückliste!T595","v":0},{"$f":"Stückliste!W595","v":0},{"$f":"Stückliste!Z595","v":0},{"$f":"Stückliste!AC595","v":0},{"$f":"Stückliste!AF595","v":0},{"$f":"Stückliste!AI595","v":0}]
["a","5.5",8,{"$f":"Stückliste!A596","v":0},{"$f":"Stückliste!E596","v":0},{"$f":"Stückliste!J596","v":0},{"$f":"Stückliste!O596","v":0},{"$f":"Stückliste!T596","v":0},{"$f":"Stückliste!W596","v":0},{"$f":"Stückliste!Z596","v":0},{"$f":"Stückliste!AC596","v":0},{"$f":"Stückliste!AF596","v":0},{"$f":"Stückliste!AI596","v":0}]
["a","5.5",8,{"$f":"Stückliste!A597","v":0},{"$f":"Stückliste!E597","v":0},{"$f":"Stückliste!J597","v":0},{"$f":"Stückliste!O597","v":0},{"$f":"Stückliste!T597","v":0},{"$f":"Stückliste!W597","v":0},{"$f":"Stückliste!Z597","v":0},{"$f":"Stückliste!AC597","v":0},{"$f":"Stückliste!AF597","v":0},{"$f":"Stückliste!AI597","v":0}]
["a","5.5",8,{"$f":"Stückliste!A598","v":0},{"$f":"Stückliste!E598","v":0},{"$f":"Stückliste!J598","v":0},{"$f":"Stückliste!O598","v":0},{"$f":"Stückliste!T598","v":0},{"$f":"Stückliste!W598","v":0},{"$f":"Stückliste!Z598","v":0},{"$f":"Stückliste!AC598","v":0},{"$f":"Stückliste!AF598","v":0},{"$f":"Stückliste!AI598","v":0}]
["a","5.5",8,{"$f":"Stückliste!A599","v":0},{"$f":"Stückliste!E599","v":0},{"$f":"Stückliste!J599","v":0},{"$f":"Stückliste!O599","v":0},{"$f":"Stückliste!T599","v":0},{"$f":"Stückliste!W599","v":0},{"$f":"Stückliste!Z599","v":0},{"$f":"Stückliste!AC599","v":0},{"$f":"Stückliste!AF599","v":0},{"$f":"Stückliste!AI599","v":0}]
["a","5.5",8,{"$f":"Stückliste!A600","v":0},{"$f":"Stückliste!E600","v":0},{"$f":"Stückliste!J600","v":0},{"$f":"Stückliste!O600","v":0},{"$f":"Stückliste!T600","v":0},{"$f":"Stückliste!W600","v":0},{"$f":"Stückliste!Z600","v":0},{"$f":"Stückliste!AC600","v":0},{"$f":"Stückliste!AF600","v":0},{"$f":"Stückliste!AI600","v":0}]
["a","5.5",8,{"$f":"Stückliste!A601","v":0},{"$f":"Stückliste!E601","v":0},{"$f":"Stückliste!J601","v":0},{"$f":"Stückliste!O601","v":0},{"$f":"Stückliste!T601","v":0},{"$f":"Stückliste!W601","v":0},{"$f":"Stückliste!Z601","v":0},{"$f":"Stückliste!AC601","v":0},{"$f":"Stückliste!AF601","v":0},{"$f":"Stückliste!AI601","v":0}]
["a","5.5",8,{"$f":"Stückliste!A602","v":0},{"$f":"Stückliste!E602","v":0},{"$f":"Stückliste!J602","v":0},{"$f":"Stückliste!O602","v":0},{"$f":"Stückliste!T602","v":0},{"$f":"Stückliste!W602","v":0},{"$f":"Stückliste!Z602","v":0},{"$f":"Stückliste!AC602","v":0},{"$f":"Stückliste!AF602","v":0},{"$f":"Stückliste!AI602","v":0}]
["a","5.5",8,{"$f":"Stückliste!A603","v":0},{"$f":"Stückliste!E603","v":0},{"$f":"Stückliste!J603","v":0},{"$f":"Stückliste!O603","v":0},{"$f":"Stückliste!T603","v":0},{"$f":"Stückliste!W603","v":0},{"$f":"Stückliste!Z603","v":0},{"$f":"Stückliste!AC603","v":0},{"$f":"Stückliste!AF603","v":0},{"$f":"Stückliste!AI603","v":0}]
["a","5.5",8,{"$f":"Stückliste!A604","v":0},{"$f":"Stückliste!E604","v":0},{"$f":"Stückliste!J604","v":0},{"$f":"Stückliste!O604","v":0},{"$f":"Stückliste!T604","v":0},{"$f":"Stückliste!W604","v":0},{"$f":"Stückliste!Z604","v":0},{"$f":"Stückliste!AC604","v":0},{"$f":"Stückliste!AF604","v":0},{"$f":"Stückliste!AI604","v":0}]
["a","5.5",8,{"$f":"Stückliste!A605","v":0},{"$f":"Stückliste!E605","v":0},{"$f":"Stückliste!J605","v":0},{"$f":"Stückliste!O605","v":0},{"$f":"Stückliste!T605","v":0},{"$f":"Stückliste!W605","v":0},{"$f":"Stückliste!Z605","v":0},{"$f":"Stückliste!AC605","v":0},{"$f":"Stückliste!AF605","v":0},{"$f":"Stückliste!AI605","v":0}]
["a","5.5",8,{"$f":"Stückliste!A606","v":0},{"$f":"Stückliste!E606","v":0},{"$f":"Stückliste!J606","v":0},{"$f":"Stückliste!O606","v":0},{"$f":"Stückliste!T606","v":0},{"$f":"Stückliste!W606","v":0},{"$f":"Stückliste!Z606","v":0},{"$f":"Stückliste!AC606","v":0},{"$f":"Stückliste!AF606","v":0},{"$f":"Stückliste!AI606","v":0}]
["a","5.5",8,{"$f":"Stückliste!A607","v":0},{"$f":"Stückliste!E607","v":0},{"$f":"Stückliste!J607","v":0},{"$f":"Stückliste!O607","v":0},{"$f":"Stückliste!T607","v":0},{"$f":"Stückliste!W607","v":0},{"$f":"Stückliste!Z607","v":0},{"$f":"Stückliste!AC607","v":0},{"$f":"Stückliste!AF607","v":0},{"$f":"Stückliste!AI607","v":0}]
["a","5.5",8,{"$f":"Stückliste!A608","v":0},{"$f":"Stückliste!E608","v":0},{"$f":"Stückliste!J608","v":0},{"$f":"Stückliste!O608","v":0},{"$f":"Stückliste!T608","v":0},{"$f":"Stückliste!W608","v":0},{"$f":"Stückliste!Z608","v":0},{"$f":"Stückliste!AC608","v":0},{"$f":"Stückliste!AF608","v":0},{"$f":"Stückliste!AI608","v":0}]
["a","5.5",8,{"$f":"Stückliste!A609","v":0},{"$f":"Stückliste!E609","v":0},{"$f":"Stückliste!J609","v":0},{"$f":"Stückliste!O609","v":0},{"$f":"Stückliste!T609","v":0},{"$f":"Stückliste!W609","v":0},{"$f":"Stückliste!Z609","v":0},{"$f":"Stückliste!AC609","v":0},{"$f":"Stückliste!AF609","v":0},{"$f":"Stückliste!AI609","v":0}]
["a","5.5",8,{"$f":"Stückliste!A610","v":0},{"$f":"Stückliste!E610","v":0},{"$f":"Stückliste!J610","v":0},{"$f":"Stückliste!O610","v":0},{"$f":"Stückliste!T610","v":0},{"$f":"Stückliste!W610","v":0},{"$f":"Stückliste!Z610","v":0},{"$f":"Stückliste!AC610","v":0},{"$f":"Stückliste!AF610","v":0},{"$f":"Stückliste!AI610","v":0}]
["a","5.5",8,{"$f":"Stückliste!A611","v":0},{"$f":"Stückliste!E611","v":0},{"$f":"Stückliste!J611","v":0},{"$f":"Stückliste!O611","v":0},{"$f":"Stückliste!T611","v":0},{"$f":"Stückliste!W611","v":0},{"$f":"Stückliste!Z611","v":0},{"$f":"Stückliste!AC611","v":0},{"$f":"Stückliste!AF611","v":0},{"$f":"Stückliste!AI611","v":0}]
["a","5.5",8,{"$f":"Stückliste!A612","v":0},{"$f":"Stückliste!E612","v":0},{"$f":"Stückliste!J612","v":0},{"$f":"Stückliste!O612","v":0},{"$f":"Stückliste!T612","v":0},{"$f":"Stückliste!W612","v":0},{"$f":"Stückliste!Z612","v":0},{"$f":"Stückliste!AC612","v":0},{"$f":"Stückliste!AF612","v":0},{"$f":"Stückliste!AI612","v":0}]
["a","5.5",8,{"$f":"Stückliste!A613","v":0},{"$f":"Stückliste!E613","v":0},{"$f":"Stückliste!J613","v":0},{"$f":"Stückliste!O613","v":0},{"$f":"Stückliste!T613","v":0},{"$f":"Stückliste!W613","v":0},{"$f":"Stückliste!Z613","v":0},{"$f":"Stückliste!AC613","v":0},{"$f":"Stückliste!AF613","v":0},{"$f":"Stückliste!AI613","v":0}]
["a","5.5",8,{"$f":"Stückliste!A614","v":0},{"$f":"Stückliste!E614","v":0},{"$f":"Stückliste!J614","v":0},{"$f":"Stückliste!O614","v":0},{"$f":"Stückliste!T614","v":0},{"$f":"Stückliste!W614","v":0},{"$f":"Stückliste!Z614","v":0},{"$f":"Stückliste!AC614","v":0},{"$f":"Stückliste!AF614","v":0},{"$f":"Stückliste!AI614","v":0}]
["a","5.5",8,{"$f":"Stückliste!A615","v":0},{"$f":"Stückliste!E615","v":0},{"$f":"Stückliste!J615","v":0},{"$f":"Stückliste!O615","v":0},{"$f":"Stückliste!T615","v":0},{"$f":"Stückliste!W615","v":0},{"$f":"Stückliste!Z615","v":0},{"$f":"Stückliste!AC615","v":0},{"$f":"Stückliste!AF615","v":0},{"$f":"Stückliste!AI615","v":0}]
["a","5.5",8,{"$f":"Stückliste!A616","v":0},{"$f":"Stückliste!E616","v":0},{"$f":"Stückliste!J616","v":0},{"$f":"Stückliste!O616","v":0},{"$f":"Stückliste!T616","v":0},{"$f":"Stückliste!W616","v":0},{"$f":"Stückliste!Z616","v":0},{"$f":"Stückliste!AC616","v":0},{"$f":"Stückliste!AF616","v":0},{"$f":"Stückliste!AI616","v":0}]
["a","5.5",8,{"$f":"Stückliste!A617","v":0},{"$f":"Stückliste!E617","v":0},{"$f":"Stückliste!J617","v":0},{"$f":"Stückliste!O617","v":0},{"$f":"Stückliste!T617","v":0},{"$f":"Stückliste!W617","v":0},{"$f":"Stückliste!Z617","v":0},{"$f":"Stückliste!AC617","v":0},{"$f":"Stückliste!AF617","v":0},{"$f":"Stückliste!AI617","v":0}]
["a","5.5",8,{"$f":"Stückliste!A618","v":0},{"$f":"Stückliste!E618","v":0},{"$f":"Stückliste!J618","v":0},{"$f":"Stückliste!O618","v":0},{"$f":"Stückliste!T618","v":0},{"$f":"Stückliste!W618","v":0},{"$f":"Stückliste!Z618","v":0},{"$f":"Stückliste!AC618","v":0},{"$f":"Stückliste!AF618","v":0},{"$f":"Stückliste!AI618","v":0}]
["a","5.5",8,{"$f":"Stückliste!A619","v":0},{"$f":"Stückliste!E619","v":0},{"$f":"Stückliste!J619","v":0},{"$f":"Stückliste!O619","v":0},{"$f":"Stückliste!T619","v":0},{"$f":"Stückliste!W619","v":0},{"$f":"Stückliste!Z619","v":0},{"$f":"Stückliste!AC619","v":0},{"$f":"Stückliste!AF619","v":0},{"$f":"Stückliste!AI619","v":0}]
["a","5.5",8,{"$f":"Stückliste!A620","v":0},{"$f":"Stückliste!E620","v":0},{"$f":"Stückliste!J620","v":0},{"$f":"Stückliste!O620","v":0},{"$f":"Stückliste!T620","v":0},{"$f":"Stückliste!W620","v":0},{"$f":"Stückliste!Z620","v":0},{"$f":"Stückliste!AC620","v":0},{"$f":"Stückliste!AF620","v":0},{"$f":"Stückliste!AI620","v":0}]
["a","5.5",8,{"$f":"Stückliste!A621","v":0},{"$f":"Stückliste!E621","v":0},{"$f":"Stückliste!J621","v":0},{"$f":"Stückliste!O621","v":0},{"$f":"Stückliste!T621","v":0},{"$f":"Stückliste!W621","v":0},{"$f":"Stückliste!Z621","v":0},{"$f":"Stückliste!AC621","v":0},{"$f":"Stückliste!AF621","v":0},{"$f":"Stückliste!AI621","v":0}]
["a","5.5",8,{"$f":"Stückliste!A622","v":0},{"$f":"Stückliste!E622","v":0},{"$f":"Stückliste!J622","v":0},{"$f":"Stückliste!O622","v":0},{"$f":"Stückliste!T622","v":0},{"$f":"Stückliste!W622","v":0},{"$f":"Stückliste!Z622","v":0},{"$f":"Stückliste!AC622","v":0},{"$f":"Stückliste!AF622","v":0},{"$f":"Stückliste!AI622","v":0}]
["a","5.5",8,{"$f":"Stückliste!A623","v":0},{"$f":"Stückliste!E623","v":0},{"$f":"Stückliste!J623","v":0},{"$f":"Stückliste!O623","v":0},{"$f":"Stückliste!T623","v":0},{"$f":"Stückliste!W623","v":0},{"$f":"Stückliste!Z623","v":0},{"$f":"Stückliste!AC623","v":0},{"$f":"Stückliste!AF623","v":0},{"$f":"Stückliste!AI623","v":0}]
["a","5.5",8,{"$f":"Stückliste!A624","v":0},{"$f":"Stückliste!E624","v":0},{"$f":"Stückliste!J624","v":0},{"$f":"Stückliste!O624","v":0},{"$f":"Stückliste!T624","v":0},{"$f":"Stückliste!W624","v":0},{"$f":"Stückliste!Z624","v":0},{"$f":"Stückliste!AC624","v":0},{"$f":"Stückliste!AF624","v":0},{"$f":"Stückliste!AI624","v":0}]
["a","5.5",8,{"$f":"Stückliste!A625","v":0},{"$f":"Stückliste!E625","v":0},{"$f":"Stückliste!J625","v":0},{"$f":"Stückliste!O625","v":0},{"$f":"Stückliste!T625","v":0},{"$f":"Stückliste!W625","v":0},{"$f":"Stückliste!Z625","v":0},{"$f":"Stückliste!AC625","v":0},{"$f":"Stückliste!AF625","v":0},{"$f":"Stückliste!AI625","v":0}]
["a","5.5",8,{"$f":"Stückliste!A626","v":0},{"$f":"Stückliste!E626","v":0},{"$f":"Stückliste!J626","v":0},{"$f":"Stückliste!O626","v":0},{"$f":"Stückliste!T626","v":0},{"$f":"Stückliste!W626","v":0},{"$f":"Stückliste!Z626","v":0},{"$f":"Stückliste!AC626","v":0},{"$f":"Stückliste!AF626","v":0},{"$f":"Stückliste!AI626","v":0}]
["a","5.5",8,{"$f":"Stückliste!A627","v":0},{"$f":"Stückliste!E627","v":0},{"$f":"Stückliste!J627","v":0},{"$f":"Stückliste!O627","v":0},{"$f":"Stückliste!T627","v":0},{"$f":"Stückliste!W627","v":0},{"$f":"Stückliste!Z627","v":0},{"$f":"Stückliste!AC627","v":0},{"$f":"Stückliste!AF627","v":0},{"$f":"Stückliste!AI627","v":0}]
["a","5.5",8,{"$f":"Stückliste!A628","v":0},{"$f":"Stückliste!E628","v":0},{"$f":"Stückliste!J628","v":0},{"$f":"Stückliste!O628","v":0},{"$f":"Stückliste!T628","v":0},{"$f":"Stückliste!W628","v":0},{"$f":"Stückliste!Z628","v":0},{"$f":"Stückliste!AC628","v":0},{"$f":"Stückliste!AF628","v":0},{"$f":"Stückliste!AI628","v":0}]
["a","5.5",8,{"$f":"Stückliste!A629","v":0},{"$f":"Stückliste!E629","v":0},{"$f":"Stückliste!J629","v":0},{"$f":"Stückliste!O629","v":0},{"$f":"Stückliste!T629","v":0},{"$f":"Stückliste!W629","v":0},{"$f":"Stückliste!Z629","v":0},{"$f":"Stückliste!AC629","v":0},{"$f":"Stückliste!AF629","v":0},{"$f":"Stückliste!AI629","v":0}]
["a","5.5",8,{"$f":"Stückliste!A630","v":0},{"$f":"Stückliste!E630","v":0},{"$f":"Stückliste!J630","v":0},{"$f":"Stückliste!O630","v":0},{"$f":"Stückliste!T630","v":0},{"$f":"Stückliste!W630","v":0},{"$f":"Stückliste!Z630","v":0},{"$f":"Stückliste!AC630","v":0},{"$f":"Stückliste!AF630","v":0},{"$f":"Stückliste!AI630","v":0}]
["a","5.5",8,{"$f":"Stückliste!A631","v":0},{"$f":"Stückliste!E631","v":0},{"$f":"Stückliste!J631","v":0},{"$f":"Stückliste!O631","v":0},{"$f":"Stückliste!T631","v":0},{"$f":"Stückliste!W631","v":0},{"$f":"Stückliste!Z631","v":0},{"$f":"Stückliste!AC631","v":0},{"$f":"Stückliste!AF631","v":0},{"$f":"Stückliste!AI631","v":0}]
["a","5.5",8,{"$f":"Stückliste!A632","v":0},{"$f":"Stückliste!E632","v":0},{"$f":"Stückliste!J632","v":0},{"$f":"Stückliste!O632","v":0},{"$f":"Stückliste!T632","v":0},{"$f":"Stückliste!W632","v":0},{"$f":"Stückliste!Z632","v":0},{"$f":"Stückliste!AC632","v":0},{"$f":"Stückliste!AF632","v":0},{"$f":"Stückliste!AI632","v":0}]
["a","5.5",8,{"$f":"Stückliste!A633","v":0},{"$f":"Stückliste!E633","v":0},{"$f":"Stückliste!J633","v":0},{"$f":"Stückliste!O633","v":0},{"$f":"Stückliste!T633","v":0},{"$f":"Stückliste!W633","v":0},{"$f":"Stückliste!Z633","v":0},{"$f":"Stückliste!AC633","v":0},{"$f":"Stückliste!AF633","v":0},{"$f":"Stückliste!AI633","v":0}]
[{"$f":"A580","v":"a"},{"$f":"B580","v":"5.5"},{"$f":"C580","v":8},{"$f":"Stückliste!A634","v":0},{"$f":"Stückliste!E634","v":0},{"$f":"Stückliste!J634","v":0},{"$f":"Stückliste!O634","v":0},{"$f":"Stückliste!T634","v":0},{"$f":"Stückliste!W634","v":0},{"$f":"Stückliste!Z634","v":0},{"$f":"Stückliste!AC634","v":0},{"$f":"Stückliste!AF634","v":0},{"$f":"Stückliste!AI634","v":0}]
["a","5.5",8,{"$f":"Stückliste!A635","v":0},{"$f":"Stückliste!E635","v":0},{"$f":"Stückliste!J635","v":0},{"$f":"Stückliste!O635","v":0},{"$f":"Stückliste!T635","v":0},{"$f":"Stückliste!W635","v":0},{"$f":"Stückliste!Z635","v":0},{"$f":"Stückliste!AC635","v":0},{"$f":"Stückliste!AF635","v":0},{"$f":"Stückliste!AI635","v":0}]
["a","5.5",8,{"$f":"Stückliste!A636","v":0},{"$f":"Stückliste!E636","v":0},{"$f":"Stückliste!J636","v":0},{"$f":"Stückliste!O636","v":0},{"$f":"Stückliste!T636","v":0},{"$f":"Stückliste!W636","v":0},{"$f":"Stückliste!Z636","v":0},{"$f":"Stückliste!AC636","v":0},{"$f":"Stückliste!AF636","v":0},{"$f":"Stückliste!AI636","v":0}]
["a","5.5",8,{"$f":"Stückliste!A637","v":0},{"$f":"Stückliste!E637","v":0},{"$f":"Stückliste!J637","v":0},{"$f":"Stückliste!O637","v":0},{"$f":"Stückliste!T637","v":0},{"$f":"Stückliste!W637","v":0},{"$f":"Stückliste!Z637","v":0},{"$f":"Stückliste!AC637","v":0},{"$f":"Stückliste!AF637","v":0},{"$f":"Stückliste!AI637","v":0}]
["a","5.5",8,{"$f":"Stückliste!A638","v":0},{"$f":"Stückliste!E638","v":0},{"$f":"Stückliste!J638","v":0},{"$f":"Stückliste!O638","v":0},{"$f":"Stückliste!T638","v":0},{"$f":"Stückliste!W638","v":0},{"$f":"Stückliste!Z638","v":0},{"$f":"Stückliste!AC638","v":0},{"$f":"Stückliste!AF638","v":0},{"$f":"Stückliste!AI638","v":0}]
["a","5.5",8,{"$f":"Stückliste!A639","v":0},{"$f":"Stückliste!E639","v":0},{"$f":"Stückliste!J639","v":0},{"$f":"Stückliste!O639","v":0},{"$f":"Stückliste!T639","v":0},{"$f":"Stückliste!W639","v":0},{"$f":"Stückliste!Z639","v":0},{"$f":"Stückliste!AC639","v":0},{"$f":"Stückliste!AF639","v":0},{"$f":"Stückliste!AI639","v":0}]
["a","5.5",8,{"$f":"Stückliste!A640","v":0},{"$f":"Stückliste!E640","v":0},{"$f":"Stückliste!J640","v":0},{"$f":"Stückliste!O640","v":0},{"$f":"Stückliste!T640","v":0},{"$f":"Stückliste!W640","v":0},{"$f":"Stückliste!Z640","v":0},{"$f":"Stückliste!AC640","v":0},{"$f":"Stückliste!AF640","v":0},{"$f":"Stückliste!AI640","v":0}]
["a","5.5",8,{"$f":"Stückliste!A641","v":0},{"$f":"Stückliste!E641","v":0},{"$f":"Stückliste!J641","v":0},{"$f":"Stückliste!O641","v":0},{"$f":"Stückliste!T641","v":0},{"$f":"Stückliste!W641","v":0},{"$f":"Stückliste!Z641","v":0},{"$f":"Stückliste!AC641","v":0},{"$f":"Stückliste!AF641","v":0},{"$f":"Stückliste!AI641","v":0}]
["a","5.5",8,{"$f":"Stückliste!A642","v":0},{"$f":"Stückliste!E642","v":0},{"$f":"Stückliste!J642","v":0},{"$f":"Stückliste!O642","v":0},{"$f":"Stückliste!T642","v":0},{"$f":"Stückliste!W642","v":0},{"$f":"Stückliste!Z642","v":0},{"$f":"Stückliste!AC642","v":0},{"$f":"Stückliste!AF642","v":0},{"$f":"Stückliste!AI642","v":0}]
["a","5.5",8,{"$f":"Stückliste!A643","v":0},{"$f":"Stückliste!E643","v":0},{"$f":"Stückliste!J643","v":0},{"$f":"Stückliste!O643","v":0},{"$f":"Stückliste!T643","v":0},{"$f":"Stückliste!W643","v":0},{"$f":"Stückliste!Z643","v":0},{"$f":"Stückliste!AC643","v":0},{"$f":"Stückliste!AF643","v":0},{"$f":"Stückliste!AI643","v":0}]
["a","5.5",8,{"$f":"Stückliste!A644","v":0},{"$f":"Stückliste!E644","v":0},{"$f":"Stückliste!J644","v":0},{"$f":"Stückliste!O644","v":0},{"$f":"Stückliste!T644","v":0},{"$f":"Stückliste!W644","v":0},{"$f":"Stückliste!Z644","v":0},{"$f":"Stückliste!AC644","v":0},{"$f":"Stückliste!AF644","v":0},{"$f":"Stückliste!AI644","v":0}]
["a","5.5",8,{"$f":"Stückliste!A645","v":0},{"$f":"Stückliste!E645","v":0},{"$f":"Stückliste!J645","v":0},{"$f":"Stückliste!O645","v":0},{"$f":"Stückliste!T645","v":0},{"$f":"Stückliste!W645","v":0},{"$f":"Stückliste!Z645","v":0},{"$f":"Stückliste!AC645","v":0},{"$f":"Stückliste!AF645","v":0},{"$f":"Stückliste!AI645","v":0}]
["a","5.5",8,{"$f":"Stückliste!A646","v":0},{"$f":"Stückliste!E646","v":0},{"$f":"Stückliste!J646","v":0},{"$f":"Stückliste!O646","v":0},{"$f":"Stückliste!T646","v":0},{"$f":"Stückliste!W646","v":0},{"$f":"Stückliste!Z646","v":0},{"$f":"Stückliste!AC646","v":0},{"$f":"Stückliste!AF646","v":0},{"$f":"Stückliste!AI646","v":0}]
["a","5.5",8,{"$f":"Stückliste!A647","v":0},{"$f":"Stückliste!E647","v":0},{"$f":"Stückliste!J647","v":0},{"$f":"Stückliste!O647","v":0},{"$f":"Stückliste!T647","v":0},{"$f":"Stückliste!W647","v":0},{"$f":"Stückliste!Z647","v":0},{"$f":"Stückliste!AC647","v":0},{"$f":"Stückliste!AF647","v":0},{"$f":"Stückliste!AI647","v":0}]
["a","5.5",8,{"$f":"Stückliste!A648","v":0},{"$f":"Stückliste!E648","v":0},{"$f":"Stückliste!J648","v":0},{"$f":"Stückliste!O648","v":0},{"$f":"Stückliste!T648","v":0},{"$f":"Stückliste!W648","v":0},{"$f":"Stückliste!Z648","v":0},{"$f":"Stückliste!AC648","v":0},{"$f":"Stückliste!AF648","v":0},{"$f":"Stückliste!AI648","v":0}]
["a","5.5",8,{"$f":"Stückliste!A649","v":0},{"$f":"Stückliste!E649","v":0},{"$f":"Stückliste!J649","v":0},{"$f":"Stückliste!O649","v":0},{"$f":"Stückliste!T649","v":0},{"$f":"Stückliste!W649","v":0},{"$f":"Stückliste!Z649","v":0},{"$f":"Stückliste!AC649","v":0},{"$f":"Stückliste!AF649","v":0},{"$f":"Stückliste!AI649","v":0}]
["a","5.5",8,{"$f":"Stückliste!A650","v":0},{"$f":"Stückliste!E650","v":0},{"$f":"Stückliste!J650","v":0},{"$f":"Stückliste!O650","v":0},{"$f":"Stückliste!T650","v":0},{"$f":"Stückliste!W650","v":0},{"$f":"Stückliste!Z650","v":0},{"$f":"Stückliste!AC650","v":0},{"$f":"Stückliste!AF650","v":0},{"$f":"Stückliste!AI650","v":0}]
["a","5.5",8,{"$f":"Stückliste!A651","v":0},{"$f":"Stückliste!E651","v":0},{"$f":"Stückliste!J651","v":0},{"$f":"Stückliste!O651","v":0},{"$f":"Stückliste!T651","v":0},{"$f":"Stückliste!W651","v":0},{"$f":"Stückliste!Z651","v":0},{"$f":"Stückliste!AC651","v":0},{"$f":"Stückliste!AF651","v":0},{"$f":"Stückliste!AI651","v":0}]
["a","5.5",8,{"$f":"Stückliste!A652","v":0},{"$f":"Stückliste!E652","v":0},{"$f":"Stückliste!J652","v":0},{"$f":"Stückliste!O652","v":0},{"$f":"Stückliste!T652","v":0},{"$f":"Stückliste!W652","v":0},{"$f":"Stückliste!Z652","v":0},{"$f":"Stückliste!AC652","v":0},{"$f":"Stückliste!AF652","v":0},{"$f":"Stückliste!AI652","v":0}]
["a","5.5",8,{"$f":"Stückliste!A653","v":0},{"$f":"Stückliste!E653","v":0},{"$f":"Stückliste!J653","v":0},{"$f":"Stückliste!O653","v":0},{"$f":"Stückliste!T653","v":0},{"$f":"Stückliste!W653","v":0},{"$f":"Stückliste!Z653","v":0},{"$f":"Stückliste!AC653","v":0},{"$f":"Stückliste!AF653","v":0},{"$f":"Stückliste!AI653","v":0}]
["a","5.5",8,{"$f":"Stückliste!A654","v":0},{"$f":"Stückliste!E654","v":0},{"$f":"Stückliste!J654","v":0},{"$f":"Stückliste!O654","v":0},{"$f":"Stückliste!T654","v":0},{"$f":"Stückliste!W654","v":0},{"$f":"Stückliste!Z654","v":0},{"$f":"Stückliste!AC654","v":0},{"$f":"Stückliste!AF654","v":0},{"$f":"Stückliste!AI654","v":0}]
["a","5.5",8,{"$f":"Stückliste!A655","v":0},{"$f":"Stückliste!E655","v":0},{"$f":"Stückliste!J655","v":0},{"$f":"Stückliste!O655","v":0},{"$f":"Stückliste!T655","v":0},{"$f":"Stückliste!W655","v":0},{"$f":"Stückliste!Z655","v":0},{"$f":"Stückliste!AC655","v":0},{"$f":"Stückliste!AF655","v":0},{"$f":"Stückliste!AI655","v":0}]
["a","5.5",8,{"$f":"Stückliste!A656","v":0},{"$f":"Stückliste!E656","v":0},{"$f":"Stückliste!J656","v":0},{"$f":"Stückliste!O656","v":0},{"$f":"Stückliste!T656","v":0},{"$f":"Stückliste!W656","v":0},{"$f":"Stückliste!Z656","v":0},{"$f":"Stückliste!AC656","v":0},{"$f":"Stückliste!AF656","v":0},{"$f":"Stückliste!AI656","v":0}]
["a","5.5",8,{"$f":"Stückliste!A657","v":0},{"$f":"Stückliste!E657","v":0},{"$f":"Stückliste!J657","v":0},{"$f":"Stückliste!O657","v":0},{"$f":"Stückliste!T657","v":0},{"$f":"Stückliste!W657","v":0},{"$f":"Stückliste!Z657","v":0},{"$f":"Stückliste!AC657","v":0},{"$f":"Stückliste!AF657","v":0},{"$f":"Stückliste!AI657","v":0}]
["a","5.5",8,{"$f":"Stückliste!A658","v":0},{"$f":"Stückliste!E658","v":0},{"$f":"Stückliste!J658","v":0},{"$f":"Stückliste!O658","v":0},{"$f":"Stückliste!T658","v":0},{"$f":"Stückliste!W658","v":0},{"$f":"Stückliste!Z658","v":0},{"$f":"Stückliste!AC658","v":0},{"$f":"Stückliste!AF658","v":0},{"$f":"Stückliste!AI658","v":0}]
["a","5.5",8,{"$f":"Stückliste!A659","v":0},{"$f":"Stückliste!E659","v":0},{"$f":"Stückliste!J659","v":0},{"$f":"Stückliste!O659","v":0},{"$f":"Stückliste!T659","v":0},{"$f":"Stückliste!W659","v":0},{"$f":"Stückliste!Z659","v":0},{"$f":"Stückliste!AC659","v":0},{"$f":"Stückliste!AF659","v":0},{"$f":"Stückliste!AI659","v":0}]
["a","5.5",8,{"$f":"Stückliste!A660","v":0},{"$f":"Stückliste!E660","v":0},{"$f":"Stückliste!J660","v":0},{"$f":"Stückliste!O660","v":0},{"$f":"Stückliste!T660","v":0},{"$f":"Stückliste!W660","v":0},{"$f":"Stückliste!Z660","v":0},{"$f":"Stückliste!AC660","v":0},{"$f":"Stückliste!AF660","v":0},{"$f":"Stückliste!AI660","v":0}]
["a","5.5",8,{"$f":"Stückliste!A661","v":0},{"$f":"Stückliste!E661","v":0},{"$f":"Stückliste!J661","v":0},{"$f":"Stückliste!O661","v":0},{"$f":"Stückliste!T661","v":0},{"$f":"Stückliste!W661","v":0},{"$f":"Stückliste!Z661","v":0},{"$f":"Stückliste!AC661","v":0},{"$f":"Stückliste!AF661","v":0},{"$f":"Stückliste!AI661","v":0}]
["a","5.5",8,{"$f":"Stückliste!A662","v":0},{"$f":"Stückliste!E662","v":0},{"$f":"Stückliste!J662","v":0},{"$f":"Stückliste!O662","v":0},{"$f":"Stückliste!T662","v":0},{"$f":"Stückliste!W662","v":0},{"$f":"Stückliste!Z662","v":0},{"$f":"Stückliste!AC662","v":0},{"$f":"Stückliste!AF662","v":0},{"$f":"Stückliste!AI662","v":0}]
["a","5.5",8,{"$f":"Stückliste!A663","v":0},{"$f":"Stückliste!E663","v":0},{"$f":"Stückliste!J663","v":0},{"$f":"Stückliste!O663","v":0},{"$f":"Stückliste!T663","v":0},{"$f":"Stückliste!W663","v":0},{"$f":"Stückliste!Z663","v":0},{"$f":"Stückliste!AC663","v":0},{"$f":"Stückliste!AF663","v":0},{"$f":"Stückliste!AI663","v":0}]
["a","5.5",8,{"$f":"Stückliste!A664","v":0},{"$f":"Stückliste!E664","v":0},{"$f":"Stückliste!J664","v":0},{"$f":"Stückliste!O664","v":0},{"$f":"Stückliste!T664","v":0},{"$f":"Stückliste!W664","v":0},{"$f":"Stückliste!Z664","v":0},{"$f":"Stückliste!AC664","v":0},{"$f":"Stückliste!AF664","v":0},{"$f":"Stückliste!AI664","v":0}]
["a","5.5",8,{"$f":"Stückliste!A665","v":0},{"$f":"Stückliste!E665","v":0},{"$f":"Stückliste!J665","v":0},{"$f":"Stückliste!O665","v":0},{"$f":"Stückliste!T665","v":0},{"$f":"Stückliste!W665","v":0},{"$f":"Stückliste!Z665","v":0},{"$f":"Stückliste!AC665","v":0},{"$f":"Stückliste!AF665","v":0},{"$f":"Stückliste!AI665","v":0}]
["a","5.5",8,{"$f":"Stückliste!A666","v":0},{"$f":"Stückliste!E666","v":0},{"$f":"Stückliste!J666","v":0},{"$f":"Stückliste!O666","v":0},{"$f":"Stückliste!T666","v":0},{"$f":"Stückliste!W666","v":0},{"$f":"Stückliste!Z666","v":0},{"$f":"Stückliste!AC666","v":0},{"$f":"Stückliste!AF666","v":0},{"$f":"Stückliste!AI666","v":0}]
["a","5.5",8,{"$f":"Stückliste!A667","v":0},{"$f":"Stückliste!E667","v":0},{"$f":"Stückliste!J667","v":0},{"$f":"Stückliste!O667","v":0},{"$f":"Stückliste!T667","v":0},{"$f":"Stückliste!W667","v":0},{"$f":"Stückliste!Z667","v":0},{"$f":"Stückliste!AC667","v":0},{"$f":"Stückliste!AF667","v":0},{"$f":"Stückliste!AI667","v":0}]
["a","5.5",8,{"$f":"Stückliste!A668","v":0},{"$f":"Stückliste!E668","v":0},{"$f":"Stückliste!J668","v":0},{"$f":"Stückliste!O668","v":0},{"$f":"Stückliste!T668","v":0},{"$f":"Stückliste!W668","v":0},{"$f":"Stückliste!Z668","v":0},{"$f":"Stückliste!AC668","v":0},{"$f":"Stückliste!AF668","v":0},{"$f":"Stückliste!AI668","v":0}]
["a","5.5",8,{"$f":"Stückliste!A669","v":0},{"$f":"Stückliste!E669","v":0},{"$f":"Stückliste!J669","v":0},{"$f":"Stückliste!O669","v":0},{"$f":"Stückliste!T669","v":0},{"$f":"Stückliste!W669","v":0},{"$f":"Stückliste!Z669","v":0},{"$f":"Stückliste!AC669","v":0},{"$f":"Stückliste!AF669","v":0},{"$f":"Stückliste!AI669","v":0}]
["a","5.5",8,{"$f":"Stückliste!A670","v":0},{"$f":"Stückliste!E670","v":0},{"$f":"Stückliste!J670","v":0},{"$f":"Stückliste!O670","v":0},{"$f":"Stückliste!T670","v":0},{"$f":"Stückliste!W670","v":0},{"$f":"Stückliste!Z670","v":0},{"$f":"Stückliste!AC670","v":0},{"$f":"Stückliste!AF670","v":0},{"$f":"Stückliste!AI670","v":0}]
["a","5.5",8,{"$f":"Stückliste!A671","v":0},{"$f":"Stückliste!E671","v":0},{"$f":"Stückliste!J671","v":0},{"$f":"Stückliste!O671","v":0},{"$f":"Stückliste!T671","v":0},{"$f":"Stückliste!W671","v":0},{"$f":"Stückliste!Z671","v":0},{"$f":"Stückliste!AC671","v":0},{"$f":"Stückliste!AF671","v":0},{"$f":"Stückliste!AI671","v":0}]
["a","5.5",8,{"$f":"Stückliste!A672","v":0},{"$f":"Stückliste!E672","v":0},{"$f":"Stückliste!J672","v":0},{"$f":"Stückliste!O672","v":0},{"$f":"Stückliste!T672","v":0},{"$f":"Stückliste!W672","v":0},{"$f":"Stückliste!Z672","v":0},{"$f":"Stückliste!AC672","v":0},{"$f":"Stückliste!AF672","v":0},{"$f":"Stückliste!AI672","v":0}]
["a","5.5",8,{"$f":"Stückliste!A673","v":0},{"$f":"Stückliste!E673","v":0},{"$f":"Stückliste!J673","v":0},{"$f":"Stückliste!O673","v":0},{"$f":"Stückliste!T673","v":0},{"$f":"Stückliste!W673","v":0},{"$f":"Stückliste!Z673","v":0},{"$f":"Stückliste!AC673","v":0},{"$f":"Stückliste!AF673","v":0},{"$f":"Stückliste!AI673","v":0}]
["a","5.5",8,{"$f":"Stückliste!A674","v":0},{"$f":"Stückliste!E674","v":0},{"$f":"Stückliste!J674","v":0},{"$f":"Stückliste!O674","v":0},{"$f":"Stückliste!T674","v":0},{"$f":"Stückliste!W674","v":0},{"$f":"Stückliste!Z674","v":0},{"$f":"Stückliste!AC674","v":0},{"$f":"Stückliste!AF674","v":0},{"$f":"Stückliste!AI674","v":0}]
["a","5.5",8,{"$f":"Stückliste!A675","v":0},{"$f":"Stückliste!E675","v":0},{"$f":"Stückliste!J675","v":0},{"$f":"Stückliste!O675","v":0},{"$f":"Stückliste!T675","v":0},{"$f":"Stückliste!W675","v":0},{"$f":"Stückliste!Z675","v":0},{"$f":"Stückliste!AC675","v":0},{"$f":"Stückliste!AF675","v":0},{"$f":"Stückliste!AI675","v":0}]
["a","5.5",8,{"$f":"Stückliste!A676","v":0},{"$f":"Stückliste!E676","v":0},{"$f":"Stückliste!J676","v":0},{"$f":"Stückliste!O676","v":0},{"$f":"Stückliste!T676","v":0},{"$f":"Stückliste!W676","v":0},{"$f":"Stückliste!Z676","v":0},{"$f":"Stückliste!AC676","v":0},{"$f":"Stückliste!AF676","v":0},{"$f":"Stückliste!AI676","v":0}]
["a","5.5",8,{"$f":"Stückliste!A677","v":0},{"$f":"Stückliste!E677","v":0},{"$f":"Stückliste!J677","v":0},{"$f":"Stückliste!O677","v":0},{"$f":"Stückliste!T677","v":0},{"$f":"Stückliste!W677","v":0},{"$f":"Stückliste!Z677","v":0},{"$f":"Stückliste!AC677","v":0},{"$f":"Stückliste!AF677","v":0},{"$f":"Stückliste!AI677","v":0}]
["a","5.5",8,{"$f":"Stückliste!A678","v":0},{"$f":"Stückliste!E678","v":0},{"$f":"Stückliste!J678","v":0},{"$f":"Stückliste!O678","v":0},{"$f":"Stückliste!T678","v":0},{"$f":"Stückliste!W678","v":0},{"$f":"Stückliste!Z678","v":0},{"$f":"Stückliste!AC678","v":0},{"$f":"Stückliste!AF678","v":0},{"$f":"Stückliste!AI678","v":0}]
["a","5.5",8,{"$f":"Stückliste!A679","v":0},{"$f":"Stückliste!E679","v":0},{"$f":"Stückliste!J679","v":0},{"$f":"Stückliste!O679","v":0},{"$f":"Stückliste!T679","v":0},{"$f":"Stückliste!W679","v":0},{"$f":"Stückliste!Z679","v":0},{"$f":"Stückliste!AC679","v":0},{"$f":"Stückliste!AF679","v":0},{"$f":"Stückliste!AI679","v":0}]
["a","5.5",8,{"$f":"Stückliste!A680","v":0},{"$f":"Stückliste!E680","v":0},{"$f":"Stückliste!J680","v":0},{"$f":"Stückliste!O680","v":0},{"$f":"Stückliste!T680","v":0},{"$f":"Stückliste!W680","v":0},{"$f":"Stückliste!Z680","v":0},{"$f":"Stückliste!AC680","v":0},{"$f":"Stückliste!AF680","v":0},{"$f":"Stückliste!AI680","v":0}]
["a","5.5",8,{"$f":"Stückliste!A681","v":0},{"$f":"Stückliste!E681","v":0},{"$f":"Stückliste!J681","v":0},{"$f":"Stückliste!O681","v":0},{"$f":"Stückliste!T681","v":0},{"$f":"Stückliste!W681","v":0},{"$f":"Stückliste!Z681","v":0},{"$f":"Stückliste!AC681","v":0},{"$f":"Stückliste!AF681","v":0},{"$f":"Stückliste!AI681","v":0}]
["a","5.5",8,{"$f":"Stückliste!A682","v":0},{"$f":"Stückliste!E682","v":0},{"$f":"Stückliste!J682","v":0},{"$f":"Stückliste!O682","v":0},{"$f":"Stückliste!T682","v":0},{"$f":"Stückliste!W682","v":0},{"$f":"Stückliste!Z682","v":0},{"$f":"Stückliste!AC682","v":0},{"$f":"Stückliste!AF682","v":0},{"$f":"Stückliste!AI682","v":0}]
["a","5.5",8,{"$f":"Stückliste!A683","v":0},{"$f":"Stückliste!E683","v":0},{"$f":"Stückliste!J683","v":0},{"$f":"Stückliste!O683","v":0},{"$f":"Stückliste!T683","v":0},{"$f":"Stückliste!W683","v":0},{"$f":"Stückliste!Z683","v":0},{"$f":"Stückliste!AC683","v":0},{"$f":"Stückliste!AF683","v":0},{"$f":"Stückliste!AI683","v":0}]
["a","5.5",8,{"$f":"Stückliste!A684","v":0},{"$f":"Stückliste!E684","v":0},{"$f":"Stückliste!J684","v":0},{"$f":"Stückliste!O684","v":0},{"$f":"Stückliste!T684","v":0},{"$f":"Stückliste!W684","v":0},{"$f":"Stückliste!Z684","v":0},{"$f":"Stückliste!AC684","v":0},{"$f":"Stückliste!AF684","v":0},{"$f":"Stückliste!AI684","v":0}]
["a","5.5",8,{"$f":"Stückliste!A685","v":0},{"$f":"Stückliste!E685","v":0},{"$f":"Stückliste!J685","v":0},{"$f":"Stückliste!O685","v":0},{"$f":"Stückliste!T685","v":0},{"$f":"Stückliste!W685","v":0},{"$f":"Stückliste!Z685","v":0},{"$f":"Stückliste!AC685","v":0},{"$f":"Stückliste!AF685","v":0},{"$f":"Stückliste!AI685","v":0}]
["a","5.5",8,{"$f":"Stückliste!A686","v":0},{"$f":"Stückliste!E686","v":0},{"$f":"Stückliste!J686","v":0},{"$f":"Stückliste!O686","v":0},{"$f":"Stückliste!T686","v":0},{"$f":"Stückliste!W686","v":0},{"$f":"Stückliste!Z686","v":0},{"$f":"Stückliste!AC686","v":0},{"$f":"Stückliste!AF686","v":0},{"$f":"Stückliste!AI686","v":0}]
["a","5.5",8,{"$f":"Stückliste!A687","v":0},{"$f":"Stückliste!E687","v":0},{"$f":"Stückliste!J687","v":0},{"$f":"Stückliste!O687","v":0},{"$f":"Stückliste!T687","v":0},{"$f":"Stückliste!W687","v":0},{"$f":"Stückliste!Z687","v":0},{"$f":"Stückliste!AC687","v":0},{"$f":"Stückliste!AF687","v":0},{"$f":"Stückliste!AI687","v":0}]
["a","5.5",8,{"$f":"Stückliste!A688","v":0},{"$f":"Stückliste!E688","v":0},{"$f":"Stückliste!J688","v":0},{"$f":"Stückliste!O688","v":0},{"$f":"Stückliste!T688","v":0},{"$f":"Stückliste!W688","v":0},{"$f":"Stückliste!Z688","v":0},{"$f":"Stückliste!AC688","v":0},{"$f":"Stückliste!AF688","v":0},{"$f":"Stückliste!AI688","v":0}]
["a","5.5",8,{"$f":"Stückliste!A689","v":0},{"$f":"Stückliste!E689","v":0},{"$f":"Stückliste!J689","v":0},{"$f":"Stückliste!O689","v":0},{"$f":"Stückliste!T689","v":0},{"$f":"Stückliste!W689","v":0},{"$f":"Stückliste!Z689","v":0},{"$f":"Stückliste!AC689","v":0},{"$f":"Stückliste!AF689","v":0},{"$f":"Stückliste!AI689","v":0}]
["a","5.5",8,{"$f":"Stückliste!A690","v":0},{"$f":"Stückliste!E690","v":0},{"$f":"Stückliste!J690","v":0},{"$f":"Stückliste!O690","v":0},{"$f":"Stückliste!T690","v":0},{"$f":"Stückliste!W690","v":0},{"$f":"Stückliste!Z690","v":0},{"$f":"Stückliste!AC690","v":0},{"$f":"Stückliste!AF690","v":0},{"$f":"Stückliste!AI690","v":0}]
["a","5.5",8,{"$f":"Stückliste!A691","v":0},{"$f":"Stückliste!E691","v":0},{"$f":"Stückliste!J691","v":0},{"$f":"Stückliste!O691","v":0},{"$f":"Stückliste!T691","v":0},{"$f":"Stückliste!W691","v":0},{"$f":"Stückliste!Z691","v":0},{"$f":"Stückliste!AC691","v":0},{"$f":"Stückliste!AF691","v":0},{"$f":"Stückliste!AI691","v":0}]
["a","5.5",8,{"$f":"Stückliste!A692","v":0},{"$f":"Stückliste!E692","v":0},{"$f":"Stückliste!J692","v":0},{"$f":"Stückliste!O692","v":0},{"$f":"Stückliste!T692","v":0},{"$f":"Stückliste!W692","v":0},{"$f":"Stückliste!Z692","v":0},{"$f":"Stückliste!AC692","v":0},{"$f":"Stückliste!AF692","v":0},{"$f":"Stückliste!AI692","v":0}]
["a","5.5",8,{"$f":"Stückliste!A693","v":0},{"$f":"Stückliste!E693","v":0},{"$f":"Stückliste!J693","v":0},{"$f":"Stückliste!O693","v":0},{"$f":"Stückliste!T693","v":0},{"$f":"Stückliste!W693","v":0},{"$f":"Stückliste!Z693","v":0},{"$f":"Stückliste!AC693","v":0},{"$f":"Stückliste!AF693","v":0},{"$f":"Stückliste!AI693","v":0}]
["a","5.5",8,{"$f":"Stückliste!A694","v":0},{"$f":"Stückliste!E694","v":0},{"$f":"Stückliste!J694","v":0},{"$f":"Stückliste!O694","v":0},{"$f":"Stückliste!T694","v":0},{"$f":"Stückliste!W694","v":0},{"$f":"Stückliste!Z694","v":0},{"$f":"Stückliste!AC694","v":0},{"$f":"Stückliste!AF694","v":0},{"$f":"Stückliste!AI694","v":0}]
["a","5.5",8,{"$f":"Stückliste!A695","v":0},{"$f":"Stückliste!E695","v":0},{"$f":"Stückliste!J695","v":0},{"$f":"Stückliste!O695","v":0},{"$f":"Stückliste!T695","v":0},{"$f":"Stückliste!W695","v":0},{"$f":"Stückliste!Z695","v":0},{"$f":"Stückliste!AC695","v":0},{"$f":"Stückliste!AF695","v":0},{"$f":"Stückliste!AI695","v":0}]
["a","5.5",8,{"$f":"Stückliste!A696","v":0},{"$f":"Stückliste!E696","v":0},{"$f":"Stückliste!J696","v":0},{"$f":"Stückliste!O696","v":0},{"$f":"Stückliste!T696","v":0},{"$f":"Stückliste!W696","v":0},{"$f":"Stückliste!Z696","v":0},{"$f":"Stückliste!AC696","v":0},{"$f":"Stückliste!AF696","v":0},{"$f":"Stückliste!AI696","v":0}]
["a","5.5",8,{"$f":"Stückliste!A697","v":0},{"$f":"Stückliste!E697","v":0},{"$f":"Stückliste!J697","v":0},{"$f":"Stückliste!O697","v":0},{"$f":"Stückliste!T697","v":0},{"$f":"Stückliste!W697","v":0},{"$f":"Stückliste!Z697","v":0},{"$f":"Stückliste!AC697","v":0},{"$f":"Stückliste!AF697","v":0},{"$f":"Stückliste!AI697","v":0}]
[{"$f":"A644","v":"a"},{"$f":"B644","v":"5.5"},{"$f":"C644","v":8},{"$f":"Stückliste!A698","v":0},{"$f":"Stückliste!E698","v":0},{"$f":"Stückliste!J698","v":0},{"$f":"Stückliste!O698","v":0},{"$f":"Stückliste!T698","v":0},{"$f":"Stückliste!W698","v":0},{"$f":"Stückliste!Z698","v":0},{"$f":"Stückliste!AC698","v":0},{"$f":"Stückliste!AF698","v":0},{"$f":"Stückliste!AI698","v":0}]
["a","5.5",8,{"$f":"Stückliste!A699","v":0},{"$f":"Stückliste!E699","v":0},{"$f":"Stückliste!J699","v":0},{"$f":"Stückliste!O699","v":0},{"$f":"Stückliste!T699","v":0},{"$f":"Stückliste!W699","v":0},{"$f":"Stückliste!Z699","v":0},{"$f":"Stückliste!AC699","v":0},{"$f":"Stückliste!AF699","v":0},{"$f":"Stückliste!AI699","v":0}]
["a","5.5",8,{"$f":"Stückliste!A700","v":0},{"$f":"Stückliste!E700","v":0},{"$f":"Stückliste!J700","v":0},{"$f":"Stückliste!O700","v":0},{"$f":"Stückliste!T700","v":0},{"$f":"Stückliste!W700","v":0},{"$f":"Stückliste!Z700","v":0},{"$f":"Stückliste!AC700","v":0},{"$f":"Stückliste!AF700","v":0},{"$f":"Stückliste!AI700","v":0}]
["a","5.5",8,{"$f":"Stückliste!A701","v":0},{"$f":"Stückliste!E701","v":0},{"$f":"Stückliste!J701","v":0},{"$f":"Stückliste!O701","v":0},{"$f":"Stückliste!T701","v":0},{"$f":"Stückliste!W701","v":0},{"$f":"Stückliste!Z701","v":0},{"$f":"Stückliste!AC701","v":0},{"$f":"Stückliste!AF701","v":0},{"$f":"Stückliste!AI701","v":0}]
["a","5.5",8,{"$f":"Stückliste!A702","v":0},{"$f":"Stückliste!E702","v":0},{"$f":"Stückliste!J702","v":0},{"$f":"Stückliste!O702","v":0},{"$f":"Stückliste!T702","v":0},{"$f":"Stückliste!W702","v":0},{"$f":"Stückliste!Z702","v":0},{"$f":"Stückliste!AC702","v":0},{"$f":"Stückliste!AF702","v":0},{"$f":"Stückliste!AI702","v":0}]
["a","5.5",8,{"$f":"Stückliste!A703","v":0},{"$f":"Stückliste!E703","v":0},{"$f":"Stückliste!J703","v":0},{"$f":"Stückliste!O703","v":0},{"$f":"Stückliste!T703","v":0},{"$f":"Stückliste!W703","v":0},{"$f":"Stückliste!Z703","v":0},{"$f":"Stückliste!AC703","v":0},{"$f":"Stückliste!AF703","v":0},{"$f":"Stückliste!AI703","v":0}]
["a","5.5",8,{"$f":"Stückliste!A704","v":0},{"$f":"Stückliste!E704","v":0},{"$f":"Stückliste!J704","v":0},{"$f":"Stückliste!O704","v":0},{"$f":"Stückliste!T704","v":0},{"$f":"Stückliste!W704","v":0},{"$f":"Stückliste!Z704","v":0},{"$f":"Stückliste!AC704","v":0},{"$f":"Stückliste!AF704","v":0},{"$f":"Stückliste!AI704","v":0}]
["a","5.5",8,{"$f":"Stückliste!A705","v":0},{"$f":"Stückliste!E705","v":0},{"$f":"Stückliste!J705","v":0},{"$f":"Stückliste!O705","v":0},{"$f":"Stückliste!T705","v":0},{"$f":"Stückliste!W705","v":0},{"$f":"Stückliste!Z705","v":0},{"$f":"Stückliste!AC705","v":0},{"$f":"Stückliste!AF705","v":0},{"$f":"Stückliste!AI705","v":0}]
["a","5.5",8,{"$f":"Stückliste!A706","v":0},{"$f":"Stückliste!E706","v":0},{"$f":"Stückliste!J706","v":0},{"$f":"Stückliste!O706","v":0},{"$f":"Stückliste!T706","v":0},{"$f":"Stückliste!W706","v":0},{"$f":"Stückliste!Z706","v":0},{"$f":"Stückliste!AC706","v":0},{"$f":"Stückliste!AF706","v":0},{"$f":"Stückliste!AI706","v":0}]
["a","5.5",8,{"$f":"Stückliste!A707","v":0},{"$f":"Stückliste!E707","v":0},{"$f":"Stückliste!J707","v":0},{"$f":"Stückliste!O707","v":0},{"$f":"Stückliste!T707","v":0},{"$f":"Stückliste!W707","v":0},{"$f":"Stückliste!Z707","v":0},{"$f":"Stückliste!AC707","v":0},{"$f":"Stückliste!AF707","v":0},{"$f":"Stückliste!AI707","v":0}]
["a","5.5",8,{"$f":"Stückliste!A708","v":0},{"$f":"Stückliste!E708","v":0},{"$f":"Stückliste!J708","v":0},{"$f":"Stückliste!O708","v":0},{"$f":"Stückliste!T708","v":0},{"$f":"Stückliste!W708","v":0},{"$f":"Stückliste!Z708","v":0},{"$f":"Stückliste!AC708","v":0},{"$f":"Stückliste!AF708","v":0},{"$f":"Stückliste!AI708","v":0}]
["a","5.5",8,{"$f":"Stückliste!A709","v":0},{"$f":"Stückliste!E709","v":0},{"$f":"Stückliste!J709","v":0},{"$f":"Stückliste!O709","v":0},{"$f":"Stückliste!T709","v":0},{"$f":"Stückliste!W709","v":0},{"$f":"Stückliste!Z709","v":0},{"$f":"Stückliste!AC709","v":0},{"$f":"Stückliste!AF709","v":0},{"$f":"Stückliste!AI709","v":0}]
["a","5.5",8,{"$f":"Stückliste!A710","v":0},{"$f":"Stückliste!E710","v":0},{"$f":"Stückliste!J710","v":0},{"$f":"Stückliste!O710","v":0},{"$f":"Stückliste!T710","v":0},{"$f":"Stückliste!W710","v":0},{"$f":"Stückliste!Z710","v":0},{"$f":"Stückliste!AC710","v":0},{"$f":"Stückliste!AF710","v":0},{"$f":"Stückliste!AI710","v":0}]
["a","5.5",8,{"$f":"Stückliste!A711","v":0},{"$f":"Stückliste!E711","v":0},{"$f":"Stückliste!J711","v":0},{"$f":"Stückliste!O711","v":0},{"$f":"Stückliste!T711","v":0},{"$f":"Stückliste!W711","v":0},{"$f":"Stückliste!Z711","v":0},{"$f":"Stückliste!AC711","v":0},{"$f":"Stückliste!AF711","v":0},{"$f":"Stückliste!AI711","v":0}]
["a","5.5",8,{"$f":"Stückliste!A712","v":0},{"$f":"Stückliste!E712","v":0},{"$f":"Stückliste!J712","v":0},{"$f":"Stückliste!O712","v":0},{"$f":"Stückliste!T712","v":0},{"$f":"Stückliste!W712","v":0},{"$f":"Stückliste!Z712","v":0},{"$f":"Stückliste!AC712","v":0},{"$f":"Stückliste!AF712","v":0},{"$f":"Stückliste!AI712","v":0}]
["a","5.5",8,{"$f":"Stückliste!A713","v":0},{"$f":"Stückliste!E713","v":0},{"$f":"Stückliste!J713","v":0},{"$f":"Stückliste!O713","v":0},{"$f":"Stückliste!T713","v":0},{"$f":"Stückliste!W713","v":0},{"$f":"Stückliste!Z713","v":0},{"$f":"Stückliste!AC713","v":0},{"$f":"Stückliste!AF713","v":0},{"$f":"Stückliste!AI713","v":0}]
["a","5.5",8,{"$f":"Stückliste!A714","v":0},{"$f":"Stückliste!E714","v":0},{"$f":"Stückliste!J714","v":0},{"$f":"Stückliste!O714","v":0},{"$f":"Stückliste!T714","v":0},{"$f":"Stückliste!W714","v":0},{"$f":"Stückliste!Z714","v":0},{"$f":"Stückliste!AC714","v":0},{"$f":"Stückliste!AF714","v":0},{"$f":"Stückliste!AI714","v":0}]
["a","5.5",8,{"$f":"Stückliste!A715","v":0},{"$f":"Stückliste!E715","v":0},{"$f":"Stückliste!J715","v":0},{"$f":"Stückliste!O715","v":0},{"$f":"Stückliste!T715","v":0},{"$f":"Stückliste!W715","v":0},{"$f":"Stückliste!Z715","v":0},{"$f":"Stückliste!AC715","v":0},{"$f":"Stückliste!AF715","v":0},{"$f":"Stückliste!AI715","v":0}]
["a","5.5",8,{"$f":"Stückliste!A716","v":0},{"$f":"Stückliste!E716","v":0},{"$f":"Stückliste!J716","v":0},{"$f":"Stückliste!O716","v":0},{"$f":"Stückliste!T716","v":0},{"$f":"Stückliste!W716","v":0},{"$f":"Stückliste!Z716","v":0},{"$f":"Stückliste!AC716","v":0},{"$f":"Stückliste!AF716","v":0},{"$f":"Stückliste!AI716","v":0}]
["a","5.5",8,{"$f":"Stückliste!A717","v":0},{"$f":"Stückliste!E717","v":0},{"$f":"Stückliste!J717","v":0},{"$f":"Stückliste!O717","v":0},{"$f":"Stückliste!T717","v":0},{"$f":"Stückliste!W717","v":0},{"$f":"Stückliste!Z717","v":0},{"$f":"Stückliste!AC717","v":0},{"$f":"Stückliste!AF717","v":0},{"$f":"Stückliste!AI717","v":0}]
["a","5.5",8,{"$f":"Stückliste!A718","v":0},{"$f":"Stückliste!E718","v":0},{"$f":"Stückliste!J718","v":0},{"$f":"Stückliste!O718","v":0},{"$f":"Stückliste!T718","v":0},{"$f":"Stückliste!W718","v":0},{"$f":"Stückliste!Z718","v":0},{"$f":"Stückliste!AC718","v":0},{"$f":"Stückliste!AF718","v":0},{"$f":"Stückliste!AI718","v":0}]
["a","5.5",8,{"$f":"Stückliste!A719","v":0},{"$f":"Stückliste!E719","v":0},{"$f":"Stückliste!J719","v":0},{"$f":"Stückliste!O719","v":0},{"$f":"Stückliste!T719","v":0},{"$f":"Stückliste!W719","v":0},{"$f":"Stückliste!Z719","v":0},{"$f":"Stückliste!AC719","v":0},{"$f":"Stückliste!AF719","v":0},{"$f":"Stückliste!AI719","v":0}]
["a","5.5",8,{"$f":"Stückliste!A720","v":0},{"$f":"Stückliste!E720","v":0},{"$f":"Stückliste!J720","v":0},{"$f":"Stückliste!O720","v":0},{"$f":"Stückliste!T720","v":0},{"$f":"Stückliste!W720","v":0},{"$f":"Stückliste!Z720","v":0},{"$f":"Stückliste!AC720","v":0},{"$f":"Stückliste!AF720","v":0},{"$f":"Stückliste!AI720","v":0}]
["a","5.5",8,{"$f":"Stückliste!A721","v":0},{"$f":"Stückliste!E721","v":0},{"$f":"Stückliste!J721","v":0},{"$f":"Stückliste!O721","v":0},{"$f":"Stückliste!T721","v":0},{"$f":"Stückliste!W721","v":0},{"$f":"Stückliste!Z721","v":0},{"$f":"Stückliste!AC721","v":0},{"$f":"Stückliste!AF721","v":0},{"$f":"Stückliste!AI721","v":0}]
["a","5.5",8,{"$f":"Stückliste!A722","v":0},{"$f":"Stückliste!E722","v":0},{"$f":"Stückliste!J722","v":0},{"$f":"Stückliste!O722","v":0},{"$f":"Stückliste!T722","v":0},{"$f":"Stückliste!W722","v":0},{"$f":"Stückliste!Z722","v":0},{"$f":"Stückliste!AC722","v":0},{"$f":"Stückliste!AF722","v":0},{"$f":"Stückliste!AI722","v":0}]
["a","5.5",8,{"$f":"Stückliste!A723","v":0},{"$f":"Stückliste!E723","v":0},{"$f":"Stückliste!J723","v":0},{"$f":"Stückliste!O723","v":0},{"$f":"Stückliste!T723","v":0},{"$f":"Stückliste!W723","v":0},{"$f":"Stückliste!Z723","v":0},{"$f":"Stückliste!AC723","v":0},{"$f":"Stückliste!AF723","v":0},{"$f":"Stückliste!AI723","v":0}]
["a","5.5",8,{"$f":"Stückliste!A724","v":0},{"$f":"Stückliste!E724","v":0},{"$f":"Stückliste!J724","v":0},{"$f":"Stückliste!O724","v":0},{"$f":"Stückliste!T724","v":0},{"$f":"Stückliste!W724","v":0},{"$f":"Stückliste!Z724","v":0},{"$f":"Stückliste!AC724","v":0},{"$f":"Stückliste!AF724","v":0},{"$f":"Stückliste!AI724","v":0}]
["a","5.5",8,{"$f":"Stückliste!A725","v":0},{"$f":"Stückliste!E725","v":0},{"$f":"Stückliste!J725","v":0},{"$f":"Stückliste!O725","v":0},{"$f":"Stückliste!T725","v":0},{"$f":"Stückliste!W725","v":0},{"$f":"Stückliste!Z725","v":0},{"$f":"Stückliste!AC725","v":0},{"$f":"Stückliste!AF725","v":0},{"$f":"Stückliste!AI725","v":0}]
["a","5.5",8,{"$f":"Stückliste!A726","v":0},{"$f":"Stückliste!E726","v":0},{"$f":"Stückliste!J726","v":0},{"$f":"Stückliste!O726","v":0},{"$f":"Stückliste!T726","v":0},{"$f":"Stückliste!W726","v":0},{"$f":"Stückliste!Z726","v":0},{"$f":"Stückliste!AC726","v":0},{"$f":"Stückliste!AF726","v":0},{"$f":"Stückliste!AI726","v":0}]
["a","5.5",8,{"$f":"Stückliste!A727","v":0},{"$f":"Stückliste!E727","v":0},{"$f":"Stückliste!J727","v":0},{"$f":"Stückliste!O727","v":0},{"$f":"Stückliste!T727","v":0},{"$f":"Stückliste!W727","v":0},{"$f":"Stückliste!Z727","v":0},{"$f":"Stückliste!AC727","v":0},{"$f":"Stückliste!AF727","v":0},{"$f":"Stückliste!AI727","v":0}]
["a","5.5",8,{"$f":"Stückliste!A728","v":0},{"$f":"Stückliste!E728","v":0},{"$f":"Stückliste!J728","v":0},{"$f":"Stückliste!O728","v":0},{"$f":"Stückliste!T728","v":0},{"$f":"Stückliste!W728","v":0},{"$f":"Stückliste!Z728","v":0},{"$f":"Stückliste!AC728","v":0},{"$f":"Stückliste!AF728","v":0},{"$f":"Stückliste!AI728","v":0}]
["a","5.5",8,{"$f":"Stückliste!A729","v":0},{"$f":"Stückliste!E729","v":0},{"$f":"Stückliste!J729","v":0},{"$f":"Stückliste!O729","v":0},{"$f":"Stückliste!T729","v":0},{"$f":"Stückliste!W729","v":0},{"$f":"Stückliste!Z729","v":0},{"$f":"Stückliste!AC729","v":0},{"$f":"Stückliste!AF729","v":0},{"$f":"Stückliste!AI729","v":0}]
["a","5.5",8,{"$f":"Stückliste!A730","v":0},{"$f":"Stückliste!E730","v":0},{"$f":"Stückliste!J730","v":0},{"$f":"Stückliste!O730","v":0},{"$f":"Stückliste!T730","v":0},{"$f":"Stückliste!W730","v":0},{"$f":"Stückliste!Z730","v":0},{"$f":"Stückliste!AC730","v":0},{"$f":"Stückliste!AF730","v":0},{"$f":"Stückliste!AI730","v":0}]
["a","5.5",8,{"$f":"Stückliste!A731","v":0},{"$f":"Stückliste!E731","v":0},{"$f":"Stückliste!J731","v":0},{"$f":"Stückliste!O731","v":0},{"$f":"Stückliste!T731","v":0},{"$f":"Stückliste!W731","v":0},{"$f":"Stückliste!Z731","v":0},{"$f":"Stückliste!AC731","v":0},{"$f":"Stückliste!AF731","v":0},{"$f":"Stückliste!AI731","v":0}]
["a","5.5",8,{"$f":"Stückliste!A732","v":0},{"$f":"Stückliste!E732","v":0},{"$f":"Stückliste!J732","v":0},{"$f":"Stückliste!O732","v":0},{"$f":"Stückliste!T732","v":0},{"$f":"Stückliste!W732","v":0},{"$f":"Stückliste!Z732","v":0},{"$f":"Stückliste!AC732","v":0},{"$f":"Stückliste!AF732","v":0},{"$f":"Stückliste!AI732","v":0}]
["a","5.5",8,{"$f":"Stückliste!A733","v":0},{"$f":"Stückliste!E733","v":0},{"$f":"Stückliste!J733","v":0},{"$f":"Stückliste!O733","v":0},{"$f":"Stückliste!T733","v":0},{"$f":"Stückliste!W733","v":0},{"$f":"Stückliste!Z733","v":0},{"$f":"Stückliste!AC733","v":0},{"$f":"Stückliste!AF733","v":0},{"$f":"Stückliste!AI733","v":0}]
["a","5.5",8,{"$f":"Stückliste!A734","v":0},{"$f":"Stückliste!E734","v":0},{"$f":"Stückliste!J734","v":0},{"$f":"Stückliste!O734","v":0},{"$f":"Stückliste!T734","v":0},{"$f":"Stückliste!W734","v":0},{"$f":"Stückliste!Z734","v":0},{"$f":"Stückliste!AC734","v":0},{"$f":"Stückliste!AF734","v":0},{"$f":"Stückliste!AI734","v":0}]
["a","5.5",8,{"$f":"Stückliste!A735","v":0},{"$f":"Stückliste!E735","v":0},{"$f":"Stückliste!J735","v":0},{"$f":"Stückliste!O735","v":0},{"$f":"Stückliste!T735","v":0},{"$f":"Stückliste!W735","v":0},{"$f":"Stückliste!Z735","v":0},{"$f":"Stückliste!AC735","v":0},{"$f":"Stückliste!AF735","v":0},{"$f":"Stückliste!AI735","v":0}]
["a","5.5",8,{"$f":"Stückliste!A736","v":0},{"$f":"Stückliste!E736","v":0},{"$f":"Stückliste!J736","v":0},{"$f":"Stückliste!O736","v":0},{"$f":"Stückliste!T736","v":0},{"$f":"Stückliste!W736","v":0},{"$f":"Stückliste!Z736","v":0},{"$f":"Stückliste!AC736","v":0},{"$f":"Stückliste!AF736","v":0},{"$f":"Stückliste!AI736","v":0}]
["a","5.5",8,{"$f":"Stückliste!A737","v":0},{"$f":"Stückliste!E737","v":0},{"$f":"Stückliste!J737","v":0},{"$f":"Stückliste!O737","v":0},{"$f":"Stückliste!T737","v":0},{"$f":"Stückliste!W737","v":0},{"$f":"Stückliste!Z737","v":0},{"$f":"Stückliste!AC737","v":0},{"$f":"Stückliste!AF737","v":0},{"$f":"Stückliste!AI737","v":0}]
["a","5.5",8,{"$f":"Stückliste!A738","v":0},{"$f":"Stückliste!E738","v":0},{"$f":"Stückliste!J738","v":0},{"$f":"Stückliste!O738","v":0},{"$f":"Stückliste!T738","v":0},{"$f":"Stückliste!W738","v":0},{"$f":"Stückliste!Z738","v":0},{"$f":"Stückliste!AC738","v":0},{"$f":"Stückliste!AF738","v":0},{"$f":"Stückliste!AI738","v":0}]
["a","5.5",8,{"$f":"Stückliste!A739","v":0},{"$f":"Stückliste!E739","v":0},{"$f":"Stückliste!J739","v":0},{"$f":"Stückliste!O739","v":0},{"$f":"Stückliste!T739","v":0},{"$f":"Stückliste!W739","v":0},{"$f":"Stückliste!Z739","v":0},{"$f":"Stückliste!AC739","v":0},{"$f":"Stückliste!AF739","v":0},{"$f":"Stückliste!AI739","v":0}]
["a","5.5",8,{"$f":"Stückliste!A740","v":0},{"$f":"Stückliste!E740","v":0},{"$f":"Stückliste!J740","v":0},{"$f":"Stückliste!O740","v":0},{"$f":"Stückliste!T740","v":0},{"$f":"Stückliste!W740","v":0},{"$f":"Stückliste!Z740","v":0},{"$f":"Stückliste!AC740","v":0},{"$f":"Stückliste!AF740","v":0},{"$f":"Stückliste!AI740","v":0}]
["a","5.5",8,{"$f":"Stückliste!A741","v":0},{"$f":"Stückliste!E741","v":0},{"$f":"Stückliste!J741","v":0},{"$f":"Stückliste!O741","v":0},{"$f":"Stückliste!T741","v":0},{"$f":"Stückliste!W741","v":0},{"$f":"Stückliste!Z741","v":0},{"$f":"Stückliste!AC741","v":0},{"$f":"Stückliste!AF741","v":0},{"$f":"Stückliste!AI741","v":0}]
["a","5.5",8,{"$f":"Stückliste!A742","v":0},{"$f":"Stückliste!E742","v":0},{"$f":"Stückliste!J742","v":0},{"$f":"Stückliste!O742","v":0},{"$f":"Stückliste!T742","v":0},{"$f":"Stückliste!W742","v":0},{"$f":"Stückliste!Z742","v":0},{"$f":"Stückliste!AC742","v":0},{"$f":"Stückliste!AF742","v":0},{"$f":"Stückliste!AI742","v":0}]
["a","5.5",8,{"$f":"Stückliste!A743","v":0},{"$f":"Stückliste!E743","v":0},{"$f":"Stückliste!J743","v":0},{"$f":"Stückliste!O743","v":0},{"$f":"Stückliste!T743","v":0},{"$f":"Stückliste!W743","v":0},{"$f":"Stückliste!Z743","v":0},{"$f":"Stückliste!AC743","v":0},{"$f":"Stückliste!AF743","v":0},{"$f":"Stückliste!AI743","v":0}]
["a","5.5",8,{"$f":"Stückliste!A744","v":0},{"$f":"Stückliste!E744","v":0},{"$f":"Stückliste!J744","v":0},{"$f":"Stückliste!O744","v":0},{"$f":"Stückliste!T744","v":0},{"$f":"Stückliste!W744","v":0},{"$f":"Stückliste!Z744","v":0},{"$f":"Stückliste!AC744","v":0},{"$f":"Stückliste!AF744","v":0},{"$f":"Stückliste!AI744","v":0}]
["a","5.5",8,{"$f":"Stückliste!A745","v":0},{"$f":"Stückliste!E745","v":0},{"$f":"Stückliste!J745","v":0},{"$f":"Stückliste!O745","v":0},{"$f":"Stückliste!T745","v":0},{"$f":"Stückliste!W745","v":0},{"$f":"Stückliste!Z745","v":0},{"$f":"Stückliste!AC745","v":0},{"$f":"Stückliste!AF745","v":0},{"$f":"Stückliste!AI745","v":0}]
["a","5.5",8,{"$f":"Stückliste!A746","v":0},{"$f":"Stückliste!E746","v":0},{"$f":"Stückliste!J746","v":0},{"$f":"Stückliste!O746","v":0},{"$f":"Stückliste!T746","v":0},{"$f":"Stückliste!W746","v":0},{"$f":"Stückliste!Z746","v":0},{"$f":"Stückliste!AC746","v":0},{"$f":"Stückliste!AF746","v":0},{"$f":"Stückliste!AI746","v":0}]
["a","5.5",8,{"$f":"Stückliste!A747","v":0},{"$f":"Stückliste!E747","v":0},{"$f":"Stückliste!J747","v":0},{"$f":"Stückliste!O747","v":0},{"$f":"Stückliste!T747","v":0},{"$f":"Stückliste!W747","v":0},{"$f":"Stückliste!Z747","v":0},{"$f":"Stückliste!AC747","v":0},{"$f":"Stückliste!AF747","v":0},{"$f":"Stückliste!AI747","v":0}]
["a","5.5",8,{"$f":"Stückliste!A748","v":0},{"$f":"Stückliste!E748","v":0},{"$f":"Stückliste!J748","v":0},{"$f":"Stückliste!O748","v":0},{"$f":"Stückliste!T748","v":0},{"$f":"Stückliste!W748","v":0},{"$f":"Stückliste!Z748","v":0},{"$f":"Stückliste!AC748","v":0},{"$f":"Stückliste!AF748","v":0},{"$f":"Stückliste!AI748","v":0}]
["a","5.5",8,{"$f":"Stückliste!A749","v":0},{"$f":"Stückliste!E749","v":0},{"$f":"Stückliste!J749","v":0},{"$f":"Stückliste!O749","v":0},{"$f":"Stückliste!T749","v":0},{"$f":"Stückliste!W749","v":0},{"$f":"Stückliste!Z749","v":0},{"$f":"Stückliste!AC749","v":0},{"$f":"Stückliste!AF749","v":0},{"$f":"Stückliste!AI749","v":0}]
["a","5.5",8,{"$f":"Stückliste!A750","v":0},{"$f":"Stückliste!E750","v":0},{"$f":"Stückliste!J750","v":0},{"$f":"Stückliste!O750","v":0},{"$f":"Stückliste!T750","v":0},{"$f":"Stückliste!W750","v":0},{"$f":"Stückliste!Z750","v":0},{"$f":"Stückliste!AC750","v":0},{"$f":"Stückliste!AF750","v":0},{"$f":"Stückliste!AI750","v":0}]
["a","5.5",8,{"$f":"Stückliste!A751","v":0},{"$f":"Stückliste!E751","v":0},{"$f":"Stückliste!J751","v":0},{"$f":"Stückliste!O751","v":0},{"$f":"Stückliste!T751","v":0},{"$f":"Stückliste!W751","v":0},{"$f":"Stückliste!Z751","v":0},{"$f":"Stückliste!AC751","v":0},{"$f":"Stückliste!AF751","v":0},{"$f":"Stückliste!AI751","v":0}]
["a","5.5",8,{"$f":"Stückliste!A752","v":0},{"$f":"Stückliste!E752","v":0},{"$f":"Stückliste!J752","v":0},{"$f":"Stückliste!O752","v":0},{"$f":"Stückliste!T752","v":0},{"$f":"Stückliste!W752","v":0},{"$f":"Stückliste!Z752","v":0},{"$f":"Stückliste!AC752","v":0},{"$f":"Stückliste!AF752","v":0},{"$f":"Stückliste!AI752","v":0}]
["a","5.5",8,{"$f":"Stückliste!A753","v":0},{"$f":"Stückliste!E753","v":0},{"$f":"Stückliste!J753","v":0},{"$f":"Stückliste!O753","v":0},{"$f":"Stückliste!T753","v":0},{"$f":"Stückliste!W753","v":0},{"$f":"Stückliste!Z753","v":0},{"$f":"Stückliste!AC753","v":0},{"$f":"Stückliste!AF753","v":0},{"$f":"Stückliste!AI753","v":0}]
["a","5.5",8,{"$f":"Stückliste!A754","v":0},{"$f":"Stückliste!E754","v":0},{"$f":"Stückliste!J754","v":0},{"$f":"Stückliste!O754","v":0},{"$f":"Stückliste!T754","v":0},{"$f":"Stückliste!W754","v":0},{"$f":"Stückliste!Z754","v":0},{"$f":"Stückliste!AC754","v":0},{"$f":"Stückliste!AF754","v":0},{"$f":"Stückliste!AI754","v":0}]
["a","5.5",8,{"$f":"Stückliste!A755","v":0},{"$f":"Stückliste!E755","v":0},{"$f":"Stückliste!J755","v":0},{"$f":"Stückliste!O755","v":0},{"$f":"Stückliste!T755","v":0},{"$f":"Stückliste!W755","v":0},{"$f":"Stückliste!Z755","v":0},{"$f":"Stückliste!AC755","v":0},{"$f":"Stückliste!AF755","v":0},{"$f":"Stückliste!AI755","v":0}]
["a","5.5",8,{"$f":"Stückliste!A756","v":0},{"$f":"Stückliste!E756","v":0},{"$f":"Stückliste!J756","v":0},{"$f":"Stückliste!O756","v":0},{"$f":"Stückliste!T756","v":0},{"$f":"Stückliste!W756","v":0},{"$f":"Stückliste!Z756","v":0},{"$f":"Stückliste!AC756","v":0},{"$f":"Stückliste!AF756","v":0},{"$f":"Stückliste!AI756","v":0}]
["a","5.5",8,{"$f":"Stückliste!A757","v":0},{"$f":"Stückliste!E757","v":0},{"$f":"Stückliste!J757","v":0},{"$f":"Stückliste!O757","v":0},{"$f":"Stückliste!T757","v":0},{"$f":"Stückliste!W757","v":0},{"$f":"Stückliste!Z757","v":0},{"$f":"Stückliste!AC757","v":0},{"$f":"Stückliste!AF757","v":0},{"$f":"Stückliste!AI757","v":0}]
["a","5.5",8,{"$f":"Stückliste!A758","v":0},{"$f":"Stückliste!E758","v":0},{"$f":"Stückliste!J758","v":0},{"$f":"Stückliste!O758","v":0},{"$f":"Stückliste!T758","v":0},{"$f":"Stückliste!W758","v":0},{"$f":"Stückliste!Z758","v":0},{"$f":"Stückliste!AC758","v":0},{"$f":"Stückliste!AF758","v":0},{"$f":"Stückliste!AI758","v":0}]
["a","5.5",8,{"$f":"Stückliste!A759","v":0},{"$f":"Stückliste!E759","v":0},{"$f":"Stückliste!J759","v":0},{"$f":"Stückliste!O759","v":0},{"$f":"Stückliste!T759","v":0},{"$f":"Stückliste!W759","v":0},{"$f":"Stückliste!Z759","v":0},{"$f":"Stückliste!AC759","v":0},{"$f":"Stückliste!AF759","v":0},{"$f":"Stückliste!AI759","v":0}]
["a","5.5",8,{"$f":"Stückliste!A760","v":0},{"$f":"Stückliste!E760","v":0},{"$f":"Stückliste!J760","v":0},{"$f":"Stückliste!O760","v":0},{"$f":"Stückliste!T760","v":0},{"$f":"Stückliste!W760","v":0},{"$f":"Stückliste!Z760","v":0},{"$f":"Stückliste!AC760","v":0},{"$f":"Stückliste!AF760","v":0},{"$f":"Stückliste!AI760","v":0}]
["a","5.5",8,{"$f":"Stückliste!A761","v":0},{"$f":"Stückliste!E761","v":0},{"$f":"Stückliste!J761","v":0},{"$f":"Stückliste!O761","v":0},{"$f":"Stückliste!T761","v":0},{"$f":"Stückliste!W761","v":0},{"$f":"Stückliste!Z761","v":0},{"$f":"Stückliste!AC761","v":0},{"$f":"Stückliste!AF761","v":0},{"$f":"Stückliste!AI761","v":0}]
[{"$f":"A708","v":"a"},{"$f":"B708","v":"5.5"},{"$f":"C708","v":8},{"$f":"Stückliste!A762","v":0},{"$f":"Stückliste!E762","v":0},{"$f":"Stückliste!J762","v":0},{"$f":"Stückliste!O762","v":0},{"$f":"Stückliste!T762","v":0},{"$f":"Stückliste!W762","v":0},{"$f":"Stückliste!Z762","v":0},{"$f":"Stückliste!AC762","v":0},{"$f":"Stückliste!AF762","v":0},{"$f":"Stückliste!AI762","v":0}]
["a","5.5",8,{"$f":"Stückliste!A763","v":0},{"$f":"Stückliste!E763","v":0},{"$f":"Stückliste!J763","v":0},{"$f":"Stückliste!O763","v":0},{"$f":"Stückliste!T763","v":0},{"$f":"Stückliste!W763","v":0},{"$f":"Stückliste!Z763","v":0},{"$f":"Stückliste!AC763","v":0},{"$f":"Stückliste!AF763","v":0},{"$f":"Stückliste!AI763","v":0}]
["a","5.5",8,{"$f":"Stückliste!A764","v":0},{"$f":"Stückliste!E764","v":0},{"$f":"Stückliste!J764","v":0},{"$f":"Stückliste!O764","v":0},{"$f":"Stückliste!T764","v":0},{"$f":"Stückliste!W764","v":0},{"$f":"Stückliste!Z764","v":0},{"$f":"Stückliste!AC764","v":0},{"$f":"Stückliste!AF764","v":0},{"$f":"Stückliste!AI764","v":0}]
["a","5.5",8,{"$f":"Stückliste!A765","v":0},{"$f":"Stückliste!E765","v":0},{"$f":"Stückliste!J765","v":0},{"$f":"Stückliste!O765","v":0},{"$f":"Stückliste!T765","v":0},{"$f":"Stückliste!W765","v":0},{"$f":"Stückliste!Z765","v":0},{"$f":"Stückliste!AC765","v":0},{"$f":"Stückliste!AF765","v":0},{"$f":"Stückliste!AI765","v":0}]
["a","5.5",8,{"$f":"Stückliste!A766","v":0},{"$f":"Stückliste!E766","v":0},{"$f":"Stückliste!J766","v":0},{"$f":"Stückliste!O766","v":0},{"$f":"Stückliste!T766","v":0},{"$f":"Stückliste!W766","v":0},{"$f":"Stückliste!Z766","v":0},{"$f":"Stückliste!AC766","v":0},{"$f":"Stückliste!AF766","v":0},{"$f":"Stückliste!AI766","v":0}]
["a","5.5",8,{"$f":"Stückliste!A767","v":0},{"$f":"Stückliste!E767","v":0},{"$f":"Stückliste!J767","v":0},{"$f":"Stückliste!O767","v":0},{"$f":"Stückliste!T767","v":0},{"$f":"Stückliste!W767","v":0},{"$f":"Stückliste!Z767","v":0},{"$f":"Stückliste!AC767","v":0},{"$f":"Stückliste!AF767","v":0},{"$f":"Stückliste!AI767","v":0}]
["a","5.5",8,{"$f":"Stückliste!A768","v":0},{"$f":"Stückliste!E768","v":0},{"$f":"Stückliste!J768","v":0},{"$f":"Stückliste!O768","v":0},{"$f":"Stückliste!T768","v":0},{"$f":"Stückliste!W768","v":0},{"$f":"Stückliste!Z768","v":0},{"$f":"Stückliste!AC768","v":0},{"$f":"Stückliste!AF768","v":0},{"$f":"Stückliste!AI768","v":0}]
["a","5.5",8,{"$f":"Stückliste!A769","v":0},{"$f":"Stückliste!E769","v":0},{"$f":"Stückliste!J769","v":0},{"$f":"Stückliste!O769","v":0},{"$f":"Stückliste!T769","v":0},{"$f":"Stückliste!W769","v":0},{"$f":"Stückliste!Z769","v":0},{"$f":"Stückliste!AC769","v":0},{"$f":"Stückliste!AF769","v":0},{"$f":"Stückliste!AI769","v":0}]
["a","5.5",8,{"$f":"Stückliste!A770","v":0},{"$f":"Stückliste!E770","v":0},{"$f":"Stückliste!J770","v":0},{"$f":"Stückliste!O770","v":0},{"$f":"Stückliste!T770","v":0},{"$f":"Stückliste!W770","v":0},{"$f":"Stückliste!Z770","v":0},{"$f":"Stückliste!AC770","v":0},{"$f":"Stückliste!AF770","v":0},{"$f":"Stückliste!AI770","v":0}]
["a","5.5",8,{"$f":"Stückliste!A771","v":0},{"$f":"Stückliste!E771","v":0},{"$f":"Stückliste!J771","v":0},{"$f":"Stückliste!O771","v":0},{"$f":"Stückliste!T771","v":0},{"$f":"Stückliste!W771","v":0},{"$f":"Stückliste!Z771","v":0},{"$f":"Stückliste!AC771","v":0},{"$f":"Stückliste!AF771","v":0},{"$f":"Stückliste!AI771","v":0}]
["a","5.5",8,{"$f":"Stückliste!A772","v":0},{"$f":"Stückliste!E772","v":0},{"$f":"Stückliste!J772","v":0},{"$f":"Stückliste!O772","v":0},{"$f":"Stückliste!T772","v":0},{"$f":"Stückliste!W772","v":0},{"$f":"Stückliste!Z772","v":0},{"$f":"Stückliste!AC772","v":0},{"$f":"Stückliste!AF772","v":0},{"$f":"Stückliste!AI772","v":0}]
["a","5.5",8,{"$f":"Stückliste!A773","v":0},{"$f":"Stückliste!E773","v":0},{"$f":"Stückliste!J773","v":0},{"$f":"Stückliste!O773","v":0},{"$f":"Stückliste!T773","v":0},{"$f":"Stückliste!W773","v":0},{"$f":"Stückliste!Z773","v":0},{"$f":"Stückliste!AC773","v":0},{"$f":"Stückliste!AF773","v":0},{"$f":"Stückliste!AI773","v":0}]
["a","5.5",8,{"$f":"Stückliste!A774","v":0},{"$f":"Stückliste!E774","v":0},{"$f":"Stückliste!J774","v":0},{"$f":"Stückliste!O774","v":0},{"$f":"Stückliste!T774","v":0},{"$f":"Stückliste!W774","v":0},{"$f":"Stückliste!Z774","v":0},{"$f":"Stückliste!AC774","v":0},{"$f":"Stückliste!AF774","v":0},{"$f":"Stückliste!AI774","v":0}]
["a","5.5",8,{"$f":"Stückliste!A775","v":0},{"$f":"Stückliste!E775","v":0},{"$f":"Stückliste!J775","v":0},{"$f":"Stückliste!O775","v":0},{"$f":"Stückliste!T775","v":0},{"$f":"Stückliste!W775","v":0},{"$f":"Stückliste!Z775","v":0},{"$f":"Stückliste!AC775","v":0},{"$f":"Stückliste!AF775","v":0},{"$f":"Stückliste!AI775","v":0}]
["a","5.5",8,{"$f":"Stückliste!A776","v":0},{"$f":"Stückliste!E776","v":0},{"$f":"Stückliste!J776","v":0},{"$f":"Stückliste!O776","v":0},{"$f":"Stückliste!T776","v":0},{"$f":"Stückliste!W776","v":0},{"$f":"Stückliste!Z776","v":0},{"$f":"Stückliste!AC776","v":0},{"$f":"Stückliste!AF776","v":0},{"$f":"Stückliste!AI776","v":0}]
["a","5.5",8,{"$f":"Stückliste!A777","v":0},{"$f":"Stückliste!E777","v":0},{"$f":"Stückliste!J777","v":0},{"$f":"Stückliste!O777","v":0},{"$f":"Stückliste!T777","v":0},{"$f":"Stückliste!W777","v":0},{"$f":"Stückliste!Z777","v":0},{"$f":"Stückliste!AC777","v":0},{"$f":"Stückliste!AF777","v":0},{"$f":"Stückliste!AI777","v":0}]
["a","5.5",8,{"$f":"Stückliste!A778","v":0},{"$f":"Stückliste!E778","v":0},{"$f":"Stückliste!J778","v":0},{"$f":"Stückliste!O778","v":0},{"$f":"Stückliste!T778","v":0},{"$f":"Stückliste!W778","v":0},{"$f":"Stückliste!Z778","v":0},{"$f":"Stückliste!AC778","v":0},{"$f":"Stückliste!AF778","v":0},{"$f":"Stückliste!AI778","v":0}]
["a","5.5",8,{"$f":"Stückliste!A779","v":0},{"$f":"Stückliste!E779","v":0},{"$f":"Stückliste!J779","v":0},{"$f":"Stückliste!O779","v":0},{"$f":"Stückliste!T779","v":0},{"$f":"Stückliste!W779","v":0},{"$f":"Stückliste!Z779","v":0},{"$f":"Stückliste!AC779","v":0},{"$f":"Stückliste!AF779","v":0},{"$f":"Stückliste!AI779","v":0}]
["a","5.5",8,{"$f":"Stückliste!A780","v":0},{"$f":"Stückliste!E780","v":0},{"$f":"Stückliste!J780","v":0},{"$f":"Stückliste!O780","v":0},{"$f":"Stückliste!T780","v":0},{"$f":"Stückliste!W780","v":0},{"$f":"Stückliste!Z780","v":0},{"$f":"Stückliste!AC780","v":0},{"$f":"Stückliste!AF780","v":0},{"$f":"Stückliste!AI780","v":0}]
["a","5.5",8,{"$f":"Stückliste!A781","v":0},{"$f":"Stückliste!E781","v":0},{"$f":"Stückliste!J781","v":0},{"$f":"Stückliste!O781","v":0},{"$f":"Stückliste!T781","v":0},{"$f":"Stückliste!W781","v":0},{"$f":"Stückliste!Z781","v":0},{"$f":"Stückliste!AC781","v":0},{"$f":"Stückliste!AF781","v":0},{"$f":"Stückliste!AI781","v":0}]
["a","5.5",8,{"$f":"Stückliste!A782","v":0},{"$f":"Stückliste!E782","v":0},{"$f":"Stückliste!J782","v":0},{"$f":"Stückliste!O782","v":0},{"$f":"Stückliste!T782","v":0},{"$f":"Stückliste!W782","v":0},{"$f":"Stückliste!Z782","v":0},{"$f":"Stückliste!AC782","v":0},{"$f":"Stückliste!AF782","v":0},{"$f":"Stückliste!AI782","v":0}]
["a","5.5",8,{"$f":"Stückliste!A783","v":0},{"$f":"Stückliste!E783","v":0},{"$f":"Stückliste!J783","v":0},{"$f":"Stückliste!O783","v":0},{"$f":"Stückliste!T783","v":0},{"$f":"Stückliste!W783","v":0},{"$f":"Stückliste!Z783","v":0},{"$f":"Stückliste!AC783","v":0},{"$f":"Stückliste!AF783","v":0},{"$f":"Stückliste!AI783","v":0}]
["a","5.5",8,{"$f":"Stückliste!A784","v":0},{"$f":"Stückliste!E784","v":0},{"$f":"Stückliste!J784","v":0},{"$f":"Stückliste!O784","v":0},{"$f":"Stückliste!T784","v":0},{"$f":"Stückliste!W784","v":0},{"$f":"Stückliste!Z784","v":0},{"$f":"Stückliste!AC784","v":0},{"$f":"Stückliste!AF784","v":0},{"$f":"Stückliste!AI784","v":0}]
["a","5.5",8,{"$f":"Stückliste!A785","v":0},{"$f":"Stückliste!E785","v":0},{"$f":"Stückliste!J785","v":0},{"$f":"Stückliste!O785","v":0},{"$f":"Stückliste!T785","v":0},{"$f":"Stückliste!W785","v":0},{"$f":"Stückliste!Z785","v":0},{"$f":"Stückliste!AC785","v":0},{"$f":"Stückliste!AF785","v":0},{"$f":"Stückliste!AI785","v":0}]
["a","5.5",8,{"$f":"Stückliste!A786","v":0},{"$f":"Stückliste!E786","v":0},{"$f":"Stückliste!J786","v":0},{"$f":"Stückliste!O786","v":0},{"$f":"Stückliste!T786","v":0},{"$f":"Stückliste!W786","v":0},{"$f":"Stückliste!Z786","v":0},{"$f":"Stückliste!AC786","v":0},{"$f":"Stückliste!AF786","v":0},{"$f":"Stückliste!AI786","v":0}]
["a","5.5",8,{"$f":"Stückliste!A787","v":0},{"$f":"Stückliste!E787","v":0},{"$f":"Stückliste!J787","v":0},{"$f":"Stückliste!O787","v":0},{"$f":"Stückliste!T787","v":0},{"$f":"Stückliste!W787","v":0},{"$f":"Stückliste!Z787","v":0},{"$f":"Stückliste!AC787","v":0},{"$f":"Stückliste!AF787","v":0},{"$f":"Stückliste!AI787","v":0}]
["a","5.5",8,{"$f":"Stückliste!A788","v":0},{"$f":"Stückliste!E788","v":0},{"$f":"Stückliste!J788","v":0},{"$f":"Stückliste!O788","v":0},{"$f":"Stückliste!T788","v":0},{"$f":"Stückliste!W788","v":0},{"$f":"Stückliste!Z788","v":0},{"$f":"Stückliste!AC788","v":0},{"$f":"Stückliste!AF788","v":0},{"$f":"Stückliste!AI788","v":0}]
["a","5.5",8,{"$f":"Stückliste!A789","v":0},{"$f":"Stückliste!E789","v":0},{"$f":"Stückliste!J789","v":0},{"$f":"Stückliste!O789","v":0},{"$f":"Stückliste!T789","v":0},{"$f":"Stückliste!W789","v":0},{"$f":"Stückliste!Z789","v":0},{"$f":"Stückliste!AC789","v":0},{"$f":"Stückliste!AF789","v":0},{"$f":"Stückliste!AI789","v":0}]
["a","5.5",8,{"$f":"Stückliste!A790","v":0},{"$f":"Stückliste!E790","v":0},{"$f":"Stückliste!J790","v":0},{"$f":"Stückliste!O790","v":0},{"$f":"Stückliste!T790","v":0},{"$f":"Stückliste!W790","v":0},{"$f":"Stückliste!Z790","v":0},{"$f":"Stückliste!AC790","v":0},{"$f":"Stückliste!AF790","v":0},{"$f":"Stückliste!AI790","v":0}]
["a","5.5",8,{"$f":"Stückliste!A791","v":0},{"$f":"Stückliste!E791","v":0},{"$f":"Stückliste!J791","v":0},{"$f":"Stückliste!O791","v":0},{"$f":"Stückliste!T791","v":0},{"$f":"Stückliste!W791","v":0},{"$f":"Stückliste!Z791","v":0},{"$f":"Stückliste!AC791","v":0},{"$f":"Stückliste!AF791","v":0},{"$f":"Stückliste!AI791","v":0}]
["a","5.5",8,{"$f":"Stückliste!A792","v":0},{"$f":"Stückliste!E792","v":0},{"$f":"Stückliste!J792","v":0},{"$f":"Stückliste!O792","v":0},{"$f":"Stückliste!T792","v":0},{"$f":"Stückliste!W792","v":0},{"$f":"Stückliste!Z792","v":0},{"$f":"Stückliste!AC792","v":0},{"$f":"Stückliste!AF792","v":0},{"$f":"Stückliste!AI792","v":0}]
["a","5.5",8,{"$f":"Stückliste!A793","v":0},{"$f":"Stückliste!E793","v":0},{"$f":"Stückliste!J793","v":0},{"$f":"Stückliste!O793","v":0},{"$f":"Stückliste!T793","v":0},{"$f":"Stückliste!W793","v":0},{"$f":"Stückliste!Z793","v":0},{"$f":"Stückliste!AC793","v":0},{"$f":"Stückliste!AF793","v":0},{"$f":"Stückliste!AI793","v":0}]
["a","5.5",8,{"$f":"Stückliste!A794","v":0},{"$f":"Stückliste!E794","v":0},{"$f":"Stückliste!J794","v":0},{"$f":"Stückliste!O794","v":0},{"$f":"Stückliste!T794","v":0},{"$f":"Stückliste!W794","v":0},{"$f":"Stückliste!Z794","v":0},{"$f":"Stückliste!AC794","v":0},{"$f":"Stückliste!AF794","v":0},{"$f":"Stückliste!AI794","v":0}]
["a","5.5",8,{"$f":"Stückliste!A795","v":0},{"$f":"Stückliste!E795","v":0},{"$f":"Stückliste!J795","v":0},{"$f":"Stückliste!O795","v":0},{"$f":"Stückliste!T795","v":0},{"$f":"Stückliste!W795","v":0},{"$f":"Stückliste!Z795","v":0},{"$f":"Stückliste!AC795","v":0},{"$f":"Stückliste!AF795","v":0},{"$f":"Stückliste!AI795","v":0}]
["a","5.5",8,{"$f":"Stückliste!A796","v":0},{"$f":"Stückliste!E796","v":0},{"$f":"Stückliste!J796","v":0},{"$f":"Stückliste!O796","v":0},{"$f":"Stückliste!T796","v":0},{"$f":"Stückliste!W796","v":0},{"$f":"Stückliste!Z796","v":0},{"$f":"Stückliste!AC796","v":0},{"$f":"Stückliste!AF796","v":0},{"$f":"Stückliste!AI796","v":0}]
["a","5.5",8,{"$f":"Stückliste!A797","v":0},{"$f":"Stückliste!E797","v":0},{"$f":"Stückliste!J797","v":0},{"$f":"Stückliste!O797","v":0},{"$f":"Stückliste!T797","v":0},{"$f":"Stückliste!W797","v":0},{"$f":"Stückliste!Z797","v":0},{"$f":"Stückliste!AC797","v":0},{"$f":"Stückliste!AF797","v":0},{"$f":"Stückliste!AI797","v":0}]
["a","5.5",8,{"$f":"Stückliste!A798","v":0},{"$f":"Stückliste!E798","v":0},{"$f":"Stückliste!J798","v":0},{"$f":"Stückliste!O798","v":0},{"$f":"Stückliste!T798","v":0},{"$f":"Stückliste!W798","v":0},{"$f":"Stückliste!Z798","v":0},{"$f":"Stückliste!AC798","v":0},{"$f":"Stückliste!AF798","v":0},{"$f":"Stückliste!AI798","v":0}]
["a","5.5",8,{"$f":"Stückliste!A799","v":0},{"$f":"Stückliste!E799","v":0},{"$f":"Stückliste!J799","v":0},{"$f":"Stückliste!O799","v":0},{"$f":"Stückliste!T799","v":0},{"$f":"Stückliste!W799","v":0},{"$f":"Stückliste!Z799","v":0},{"$f":"Stückliste!AC799","v":0},{"$f":"Stückliste!AF799","v":0},{"$f":"Stückliste!AI799","v":0}]
["a","5.5",8,{"$f":"Stückliste!A800","v":0},{"$f":"Stückliste!E800","v":0},{"$f":"Stückliste!J800","v":0},{"$f":"Stückliste!O800","v":0},{"$f":"Stückliste!T800","v":0},{"$f":"Stückliste!W800","v":0},{"$f":"Stückliste!Z800","v":0},{"$f":"Stückliste!AC800","v":0},{"$f":"Stückliste!AF800","v":0},{"$f":"Stückliste!AI800","v":0}]
["a","5.5",8,{"$f":"Stückliste!A801","v":0},{"$f":"Stückliste!E801","v":0},{"$f":"Stückliste!J801","v":0},{"$f":"Stückliste!O801","v":0},{"$f":"Stückliste!T801","v":0},{"$f":"Stückliste!W801","v":0},{"$f":"Stückliste!Z801","v":0},{"$f":"Stückliste!AC801","v":0},{"$f":"Stückliste!AF801","v":0},{"$f":"Stückliste!AI801","v":0}]
["a","5.5",8,{"$f":"Stückliste!A802","v":0},{"$f":"Stückliste!E802","v":0},{"$f":"Stückliste!J802","v":0},{"$f":"Stückliste!O802","v":0},{"$f":"Stückliste!T802","v":0},{"$f":"Stückliste!W802","v":0},{"$f":"Stückliste!Z802","v":0},{"$f":"Stückliste!AC802","v":0},{"$f":"Stückliste!AF802","v":0},{"$f":"Stückliste!AI802","v":0}]
["a","5.5",8,{"$f":"Stückliste!A803","v":0},{"$f":"Stückliste!E803","v":0},{"$f":"Stückliste!J803","v":0},{"$f":"Stückliste!O803","v":0},{"$f":"Stückliste!T803","v":0},{"$f":"Stückliste!W803","v":0},{"$f":"Stückliste!Z803","v":0},{"$f":"Stückliste!AC803","v":0},{"$f":"Stückliste!AF803","v":0},{"$f":"Stückliste!AI803","v":0}]
["a","5.5",8,{"$f":"Stückliste!A804","v":0},{"$f":"Stückliste!E804","v":0},{"$f":"Stückliste!J804","v":0},{"$f":"Stückliste!O804","v":0},{"$f":"Stückliste!T804","v":0},{"$f":"Stückliste!W804","v":0},{"$f":"Stückliste!Z804","v":0},{"$f":"Stückliste!AC804","v":0},{"$f":"Stückliste!AF804","v":0},{"$f":"Stückliste!AI804","v":0}]
["a","5.5",8,{"$f":"Stückliste!A805","v":0},{"$f":"Stückliste!E805","v":0},{"$f":"Stückliste!J805","v":0},{"$f":"Stückliste!O805","v":0},{"$f":"Stückliste!T805","v":0},{"$f":"Stückliste!W805","v":0},{"$f":"Stückliste!Z805","v":0},{"$f":"Stückliste!AC805","v":0},{"$f":"Stückliste!AF805","v":0},{"$f":"Stückliste!AI805","v":0}]
["a","5.5",8,{"$f":"Stückliste!A806","v":0},{"$f":"Stückliste!E806","v":0},{"$f":"Stückliste!J806","v":0},{"$f":"Stückliste!O806","v":0},{"$f":"Stückliste!T806","v":0},{"$f":"Stückliste!W806","v":0},{"$f":"Stückliste!Z806","v":0},{"$f":"Stückliste!AC806","v":0},{"$f":"Stückliste!AF806","v":0},{"$f":"Stückliste!AI806","v":0}]
["a","5.5",8,{"$f":"Stückliste!A807","v":0},{"$f":"Stückliste!E807","v":0},{"$f":"Stückliste!J807","v":0},{"$f":"Stückliste!O807","v":0},{"$f":"Stückliste!T807","v":0},{"$f":"Stückliste!W807","v":0},{"$f":"Stückliste!Z807","v":0},{"$f":"Stückliste!AC807","v":0},{"$f":"Stückliste!AF807","v":0},{"$f":"Stückliste!AI807","v":0}]
["a","5.5",8,{"$f":"Stückliste!A808","v":0},{"$f":"Stückliste!E808","v":0},{"$f":"Stückliste!J808","v":0},{"$f":"Stückliste!O808","v":0},{"$f":"Stückliste!T808","v":0},{"$f":"Stückliste!W808","v":0},{"$f":"Stückliste!Z808","v":0},{"$f":"Stückliste!AC808","v":0},{"$f":"Stückliste!AF808","v":0},{"$f":"Stückliste!AI808","v":0}]
["a","5.5",8,{"$f":"Stückliste!A809","v":0},{"$f":"Stückliste!E809","v":0},{"$f":"Stückliste!J809","v":0},{"$f":"Stückliste!O809","v":0},{"$f":"Stückliste!T809","v":0},{"$f":"Stückliste!W809","v":0},{"$f":"Stückliste!Z809","v":0},{"$f":"Stückliste!AC809","v":0},{"$f":"Stückliste!AF809","v":0},{"$f":"Stückliste!AI809","v":0}]
["a","5.5",8,{"$f":"Stückliste!A810","v":0},{"$f":"Stückliste!E810","v":0},{"$f":"Stückliste!J810","v":0},{"$f":"Stückliste!O810","v":0},{"$f":"Stückliste!T810","v":0},{"$f":"Stückliste!W810","v":0},{"$f":"Stückliste!Z810","v":0},{"$f":"Stückliste!AC810","v":0},{"$f":"Stückliste!AF810","v":0},{"$f":"Stückliste!AI810","v":0}]
["a","5.5",8,{"$f":"Stückliste!A811","v":0},{"$f":"Stückliste!E811","v":0},{"$f":"Stückliste!J811","v":0},{"$f":"Stückliste!O811","v":0},{"$f":"Stückliste!T811","v":0},{"$f":"Stückliste!W811","v":0},{"$f":"Stückliste!Z811","v":0},{"$f":"Stückliste!AC811","v":0},{"$f":"Stückliste!AF811","v":0},{"$f":"Stückliste!AI811","v":0}]
["a","5.5",8,{"$f":"Stückliste!A812","v":0},{"$f":"Stückliste!E812","v":0},{"$f":"Stückliste!J812","v":0},{"$f":"Stückliste!O812","v":0},{"$f":"Stückliste!T812","v":0},{"$f":"Stückliste!W812","v":0},{"$f":"Stückliste!Z812","v":0},{"$f":"Stückliste!AC812","v":0},{"$f":"Stückliste!AF812","v":0},{"$f":"Stückliste!AI812","v":0}]
["a","5.5",8,{"$f":"Stückliste!A813","v":0},{"$f":"Stückliste!E813","v":0},{"$f":"Stückliste!J813","v":0},{"$f":"Stückliste!O813","v":0},{"$f":"Stückliste!T813","v":0},{"$f":"Stückliste!W813","v":0},{"$f":"Stückliste!Z813","v":0},{"$f":"Stückliste!AC813","v":0},{"$f":"Stückliste!AF813","v":0},{"$f":"Stückliste!AI813","v":0}]
["a","5.5",8,{"$f":"Stückliste!A814","v":0},{"$f":"Stückliste!E814","v":0},{"$f":"Stückliste!J814","v":0},{"$f":"Stückliste!O814","v":0},{"$f":"Stückliste!T814","v":0},{"$f":"Stückliste!W814","v":0},{"$f":"Stückliste!Z814","v":0},{"$f":"Stückliste!AC814","v":0},{"$f":"Stückliste!AF814","v":0},{"$f":"Stückliste!AI814","v":0}]
["a","5.5",8,{"$f":"Stückliste!A815","v":0},{"$f":"Stückliste!E815","v":0},{"$f":"Stückliste!J815","v":0},{"$f":"Stückliste!O815","v":0},{"$f":"Stückliste!T815","v":0},{"$f":"Stückliste!W815","v":0},{"$f":"Stückliste!Z815","v":0},{"$f":"Stückliste!AC815","v":0},{"$f":"Stückliste!AF815","v":0},{"$f":"Stückliste!AI815","v":0}]
["a","5.5",8,{"$f":"Stückliste!A816","v":0},{"$f":"Stückliste!E816","v":0},{"$f":"Stückliste!J816","v":0},{"$f":"Stückliste!O816","v":0},{"$f":"Stückliste!T816","v":0},{"$f":"Stückliste!W816","v":0},{"$f":"Stückliste!Z816","v":0},{"$f":"Stückliste!AC816","v":0},{"$f":"Stückliste!AF816","v":0},{"$f":"Stückliste!AI816","v":0}]
["a","5.5",8,{"$f":"Stückliste!A817","v":0},{"$f":"Stückliste!E817","v":0},{"$f":"Stückliste!J817","v":0},{"$f":"Stückliste!O817","v":0},{"$f":"Stückliste!T817","v":0},{"$f":"Stückliste!W817","v":0},{"$f":"Stückliste!Z817","v":0},{"$f":"Stückliste!AC817","v":0},{"$f":"Stückliste!AF817","v":0},{"$f":"Stückliste!AI817","v":0}]
["a","5.5",8,{"$f":"Stückliste!A818","v":0},{"$f":"Stückliste!E818","v":0},{"$f":"Stückliste!J818","v":0},{"$f":"Stückliste!O818","v":0},{"$f":"Stückliste!T818","v":0},{"$f":"Stückliste!W818","v":0},{"$f":"Stückliste!Z818","v":0},{"$f":"Stückliste!AC818","v":0},{"$f":"Stückliste!AF818","v":0},{"$f":"Stückliste!AI818","v":0}]
["a","5.5",8,{"$f":"Stückliste!A819","v":0},{"$f":"Stückliste!E819","v":0},{"$f":"Stückliste!J819","v":0},{"$f":"Stückliste!O819","v":0},{"$f":"Stückliste!T819","v":0},{"$f":"Stückliste!W819","v":0},{"$f":"Stückliste!Z819","v":0},{"$f":"Stückliste!AC819","v":0},{"$f":"Stückliste!AF819","v":0},{"$f":"Stückliste!AI819","v":0}]
["a","5.5",8,{"$f":"Stückliste!A820","v":0},{"$f":"Stückliste!E820","v":0},{"$f":"Stückliste!J820","v":0},{"$f":"Stückliste!O820","v":0},{"$f":"Stückliste!T820","v":0},{"$f":"Stückliste!W820","v":0},{"$f":"Stückliste!Z820","v":0},{"$f":"Stückliste!AC820","v":0},{"$f":"Stückliste!AF820","v":0},{"$f":"Stückliste!AI820","v":0}]
["a","5.5",8,{"$f":"Stückliste!A821","v":0},{"$f":"Stückliste!E821","v":0},{"$f":"Stückliste!J821","v":0},{"$f":"Stückliste!O821","v":0},{"$f":"Stückliste!T821","v":0},{"$f":"Stückliste!W821","v":0},{"$f":"Stückliste!Z821","v":0},{"$f":"Stückliste!AC821","v":0},{"$f":"Stückliste!AF821","v":0},{"$f":"Stückliste!AI821","v":0}]
["a","5.5",8,{"$f":"Stückliste!A822","v":0},{"$f":"Stückliste!E822","v":0},{"$f":"Stückliste!J822","v":0},{"$f":"Stückliste!O822","v":0},{"$f":"Stückliste!T822","v":0},{"$f":"Stückliste!W822","v":0},{"$f":"Stückliste!Z822","v":0},{"$f":"Stückliste!AC822","v":0},{"$f":"Stückliste!AF822","v":0},{"$f":"Stückliste!AI822","v":0}]
["a","5.5",8,{"$f":"Stückliste!A823","v":0},{"$f":"Stückliste!E823","v":0},{"$f":"Stückliste!J823","v":0},{"$f":"Stückliste!O823","v":0},{"$f":"Stückliste!T823","v":0},{"$f":"Stückliste!W823","v":0},{"$f":"Stückliste!Z823","v":0},{"$f":"Stückliste!AC823","v":0},{"$f":"Stückliste!AF823","v":0},{"$f":"Stückliste!AI823","v":0}]
["a","5.5",8,{"$f":"Stückliste!A824","v":0},{"$f":"Stückliste!E824","v":0},{"$f":"Stückliste!J824","v":0},{"$f":"Stückliste!O824","v":0},{"$f":"Stückliste!T824","v":0},{"$f":"Stückliste!W824","v":0},{"$f":"Stückliste!Z824","v":0},{"$f":"Stückliste!AC824","v":0},{"$f":"Stückliste!AF824","v":0},{"$f":"Stückliste!AI824","v":0}]
["a","5.5",8,{"$f":"Stückliste!A825","v":0},{"$f":"Stückliste!E825","v":0},{"$f":"Stückliste!J825","v":0},{"$f":"Stückliste!O825","v":0},{"$f":"Stückliste!T825","v":0},{"$f":"Stückliste!W825","v":0},{"$f":"Stückliste!Z825","v":0},{"$f":"Stückliste!AC825","v":0},{"$f":"Stückliste!AF825","v":0},{"$f":"Stückliste!AI825","v":0}]
[{"$f":"A772","v":"a"},{"$f":"B772","v":"5.5"},{"$f":"C772","v":8},{"$f":"Stückliste!A826","v":0},{"$f":"Stückliste!E826","v":0},{"$f":"Stückliste!J826","v":0},{"$f":"Stückliste!O826","v":0},{"$f":"Stückliste!T826","v":0},{"$f":"Stückliste!W826","v":0},{"$f":"Stückliste!Z826","v":0},{"$f":"Stückliste!AC826","v":0},{"$f":"Stückliste!AF826","v":0},{"$f":"Stückliste!AI826","v":0}]
["a","5.5",8,{"$f":"Stückliste!A827","v":0},{"$f":"Stückliste!E827","v":0},{"$f":"Stückliste!J827","v":0},{"$f":"Stückliste!O827","v":0},{"$f":"Stückliste!T827","v":0},{"$f":"Stückliste!W827","v":0},{"$f":"Stückliste!Z827","v":0},{"$f":"Stückliste!AC827","v":0},{"$f":"Stückliste!AF827","v":0},{"$f":"Stückliste!AI827","v":0}]
["a","5.5",8,{"$f":"Stückliste!A828","v":0},{"$f":"Stückliste!E828","v":0},{"$f":"Stückliste!J828","v":0},{"$f":"Stückliste!O828","v":0},{"$f":"Stückliste!T828","v":0},{"$f":"Stückliste!W828","v":0},{"$f":"Stückliste!Z828","v":0},{"$f":"Stückliste!AC828","v":0},{"$f":"Stückliste!AF828","v":0},{"$f":"Stückliste!AI828","v":0}]
["a","5.5",8,{"$f":"Stückliste!A829","v":0},{"$f":"Stückliste!E829","v":0},{"$f":"Stückliste!J829","v":0},{"$f":"Stückliste!O829","v":0},{"$f":"Stückliste!T829","v":0},{"$f":"Stückliste!W829","v":0},{"$f":"Stückliste!Z829","v":0},{"$f":"Stückliste!AC829","v":0},{"$f":"Stückliste!AF829","v":0},{"$f":"Stückliste!AI829","v":0}]
["a","5.5",8,{"$f":"Stückliste!A830","v":0},{"$f":"Stückliste!E830","v":0},{"$f":"Stückliste!J830","v":0},{"$f":"Stückliste!O830","v":0},{"$f":"Stückliste!T830","v":0},{"$f":"Stückliste!W830","v":0},{"$f":"Stückliste!Z830","v":0},{"$f":"Stückliste!AC830","v":0},{"$f":"Stückliste!AF830","v":0},{"$f":"Stückliste!AI830","v":0}]
["a","5.5",8,{"$f":"Stückliste!A831","v":0},{"$f":"Stückliste!E831","v":0},{"$f":"Stückliste!J831","v":0},{"$f":"Stückliste!O831","v":0},{"$f":"Stückliste!T831","v":0},{"$f":"Stückliste!W831","v":0},{"$f":"Stückliste!Z831","v":0},{"$f":"Stückliste!AC831","v":0},{"$f":"Stückliste!AF831","v":0},{"$f":"Stückliste!AI831","v":0}]
["a","5.5",8,{"$f":"Stückliste!A832","v":0},{"$f":"Stückliste!E832","v":0},{"$f":"Stückliste!J832","v":0},{"$f":"Stückliste!O832","v":0},{"$f":"Stückliste!T832","v":0},{"$f":"Stückliste!W832","v":0},{"$f":"Stückliste!Z832","v":0},{"$f":"Stückliste!AC832","v":0},{"$f":"Stückliste!AF832","v":0},{"$f":"Stückliste!AI832","v":0}]
["a","5.5",8,{"$f":"Stückliste!A833","v":0},{"$f":"Stückliste!E833","v":0},{"$f":"Stückliste!J833","v":0},{"$f":"Stückliste!O833","v":0},{"$f":"Stückliste!T833","v":0},{"$f":"Stückliste!W833","v":0},{"$f":"Stückliste!Z833","v":0},{"$f":"Stückliste!AC833","v":0},{"$f":"Stückliste!AF833","v":0},{"$f":"Stückliste!AI833","v":0}]
["a","5.5",8,{"$f":"Stückliste!A834","v":0},{"$f":"Stückliste!E834","v":0},{"$f":"Stückliste!J834","v":0},{"$f":"Stückliste!O834","v":0},{"$f":"Stückliste!T834","v":0},{"$f":"Stückliste!W834","v":0},{"$f":"Stückliste!Z834","v":0},{"$f":"Stückliste!AC834","v":0},{"$f":"Stückliste!AF834","v":0},{"$f":"Stückliste!AI834","v":0}]
["a","5.5",8,{"$f":"Stückliste!A835","v":0},{"$f":"Stückliste!E835","v":0},{"$f":"Stückliste!J835","v":0},{"$f":"Stückliste!O835","v":0},{"$f":"Stückliste!T835","v":0},{"$f":"Stückliste!W835","v":0},{"$f":"Stückliste!Z835","v":0},{"$f":"Stückliste!AC835","v":0},{"$f":"Stückliste!AF835","v":0},{"$f":"Stückliste!AI835","v":0}]
["a","5.5",8,{"$f":"Stückliste!A836","v":0},{"$f":"Stückliste!E836","v":0},{"$f":"Stückliste!J836","v":0},{"$f":"Stückliste!O836","v":0},{"$f":"Stückliste!T836","v":0},{"$f":"Stückliste!W836","v":0},{"$f":"Stückliste!Z836","v":0},{"$f":"Stückliste!AC836","v":0},{"$f":"Stückliste!AF836","v":0},{"$f":"Stückliste!AI836","v":0}]
["a","5.5",8,{"$f":"Stückliste!A837","v":0},{"$f":"Stückliste!E837","v":0},{"$f":"Stückliste!J837","v":0},{"$f":"Stückliste!O837","v":0},{"$f":"Stückliste!T837","v":0},{"$f":"Stückliste!W837","v":0},{"$f":"Stückliste!Z837","v":0},{"$f":"Stückliste!AC837","v":0},{"$f":"Stückliste!AF837","v":0},{"$f":"Stückliste!AI837","v":0}]
["a","5.5",8,{"$f":"Stückliste!A838","v":0},{"$f":"Stückliste!E838","v":0},{"$f":"Stückliste!J838","v":0},{"$f":"Stückliste!O838","v":0},{"$f":"Stückliste!T838","v":0},{"$f":"Stückliste!W838","v":0},{"$f":"Stückliste!Z838","v":0},{"$f":"Stückliste!AC838","v":0},{"$f":"Stückliste!AF838","v":0},{"$f":"Stückliste!AI838","v":0}]
["a","5.5",8,{"$f":"Stückliste!A839","v":0},{"$f":"Stückliste!E839","v":0},{"$f":"Stückliste!J839","v":0},{"$f":"Stückliste!O839","v":0},{"$f":"Stückliste!T839","v":0},{"$f":"Stückliste!W839","v":0},{"$f":"Stückliste!Z839","v":0},{"$f":"Stückliste!AC839","v":0},{"$f":"Stückliste!AF839","v":0},{"$f":"Stückliste!AI839","v":0}]
["a","5.5",8,{"$f":"Stückliste!A840","v":0},{"$f":"Stückliste!E840","v":0},{"$f":"Stückliste!J840","v":0},{"$f":"Stückliste!O840","v":0},{"$f":"Stückliste!T840","v":0},{"$f":"Stückliste!W840","v":0},{"$f":"Stückliste!Z840","v":0},{"$f":"Stückliste!AC840","v":0},{"$f":"Stückliste!AF840","v":0},{"$f":"Stückliste!AI840","v":0}]
["a","5.5",8,{"$f":"Stückliste!A841","v":0},{"$f":"Stückliste!E841","v":0},{"$f":"Stückliste!J841","v":0},{"$f":"Stückliste!O841","v":0},{"$f":"Stückliste!T841","v":0},{"$f":"Stückliste!W841","v":0},{"$f":"Stückliste!Z841","v":0},{"$f":"Stückliste!AC841","v":0},{"$f":"Stückliste!AF841","v":0},{"$f":"Stückliste!AI841","v":0}]
["a","5.5",8,{"$f":"Stückliste!A842","v":0},{"$f":"Stückliste!E842","v":0},{"$f":"Stückliste!J842","v":0},{"$f":"Stückliste!O842","v":0},{"$f":"Stückliste!T842","v":0},{"$f":"Stückliste!W842","v":0},{"$f":"Stückliste!Z842","v":0},{"$f":"Stückliste!AC842","v":0},{"$f":"Stückliste!AF842","v":0},{"$f":"Stückliste!AI842","v":0}]
["a","5.5",8,{"$f":"Stückliste!A843","v":0},{"$f":"Stückliste!E843","v":0},{"$f":"Stückliste!J843","v":0},{"$f":"Stückliste!O843","v":0},{"$f":"Stückliste!T843","v":0},{"$f":"Stückliste!W843","v":0},{"$f":"Stückliste!Z843","v":0},{"$f":"Stückliste!AC843","v":0},{"$f":"Stückliste!AF843","v":0},{"$f":"Stückliste!AI843","v":0}]
["a","5.5",8,{"$f":"Stückliste!A844","v":0},{"$f":"Stückliste!E844","v":0},{"$f":"Stückliste!J844","v":0},{"$f":"Stückliste!O844","v":0},{"$f":"Stückliste!T844","v":0},{"$f":"Stückliste!W844","v":0},{"$f":"Stückliste!Z844","v":0},{"$f":"Stückliste!AC844","v":0},{"$f":"Stückliste!AF844","v":0},{"$f":"Stückliste!AI844","v":0}]
["a","5.5",8,{"$f":"Stückliste!A845","v":0},{"$f":"Stückliste!E845","v":0},{"$f":"Stückliste!J845","v":0},{"$f":"Stückliste!O845","v":0},{"$f":"Stückliste!T845","v":0},{"$f":"Stückliste!W845","v":0},{"$f":"Stückliste!Z845","v":0},{"$f":"Stückliste!AC845","v":0},{"$f":"Stückliste!AF845","v":0},{"$f":"Stückliste!AI845","v":0}]
["a","5.5",8,{"$f":"Stückliste!A846","v":0},{"$f":"Stückliste!E846","v":0},{"$f":"Stückliste!J846","v":0},{"$f":"Stückliste!O846","v":0},{"$f":"Stückliste!T846","v":0},{"$f":"Stückliste!W846","v":0},{"$f":"Stückliste!Z846","v":0},{"$f":"Stückliste!AC846","v":0},{"$f":"Stückliste!AF846","v":0},{"$f":"Stückliste!AI846","v":0}]
["a","5.5",8,{"$f":"Stückliste!A847","v":0},{"$f":"Stückliste!E847","v":0},{"$f":"Stückliste!J847","v":0},{"$f":"Stückliste!O847","v":0},{"$f":"Stückliste!T847","v":0},{"$f":"Stückliste!W847","v":0},{"$f":"Stückliste!Z847","v":0},{"$f":"Stückliste!AC847","v":0},{"$f":"Stückliste!AF847","v":0},{"$f":"Stückliste!AI847","v":0}]
["a","5.5",8,{"$f":"Stückliste!A848","v":0},{"$f":"Stückliste!E848","v":0},{"$f":"Stückliste!J848","v":0},{"$f":"Stückliste!O848","v":0},{"$f":"Stückliste!T848","v":0},{"$f":"Stückliste!W848","v":0},{"$f":"Stückliste!Z848","v":0},{"$f":"Stückliste!AC848","v":0},{"$f":"Stückliste!AF848","v":0},{"$f":"Stückliste!AI848","v":0}]
["a","5.5",8,{"$f":"Stückliste!A849","v":0},{"$f":"Stückliste!E849","v":0},{"$f":"Stückliste!J849","v":0},{"$f":"Stückliste!O849","v":0},{"$f":"Stückliste!T849","v":0},{"$f":"Stückliste!W849","v":0},{"$f":"Stückliste!Z849","v":0},{"$f":"Stückliste!AC849","v":0},{"$f":"Stückliste!AF849","v":0},{"$f":"Stückliste!AI849","v":0}]
["a","5.5",8,{"$f":"Stückliste!A850","v":0},{"$f":"Stückliste!E850","v":0},{"$f":"Stückliste!J850","v":0},{"$f":"Stückliste!O850","v":0},{"$f":"Stückliste!T850","v":0},{"$f":"Stückliste!W850","v":0},{"$f":"Stückliste!Z850","v":0},{"$f":"Stückliste!AC850","v":0},{"$f":"Stückliste!AF850","v":0},{"$f":"Stückliste!AI850","v":0}]
["a","5.5",8,{"$f":"Stückliste!A851","v":0},{"$f":"Stückliste!E851","v":0},{"$f":"Stückliste!J851","v":0},{"$f":"Stückliste!O851","v":0},{"$f":"Stückliste!T851","v":0},{"$f":"Stückliste!W851","v":0},{"$f":"Stückliste!Z851","v":0},{"$f":"Stückliste!AC851","v":0},{"$f":"Stückliste!AF851","v":0},{"$f":"Stückliste!AI851","v":0}]
["a","5.5",8,{"$f":"Stückliste!A852","v":0},{"$f":"Stückliste!E852","v":0},{"$f":"Stückliste!J852","v":0},{"$f":"Stückliste!O852","v":0},{"$f":"Stückliste!T852","v":0},{"$f":"Stückliste!W852","v":0},{"$f":"Stückliste!Z852","v":0},{"$f":"Stückliste!AC852","v":0},{"$f":"Stückliste!AF852","v":0},{"$f":"Stückliste!AI852","v":0}]
["a","5.5",8,{"$f":"Stückliste!A853","v":0},{"$f":"Stückliste!E853","v":0},{"$f":"Stückliste!J853","v":0},{"$f":"Stückliste!O853","v":0},{"$f":"Stückliste!T853","v":0},{"$f":"Stückliste!W853","v":0},{"$f":"Stückliste!Z853","v":0},{"$f":"Stückliste!AC853","v":0},{"$f":"Stückliste!AF853","v":0},{"$f":"Stückliste!AI853","v":0}]
["a","5.5",8,{"$f":"Stückliste!A854","v":0},{"$f":"Stückliste!E854","v":0},{"$f":"Stückliste!J854","v":0},{"$f":"Stückliste!O854","v":0},{"$f":"Stückliste!T854","v":0},{"$f":"Stückliste!W854","v":0},{"$f":"Stückliste!Z854","v":0},{"$f":"Stückliste!AC854","v":0},{"$f":"Stückliste!AF854","v":0},{"$f":"Stückliste!AI854","v":0}]
["a","5.5",8,{"$f":"Stückliste!A855","v":0},{"$f":"Stückliste!E855","v":0},{"$f":"Stückliste!J855","v":0},{"$f":"Stückliste!O855","v":0},{"$f":"Stückliste!T855","v":0},{"$f":"Stückliste!W855","v":0},{"$f":"Stückliste!Z855","v":0},{"$f":"Stückliste!AC855","v":0},{"$f":"Stückliste!AF855","v":0},{"$f":"Stückliste!AI855","v":0}]
["a","5.5",8,{"$f":"Stückliste!A856","v":0},{"$f":"Stückliste!E856","v":0},{"$f":"Stückliste!J856","v":0},{"$f":"Stückliste!O856","v":0},{"$f":"Stückliste!T856","v":0},{"$f":"Stückliste!W856","v":0},{"$f":"Stückliste!Z856","v":0},{"$f":"Stückliste!AC856","v":0},{"$f":"Stückliste!AF856","v":0},{"$f":"Stückliste!AI856","v":0}]
["a","5.5",8,{"$f":"Stückliste!A857","v":0},{"$f":"Stückliste!E857","v":0},{"$f":"Stückliste!J857","v":0},{"$f":"Stückliste!O857","v":0},{"$f":"Stückliste!T857","v":0},{"$f":"Stückliste!W857","v":0},{"$f":"Stückliste!Z857","v":0},{"$f":"Stückliste!AC857","v":0},{"$f":"Stückliste!AF857","v":0},{"$f":"Stückliste!AI857","v":0}]
["a","5.5",8,{"$f":"Stückliste!A858","v":0},{"$f":"Stückliste!E858","v":0},{"$f":"Stückliste!J858","v":0},{"$f":"Stückliste!O858","v":0},{"$f":"Stückliste!T858","v":0},{"$f":"Stückliste!W858","v":0},{"$f":"Stückliste!Z858","v":0},{"$f":"Stückliste!AC858","v":0},{"$f":"Stückliste!AF858","v":0},{"$f":"Stückliste!AI858","v":0}]
["a","5.5",8,{"$f":"Stückliste!A859","v":0},{"$f":"Stückliste!E859","v":0},{"$f":"Stückliste!J859","v":0},{"$f":"Stückliste!O859","v":0},{"$f":"Stückliste!T859","v":0},{"$f":"Stückliste!W859","v":0},{"$f":"Stückliste!Z859","v":0},{"$f":"Stückliste!AC859","v":0},{"$f":"Stückliste!AF859","v":0},{"$f":"Stückliste!AI859","v":0}]
["a","5.5",8,{"$f":"Stückliste!A860","v":0},{"$f":"Stückliste!E860","v":0},{"$f":"Stückliste!J860","v":0},{"$f":"Stückliste!O860","v":0},{"$f":"Stückliste!T860","v":0},{"$f":"Stückliste!W860","v":0},{"$f":"Stückliste!Z860","v":0},{"$f":"Stückliste!AC860","v":0},{"$f":"Stückliste!AF860","v":0},{"$f":"Stückliste!AI860","v":0}]
["a","5.5",8,{"$f":"Stückliste!A861","v":0},{"$f":"Stückliste!E861","v":0},{"$f":"Stückliste!J861","v":0},{"$f":"Stückliste!O861","v":0},{"$f":"Stückliste!T861","v":0},{"$f":"Stückliste!W861","v":0},{"$f":"Stückliste!Z861","v":0},{"$f":"Stückliste!AC861","v":0},{"$f":"Stückliste!AF861","v":0},{"$f":"Stückliste!AI861","v":0}]
["a","5.5",8,{"$f":"Stückliste!A862","v":0},{"$f":"Stückliste!E862","v":0},{"$f":"Stückliste!J862","v":0},{"$f":"Stückliste!O862","v":0},{"$f":"Stückliste!T862","v":0},{"$f":"Stückliste!W862","v":0},{"$f":"Stückliste!Z862","v":0},{"$f":"Stückliste!AC862","v":0},{"$f":"Stückliste!AF862","v":0},{"$f":"Stückliste!AI862","v":0}]
["a","5.5",8,{"$f":"Stückliste!A863","v":0},{"$f":"Stückliste!E863","v":0},{"$f":"Stückliste!J863","v":0},{"$f":"Stückliste!O863","v":0},{"$f":"Stückliste!T863","v":0},{"$f":"Stückliste!W863","v":0},{"$f":"Stückliste!Z863","v":0},{"$f":"Stückliste!AC863","v":0},{"$f":"Stückliste!AF863","v":0},{"$f":"Stückliste!AI863","v":0}]
["a","5.5",8,{"$f":"Stückliste!A864","v":0},{"$f":"Stückliste!E864","v":0},{"$f":"Stückliste!J864","v":0},{"$f":"Stückliste!O864","v":0},{"$f":"Stückliste!T864","v":0},{"$f":"Stückliste!W864","v":0},{"$f":"Stückliste!Z864","v":0},{"$f":"Stückliste!AC864","v":0},{"$f":"Stückliste!AF864","v":0},{"$f":"Stückliste!AI864","v":0}]
["a","5.5",8,{"$f":"Stückliste!A865","v":0},{"$f":"Stückliste!E865","v":0},{"$f":"Stückliste!J865","v":0},{"$f":"Stückliste!O865","v":0},{"$f":"Stückliste!T865","v":0},{"$f":"Stückliste!W865","v":0},{"$f":"Stückliste!Z865","v":0},{"$f":"Stückliste!AC865","v":0},{"$f":"Stückliste!AF865","v":0},{"$f":"Stückliste!AI865","v":0}]
["a","5.5",8,{"$f":"Stückliste!A866","v":0},{"$f":"Stückliste!E866","v":0},{"$f":"Stückliste!J866","v":0},{"$f":"Stückliste!O866","v":0},{"$f":"Stückliste!T866","v":0},{"$f":"Stückliste!W866","v":0},{"$f":"Stückliste!Z866","v":0},{"$f":"Stückliste!AC866","v":0},{"$f":"Stückliste!AF866","v":0},{"$f":"Stückliste!AI866","v":0}]
["a","5.5",8,{"$f":"Stückliste!A867","v":0},{"$f":"Stückliste!E867","v":0},{"$f":"Stückliste!J867","v":0},{"$f":"Stückliste!O867","v":0},{"$f":"Stückliste!T867","v":0},{"$f":"Stückliste!W867","v":0},{"$f":"Stückliste!Z867","v":0},{"$f":"Stückliste!AC867","v":0},{"$f":"Stückliste!AF867","v":0},{"$f":"Stückliste!AI867","v":0}]
["a","5.5",8,{"$f":"Stückliste!A868","v":0},{"$f":"Stückliste!E868","v":0},{"$f":"Stückliste!J868","v":0},{"$f":"Stückliste!O868","v":0},{"$f":"Stückliste!T868","v":0},{"$f":"Stückliste!W868","v":0},{"$f":"Stückliste!Z868","v":0},{"$f":"Stückliste!AC868","v":0},{"$f":"Stückliste!AF868","v":0},{"$f":"Stückliste!AI868","v":0}]
["a","5.5",8,{"$f":"Stückliste!A869","v":0},{"$f":"Stückliste!E869","v":0},{"$f":"Stückliste!J869","v":0},{"$f":"Stückliste!O869","v":0},{"$f":"Stückliste!T869","v":0},{"$f":"Stückliste!W869","v":0},{"$f":"Stückliste!Z869","v":0},{"$f":"Stückliste!AC869","v":0},{"$f":"Stückliste!AF869","v":0},{"$f":"Stückliste!AI869","v":0}]
["a","5.5",8,{"$f":"Stückliste!A870","v":0},{"$f":"Stückliste!E870","v":0},{"$f":"Stückliste!J870","v":0},{"$f":"Stückliste!O870","v":0},{"$f":"Stückliste!T870","v":0},{"$f":"Stückliste!W870","v":0},{"$f":"Stückliste!Z870","v":0},{"$f":"Stückliste!AC870","v":0},{"$f":"Stückliste!AF870","v":0},{"$f":"Stückliste!AI870","v":0}]
["a","5.5",8,{"$f":"Stückliste!A871","v":0},{"$f":"Stückliste!E871","v":0},{"$f":"Stückliste!J871","v":0},{"$f":"Stückliste!O871","v":0},{"$f":"Stückliste!T871","v":0},{"$f":"Stückliste!W871","v":0},{"$f":"Stückliste!Z871","v":0},{"$f":"Stückliste!AC871","v":0},{"$f":"Stückliste!AF871","v":0},{"$f":"Stückliste!AI871","v":0}]
["a","5.5",8,{"$f":"Stückliste!A872","v":0},{"$f":"Stückliste!E872","v":0},{"$f":"Stückliste!J872","v":0},{"$f":"Stückliste!O872","v":0},{"$f":"Stückliste!T872","v":0},{"$f":"Stückliste!W872","v":0},{"$f":"Stückliste!Z872","v":0},{"$f":"Stückliste!AC872","v":0},{"$f":"Stückliste!AF872","v":0},{"$f":"Stückliste!AI872","v":0}]
["a","5.5",8,{"$f":"Stückliste!A873","v":0},{"$f":"Stückliste!E873","v":0},{"$f":"Stückliste!J873","v":0},{"$f":"Stückliste!O873","v":0},{"$f":"Stückliste!T873","v":0},{"$f":"Stückliste!W873","v":0},{"$f":"Stückliste!Z873","v":0},{"$f":"Stückliste!AC873","v":0},{"$f":"Stückliste!AF873","v":0},{"$f":"Stückliste!AI873","v":0}]
["a","5.5",8,{"$f":"Stückliste!A874","v":0},{"$f":"Stückliste!E874","v":0},{"$f":"Stückliste!J874","v":0},{"$f":"Stückliste!O874","v":0},{"$f":"Stückliste!T874","v":0},{"$f":"Stückliste!W874","v":0},{"$f":"Stückliste!Z874","v":0},{"$f":"Stückliste!AC874","v":0},{"$f":"Stückliste!AF874","v":0},{"$f":"Stückliste!AI874","v":0}]
["a","5.5",8,{"$f":"Stückliste!A875","v":0},{"$f":"Stückliste!E875","v":0},{"$f":"Stückliste!J875","v":0},{"$f":"Stückliste!O875","v":0},{"$f":"Stückliste!T875","v":0},{"$f":"Stückliste!W875","v":0},{"$f":"Stückliste!Z875","v":0},{"$f":"Stückliste!AC875","v":0},{"$f":"Stückliste!AF875","v":0},{"$f":"Stückliste!AI875","v":0}]
["a","5.5",8,{"$f":"Stückliste!A876","v":0},{"$f":"Stückliste!E876","v":0},{"$f":"Stückliste!J876","v":0},{"$f":"Stückliste!O876","v":0},{"$f":"Stückliste!T876","v":0},{"$f":"Stückliste!W876","v":0},{"$f":"Stückliste!Z876","v":0},{"$f":"Stückliste!AC876","v":0},{"$f":"Stückliste!AF876","v":0},{"$f":"Stückliste!AI876","v":0}]
["a","5.5",8,{"$f":"Stückliste!A877","v":0},{"$f":"Stückliste!E877","v":0},{"$f":"Stückliste!J877","v":0},{"$f":"Stückliste!O877","v":0},{"$f":"Stückliste!T877","v":0},{"$f":"Stückliste!W877","v":0},{"$f":"Stückliste!Z877","v":0},{"$f":"Stückliste!AC877","v":0},{"$f":"Stückliste!AF877","v":0},{"$f":"Stückliste!AI877","v":0}]
["a","5.5",8,{"$f":"Stückliste!A878","v":0},{"$f":"Stückliste!E878","v":0},{"$f":"Stückliste!J878","v":0},{"$f":"Stückliste!O878","v":0},{"$f":"Stückliste!T878","v":0},{"$f":"Stückliste!W878","v":0},{"$f":"Stückliste!Z878","v":0},{"$f":"Stückliste!AC878","v":0},{"$f":"Stückliste!AF878","v":0},{"$f":"Stückliste!AI878","v":0}]
["a","5.5",8,{"$f":"Stückliste!A879","v":0},{"$f":"Stückliste!E879","v":0},{"$f":"Stückliste!J879","v":0},{"$f":"Stückliste!O879","v":0},{"$f":"Stückliste!T879","v":0},{"$f":"Stückliste!W879","v":0},{"$f":"Stückliste!Z879","v":0},{"$f":"Stückliste!AC879","v":0},{"$f":"Stückliste!AF879","v":0},{"$f":"Stückliste!AI879","v":0}]
["a","5.5",8,{"$f":"Stückliste!A880","v":0},{"$f":"Stückliste!E880","v":0},{"$f":"Stückliste!J880","v":0},{"$f":"Stückliste!O880","v":0},{"$f":"Stückliste!T880","v":0},{"$f":"Stückliste!W880","v":0},{"$f":"Stückliste!Z880","v":0},{"$f":"Stückliste!AC880","v":0},{"$f":"Stückliste!AF880","v":0},{"$f":"Stückliste!AI880","v":0}]
["a","5.5",8,{"$f":"Stückliste!A881","v":0},{"$f":"Stückliste!E881","v":0},{"$f":"Stückliste!J881","v":0},{"$f":"Stückliste!O881","v":0},{"$f":"Stückliste!T881","v":0},{"$f":"Stückliste!W881","v":0},{"$f":"Stückliste!Z881","v":0},{"$f":"Stückliste!AC881","v":0},{"$f":"Stückliste!AF881","v":0},{"$f":"Stückliste!AI881","v":0}]
["a","5.5",8,{"$f":"Stückliste!A882","v":0},{"$f":"Stückliste!E882","v":0},{"$f":"Stückliste!J882","v":0},{"$f":"Stückliste!O882","v":0},{"$f":"Stückliste!T882","v":0},{"$f":"Stückliste!W882","v":0},{"$f":"Stückliste!Z882","v":0},{"$f":"Stückliste!AC882","v":0},{"$f":"Stückliste!AF882","v":0},{"$f":"Stückliste!AI882","v":0}]
["a","5.5",8,{"$f":"Stückliste!A883","v":0},{"$f":"Stückliste!E883","v":0},{"$f":"Stückliste!J883","v":0},{"$f":"Stückliste!O883","v":0},{"$f":"Stückliste!T883","v":0},{"$f":"Stückliste!W883","v":0},{"$f":"Stückliste!Z883","v":0},{"$f":"Stückliste!AC883","v":0},{"$f":"Stückliste!AF883","v":0},{"$f":"Stückliste!AI883","v":0}]
["a","5.5",8,{"$f":"Stückliste!A884","v":0},{"$f":"Stückliste!E884","v":0},{"$f":"Stückliste!J884","v":0},{"$f":"Stückliste!O884","v":0},{"$f":"Stückliste!T884","v":0},{"$f":"Stückliste!W884","v":0},{"$f":"Stückliste!Z884","v":0},{"$f":"Stückliste!AC884","v":0},{"$f":"Stückliste!AF884","v":0},{"$f":"Stückliste!AI884","v":0}]
["a","5.5",8,{"$f":"Stückliste!A885","v":0},{"$f":"Stückliste!E885","v":0},{"$f":"Stückliste!J885","v":0},{"$f":"Stückliste!O885","v":0},{"$f":"Stückliste!T885","v":0},{"$f":"Stückliste!W885","v":0},{"$f":"Stückliste!Z885","v":0},{"$f":"Stückliste!AC885","v":0},{"$f":"Stückliste!AF885","v":0},{"$f":"Stückliste!AI885","v":0}]
["a","5.5",8,{"$f":"Stückliste!A886","v":0},{"$f":"Stückliste!E886","v":0},{"$f":"Stückliste!J886","v":0},{"$f":"Stückliste!O886","v":0},{"$f":"Stückliste!T886","v":0},{"$f":"Stückliste!W886","v":0},{"$f":"Stückliste!Z886","v":0},{"$f":"Stückliste!AC886","v":0},{"$f":"Stückliste!AF886","v":0},{"$f":"Stückliste!AI886","v":0}]
["a","5.5",8,{"$f":"Stückliste!A887","v":0},{"$f":"Stückliste!E887","v":0},{"$f":"Stückliste!J887","v":0},{"$f":"Stückliste!O887","v":0},{"$f":"Stückliste!T887","v":0},{"$f":"Stückliste!W887","v":0},{"$f":"Stückliste!Z887","v":0},{"$f":"Stückliste!AC887","v":0},{"$f":"Stückliste!AF887","v":0},{"$f":"Stückliste!AI887","v":0}]
["a","5.5",8,{"$f":"Stückliste!A888","v":0},{"$f":"Stückliste!E888","v":0},{"$f":"Stückliste!J888","v":0},{"$f":"Stückliste!O888","v":0},{"$f":"Stückliste!T888","v":0},{"$f":"Stückliste!W888","v":0},{"$f":"Stückliste!Z888","v":0},{"$f":"Stückliste!AC888","v":0},{"$f":"Stückliste!AF888","v":0},{"$f":"Stückliste!AI888","v":0}]
["a","5.5",8,{"$f":"Stückliste!A889","v":0},{"$f":"Stückliste!E889","v":0},{"$f":"Stückliste!J889","v":0},{"$f":"Stückliste!O889","v":0},{"$f":"Stückliste!T889","v":0},{"$f":"Stückliste!W889","v":0},{"$f":"Stückliste!Z889","v":0},{"$f":"Stückliste!AC889","v":0},{"$f":"Stückliste!AF889","v":0},{"$f":"Stückliste!AI889","v":0}]
[{"$f":"A836","v":"a"},{"$f":"B836","v":"5.5"},{"$f":"C836","v":8},{"$f":"Stückliste!A890","v":0},{"$f":"Stückliste!E890","v":0},{"$f":"Stückliste!J890","v":0},{"$f":"Stückliste!O890","v":0},{"$f":"Stückliste!T890","v":0},{"$f":"Stückliste!W890","v":0},{"$f":"Stückliste!Z890","v":0},{"$f":"Stückliste!AC890","v":0},{"$f":"Stückliste!AF890","v":0},{"$f":"Stückliste!AI890","v":0}]
["a","5.5",8,{"$f":"Stückliste!A891","v":0},{"$f":"Stückliste!E891","v":0},{"$f":"Stückliste!J891","v":0},{"$f":"Stückliste!O891","v":0},{"$f":"Stückliste!T891","v":0},{"$f":"Stückliste!W891","v":0},{"$f":"Stückliste!Z891","v":0},{"$f":"Stückliste!AC891","v":0},{"$f":"Stückliste!AF891","v":0},{"$f":"Stückliste!AI891","v":0}]
["a","5.5",8,{"$f":"Stückliste!A892","v":0},{"$f":"Stückliste!E892","v":0},{"$f":"Stückliste!J892","v":0},{"$f":"Stückliste!O892","v":0},{"$f":"Stückliste!T892","v":0},{"$f":"Stückliste!W892","v":0},{"$f":"Stückliste!Z892","v":0},{"$f":"Stückliste!AC892","v":0},{"$f":"Stückliste!AF892","v":0},{"$f":"Stückliste!AI892","v":0}]
["a","5.5",8,{"$f":"Stückliste!A893","v":0},{"$f":"Stückliste!E893","v":0},{"$f":"Stückliste!J893","v":0},{"$f":"Stückliste!O893","v":0},{"$f":"Stückliste!T893","v":0},{"$f":"Stückliste!W893","v":0},{"$f":"Stückliste!Z893","v":0},{"$f":"Stückliste!AC893","v":0},{"$f":"Stückliste!AF893","v":0},{"$f":"Stückliste!AI893","v":0}]
["a","5.5",8,{"$f":"Stückliste!A894","v":0},{"$f":"Stückliste!E894","v":0},{"$f":"Stückliste!J894","v":0},{"$f":"Stückliste!O894","v":0},{"$f":"Stückliste!T894","v":0},{"$f":"Stückliste!W894","v":0},{"$f":"Stückliste!Z894","v":0},{"$f":"Stückliste!AC894","v":0},{"$f":"Stückliste!AF894","v":0},{"$f":"Stückliste!AI894","v":0}]
["a","5.5",8,{"$f":"Stückliste!A895","v":0},{"$f":"Stückliste!E895","v":0},{"$f":"Stückliste!J895","v":0},{"$f":"Stückliste!O895","v":0},{"$f":"Stückliste!T895","v":0},{"$f":"Stückliste!W895","v":0},{"$f":"Stückliste!Z895","v":0},{"$f":"Stückliste!AC895","v":0},{"$f":"Stückliste!AF895","v":0},{"$f":"Stückliste!AI895","v":0}]
["a","5.5",8,{"$f":"Stückliste!A896","v":0},{"$f":"Stückliste!E896","v":0},{"$f":"Stückliste!J896","v":0},{"$f":"Stückliste!O896","v":0},{"$f":"Stückliste!T896","v":0},{"$f":"Stückliste!W896","v":0},{"$f":"Stückliste!Z896","v":0},{"$f":"Stückliste!AC896","v":0},{"$f":"Stückliste!AF896","v":0},{"$f":"Stückliste!AI896","v":0}]
["a","5.5",8,{"$f":"Stückliste!A897","v":0},{"$f":"Stückliste!E897","v":0},{"$f":"Stückliste!J897","v":0},{"$f":"Stückliste!O897","v":0},{"$f":"Stückliste!T897","v":0},{"$f":"Stückliste!W897","v":0},{"$f":"Stückliste!Z897","v":0},{"$f":"Stückliste!AC897","v":0},{"$f":"Stückliste!AF897","v":0},{"$f":"Stückliste!AI897","v":0}]
["a","5.5",8,{"$f":"Stückliste!A898","v":0},{"$f":"Stückliste!E898","v":0},{"$f":"Stückliste!J898","v":0},{"$f":"Stückliste!O898","v":0},{"$f":"Stückliste!T898","v":0},{"$f":"Stückliste!W898","v":0},{"$f":"Stückliste!Z898","v":0},{"$f":"Stückliste!AC898","v":0},{"$f":"Stückliste!AF898","v":0},{"$f":"Stückliste!AI898","v":0}]
["a","5.5",8,{"$f":"Stückliste!A899","v":0},{"$f":"Stückliste!E899","v":0},{"$f":"Stückliste!J899","v":0},{"$f":"Stückliste!O899","v":0},{"$f":"Stückliste!T899","v":0},{"$f":"Stückliste!W899","v":0},{"$f":"Stückliste!Z899","v":0},{"$f":"Stückliste!AC899","v":0},{"$f":"Stückliste!AF899","v":0},{"$f":"Stückliste!AI899","v":0}]
["a","5.5",8,{"$f":"Stückliste!A900","v":0},{"$f":"Stückliste!E900","v":0},{"$f":"Stückliste!J900","v":0},{"$f":"Stückliste!O900","v":0},{"$f":"Stückliste!T900","v":0},{"$f":"Stückliste!W900","v":0},{"$f":"Stückliste!Z900","v":0},{"$f":"Stückliste!AC900","v":0},{"$f":"Stückliste!AF900","v":0},{"$f":"Stückliste!AI900","v":0}]
["a","5.5",8,{"$f":"Stückliste!A901","v":0},{"$f":"Stückliste!E901","v":0},{"$f":"Stückliste!J901","v":0},{"$f":"Stückliste!O901","v":0},{"$f":"Stückliste!T901","v":0},{"$f":"Stückliste!W901","v":0},{"$f":"Stückliste!Z901","v":0},{"$f":"Stückliste!AC901","v":0},{"$f":"Stückliste!AF901","v":0},{"$f":"Stückliste!AI901","v":0}]
["a","5.5",8,{"$f":"Stückliste!A902","v":0},{"$f":"Stückliste!E902","v":0},{"$f":"Stückliste!J902","v":0},{"$f":"Stückliste!O902","v":0},{"$f":"Stückliste!T902","v":0},{"$f":"Stückliste!W902","v":0},{"$f":"Stückliste!Z902","v":0},{"$f":"Stückliste!AC902","v":0},{"$f":"Stückliste!AF902","v":0},{"$f":"Stückliste!AI902","v":0}]
["a","5.5",8,{"$f":"Stückliste!A903","v":0},{"$f":"Stückliste!E903","v":0},{"$f":"Stückliste!J903","v":0},{"$f":"Stückliste!O903","v":0},{"$f":"Stückliste!T903","v":0},{"$f":"Stückliste!W903","v":0},{"$f":"Stückliste!Z903","v":0},{"$f":"Stückliste!AC903","v":0},{"$f":"Stückliste!AF903","v":0},{"$f":"Stückliste!AI903","v":0}]
["a","5.5",8,{"$f":"Stückliste!A904","v":0},{"$f":"Stückliste!E904","v":0},{"$f":"Stückliste!J904","v":0},{"$f":"Stückliste!O904","v":0},{"$f":"Stückliste!T904","v":0},{"$f":"Stückliste!W904","v":0},{"$f":"Stückliste!Z904","v":0},{"$f":"Stückliste!AC904","v":0},{"$f":"Stückliste!AF904","v":0},{"$f":"Stückliste!AI904","v":0}]
["a","5.5",8,{"$f":"Stückliste!A905","v":0},{"$f":"Stückliste!E905","v":0},{"$f":"Stückliste!J905","v":0},{"$f":"Stückliste!O905","v":0},{"$f":"Stückliste!T905","v":0},{"$f":"Stückliste!W905","v":0},{"$f":"Stückliste!Z905","v":0},{"$f":"Stückliste!AC905","v":0},{"$f":"Stückliste!AF905","v":0},{"$f":"Stückliste!AI905","v":0}]
["a","5.5",8,{"$f":"Stückliste!A906","v":0},{"$f":"Stückliste!E906","v":0},{"$f":"Stückliste!J906","v":0},{"$f":"Stückliste!O906","v":0},{"$f":"Stückliste!T906","v":0},{"$f":"Stückliste!W906","v":0},{"$f":"Stückliste!Z906","v":0},{"$f":"Stückliste!AC906","v":0},{"$f":"Stückliste!AF906","v":0},{"$f":"Stückliste!AI906","v":0}]
["a","5.5",8,{"$f":"Stückliste!A907","v":0},{"$f":"Stückliste!E907","v":0},{"$f":"Stückliste!J907","v":0},{"$f":"Stückliste!O907","v":0},{"$f":"Stückliste!T907","v":0},{"$f":"Stückliste!W907","v":0},{"$f":"Stückliste!Z907","v":0},{"$f":"Stückliste!AC907","v":0},{"$f":"Stückliste!AF907","v":0},{"$f":"Stückliste!AI907","v":0}]
["a","5.5",8,{"$f":"Stückliste!A908","v":0},{"$f":"Stückliste!E908","v":0},{"$f":"Stückliste!J908","v":0},{"$f":"Stückliste!O908","v":0},{"$f":"Stückliste!T908","v":0},{"$f":"Stückliste!W908","v":0},{"$f":"Stückliste!Z908","v":0},{"$f":"Stückliste!AC908","v":0},{"$f":"Stückliste!AF908","v":0},{"$f":"Stückliste!AI908","v":0}]
["a","5.5",8,{"$f":"Stückliste!A909","v":0},{"$f":"Stückliste!E909","v":0},{"$f":"Stückliste!J909","v":0},{"$f":"Stückliste!O909","v":0},{"$f":"Stückliste!T909","v":0},{"$f":"Stückliste!W909","v":0},{"$f":"Stückliste!Z909","v":0},{"$f":"Stückliste!AC909","v":0},{"$f":"Stückliste!AF909","v":0},{"$f":"Stückliste!AI909","v":0}]
["a","5.5",8,{"$f":"Stückliste!A910","v":0},{"$f":"Stückliste!E910","v":0},{"$f":"Stückliste!J910","v":0},{"$f":"Stückliste!O910","v":0},{"$f":"Stückliste!T910","v":0},{"$f":"Stückliste!W910","v":0},{"$f":"Stückliste!Z910","v":0},{"$f":"Stückliste!AC910","v":0},{"$f":"Stückliste!AF910","v":0},{"$f":"Stückliste!AI910","v":0}]
["a","5.5",8,{"$f":"Stückliste!A911","v":0},{"$f":"Stückliste!E911","v":0},{"$f":"Stückliste!J911","v":0},{"$f":"Stückliste!O911","v":0},{"$f":"Stückliste!T911","v":0},{"$f":"Stückliste!W911","v":0},{"$f":"Stückliste!Z911","v":0},{"$f":"Stückliste!AC911","v":0},{"$f":"Stückliste!AF911","v":0},{"$f":"Stückliste!AI911","v":0}]
["a","5.5",8,{"$f":"Stückliste!A912","v":0},{"$f":"Stückliste!E912","v":0},{"$f":"Stückliste!J912","v":0},{"$f":"Stückliste!O912","v":0},{"$f":"Stückliste!T912","v":0},{"$f":"Stückliste!W912","v":0},{"$f":"Stückliste!Z912","v":0},{"$f":"Stückliste!AC912","v":0},{"$f":"Stückliste!AF912","v":0},{"$f":"Stückliste!AI912","v":0}]
["a","5.5",8,{"$f":"Stückliste!A913","v":0},{"$f":"Stückliste!E913","v":0},{"$f":"Stückliste!J913","v":0},{"$f":"Stückliste!O913","v":0},{"$f":"Stückliste!T913","v":0},{"$f":"Stückliste!W913","v":0},{"$f":"Stückliste!Z913","v":0},{"$f":"Stückliste!AC913","v":0},{"$f":"Stückliste!AF913","v":0},{"$f":"Stückliste!AI913","v":0}]
["a","5.5",8,{"$f":"Stückliste!A914","v":0},{"$f":"Stückliste!E914","v":0},{"$f":"Stückliste!J914","v":0},{"$f":"Stückliste!O914","v":0},{"$f":"Stückliste!T914","v":0},{"$f":"Stückliste!W914","v":0},{"$f":"Stückliste!Z914","v":0},{"$f":"Stückliste!AC914","v":0},{"$f":"Stückliste!AF914","v":0},{"$f":"Stückliste!AI914","v":0}]
["a","5.5",8,{"$f":"Stückliste!A915","v":0},{"$f":"Stückliste!E915","v":0},{"$f":"Stückliste!J915","v":0},{"$f":"Stückliste!O915","v":0},{"$f":"Stückliste!T915","v":0},{"$f":"Stückliste!W915","v":0},{"$f":"Stückliste!Z915","v":0},{"$f":"Stückliste!AC915","v":0},{"$f":"Stückliste!AF915","v":0},{"$f":"Stückliste!AI915","v":0}]
["a","5.5",8,{"$f":"Stückliste!A916","v":0},{"$f":"Stückliste!E916","v":0},{"$f":"Stückliste!J916","v":0},{"$f":"Stückliste!O916","v":0},{"$f":"Stückliste!T916","v":0},{"$f":"Stückliste!W916","v":0},{"$f":"Stückliste!Z916","v":0},{"$f":"Stückliste!AC916","v":0},{"$f":"Stückliste!AF916","v":0},{"$f":"Stückliste!AI916","v":0}]
["a","5.5",8,{"$f":"Stückliste!A917","v":0},{"$f":"Stückliste!E917","v":0},{"$f":"Stückliste!J917","v":0},{"$f":"Stückliste!O917","v":0},{"$f":"Stückliste!T917","v":0},{"$f":"Stückliste!W917","v":0},{"$f":"Stückliste!Z917","v":0},{"$f":"Stückliste!AC917","v":0},{"$f":"Stückliste!AF917","v":0},{"$f":"Stückliste!AI917","v":0}]
["a","5.5",8,{"$f":"Stückliste!A918","v":0},{"$f":"Stückliste!E918","v":0},{"$f":"Stückliste!J918","v":0},{"$f":"Stückliste!O918","v":0},{"$f":"Stückliste!T918","v":0},{"$f":"Stückliste!W918","v":0},{"$f":"Stückliste!Z918","v":0},{"$f":"Stückliste!AC918","v":0},{"$f":"Stückliste!AF918","v":0},{"$f":"Stückliste!AI918","v":0}]
["a","5.5",8,{"$f":"Stückliste!A919","v":0},{"$f":"Stückliste!E919","v":0},{"$f":"Stückliste!J919","v":0},{"$f":"Stückliste!O919","v":0},{"$f":"Stückliste!T919","v":0},{"$f":"Stückliste!W919","v":0},{"$f":"Stückliste!Z919","v":0},{"$f":"Stückliste!AC919","v":0},{"$f":"Stückliste!AF919","v":0},{"$f":"Stückliste!AI919","v":0}]
["a","5.5",8,{"$f":"Stückliste!A920","v":0},{"$f":"Stückliste!E920","v":0},{"$f":"Stückliste!J920","v":0},{"$f":"Stückliste!O920","v":0},{"$f":"Stückliste!T920","v":0},{"$f":"Stückliste!W920","v":0},{"$f":"Stückliste!Z920","v":0},{"$f":"Stückliste!AC920","v":0},{"$f":"Stückliste!AF920","v":0},{"$f":"Stückliste!AI920","v":0}]
["a","5.5",8,{"$f":"Stückliste!A921","v":0},{"$f":"Stückliste!E921","v":0},{"$f":"Stückliste!J921","v":0},{"$f":"Stückliste!O921","v":0},{"$f":"Stückliste!T921","v":0},{"$f":"Stückliste!W921","v":0},{"$f":"Stückliste!Z921","v":0},{"$f":"Stückliste!AC921","v":0},{"$f":"Stückliste!AF921","v":0},{"$f":"Stückliste!AI921","v":0}]
["a","5.5",8,{"$f":"Stückliste!A922","v":0},{"$f":"Stückliste!E922","v":0},{"$f":"Stückliste!J922","v":0},{"$f":"Stückliste!O922","v":0},{"$f":"Stückliste!T922","v":0},{"$f":"Stückliste!W922","v":0},{"$f":"Stückliste!Z922","v":0},{"$f":"Stückliste!AC922","v":0},{"$f":"Stückliste!AF922","v":0},{"$f":"Stückliste!AI922","v":0}]
["a","5.5",8,{"$f":"Stückliste!A923","v":0},{"$f":"Stückliste!E923","v":0},{"$f":"Stückliste!J923","v":0},{"$f":"Stückliste!O923","v":0},{"$f":"Stückliste!T923","v":0},{"$f":"Stückliste!W923","v":0},{"$f":"Stückliste!Z923","v":0},{"$f":"Stückliste!AC923","v":0},{"$f":"Stückliste!AF923","v":0},{"$f":"Stückliste!AI923","v":0}]
["a","5.5",8,{"$f":"Stückliste!A924","v":0},{"$f":"Stückliste!E924","v":0},{"$f":"Stückliste!J924","v":0},{"$f":"Stückliste!O924","v":0},{"$f":"Stückliste!T924","v":0},{"$f":"Stückliste!W924","v":0},{"$f":"Stückliste!Z924","v":0},{"$f":"Stückliste!AC924","v":0},{"$f":"Stückliste!AF924","v":0},{"$f":"Stückliste!AI924","v":0}]
["a","5.5",8,{"$f":"Stückliste!A925","v":0},{"$f":"Stückliste!E925","v":0},{"$f":"Stückliste!J925","v":0},{"$f":"Stückliste!O925","v":0},{"$f":"Stückliste!T925","v":0},{"$f":"Stückliste!W925","v":0},{"$f":"Stückliste!Z925","v":0},{"$f":"Stückliste!AC925","v":0},{"$f":"Stückliste!AF925","v":0},{"$f":"Stückliste!AI925","v":0}]
["a","5.5",8,{"$f":"Stückliste!A926","v":0},{"$f":"Stückliste!E926","v":0},{"$f":"Stückliste!J926","v":0},{"$f":"Stückliste!O926","v":0},{"$f":"Stückliste!T926","v":0},{"$f":"Stückliste!W926","v":0},{"$f":"Stückliste!Z926","v":0},{"$f":"Stückliste!AC926","v":0},{"$f":"Stückliste!AF926","v":0},{"$f":"Stückliste!AI926","v":0}]
["a","5.5",8,{"$f":"Stückliste!A927","v":0},{"$f":"Stückliste!E927","v":0},{"$f":"Stückliste!J927","v":0},{"$f":"Stückliste!O927","v":0},{"$f":"Stückliste!T927","v":0},{"$f":"Stückliste!W927","v":0},{"$f":"Stückliste!Z927","v":0},{"$f":"Stückliste!AC927","v":0},{"$f":"Stückliste!AF927","v":0},{"$f":"Stückliste!AI927","v":0}]
["a","5.5",8,{"$f":"Stückliste!A928","v":0},{"$f":"Stückliste!E928","v":0},{"$f":"Stückliste!J928","v":0},{"$f":"Stückliste!O928","v":0},{"$f":"Stückliste!T928","v":0},{"$f":"Stückliste!W928","v":0},{"$f":"Stückliste!Z928","v":0},{"$f":"Stückliste!AC928","v":0},{"$f":"Stückliste!AF928","v":0},{"$f":"Stückliste!AI928","v":0}]
["a","5.5",8,{"$f":"Stückliste!A929","v":0},{"$f":"Stückliste!E929","v":0},{"$f":"Stückliste!J929","v":0},{"$f":"Stückliste!O929","v":0},{"$f":"Stückliste!T929","v":0},{"$f":"Stückliste!W929","v":0},{"$f":"Stückliste!Z929","v":0},{"$f":"Stückliste!AC929","v":0},{"$f":"Stückliste!AF929","v":0},{"$f":"Stückliste!AI929","v":0}]
["a","5.5",8,{"$f":"Stückliste!A930","v":0},{"$f":"Stückliste!E930","v":0},{"$f":"Stückliste!J930","v":0},{"$f":"Stückliste!O930","v":0},{"$f":"Stückliste!T930","v":0},{"$f":"Stückliste!W930","v":0},{"$f":"Stückliste!Z930","v":0},{"$f":"Stückliste!AC930","v":0},{"$f":"Stückliste!AF930","v":0},{"$f":"Stückliste!AI930","v":0}]
["a","5.5",8,{"$f":"Stückliste!A931","v":0},{"$f":"Stückliste!E931","v":0},{"$f":"Stückliste!J931","v":0},{"$f":"Stückliste!O931","v":0},{"$f":"Stückliste!T931","v":0},{"$f":"Stückliste!W931","v":0},{"$f":"Stückliste!Z931","v":0},{"$f":"Stückliste!AC931","v":0},{"$f":"Stückliste!AF931","v":0},{"$f":"Stückliste!AI931","v":0}]
["a","5.5",8,{"$f":"Stückliste!A932","v":0},{"$f":"Stückliste!E932","v":0},{"$f":"Stückliste!J932","v":0},{"$f":"Stückliste!O932","v":0},{"$f":"Stückliste!T932","v":0},{"$f":"Stückliste!W932","v":0},{"$f":"Stückliste!Z932","v":0},{"$f":"Stückliste!AC932","v":0},{"$f":"Stückliste!AF932","v":0},{"$f":"Stückliste!AI932","v":0}]
["a","5.5",8,{"$f":"Stückliste!A933","v":0},{"$f":"Stückliste!E933","v":0},{"$f":"Stückliste!J933","v":0},{"$f":"Stückliste!O933","v":0},{"$f":"Stückliste!T933","v":0},{"$f":"Stückliste!W933","v":0},{"$f":"Stückliste!Z933","v":0},{"$f":"Stückliste!AC933","v":0},{"$f":"Stückliste!AF933","v":0},{"$f":"Stückliste!AI933","v":0}]
["a","5.5",8,{"$f":"Stückliste!A934","v":0},{"$f":"Stückliste!E934","v":0},{"$f":"Stückliste!J934","v":0},{"$f":"Stückliste!O934","v":0},{"$f":"Stückliste!T934","v":0},{"$f":"Stückliste!W934","v":0},{"$f":"Stückliste!Z934","v":0},{"$f":"Stückliste!AC934","v":0},{"$f":"Stückliste!AF934","v":0},{"$f":"Stückliste!AI934","v":0}]
["a","5.5",8,{"$f":"Stückliste!A935","v":0},{"$f":"Stückliste!E935","v":0},{"$f":"Stückliste!J935","v":0},{"$f":"Stückliste!O935","v":0},{"$f":"Stückliste!T935","v":0},{"$f":"Stückliste!W935","v":0},{"$f":"Stückliste!Z935","v":0},{"$f":"Stückliste!AC935","v":0},{"$f":"Stückliste!AF935","v":0},{"$f":"Stückliste!AI935","v":0}]
["a","5.5",8,{"$f":"Stückliste!A936","v":0},{"$f":"Stückliste!E936","v":0},{"$f":"Stückliste!J936","v":0},{"$f":"Stückliste!O936","v":0},{"$f":"Stückliste!T936","v":0},{"$f":"Stückliste!W936","v":0},{"$f":"Stückliste!Z936","v":0},{"$f":"Stückliste!AC936","v":0},{"$f":"Stückliste!AF936","v":0},{"$f":"Stückliste!AI936","v":0}]
["a","5.5",8,{"$f":"Stückliste!A937","v":0},{"$f":"Stückliste!E937","v":0},{"$f":"Stückliste!J937","v":0},{"$f":"Stückliste!O937","v":0},{"$f":"Stückliste!T937","v":0},{"$f":"Stückliste!W937","v":0},{"$f":"Stückliste!Z937","v":0},{"$f":"Stückliste!AC937","v":0},{"$f":"Stückliste!AF937","v":0},{"$f":"Stückliste!AI937","v":0}]
["a","5.5",8,{"$f":"Stückliste!A938","v":0},{"$f":"Stückliste!E938","v":0},{"$f":"Stückliste!J938","v":0},{"$f":"Stückliste!O938","v":0},{"$f":"Stückliste!T938","v":0},{"$f":"Stückliste!W938","v":0},{"$f":"Stückliste!Z938","v":0},{"$f":"Stückliste!AC938","v":0},{"$f":"Stückliste!AF938","v":0},{"$f":"Stückliste!AI938","v":0}]
["a","5.5",8,{"$f":"Stückliste!A939","v":0},{"$f":"Stückliste!E939","v":0},{"$f":"Stückliste!J939","v":0},{"$f":"Stückliste!O939","v":0},{"$f":"Stückliste!T939","v":0},{"$f":"Stückliste!W939","v":0},{"$f":"Stückliste!Z939","v":0},{"$f":"Stückliste!AC939","v":0},{"$f":"Stückliste!AF939","v":0},{"$f":"Stückliste!AI939","v":0}]
["a","5.5",8,{"$f":"Stückliste!A940","v":0},{"$f":"Stückliste!E940","v":0},{"$f":"Stückliste!J940","v":0},{"$f":"Stückliste!O940","v":0},{"$f":"Stückliste!T940","v":0},{"$f":"Stückliste!W940","v":0},{"$f":"Stückliste!Z940","v":0},{"$f":"Stückliste!AC940","v":0},{"$f":"Stückliste!AF940","v":0},{"$f":"Stückliste!AI940","v":0}]
["a","5.5",8,{"$f":"Stückliste!A941","v":0},{"$f":"Stückliste!E941","v":0},{"$f":"Stückliste!J941","v":0},{"$f":"Stückliste!O941","v":0},{"$f":"Stückliste!T941","v":0},{"$f":"Stückliste!W941","v":0},{"$f":"Stückliste!Z941","v":0},{"$f":"Stückliste!AC941","v":0},{"$f":"Stückliste!AF941","v":0},{"$f":"Stückliste!AI941","v":0}]
["a","5.5",8,{"$f":"Stückliste!A942","v":0},{"$f":"Stückliste!E942","v":0},{"$f":"Stückliste!J942","v":0},{"$f":"Stückliste!O942","v":0},{"$f":"Stückliste!T942","v":0},{"$f":"Stückliste!W942","v":0},{"$f":"Stückliste!Z942","v":0},{"$f":"Stückliste!AC942","v":0},{"$f":"Stückliste!AF942","v":0},{"$f":"Stückliste!AI942","v":0}]
["a","5.5",8,{"$f":"Stückliste!A943","v":0},{"$f":"Stückliste!E943","v":0},{"$f":"Stückliste!J943","v":0},{"$f":"Stückliste!O943","v":0},{"$f":"Stückliste!T943","v":0},{"$f":"Stückliste!W943","v":0},{"$f":"Stückliste!Z943","v":0},{"$f":"Stückliste!AC943","v":0},{"$f":"Stückliste!AF943","v":0},{"$f":"Stückliste!AI943","v":0}]
["a","5.5",8,{"$f":"Stückliste!A944","v":0},{"$f":"Stückliste!E944","v":0},{"$f":"Stückliste!J944","v":0},{"$f":"Stückliste!O944","v":0},{"$f":"Stückliste!T944","v":0},{"$f":"Stückliste!W944","v":0},{"$f":"Stückliste!Z944","v":0},{"$f":"Stückliste!AC944","v":0},{"$f":"Stückliste!AF944","v":0},{"$f":"Stückliste!AI944","v":0}]
["a","5.5",8,{"$f":"Stückliste!A945","v":0},{"$f":"Stückliste!E945","v":0},{"$f":"Stückliste!J945","v":0},{"$f":"Stückliste!O945","v":0},{"$f":"Stückliste!T945","v":0},{"$f":"Stückliste!W945","v":0},{"$f":"Stückliste!Z945","v":0},{"$f":"Stückliste!AC945","v":0},{"$f":"Stückliste!AF945","v":0},{"$f":"Stückliste!AI945","v":0}]
["a","5.5",8,{"$f":"Stückliste!A946","v":0},{"$f":"Stückliste!E946","v":0},{"$f":"Stückliste!J946","v":0},{"$f":"Stückliste!O946","v":0},{"$f":"Stückliste!T946","v":0},{"$f":"Stückliste!W946","v":0},{"$f":"Stückliste!Z946","v":0},{"$f":"Stückliste!AC946","v":0},{"$f":"Stückliste!AF946","v":0},{"$f":"Stückliste!AI946","v":0}]
["a","5.5",8,{"$f":"Stückliste!A947","v":0},{"$f":"Stückliste!E947","v":0},{"$f":"Stückliste!J947","v":0},{"$f":"Stückliste!O947","v":0},{"$f":"Stückliste!T947","v":0},{"$f":"Stückliste!W947","v":0},{"$f":"Stückliste!Z947","v":0},{"$f":"Stückliste!AC947","v":0},{"$f":"Stückliste!AF947","v":0},{"$f":"Stückliste!AI947","v":0}]
["a","5.5",8,{"$f":"Stückliste!A948","v":0},{"$f":"Stückliste!E948","v":0},{"$f":"Stückliste!J948","v":0},{"$f":"Stückliste!O948","v":0},{"$f":"Stückliste!T948","v":0},{"$f":"Stückliste!W948","v":0},{"$f":"Stückliste!Z948","v":0},{"$f":"Stückliste!AC948","v":0},{"$f":"Stückliste!AF948","v":0},{"$f":"Stückliste!AI948","v":0}]
["a","5.5",8,{"$f":"Stückliste!A949","v":0},{"$f":"Stückliste!E949","v":0},{"$f":"Stückliste!J949","v":0},{"$f":"Stückliste!O949","v":0},{"$f":"Stückliste!T949","v":0},{"$f":"Stückliste!W949","v":0},{"$f":"Stückliste!Z949","v":0},{"$f":"Stückliste!AC949","v":0},{"$f":"Stückliste!AF949","v":0},{"$f":"Stückliste!AI949","v":0}]
["a","5.5",8,{"$f":"Stückliste!A950","v":0},{"$f":"Stückliste!E950","v":0},{"$f":"Stückliste!J950","v":0},{"$f":"Stückliste!O950","v":0},{"$f":"Stückliste!T950","v":0},{"$f":"Stückliste!W950","v":0},{"$f":"Stückliste!Z950","v":0},{"$f":"Stückliste!AC950","v":0},{"$f":"Stückliste!AF950","v":0},{"$f":"Stückliste!AI950","v":0}]
["a","5.5",8,{"$f":"Stückliste!A951","v":0},{"$f":"Stückliste!E951","v":0},{"$f":"Stückliste!J951","v":0},{"$f":"Stückliste!O951","v":0},{"$f":"Stückliste!T951","v":0},{"$f":"Stückliste!W951","v":0},{"$f":"Stückliste!Z951","v":0},{"$f":"Stückliste!AC951","v":0},{"$f":"Stückliste!AF951","v":0},{"$f":"Stückliste!AI951","v":0}]
["a","5.5",8,{"$f":"Stückliste!A952","v":0},{"$f":"Stückliste!E952","v":0},{"$f":"Stückliste!J952","v":0},{"$f":"Stückliste!O952","v":0},{"$f":"Stückliste!T952","v":0},{"$f":"Stückliste!W952","v":0},{"$f":"Stückliste!Z952","v":0},{"$f":"Stückliste!AC952","v":0},{"$f":"Stückliste!AF952","v":0},{"$f":"Stückliste!AI952","v":0}]
["a","5.5",8,{"$f":"Stückliste!A953","v":0},{"$f":"Stückliste!E953","v":0},{"$f":"Stückliste!J953","v":0},{"$f":"Stückliste!O953","v":0},{"$f":"Stückliste!T953","v":0},{"$f":"Stückliste!W953","v":0},{"$f":"Stückliste!Z953","v":0},{"$f":"Stückliste!AC953","v":0},{"$f":"Stückliste!AF953","v":0},{"$f":"Stückliste!AI953","v":0}]
[{"$f":"A900","v":"a"},{"$f":"B900","v":"5.5"},{"$f":"C900","v":8},{"$f":"Stückliste!A954","v":0},{"$f":"Stückliste!E954","v":0},{"$f":"Stückliste!J954","v":0},{"$f":"Stückliste!O954","v":0},{"$f":"Stückliste!T954","v":0},{"$f":"Stückliste!W954","v":0},{"$f":"Stückliste!Z954","v":0},{"$f":"Stückliste!AC954","v":0},{"$f":"Stückliste!AF954","v":0},{"$f":"Stückliste!AI954","v":0}]
["a","5.5",8,{"$f":"Stückliste!A955","v":0},{"$f":"Stückliste!E955","v":0},{"$f":"Stückliste!J955","v":0},{"$f":"Stückliste!O955","v":0},{"$f":"Stückliste!T955","v":0},{"$f":"Stückliste!W955","v":0},{"$f":"Stückliste!Z955","v":0},{"$f":"Stückliste!AC955","v":0},{"$f":"Stückliste!AF955","v":0},{"$f":"Stückliste!AI955","v":0}]
["a","5.5",8,{"$f":"Stückliste!A956","v":0},{"$f":"Stückliste!E956","v":0},{"$f":"Stückliste!J956","v":0},{"$f":"Stückliste!O956","v":0},{"$f":"Stückliste!T956","v":0},{"$f":"Stückliste!W956","v":0},{"$f":"Stückliste!Z956","v":0},{"$f":"Stückliste!AC956","v":0},{"$f":"Stückliste!AF956","v":0},{"$f":"Stückliste!AI956","v":0}]
["a","5.5",8,{"$f":"Stückliste!A957","v":0},{"$f":"Stückliste!E957","v":0},{"$f":"Stückliste!J957","v":0},{"$f":"Stückliste!O957","v":0},{"$f":"Stückliste!T957","v":0},{"$f":"Stückliste!W957","v":0},{"$f":"Stückliste!Z957","v":0},{"$f":"Stückliste!AC957","v":0},{"$f":"Stückliste!AF957","v":0},{"$f":"Stückliste!AI957","v":0}]
["a","5.5",8,{"$f":"Stückliste!A958","v":0},{"$f":"Stückliste!E958","v":0},{"$f":"Stückliste!J958","v":0},{"$f":"Stückliste!O958","v":0},{"$f":"Stückliste!T958","v":0},{"$f":"Stückliste!W958","v":0},{"$f":"Stückliste!Z958","v":0},{"$f":"Stückliste!AC958","v":0},{"$f":"Stückliste!AF958","v":0},{"$f":"Stückliste!AI958","v":0}]
["a","5.5",8,{"$f":"Stückliste!A959","v":0},{"$f":"Stückliste!E959","v":0},{"$f":"Stückliste!J959","v":0},{"$f":"Stückliste!O959","v":0},{"$f":"Stückliste!T959","v":0},{"$f":"Stückliste!W959","v":0},{"$f":"Stückliste!Z959","v":0},{"$f":"Stückliste!AC959","v":0},{"$f":"Stückliste!AF959","v":0},{"$f":"Stückliste!AI959","v":0}]
["a","5.5",8,{"$f":"Stückliste!A960","v":0},{"$f":"Stückliste!E960","v":0},{"$f":"Stückliste!J960","v":0},{"$f":"Stückliste!O960","v":0},{"$f":"Stückliste!T960","v":0},{"$f":"Stückliste!W960","v":0},{"$f":"Stückliste!Z960","v":0},{"$f":"Stückliste!AC960","v":0},{"$f":"Stückliste!AF960","v":0},{"$f":"Stückliste!AI960","v":0}]
["a","5.5",8,{"$f":"Stückliste!A961","v":0},{"$f":"Stückliste!E961","v":0},{"$f":"Stückliste!J961","v":0},{"$f":"Stückliste!O961","v":0},{"$f":"Stückliste!T961","v":0},{"$f":"Stückliste!W961","v":0},{"$f":"Stückliste!Z961","v":0},{"$f":"Stückliste!AC961","v":0},{"$f":"Stückliste!AF961","v":0},{"$f":"Stückliste!AI961","v":0}]
["a","5.5",8,{"$f":"Stückliste!A962","v":0},{"$f":"Stückliste!E962","v":0},{"$f":"Stückliste!J962","v":0},{"$f":"Stückliste!O962","v":0},{"$f":"Stückliste!T962","v":0},{"$f":"Stückliste!W962","v":0},{"$f":"Stückliste!Z962","v":0},{"$f":"Stückliste!AC962","v":0},{"$f":"Stückliste!AF962","v":0},{"$f":"Stückliste!AI962","v":0}]
["a","5.5",8,{"$f":"Stückliste!A963","v":0},{"$f":"Stückliste!E963","v":0},{"$f":"Stückliste!J963","v":0},{"$f":"Stückliste!O963","v":0},{"$f":"Stückliste!T963","v":0},{"$f":"Stückliste!W963","v":0},{"$f":"Stückliste!Z963","v":0},{"$f":"Stückliste!AC963","v":0},{"$f":"Stückliste!AF963","v":0},{"$f":"Stückliste!AI963","v":0}]
["a","5.5",8,{"$f":"Stückliste!A964","v":0},{"$f":"Stückliste!E964","v":0},{"$f":"Stückliste!J964","v":0},{"$f":"Stückliste!O964","v":0},{"$f":"Stückliste!T964","v":0},{"$f":"Stückliste!W964","v":0},{"$f":"Stückliste!Z964","v":0},{"$f":"Stückliste!AC964","v":0},{"$f":"Stückliste!AF964","v":0},{"$f":"Stückliste!AI964","v":0}]
["a","5.5",8,{"$f":"Stückliste!A965","v":0},{"$f":"Stückliste!E965","v":0},{"$f":"Stückliste!J965","v":0},{"$f":"Stückliste!O965","v":0},{"$f":"Stückliste!T965","v":0},{"$f":"Stückliste!W965","v":0},{"$f":"Stückliste!Z965","v":0},{"$f":"Stückliste!AC965","v":0},{"$f":"Stückliste!AF965","v":0},{"$f":"Stückliste!AI965","v":0}]
["a","5.5",8,{"$f":"Stückliste!A966","v":0},{"$f":"Stückliste!E966","v":0},{"$f":"Stückliste!J966","v":0},{"$f":"Stückliste!O966","v":0},{"$f":"Stückliste!T966","v":0},{"$f":"Stückliste!W966","v":0},{"$f":"Stückliste!Z966","v":0},{"$f":"Stückliste!AC966","v":0},{"$f":"Stückliste!AF966","v":0},{"$f":"Stückliste!AI966","v":0}]
["a","5.5",8,{"$f":"Stückliste!A967","v":0},{"$f":"Stückliste!E967","v":0},{"$f":"Stückliste!J967","v":0},{"$f":"Stückliste!O967","v":0},{"$f":"Stückliste!T967","v":0},{"$f":"Stückliste!W967","v":0},{"$f":"Stückliste!Z967","v":0},{"$f":"Stückliste!AC967","v":0},{"$f":"Stückliste!AF967","v":0},{"$f":"Stückliste!AI967","v":0}]
["a","5.5",8,{"$f":"Stückliste!A968","v":0},{"$f":"Stückliste!E968","v":0},{"$f":"Stückliste!J968","v":0},{"$f":"Stückliste!O968","v":0},{"$f":"Stückliste!T968","v":0},{"$f":"Stückliste!W968","v":0},{"$f":"Stückliste!Z968","v":0},{"$f":"Stückliste!AC968","v":0},{"$f":"Stückliste!AF968","v":0},{"$f":"Stückliste!AI968","v":0}]
["a","5.5",8,{"$f":"Stückliste!A969","v":0},{"$f":"Stückliste!E969","v":0},{"$f":"Stückliste!J969","v":0},{"$f":"Stückliste!O969","v":0},{"$f":"Stückliste!T969","v":0},{"$f":"Stückliste!W969","v":0},{"$f":"Stückliste!Z969","v":0},{"$f":"Stückliste!AC969","v":0},{"$f":"Stückliste!AF969","v":0},{"$f":"Stückliste!AI969","v":0}]
["a","5.5",8,{"$f":"Stückliste!A970","v":0},{"$f":"Stückliste!E970","v":0},{"$f":"Stückliste!J970","v":0},{"$f":"Stückliste!O970","v":0},{"$f":"Stückliste!T970","v":0},{"$f":"Stückliste!W970","v":0},{"$f":"Stückliste!Z970","v":0},{"$f":"Stückliste!AC970","v":0},{"$f":"Stückliste!AF970","v":0},{"$f":"Stückliste!AI970","v":0}]
["a","5.5",8,{"$f":"Stückliste!A971","v":0},{"$f":"Stückliste!E971","v":0},{"$f":"Stückliste!J971","v":0},{"$f":"Stückliste!O971","v":0},{"$f":"Stückliste!T971","v":0},{"$f":"Stückliste!W971","v":0},{"$f":"Stückliste!Z971","v":0},{"$f":"Stückliste!AC971","v":0},{"$f":"Stückliste!AF971","v":0},{"$f":"Stückliste!AI971","v":0}]
["a","5.5",8,{"$f":"Stückliste!A972","v":0},{"$f":"Stückliste!E972","v":0},{"$f":"Stückliste!J972","v":0},{"$f":"Stückliste!O972","v":0},{"$f":"Stückliste!T972","v":0},{"$f":"Stückliste!W972","v":0},{"$f":"Stückliste!Z972","v":0},{"$f":"Stückliste!AC972","v":0},{"$f":"Stückliste!AF972","v":0},{"$f":"Stückliste!AI972","v":0}]
["a","5.5",8,{"$f":"Stückliste!A973","v":0},{"$f":"Stückliste!E973","v":0},{"$f":"Stückliste!J973","v":0},{"$f":"Stückliste!O973","v":0},{"$f":"Stückliste!T973","v":0},{"$f":"Stückliste!W973","v":0},{"$f":"Stückliste!Z973","v":0},{"$f":"Stückliste!AC973","v":0},{"$f":"Stückliste!AF973","v":0},{"$f":"Stückliste!AI973","v":0}]
["a","5.5",8,{"$f":"Stückliste!A974","v":0},{"$f":"Stückliste!E974","v":0},{"$f":"Stückliste!J974","v":0},{"$f":"Stückliste!O974","v":0},{"$f":"Stückliste!T974","v":0},{"$f":"Stückliste!W974","v":0},{"$f":"Stückliste!Z974","v":0},{"$f":"Stückliste!AC974","v":0},{"$f":"Stückliste!AF974","v":0},{"$f":"Stückliste!AI974","v":0}]
["a","5.5",8,{"$f":"Stückliste!A975","v":0},{"$f":"Stückliste!E975","v":0},{"$f":"Stückliste!J975","v":0},{"$f":"Stückliste!O975","v":0},{"$f":"Stückliste!T975","v":0},{"$f":"Stückliste!W975","v":0},{"$f":"Stückliste!Z975","v":0},{"$f":"Stückliste!AC975","v":0},{"$f":"Stückliste!AF975","v":0},{"$f":"Stückliste!AI975","v":0}]
["a","5.5",8,{"$f":"Stückliste!A976","v":0},{"$f":"Stückliste!E976","v":0},{"$f":"Stückliste!J976","v":0},{"$f":"Stückliste!O976","v":0},{"$f":"Stückliste!T976","v":0},{"$f":"Stückliste!W976","v":0},{"$f":"Stückliste!Z976","v":0},{"$f":"Stückliste!AC976","v":0},{"$f":"Stückliste!AF976","v":0},{"$f":"Stückliste!AI976","v":0}]
["a","5.5",8,{"$f":"Stückliste!A977","v":0},{"$f":"Stückliste!E977","v":0},{"$f":"Stückliste!J977","v":0},{"$f":"Stückliste!O977","v":0},{"$f":"Stückliste!T977","v":0},{"$f":"Stückliste!W977","v":0},{"$f":"Stückliste!Z977","v":0},{"$f":"Stückliste!AC977","v":0},{"$f":"Stückliste!AF977","v":0},{"$f":"Stückliste!AI977","v":0}]
["a","5.5",8,{"$f":"Stückliste!A978","v":0},{"$f":"Stückliste!E978","v":0},{"$f":"Stückliste!J978","v":0},{"$f":"Stückliste!O978","v":0},{"$f":"Stückliste!T978","v":0},{"$f":"Stückliste!W978","v":0},{"$f":"Stückliste!Z978","v":0},{"$f":"Stückliste!AC978","v":0},{"$f":"Stückliste!AF978","v":0},{"$f":"Stückliste!AI978","v":0}]
["a","5.5",8,{"$f":"Stückliste!A979","v":0},{"$f":"Stückliste!E979","v":0},{"$f":"Stückliste!J979","v":0},{"$f":"Stückliste!O979","v":0},{"$f":"Stückliste!T979","v":0},{"$f":"Stückliste!W979","v":0},{"$f":"Stückliste!Z979","v":0},{"$f":"Stückliste!AC979","v":0},{"$f":"Stückliste!AF979","v":0},{"$f":"Stückliste!AI979","v":0}]
["a","5.5",8,{"$f":"Stückliste!A980","v":0},{"$f":"Stückliste!E980","v":0},{"$f":"Stückliste!J980","v":0},{"$f":"Stückliste!O980","v":0},{"$f":"Stückliste!T980","v":0},{"$f":"Stückliste!W980","v":0},{"$f":"Stückliste!Z980","v":0},{"$f":"Stückliste!AC980","v":0},{"$f":"Stückliste!AF980","v":0},{"$f":"Stückliste!AI980","v":0}]
["a","5.5",8,{"$f":"Stückliste!A981","v":0},{"$f":"Stückliste!E981","v":0},{"$f":"Stückliste!J981","v":0},{"$f":"Stückliste!O981","v":0},{"$f":"Stückliste!T981","v":0},{"$f":"Stückliste!W981","v":0},{"$f":"Stückliste!Z981","v":0},{"$f":"Stückliste!AC981","v":0},{"$f":"Stückliste!AF981","v":0},{"$f":"Stückliste!AI981","v":0}]
["a","5.5",8,{"$f":"Stückliste!A982","v":0},{"$f":"Stückliste!E982","v":0},{"$f":"Stückliste!J982","v":0},{"$f":"Stückliste!O982","v":0},{"$f":"Stückliste!T982","v":0},{"$f":"Stückliste!W982","v":0},{"$f":"Stückliste!Z982","v":0},{"$f":"Stückliste!AC982","v":0},{"$f":"Stückliste!AF982","v":0},{"$f":"Stückliste!AI982","v":0}]
["a","5.5",8,{"$f":"Stückliste!A983","v":0},{"$f":"Stückliste!E983","v":0},{"$f":"Stückliste!J983","v":0},{"$f":"Stückliste!O983","v":0},{"$f":"Stückliste!T983","v":0},{"$f":"Stückliste!W983","v":0},{"$f":"Stückliste!Z983","v":0},{"$f":"Stückliste!AC983","v":0},{"$f":"Stückliste!AF983","v":0},{"$f":"Stückliste!AI983","v":0}]
["a","5.5",8,{"$f":"Stückliste!A984","v":0},{"$f":"Stückliste!E984","v":0},{"$f":"Stückliste!J984","v":0},{"$f":"Stückliste!O984","v":0},{"$f":"Stückliste!T984","v":0},{"$f":"Stückliste!W984","v":0},{"$f":"Stückliste!Z984","v":0},{"$f":"Stückliste!AC984","v":0},{"$f":"Stückliste!AF984","v":0},{"$f":"Stückliste!AI984","v":0}]
["a","5.5",8,{"$f":"Stückliste!A985","v":0},{"$f":"Stückliste!E985","v":0},{"$f":"Stückliste!J985","v":0},{"$f":"Stückliste!O985","v":0},{"$f":"Stückliste!T985","v":0},{"$f":"Stückliste!W985","v":0},{"$f":"Stückliste!Z985","v":0},{"$f":"Stückliste!AC985","v":0},{"$f":"Stückliste!AF985","v":0},{"$f":"Stückliste!AI985","v":0}]
["a","5.5",8,{"$f":"Stückliste!A986","v":0},{"$f":"Stückliste!E986","v":0},{"$f":"Stückliste!J986","v":0},{"$f":"Stückliste!O986","v":0},{"$f":"Stückliste!T986","v":0},{"$f":"Stückliste!W986","v":0},{"$f":"Stückliste!Z986","v":0},{"$f":"Stückliste!AC986","v":0},{"$f":"Stückliste!AF986","v":0},{"$f":"Stückliste!AI986","v":0}]
["a","5.5",8,{"$f":"Stückliste!A987","v":0},{"$f":"Stückliste!E987","v":0},{"$f":"Stückliste!J987","v":0},{"$f":"Stückliste!O987","v":0},{"$f":"Stückliste!T987","v":0},{"$f":"Stückliste!W987","v":0},{"$f":"Stückliste!Z987","v":0},{"$f":"Stückliste!AC987","v":0},{"$f":"Stückliste!AF987","v":0},{"$f":"Stückliste!AI987","v":0}]
["a","5.5",8,{"$f":"Stückliste!A988","v":0},{"$f":"Stückliste!E988","v":0},{"$f":"Stückliste!J988","v":0},{"$f":"Stückliste!O988","v":0},{"$f":"Stückliste!T988","v":0},{"$f":"Stückliste!W988","v":0},{"$f":"Stückliste!Z988","v":0},{"$f":"Stückliste!AC988","v":0},{"$f":"Stückliste!AF988","v":0},{"$f":"Stückliste!AI988","v":0}]
["a","5.5",8,{"$f":"Stückliste!A989","v":0},{"$f":"Stückliste!E989","v":0},{"$f":"Stückliste!J989","v":0},{"$f":"Stückliste!O989","v":0},{"$f":"Stückliste!T989","v":0},{"$f":"Stückliste!W989","v":0},{"$f":"Stückliste!Z989","v":0},{"$f":"Stückliste!AC989","v":0},{"$f":"Stückliste!AF989","v":0},{"$f":"Stückliste!AI989","v":0}]
["a","5.5",8,{"$f":"Stückliste!A990","v":0},{"$f":"Stückliste!E990","v":0},{"$f":"Stückliste!J990","v":0},{"$f":"Stückliste!O990","v":0},{"$f":"Stückliste!T990","v":0},{"$f":"Stückliste!W990","v":0},{"$f":"Stückliste!Z990","v":0},{"$f":"Stückliste!AC990","v":0},{"$f":"Stückliste!AF990","v":0},{"$f":"Stückliste!AI990","v":0}]
["a","5.5",8,{"$f":"Stückliste!A991","v":0},{"$f":"Stückliste!E991","v":0},{"$f":"Stückliste!J991","v":0},{"$f":"Stückliste!O991","v":0},{"$f":"Stückliste!T991","v":0},{"$f":"Stückliste!W991","v":0},{"$f":"Stückliste!Z991","v":0},{"$f":"Stückliste!AC991","v":0},{"$f":"Stückliste!AF991","v":0},{"$f":"Stückliste!AI991","v":0}]
["a","5.5",8,{"$f":"Stückliste!A992","v":0},{"$f":"Stückliste!E992","v":0},{"$f":"Stückliste!J992","v":0},{"$f":"Stückliste!O992","v":0},{"$f":"Stückliste!T992","v":0},{"$f":"Stückliste!W992","v":0},{"$f":"Stückliste!Z992","v":0},{"$f":"Stückliste!AC992","v":0},{"$f":"Stückliste!AF992","v":0},{"$f":"Stückliste!AI992","v":0}]
["a","5.5",8,{"$f":"Stückliste!A993","v":0},{"$f":"Stückliste!E993","v":0},{"$f":"Stückliste!J993","v":0},{"$f":"Stückliste!O993","v":0},{"$f":"Stückliste!T993","v":0},{"$f":"Stückliste!W993","v":0},{"$f":"Stückliste!Z993","v":0},{"$f":"Stückliste!AC993","v":0},{"$f":"Stückliste!AF993","v":0},{"$f":"Stückliste!AI993","v":0}]
["a","5.5",8,{"$f":"Stückliste!A994","v":0},{"$f":"Stückliste!E994","v":0},{"$f":"Stückliste!J994","v":0},{"$f":"Stückliste!O994","v":0},{"$f":"Stückliste!T994","v":0},{"$f":"Stückliste!W994","v":0},{"$f":"Stückliste!Z994","v":0},{"$f":"Stückliste!AC994","v":0},{"$f":"Stückliste!AF994","v":0},{"$f":"Stückliste!AI994","v":0}]
["a","5.5",8,{"$f":"Stückliste!A995","v":0},{"$f":"Stückliste!E995","v":0},{"$f":"Stückliste!J995","v":0},{"$f":"Stückliste!O995","v":0},{"$f":"Stückliste!T995","v":0},{"$f":"Stückliste!W995","v":0},{"$f":"Stückliste!Z995","v":0},{"$f":"Stückliste!AC995","v":0},{"$f":"Stückliste!AF995","v":0},{"$f":"Stückliste!AI995","v":0}]
["a","5.5",8,{"$f":"Stückliste!A996","v":0},{"$f":"Stückliste!E996","v":0},{"$f":"Stückliste!J996","v":0},{"$f":"Stückliste!O996","v":0},{"$f":"Stückliste!T996","v":0},{"$f":"Stückliste!W996","v":0},{"$f":"Stückliste!Z996","v":0},{"$f":"Stückliste!AC996","v":0},{"$f":"Stückliste!AF996","v":0},{"$f":"Stückliste!AI996","v":0}]
["a","5.5",8,{"$f":"Stückliste!A997","v":0},{"$f":"Stückliste!E997","v":0},{"$f":"Stückliste!J997","v":0},{"$f":"Stückliste!O997","v":0},{"$f":"Stückliste!T997","v":0},{"$f":"Stückliste!W997","v":0},{"$f":"Stückliste!Z997","v":0},{"$f":"Stückliste!AC997","v":0},{"$f":"Stückliste!AF997","v":0},{"$f":"Stückliste!AI997","v":0}]
["a","5.5",8,{"$f":"Stückliste!A998","v":0},{"$f":"Stückliste!E998","v":0},{"$f":"Stückliste!J998","v":0},{"$f":"Stückliste!O998","v":0},{"$f":"Stückliste!T998","v":0},{"$f":"Stückliste!W998","v":0},{"$f":"Stückliste!Z998","v":0},{"$f":"Stückliste!AC998","v":0},{"$f":"Stückliste!AF998","v":0},{"$f":"Stückliste!AI998","v":0}]
["a","5.5",8,{"$f":"Stückliste!A999","v":0},{"$f":"Stückliste!E999","v":0},{"$f":"Stückliste!J999","v":0},{"$f":"Stückliste!O999","v":0},{"$f":"Stückliste!T999","v":0},{"$f":"Stückliste!W999","v":0},{"$f":"Stückliste!Z999","v":0},{"$f":"Stückliste!AC999","v":0},{"$f":"Stückliste!AF999","v":0},{"$f":"Stückliste!AI999","v":0}]
["a","5.5",8,{"$f":"Stückliste!A1000","v":0},{"$f":"Stückliste!E1000","v":0},{"$f":"Stückliste!J1000","v":0},{"$f":"Stückliste!O1000","v":0},{"$f":"Stückliste!T1000","v":0},{"$f":"Stückliste!W1000","v":0},{"$f":"Stückliste!Z1000","v":0},{"$f":"Stückliste!AC1000","v":0},{"$f":"Stückliste!AF1000","v":0},{"$f":"Stückliste!AI1000","v":0}]
["a","5.5",8,{"$f":"Stückliste!A1001","v":0},{"$f":"Stückliste!E1001","v":0},{"$f":"Stückliste!J1001","v":0},{"$f":"Stückliste!O1001","v":0},{"$f":"Stückliste!T1001","v":0},{"$f":"Stückliste!W1001","v":0},{"$f":"Stückliste!Z1001","v":0},{"$f":"Stückliste!AC1001","v":0},{"$f":"Stückliste!AF1001","v":0},{"$f":"Stückliste!AI1001","v":0}]
["a","5.5",8,{"$f":"Stückliste!A1002","v":0},{"$f":"Stückliste!E1002","v":0},{"$f":"Stückliste!J1002","v":0},{"$f":"Stückliste!O1002","v":0},{"$f":"Stückliste!T1002","v":0},{"$f":"Stückliste!W1002","v":0},{"$f":"Stückliste!Z1002","v":0},{"$f":"Stückliste!AC1002","v":0},{"$f":"Stückliste!AF1002","v":0},{"$f":"Stückliste!AI1002","v":0}]
["a","5.5",8,{"$f":"Stückliste!A1003","v":0},{"$f":"Stückliste!E1003","v":0},{"$f":"Stückliste!J1003","v":0},{"$f":"Stückliste!O1003","v":0},{"$f":"Stückliste!T1003","v":0},{"$f":"Stückliste!W1003","v":0},{"$f":"Stückliste!Z1003","v":0},{"$f":"Stückliste!AC1003","v":0},{"$f":"Stückliste!AF1003","v":0},{"$f":"Stückliste!AI1003","v":0}]
["a","5.5",8,{"$f":"Stückliste!A1004","v":0},{"$f":"Stückliste!E1004","v":0},{"$f":"Stückliste!J1004","v":0},{"$f":"Stückliste!O1004","v":0},{"$f":"Stückliste!T1004","v":0},{"$f":"Stückliste!W1004","v":0},{"$f":"Stückliste!Z1004","v":0},{"$f":"Stückliste!AC1004","v":0},{"$f":"Stückliste!AF1004","v":0},{"$f":"Stückliste!AI1004","v":0}]
["a","5.5",8,{"$f":"Stückliste!A1005","v":0},{"$f":"Stückliste!E1005","v":0},{"$f":"Stückliste!J1005","v":0},{"$f":"Stückliste!O1005","v":0},{"$f":"Stückliste!T1005","v":0},{"$f":"Stückliste!W1005","v":0},{"$f":"Stückliste!Z1005","v":0},{"$f":"Stückliste!AC1005","v":0},{"$f":"Stückliste!AF1005","v":0},{"$f":"Stückliste!AI1005","v":0}]
["a","5.5",8,{"$f":"Stückliste!A1006","v":0},{"$f":"Stückliste!E1006","v":0},{"$f":"Stückliste!J1006","v":0},{"$f":"Stückliste!O1006","v":0},{"$f":"Stückliste!T1006","v":0},{"$f":"Stückliste!W1006","v":0},{"$f":"Stückliste!Z1006","v":0},{"$f":"Stückliste!AC1006","v":0},{"$f":"Stückliste!AF1006","v":0},{"$f":"Stückliste!AI1006","v":0}]
["a","5.5",8,{"$f":"Stückliste!A1007","v":0},{"$f":"Stückliste!E1007","v":0},{"$f":"Stückliste!J1007","v":0},{"$f":"Stückliste!O1007","v":0},{"$f":"Stückliste!T1007","v":0},{"$f":"Stückliste!W1007","v":0},{"$f":"Stückliste!Z1007","v":0},{"$f":"Stückliste!AC1007","v":0},{"$f":"Stückliste!AF1007","v":0},{"$f":"Stückliste!AI1007","v":0}]
["a","5.5",8,{"$f":"Stückliste!A1008","v":0},{"$f":"Stückliste!E1008","v":0},{"$f":"Stückliste!J1008","v":0},{"$f":"Stückliste!O1008","v":0},{"$f":"Stückliste!T1008","v":0},{"$f":"Stückliste!W1008","v":0},{"$f":"Stückliste!Z1008","v":0},{"$f":"Stückliste!AC1008","v":0},{"$f":"Stückliste!AF1008","v":0},{"$f":"Stückliste!AI1008","v":0}]
["a","5.5",8,{"$f":"Stückliste!A1009","v":0},{"$f":"Stückliste!E1009","v":0},{"$f":"Stückliste!J1009","v":0},{"$f":"Stückliste!O1009","v":0},{"$f":"Stückliste!T1009","v":0},{"$f":"Stückliste!W1009","v":0},{"$f":"Stückliste!Z1009","v":0},{"$f":"Stückliste!AC1009","v":0},{"$f":"Stückliste!AF1009","v":0},{"$f":"Stückliste!AI1009","v":0}]
["a","5.5",8,{"$f":"Stückliste!A1010","v":0},{"$f":"Stückliste!E1010","v":0},{"$f":"Stückliste!J1010","v":0},{"$f":"Stückliste!O1010","v":0},{"$f":"Stückliste!T1010","v":0},{"$f":"Stückliste!W1010","v":0},{"$f":"Stückliste!Z1010","v":0},{"$f":"Stückliste!AC1010","v":0},{"$f":"Stückliste!AF1010","v":0},{"$f":"Stückliste!AI1010","v":0}]
["a","5.5",8,{"$f":"Stückliste!A1011","v":0},{"$f":"Stückliste!E1011","v":0},{"$f":"Stückliste!J1011","v":0},{"$f":"Stückliste!O1011","v":0},{"$f":"Stückliste!T1011","v":0},{"$f":"Stückliste!W1011","v":0},{"$f":"Stückliste!Z1011","v":0},{"$f":"Stückliste!AC1011","v":0},{"$f":"Stückliste!AF1011","v":0},{"$f":"Stückliste!AI1011","v":0}]
["a","5.5",8,{"$f":"Stückliste!A1012","v":0},{"$f":"Stückliste!E1012","v":0},{"$f":"Stückliste!J1012","v":0},{"$f":"Stückliste!O1012","v":0},{"$f":"Stückliste!T1012","v":0},{"$f":"Stückliste!W1012","v":0},{"$f":"Stückliste!Z1012","v":0},{"$f":"Stückliste!AC1012","v":0},{"$f":"Stückliste!AF1012","v":0},{"$f":"Stückliste!AI1012","v":0}]
["a","5.5",8,{"$f":"Stückliste!A1013","v":0},{"$f":"Stückliste!E1013","v":0},{"$f":"Stückliste!J1013","v":0},{"$f":"Stückliste!O1013","v":0},{"$f":"Stückliste!T1013","v":0},{"$f":"Stückliste!W1013","v":0},{"$f":"Stückliste!Z1013","v":0},{"$f":"Stückliste!AC1013","v":0},{"$f":"Stückliste!AF1013","v":0},{"$f":"Stückliste!AI1013","v":0}]
["a","5.5",8,{"$f":"Stückliste!A1014","v":0},{"$f":"Stückliste!E1014","v":0},{"$f":"Stückliste!J1014","v":0},{"$f":"Stückliste!O1014","v":0},{"$f":"Stückliste!T1014","v":0},{"$f":"Stückliste!W1014","v":0},{"$f":"Stückliste!Z1014","v":0},{"$f":"Stückliste!AC1014","v":0},{"$f":"Stückliste!AF1014","v":0},{"$f":"Stückliste!AI1014","v":0}]
["a","5.5",8,{"$f":"Stückliste!A1015","v":0},{"$f":"Stückliste!E1015","v":0},{"$f":"Stückliste!J1015","v":0},{"$f":"Stückliste!O1015","v":0},{"$f":"Stückliste!T1015","v":0},{"$f":"Stückliste!W1015","v":0},{"$f":"Stückliste!Z1015","v":0},{"$f":"Stückliste!AC1015","v":0},{"$f":"Stückliste!AF1015","v":0},{"$f":"Stückliste!AI1015","v":0}]
["a","5.5",8,{"$f":"Stückliste!A1016","v":0},{"$f":"Stückliste!E1016","v":0},{"$f":"Stückliste!J1016","v":0},{"$f":"Stückliste!O1016","v":0},{"$f":"Stückliste!T1016","v":0},{"$f":"Stückliste!W1016","v":0},{"$f":"Stückliste!Z1016","v":0},{"$f":"Stückliste!AC1016","v":0},{"$f":"Stückliste!AF1016","v":0},{"$f":"Stückliste!AI1016","v":0}]
["a","5.5",8,{"$f":"Stückliste!A1017","v":0},{"$f":"Stückliste!E1017","v":0},{"$f":"Stückliste!J1017","v":0},{"$f":"Stückliste!O1017","v":0},{"$f":"Stückliste!T1017","v":0},{"$f":"Stückliste!W1017","v":0},{"$f":"Stückliste!Z1017","v":0},{"$f":"Stückliste!AC1017","v":0},{"$f":"Stückliste!AF1017","v":0},{"$f":"Stückliste!AI1017","v":0}]
[{"$f":"A964","v":"a"},{"$f":"B964","v":"5.5"},{"$f":"C964","v":8},{"$f":"Stückliste!A1018","v":0},{"$f":"Stückliste!E1018","v":0},{"$f":"Stückliste!J1018","v":0},{"$f":"Stückliste!O1018","v":0},{"$f":"Stückliste!T1018","v":0},{"$f":"Stückliste!W1018","v":0},{"$f":"Stückliste!Z1018","v":0},{"$f":"Stückliste!AC1018","v":0},{"$f":"Stückliste!AF1018","v":0},{"$f":"Stückliste!AI1018","v":0}]
["a","5.5",8,{"$f":"Stückliste!A1019","v":0},{"$f":"Stückliste!E1019","v":0},{"$f":"Stückliste!J1019","v":0},{"$f":"Stückliste!O1019","v":0},{"$f":"Stückliste!T1019","v":0},{"$f":"Stückliste!W1019","v":0},{"$f":"Stückliste!Z1019","v":0},{"$f":"Stückliste!AC1019","v":0},{"$f":"Stückliste!AF1019","v":0},{"$f":"Stückliste!AI1019","v":0}]
["a","5.5",8,{"$f":"Stückliste!A1020","v":0},{"$f":"Stückliste!E1020","v":0},{"$f":"Stückliste!J1020","v":0},{"$f":"Stückliste!O1020","v":0},{"$f":"Stückliste!T1020","v":0},{"$f":"Stückliste!W1020","v":0},{"$f":"Stückliste!Z1020","v":0},{"$f":"Stückliste!AC1020","v":0},{"$f":"Stückliste!AF1020","v":0},{"$f":"Stückliste!AI1020","v":0}]
["a","5.5",8,{"$f":"Stückliste!A1021","v":0},{"$f":"Stückliste!E1021","v":0},{"$f":"Stückliste!J1021","v":0},{"$f":"Stückliste!O1021","v":0},{"$f":"Stückliste!T1021","v":0},{"$f":"Stückliste!W1021","v":0},{"$f":"Stückliste!Z1021","v":0},{"$f":"Stückliste!AC1021","v":0},{"$f":"Stückliste!AF1021","v":0},{"$f":"Stückliste!AI1021","v":0}]
["a","5.5",8,{"$f":"Stückliste!A1022","v":0},{"$f":"Stückliste!E1022","v":0},{"$f":"Stückliste!J1022","v":0},{"$f":"Stückliste!O1022","v":0},{"$f":"Stückliste!T1022","v":0},{"$f":"Stückliste!W1022","v":0},{"$f":"Stückliste!Z1022","v":0},{"$f":"Stückliste!AC1022","v":0},{"$f":"Stückliste!AF1022","v":0},{"$f":"Stückliste!AI1022","v":0}]
["a","5.5",8,{"$f":"Stückliste!A1023","v":0},{"$f":"Stückliste!E1023","v":0},{"$f":"Stückliste!J1023","v":0},{"$f":"Stückliste!O1023","v":0},{"$f":"Stückliste!T1023","v":0},{"$f":"Stückliste!W1023","v":0},{"$f":"Stückliste!Z1023","v":0},{"$f":"Stückliste!AC1023","v":0},{"$f":"Stückliste!AF1023","v":0},{"$f":"Stückliste!AI1023","v":0}]
["a","5.5",8,{"$f":"Stückliste!A1024","v":0},{"$f":"Stückliste!E1024","v":0},{"$f":"Stückliste!J1024","v":0},{"$f":"Stückliste!O1024","v":0},{"$f":"Stückliste!T1024","v":0},{"$f":"Stückliste!W1024","v":0},{"$f":"Stückliste!Z1024","v":0},{"$f":"Stückliste!AC1024","v":0},{"$f":"Stückliste!AF1024","v":0},{"$f":"Stückliste!AI1024","v":0}]
["a","5.5",8,{"$f":"Stückliste!A1025","v":0},{"$f":"Stückliste!E1025","v":0},{"$f":"Stückliste!J1025","v":0},{"$f":"Stückliste!O1025","v":0},{"$f":"Stückliste!T1025","v":0},{"$f":"Stückliste!W1025","v":0},{"$f":"Stückliste!Z1025","v":0},{"$f":"Stückliste!AC1025","v":0},{"$f":"Stückliste!AF1025","v":0},{"$f":"Stückliste!AI1025","v":0}]
["a","5.5",8,{"$f":"Stückliste!A1026","v":0},{"$f":"Stückliste!E1026","v":0},{"$f":"Stückliste!J1026","v":0},{"$f":"Stückliste!O1026","v":0},{"$f":"Stückliste!T1026","v":0},{"$f":"Stückliste!W1026","v":0},{"$f":"Stückliste!Z1026","v":0},{"$f":"Stückliste!AC1026","v":0},{"$f":"Stückliste!AF1026","v":0},{"$f":"Stückliste!AI1026","v":0}]
["a","5.5",8,{"$f":"Stückliste!A1027","v":0},{"$f":"Stückliste!E1027","v":0},{"$f":"Stückliste!J1027","v":0},{"$f":"Stückliste!O1027","v":0},{"$f":"Stückliste!T1027","v":0},{"$f":"Stückliste!W1027","v":0},{"$f":"Stückliste!Z1027","v":0},{"$f":"Stückliste!AC1027","v":0},{"$f":"Stückliste!AF1027","v":0},{"$f":"Stückliste!AI1027","v":0}]
["a","5.5",8,{"$f":"Stückliste!A1028","v":0},{"$f":"Stückliste!E1028","v":0},{"$f":"Stückliste!J1028","v":0},{"$f":"Stückliste!O1028","v":0},{"$f":"Stückliste!T1028","v":0},{"$f":"Stückliste!W1028","v":0},{"$f":"Stückliste!Z1028","v":0},{"$f":"Stückliste!AC1028","v":0},{"$f":"Stückliste!AF1028","v":0},{"$f":"Stückliste!AI1028","v":0}]
["a","5.5",8,{"$f":"Stückliste!A1029","v":0},{"$f":"Stückliste!E1029","v":0},{"$f":"Stückliste!J1029","v":0},{"$f":"Stückliste!O1029","v":0},{"$f":"Stückliste!T1029","v":0},{"$f":"Stückliste!W1029","v":0},{"$f":"Stückliste!Z1029","v":0},{"$f":"Stückliste!AC1029","v":0},{"$f":"Stückliste!AF1029","v":0},{"$f":"Stückliste!AI1029","v":0}]
["a","5.5",8,{"$f":"Stückliste!A1030","v":0},{"$f":"Stückliste!E1030","v":0},{"$f":"Stückliste!J1030","v":0},{"$f":"Stückliste!O1030","v":0},{"$f":"Stückliste!T1030","v":0},{"$f":"Stückliste!W1030","v":0},{"$f":"Stückliste!Z1030","v":0},{"$f":"Stückliste!AC1030","v":0},{"$f":"Stückliste!AF1030","v":0},{"$f":"Stückliste!AI1030","v":0}]
["a","5.5",8,{"$f":"Stückliste!A1031","v":0},{"$f":"Stückliste!E1031","v":0},{"$f":"Stückliste!J1031","v":0},{"$f":"Stückliste!O1031","v":0},{"$f":"Stückliste!T1031","v":0},{"$f":"Stückliste!W1031","v":0},{"$f":"Stückliste!Z1031","v":0},{"$f":"Stückliste!AC1031","v":0},{"$f":"Stückliste!AF1031","v":0},{"$f":"Stückliste!AI1031","v":0}]
["a","5.5",8,{"$f":"Stückliste!A1032","v":0},{"$f":"Stückliste!E1032","v":0},{"$f":"Stückliste!J1032","v":0},{"$f":"Stückliste!O1032","v":0},{"$f":"Stückliste!T1032","v":0},{"$f":"Stückliste!W1032","v":0},{"$f":"Stückliste!Z1032","v":0},{"$f":"Stückliste!AC1032","v":0},{"$f":"Stückliste!AF1032","v":0},{"$f":"Stückliste!AI1032","v":0}]
["a","5.5",8,{"$f":"Stückliste!A1033","v":0},{"$f":"Stückliste!E1033","v":0},{"$f":"Stückliste!J1033","v":0},{"$f":"Stückliste!O1033","v":0},{"$f":"Stückliste!T1033","v":0},{"$f":"Stückliste!W1033","v":0},{"$f":"Stückliste!Z1033","v":0},{"$f":"Stückliste!AC1033","v":0},{"$f":"Stückliste!AF1033","v":0},{"$f":"Stückliste!AI1033","v":0}]
["a","5.5",8,{"$f":"Stückliste!A1034","v":0},{"$f":"Stückliste!E1034","v":0},{"$f":"Stückliste!J1034","v":0},{"$f":"Stückliste!O1034","v":0},{"$f":"Stückliste!T1034","v":0},{"$f":"Stückliste!W1034","v":0},{"$f":"Stückliste!Z1034","v":0},{"$f":"Stückliste!AC1034","v":0},{"$f":"Stückliste!AF1034","v":0},{"$f":"Stückliste!AI1034","v":0}]
["a","5.5",8,{"$f":"Stückliste!A1035","v":0},{"$f":"Stückliste!E1035","v":0},{"$f":"Stückliste!J1035","v":0},{"$f":"Stückliste!O1035","v":0},{"$f":"Stückliste!T1035","v":0},{"$f":"Stückliste!W1035","v":0},{"$f":"Stückliste!Z1035","v":0},{"$f":"Stückliste!AC1035","v":0},{"$f":"Stückliste!AF1035","v":0},{"$f":"Stückliste!AI1035","v":0}]
["a","5.5",8,{"$f":"Stückliste!A1036","v":0},{"$f":"Stückliste!E1036","v":0},{"$f":"Stückliste!J1036","v":0},{"$f":"Stückliste!O1036","v":0},{"$f":"Stückliste!T1036","v":0},{"$f":"Stückliste!W1036","v":0},{"$f":"Stückliste!Z1036","v":0},{"$f":"Stückliste!AC1036","v":0},{"$f":"Stückliste!AF1036","v":0},{"$f":"Stückliste!AI1036","v":0}]
["a","5.5",8,{"$f":"Stückliste!A1037","v":0},{"$f":"Stückliste!E1037","v":0},{"$f":"Stückliste!J1037","v":0},{"$f":"Stückliste!O1037","v":0},{"$f":"Stückliste!T1037","v":0},{"$f":"Stückliste!W1037","v":0},{"$f":"Stückliste!Z1037","v":0},{"$f":"Stückliste!AC1037","v":0},{"$f":"Stückliste!AF1037","v":0},{"$f":"Stückliste!AI1037","v":0}]
["a","5.5",8,{"$f":"Stückliste!A1038","v":0},{"$f":"Stückliste!E1038","v":0},{"$f":"Stückliste!J1038","v":0},{"$f":"Stückliste!O1038","v":0},{"$f":"Stückliste!T1038","v":0},{"$f":"Stückliste!W1038","v":0},{"$f":"Stückliste!Z1038","v":0},{"$f":"Stückliste!AC1038","v":0},{"$f":"Stückliste!AF1038","v":0},{"$f":"Stückliste!AI1038","v":0}]
["a","5.5",8,{"$f":"Stückliste!A1039","v":0},{"$f":"Stückliste!E1039","v":0},{"$f":"Stückliste!J1039","v":0},{"$f":"Stückliste!O1039","v":0},{"$f":"Stückliste!T1039","v":0},{"$f":"Stückliste!W1039","v":0},{"$f":"Stückliste!Z1039","v":0},{"$f":"Stückliste!AC1039","v":0},{"$f":"Stückliste!AF1039","v":0},{"$f":"Stückliste!AI1039","v":0}]
["a","5.5",8,{"$f":"Stückliste!A1040","v":0},{"$f":"Stückliste!E1040","v":0},{"$f":"Stückliste!J1040","v":0},{"$f":"Stückliste!O1040","v":0},{"$f":"Stückliste!T1040","v":0},{"$f":"Stückliste!W1040","v":0},{"$f":"Stückliste!Z1040","v":0},{"$f":"Stückliste!AC1040","v":0},{"$f":"Stückliste!AF1040","v":0},{"$f":"Stückliste!AI1040","v":0}]
["a","5.5",8,{"$f":"Stückliste!A1041","v":0},{"$f":"Stückliste!E1041","v":0},{"$f":"Stückliste!J1041","v":0},{"$f":"Stückliste!O1041","v":0},{"$f":"Stückliste!T1041","v":0},{"$f":"Stückliste!W1041","v":0},{"$f":"Stückliste!Z1041","v":0},{"$f":"Stückliste!AC1041","v":0},{"$f":"Stückliste!AF1041","v":0},{"$f":"Stückliste!AI1041","v":0}]
["a","5.5",8,{"$f":"Stückliste!A1042","v":0},{"$f":"Stückliste!E1042","v":0},{"$f":"Stückliste!J1042","v":0},{"$f":"Stückliste!O1042","v":0},{"$f":"Stückliste!T1042","v":0},{"$f":"Stückliste!W1042","v":0},{"$f":"Stückliste!Z1042","v":0},{"$f":"Stückliste!AC1042","v":0},{"$f":"Stückliste!AF1042","v":0},{"$f":"Stückliste!AI1042","v":0}]
["a","5.5",8,{"$f":"Stückliste!A1043","v":0},{"$f":"Stückliste!E1043","v":0},{"$f":"Stückliste!J1043","v":0},{"$f":"Stückliste!O1043","v":0},{"$f":"Stückliste!T1043","v":0},{"$f":"Stückliste!W1043","v":0},{"$f":"Stückliste!Z1043","v":0},{"$f":"Stückliste!AC1043","v":0},{"$f":"Stückliste!AF1043","v":0},{"$f":"Stückliste!AI1043","v":0}]
["a","5.5",8,{"$f":"Stückliste!A1044","v":0},{"$f":"Stückliste!E1044","v":0},{"$f":"Stückliste!J1044","v":0},{"$f":"Stückliste!O1044","v":0},{"$f":"Stückliste!T1044","v":0},{"$f":"Stückliste!W1044","v":0},{"$f":"Stückliste!Z1044","v":0},{"$f":"Stückliste!AC1044","v":0},{"$f":"Stückliste!AF1044","v":0},{"$f":"Stückliste!AI1044","v":0}]
["a","5.5",8,{"$f":"Stückliste!A1045","v":0},{"$f":"Stückliste!E1045","v":0},{"$f":"Stückliste!J1045","v":0},{"$f":"Stückliste!O1045","v":0},{"$f":"Stückliste!T1045","v":0},{"$f":"Stückliste!W1045","v":0},{"$f":"Stückliste!Z1045","v":0},{"$f":"Stückliste!AC1045","v":0},{"$f":"Stückliste!AF1045","v":0},{"$f":"Stückliste!AI1045","v":0}]
["a","5.5",8,{"$f":"Stückliste!A1046","v":0},{"$f":"Stückliste!E1046","v":0},{"$f":"Stückliste!J1046","v":0},{"$f":"Stückliste!O1046","v":0},{"$f":"Stückliste!T1046","v":0},{"$f":"Stückliste!W1046","v":0},{"$f":"Stückliste!Z1046","v":0},{"$f":"Stückliste!AC1046","v":0},{"$f":"Stückliste!AF1046","v":0},{"$f":"Stückliste!AI1046","v":0}]
["a","5.5",8,{"$f":"Stückliste!A1047","v":0},{"$f":"Stückliste!E1047","v":0},{"$f":"Stückliste!J1047","v":0},{"$f":"Stückliste!O1047","v":0},{"$f":"Stückliste!T1047","v":0},{"$f":"Stückliste!W1047","v":0},{"$f":"Stückliste!Z1047","v":0},{"$f":"Stückliste!AC1047","v":0},{"$f":"Stückliste!AF1047","v":0},{"$f":"Stückliste!AI1047","v":0}]
["a","5.5",8,{"$f":"Stückliste!A1048","v":0},{"$f":"Stückliste!E1048","v":0},{"$f":"Stückliste!J1048","v":0},{"$f":"Stückliste!O1048","v":0},{"$f":"Stückliste!T1048","v":0},{"$f":"Stückliste!W1048","v":0},{"$f":"Stückliste!Z1048","v":0},{"$f":"Stückliste!AC1048","v":0},{"$f":"Stückliste!AF1048","v":0},{"$f":"Stückliste!AI1048","v":0}]
["a","5.5",8,{"$f":"Stückliste!A1049","v":0},{"$f":"Stückliste!E1049","v":0},{"$f":"Stückliste!J1049","v":0},{"$f":"Stückliste!O1049","v":0},{"$f":"Stückliste!T1049","v":0},{"$f":"Stückliste!W1049","v":0},{"$f":"Stückliste!Z1049","v":0},{"$f":"Stückliste!AC1049","v":0},{"$f":"Stückliste!AF1049","v":0},{"$f":"Stückliste!AI1049","v":0}]
["a","5.5",8,{"$f":"Stückliste!A1050","v":0},{"$f":"Stückliste!E1050","v":0},{"$f":"Stückliste!J1050","v":0},{"$f":"Stückliste!O1050","v":0},{"$f":"Stückliste!T1050","v":0},{"$f":"Stückliste!W1050","v":0},{"$f":"Stückliste!Z1050","v":0},{"$f":"Stückliste!AC1050","v":0},{"$f":"Stückliste!AF1050","v":0},{"$f":"Stückliste!AI1050","v":0}]
["a","5.5",8,{"$f":"Stückliste!A1051","v":0},{"$f":"Stückliste!E1051","v":0},{"$f":"Stückliste!J1051","v":0},{"$f":"Stückliste!O1051","v":0},{"$f":"Stückliste!T1051","v":0},{"$f":"Stückliste!W1051","v":0},{"$f":"Stückliste!Z1051","v":0},{"$f":"Stückliste!AC1051","v":0},{"$f":"Stückliste!AF1051","v":0},{"$f":"Stückliste!AI1051","v":0}]
["a","5.5",8,{"$f":"Stückliste!A1052","v":0},{"$f":"Stückliste!E1052","v":0},{"$f":"Stückliste!J1052","v":0},{"$f":"Stückliste!O1052","v":0},{"$f":"Stückliste!T1052","v":0},{"$f":"Stückliste!W1052","v":0},{"$f":"Stückliste!Z1052","v":0},{"$f":"Stückliste!AC1052","v":0},{"$f":"Stückliste!AF1052","v":0},{"$f":"Stückliste!AI1052","v":0}]
["a","5.5",8,{"$f":"Stückliste!A1053","v":0},{"$f":"Stückliste!E1053","v":0},{"$f":"Stückliste!J1053","v":0},{"$f":"Stückliste!O1053","v":0},{"$f":"Stückliste!T1053","v":0},{"$f":"Stückliste!W1053","v":0},{"$f":"Stückliste!Z1053","v":0},{"$f":"Stückliste!AC1053","v":0},{"$f":"Stückliste!AF1053","v":0},{"$f":"Stückliste!AI1053","v":0}]
["a","5.5",8,{"$f":"Stückliste!A1054","v":0},{"$f":"Stückliste!E1054","v":0},{"$f":"Stückliste!J1054","v":0},{"$f":"Stückliste!O1054","v":0},{"$f":"Stückliste!T1054","v":0},{"$f":"Stückliste!W1054","v":0},{"$f":"Stückliste!Z1054","v":0},{"$f":"Stückliste!AC1054","v":0},{"$f":"Stückliste!AF1054","v":0},{"$f":"Stückliste!AI1054","v":0}]
["a","5.5",8,{"$f":"Stückliste!A1055","v":0},{"$f":"Stückliste!E1055","v":0},{"$f":"Stückliste!J1055","v":0},{"$f":"Stückliste!O1055","v":0},{"$f":"Stückliste!T1055","v":0},{"$f":"Stückliste!W1055","v":0},{"$f":"Stückliste!Z1055","v":0},{"$f":"Stückliste!AC1055","v":0},{"$f":"Stückliste!AF1055","v":0},{"$f":"Stückliste!AI1055","v":0}]
["a","5.5",8,{"$f":"Stückliste!A1056","v":0},{"$f":"Stückliste!E1056","v":0},{"$f":"Stückliste!J1056","v":0},{"$f":"Stückliste!O1056","v":0},{"$f":"Stückliste!T1056","v":0},{"$f":"Stückliste!W1056","v":0},{"$f":"Stückliste!Z1056","v":0},{"$f":"Stückliste!AC1056","v":0},{"$f":"Stückliste!AF1056","v":0},{"$f":"Stückliste!AI1056","v":0}]
["a","5.5",8,{"$f":"Stückliste!A1057","v":0},{"$f":"Stückliste!E1057","v":0},{"$f":"Stückliste!J1057","v":0},{"$f":"Stückliste!O1057","v":0},{"$f":"Stückliste!T1057","v":0},{"$f":"Stückliste!W1057","v":0},{"$f":"Stückliste!Z1057","v":0},{"$f":"Stückliste!AC1057","v":0},{"$f":"Stückliste!AF1057","v":0},{"$f":"Stückliste!AI1057","v":0}]
["a","5.5",8,{"$f":"Stückliste!A1058","v":0},{"$f":"Stückliste!E1058","v":0},{"$f":"Stückliste!J1058","v":0},{"$f":"Stückliste!O1058","v":0},{"$f":"Stückliste!T1058","v":0},{"$f":"Stückliste!W1058","v":0},{"$f":"Stückliste!Z1058","v":0},{"$f":"Stückliste!AC1058","v":0},{"$f":"Stückliste!AF1058","v":0},{"$f":"Stückliste!AI1058","v":0}]
["a","5.5",8,{"$f":"Stückliste!A1059","v":0},{"$f":"Stückliste!E1059","v":0},{"$f":"Stückliste!J1059","v":0},{"$f":"Stückliste!O1059","v":0},{"$f":"Stückliste!T1059","v":0},{"$f":"Stückliste!W1059","v":0},{"$f":"Stückliste!Z1059","v":0},{"$f":"Stückliste!AC1059","v":0},{"$f":"Stückliste!AF1059","v":0},{"$f":"Stückliste!AI1059","v":0}]
["a","5.5",8,{"$f":"Stückliste!A1060","v":0},{"$f":"Stückliste!E1060","v":0},{"$f":"Stückliste!J1060","v":0},{"$f":"Stückliste!O1060","v":0},{"$f":"Stückliste!T1060","v":0},{"$f":"Stückliste!W1060","v":0},{"$f":"Stückliste!Z1060","v":0},{"$f":"Stückliste!AC1060","v":0},{"$f":"Stückliste!AF1060","v":0},{"$f":"Stückliste!AI1060","v":0}]
["a","5.5",8,{"$f":"Stückliste!A1061","v":0},{"$f":"Stückliste!E1061","v":0},{"$f":"Stückliste!J1061","v":0},{"$f":"Stückliste!O1061","v":0},{"$f":"Stückliste!T1061","v":0},{"$f":"Stückliste!W1061","v":0},{"$f":"Stückliste!Z1061","v":0},{"$f":"Stückliste!AC1061","v":0},{"$f":"Stückliste!AF1061","v":0},{"$f":"Stückliste!AI1061","v":0}]
["a","5.5",8,{"$f":"Stückliste!A1062","v":0},{"$f":"Stückliste!E1062","v":0},{"$f":"Stückliste!J1062","v":0},{"$f":"Stückliste!O1062","v":0},{"$f":"Stückliste!T1062","v":0},{"$f":"Stückliste!W1062","v":0},{"$f":"Stückliste!Z1062","v":0},{"$f":"Stückliste!AC1062","v":0},{"$f":"Stückliste!AF1062","v":0},{"$f":"Stückliste!AI1062","v":0}]
["a","5.5",8,{"$f":"Stückliste!A1063","v":0},{"$f":"Stückliste!E1063","v":0},{"$f":"Stückliste!J1063","v":0},{"$f":"Stückliste!O1063","v":0},{"$f":"Stückliste!T1063","v":0},{"$f":"Stückliste!W1063","v":0},{"$f":"Stückliste!Z1063","v":0},{"$f":"Stückliste!AC1063","v":0},{"$f":"Stückliste!AF1063","v":0},{"$f":"Stückliste!AI1063","v":0}]
["a","5.5",8,{"$f":"Stückliste!A1064","v":0},{"$f":"Stückliste!E1064","v":0},{"$f":"Stückliste!J1064","v":0},{"$f":"Stückliste!O1064","v":0},{"$f":"Stückliste!T1064","v":0},{"$f":"Stückliste!W1064","v":0},{"$f":"Stückliste!Z1064","v":0},{"$f":"Stückliste!AC1064","v":0},{"$f":"Stückliste!AF1064","v":0},{"$f":"Stückliste!AI1064","v":0}]
["a","5.5",8,{"$f":"Stückliste!A1065","v":0},{"$f":"Stückliste!E1065","v":0},{"$f":"Stückliste!J1065","v":0},{"$f":"Stückliste!O1065","v":0},{"$f":"Stückliste!T1065","v":0},{"$f":"Stückliste!W1065","v":0},{"$f":"Stückliste!Z1065","v":0},{"$f":"Stückliste!AC1065","v":0},{"$f":"Stückliste!AF1065","v":0},{"$f":"Stückliste!AI1065","v":0}]
["a","5.5",8,{"$f":"Stückliste!A1066","v":0},{"$f":"Stückliste!E1066","v":0},{"$f":"Stückliste!J1066","v":0},{"$f":"Stückliste!O1066","v":0},{"$f":"Stückliste!T1066","v":0},{"$f":"Stückliste!W1066","v":0},{"$f":"Stückliste!Z1066","v":0},{"$f":"Stückliste!AC1066","v":0},{"$f":"Stückliste!AF1066","v":0},{"$f":"Stückliste!AI1066","v":0}]
["a","5.5",8,{"$f":"Stückliste!A1067","v":0},{"$f":"Stückliste!E1067","v":0},{"$f":"Stückliste!J1067","v":0},{"$f":"Stückliste!O1067","v":0},{"$f":"Stückliste!T1067","v":0},{"$f":"Stückliste!W1067","v":0},{"$f":"Stückliste!Z1067","v":0},{"$f":"Stückliste!AC1067","v":0},{"$f":"Stückliste!AF1067","v":0},{"$f":"Stückliste!AI1067","v":0}]
["a","5.5",8,{"$f":"Stückliste!A1068","v":0},{"$f":"Stückliste!E1068","v":0},{"$f":"Stückliste!J1068","v":0},{"$f":"Stückliste!O1068","v":0},{"$f":"Stückliste!T1068","v":0},{"$f":"Stückliste!W1068","v":0},{"$f":"Stückliste!Z1068","v":0},{"$f":"Stückliste!AC1068","v":0},{"$f":"Stückliste!AF1068","v":0},{"$f":"Stückliste!AI1068","v":0}]
["a","5.5",8,{"$f":"Stückliste!A1069","v":0},{"$f":"Stückliste!E1069","v":0},{"$f":"Stückliste!J1069","v":0},{"$f":"Stückliste!O1069","v":0},{"$f":"Stückliste!T1069","v":0},{"$f":"Stückliste!W1069","v":0},{"$f":"Stückliste!Z1069","v":0},{"$f":"Stückliste!AC1069","v":0},{"$f":"Stückliste!AF1069","v":0},{"$f":"Stückliste!AI1069","v":0}]
["a","5.5",8,{"$f":"Stückliste!A1070","v":0},{"$f":"Stückliste!E1070","v":0},{"$f":"Stückliste!J1070","v":0},{"$f":"Stückliste!O1070","v":0},{"$f":"Stückliste!T1070","v":0},{"$f":"Stückliste!W1070","v":0},{"$f":"Stückliste!Z1070","v":0},{"$f":"Stückliste!AC1070","v":0},{"$f":"Stückliste!AF1070","v":0},{"$f":"Stückliste!AI1070","v":0}]
["a","5.5",8,{"$f":"Stückliste!A1071","v":0},{"$f":"Stückliste!E1071","v":0},{"$f":"Stückliste!J1071","v":0},{"$f":"Stückliste!O1071","v":0},{"$f":"Stückliste!T1071","v":0},{"$f":"Stückliste!W1071","v":0},{"$f":"Stückliste!Z1071","v":0},{"$f":"Stückliste!AC1071","v":0},{"$f":"Stückliste!AF1071","v":0},{"$f":"Stückliste!AI1071","v":0}]
["a","5.5",8,{"$f":"Stückliste!A1072","v":0},{"$f":"Stückliste!E1072","v":0},{"$f":"Stückliste!J1072","v":0},{"$f":"Stückliste!O1072","v":0},{"$f":"Stückliste!T1072","v":0},{"$f":"Stückliste!W1072","v":0},{"$f":"Stückliste!Z1072","v":0},{"$f":"Stückliste!AC1072","v":0},{"$f":"Stückliste!AF1072","v":0},{"$f":"Stückliste!AI1072","v":0}]
["a","5.5",8,{"$f":"Stückliste!A1073","v":0},{"$f":"Stückliste!E1073","v":0},{"$f":"Stückliste!J1073","v":0},{"$f":"Stückliste!O1073","v":0},{"$f":"Stückliste!T1073","v":0},{"$f":"Stückliste!W1073","v":0},{"$f":"Stückliste!Z1073","v":0},{"$f":"Stückliste!AC1073","v":0},{"$f":"Stückliste!AF1073","v":0},{"$f":"Stückliste!AI1073","v":0}]
["a","5.5",8,{"$f":"Stückliste!A1074","v":0},{"$f":"Stückliste!E1074","v":0},{"$f":"Stückliste!J1074","v":0},{"$f":"Stückliste!O1074","v":0},{"$f":"Stückliste!T1074","v":0},{"$f":"Stückliste!W1074","v":0},{"$f":"Stückliste!Z1074","v":0},{"$f":"Stückliste!AC1074","v":0},{"$f":"Stückliste!AF1074","v":0},{"$f":"Stückliste!AI1074","v":0}]
["a","5.5",8,{"$f":"Stückliste!A1075","v":0},{"$f":"Stückliste!E1075","v":0},{"$f":"Stückliste!J1075","v":0},{"$f":"Stückliste!O1075","v":0},{"$f":"Stückliste!T1075","v":0},{"$f":"Stückliste!W1075","v":0},{"$f":"Stückliste!Z1075","v":0},{"$f":"Stückliste!AC1075","v":0},{"$f":"Stückliste!AF1075","v":0},{"$f":"Stückliste!AI1075","v":0}]
["a","5.5",8,{"$f":"Stückliste!A1076","v":0},{"$f":"Stückliste!E1076","v":0},{"$f":"Stückliste!J1076","v":0},{"$f":"Stückliste!O1076","v":0},{"$f":"Stückliste!T1076","v":0},{"$f":"Stückliste!W1076","v":0},{"$f":"Stückliste!Z1076","v":0},{"$f":"Stückliste!AC1076","v":0},{"$f":"Stückliste!AF1076","v":0},{"$f":"Stückliste!AI1076","v":0}]
["a","5.5",8,{"$f":"Stückliste!A1077","v":0},{"$f":"Stückliste!E1077","v":0},{"$f":"Stückliste!J1077","v":0},{"$f":"Stückliste!O1077","v":0},{"$f":"Stückliste!T1077","v":0},{"$f":"Stückliste!W1077","v":0},{"$f":"Stückliste!Z1077","v":0},{"$f":"Stückliste!AC1077","v":0},{"$f":"Stückliste!AF1077","v":0},{"$f":"Stückliste!AI1077","v":0}]
["a","5.5",8,{"$f":"Stückliste!A1078","v":0},{"$f":"Stückliste!E1078","v":0},{"$f":"Stückliste!J1078","v":0},{"$f":"Stückliste!O1078","v":0},{"$f":"Stückliste!T1078","v":0},{"$f":"Stückliste!W1078","v":0},{"$f":"Stückliste!Z1078","v":0},{"$f":"Stückliste!AC1078","v":0},{"$f":"Stückliste!AF1078","v":0},{"$f":"Stückliste!AI1078","v":0}]
["a","5.5",8,{"$f":"Stückliste!A1079","v":0},{"$f":"Stückliste!E1079","v":0},{"$f":"Stückliste!J1079","v":0},{"$f":"Stückliste!O1079","v":0},{"$f":"Stückliste!T1079","v":0},{"$f":"Stückliste!W1079","v":0},{"$f":"Stückliste!Z1079","v":0},{"$f":"Stückliste!AC1079","v":0},{"$f":"Stückliste!AF1079","v":0},{"$f":"Stückliste!AI1079","v":0}]
["a","5.5",8,{"$f":"Stückliste!A1080","v":0},{"$f":"Stückliste!E1080","v":0},{"$f":"Stückliste!J1080","v":0},{"$f":"Stückliste!O1080","v":0},{"$f":"Stückliste!T1080","v":0},{"$f":"Stückliste!W1080","v":0},{"$f":"Stückliste!Z1080","v":0},{"$f":"Stückliste!AC1080","v":0},{"$f":"Stückliste!AF1080","v":0},{"$f":"Stückliste!AI1080","v":0}]

{"sheet":"Stückliste","index":1,"n_rows":605,"n_cols":91,"rows_kept":605,"cut":false,"hidden":false,"merged":[[28,26,28,27],[56,19,56,21],[37,8,37,11],[42,8,42,11],[41,8,41,11],[54,4,54,8],[54,9,54,13],[45,10,45,13],[39,8,39,11],[44,10,44,13],[53,0,53,18],[38,29,39,46],[10,27,11,46],[12,27,13,46],[52,41,52,44],[52,36,52,40],[21,42,22,44],[30,26,30,27],[45,34,45,46],[55,37,55,41],[55,34,55,36],[55,28,55,30],[55,14,55,18],[55,9,55,13],[54,0,54,3],[55,4,55,8],[54,19,54,21],[55,0,55,3],[55,19,55,21],[52,6,52,8],[53,19,53,30],[52,9,52,12],[52,17,52,19],[52,20,52,22],[54,22,54,24],[26,26,26,27],[29,26,29,27],[42,29,42,46],[52,25,52,29],[52,30,52,33],[53,37,53,46],[53,31,53,36],[54,28,54,30],[148,0,148,3],[150,0,150,3],[149,0,149,3],[103,22,103,24],[101,28,101,30],[103,25,103,27],[146,9,146,13],[75,0,75,3],[75,4,75,8],[144,4,144,8],[79,9,79,13],[78,9,78,13],[90,9,90,13],[104,0,104,3],[111,0,111,3],[110,0,110,3],[108,0,108,3],[114,0,114,3],[113,0,113,3],[56,42,56,46],[103,0,103,3],[151,25,151,27],[148,9,148,13],[144,14,144,18],[145,9,145,13],[145,14,145,18],[143,28,143,30],[144,9,144,13],[101,25,101,27],[102,25,102,27],[85,9,85,13],[88,9,88,13],[92,25,92,27],[105,14,105,18],[77,9,77,13],[147,25,147,27],[142,4,142,8],[142,9,142,13],[142,14,142,18],[108,4,108,8],[114,4,114,8],[112,9,112,13],[142,25,142,27],[109,22,109,24],[96,25,96,27],[92,28,92,30],[91,25,91,27],[148,22,148,24],[111,9,111,13],[115,19,115,21],[117,14,117,18],[116,19,116,21],[117,19,117,21],[103,4,103,8],[101,0,101,3],[96,0,96,3],[109,0,109,3],[112,0,112,3],[112,4,112,8],[114,9,114,13],[101,4,101,8],[101,9,101,13],[98,4,98,8],[98,9,98,13],[57,9,57,13],[56,37,56,41],[64,22,64,24],[59,22,59,24],[59,25,59,27],[61,19,61,21],[62,14,62,18],[61,14,61,18],[63,37,63,41],[57,22,57,24],[56,9,56,13],[96,9,96,13],[99,19,99,21],[99,22,99,24],[102,22,102,24],[110,4,110,8],[109,4,109,8],[104,4,104,8],[67,0,67,3],[69,0,69,3],[74,14,74,18],[77,14,77,18],[75,9,75,13],[76,14,76,18],[80,0,80,3],[66,9,66,13],[68,9,68,13],[59,9,59,13],[71,9,71,13],[75,14,75,18],[81,4,81,8],[81,9,81,13],[80,9,80,13],[73,0,73,3],[73,4,73,8],[80,4,80,8],[77,0,77,3],[70,0,70,3],[74,0,74,3],[71,0,71,3],[72,0,72,3],[66,0,66,3],[65,4,65,8],[63,0,63,3],[68,0,68,3],[69,4,69,8],[76,0,76,3],[67,9,67,13],[73,9,73,13],[73,14,73,18],[74,4,74,8],[74,9,74,13],[76,4,76,8],[56,0,56,3],[57,34,57,36],[56,31,56,33],[65,25,65,27],[58,28,58,30],[62,25,62,27],[59,14,59,18],[56,28,56,30],[62,0,62,3],[61,0,61,3],[60,0,60,3],[56,34,56,36],[57,14,57,18],[58,25,58,27],[59,0,59,3],[56,4,56,8],[64,25,64,27],[57,28,57,30],[58,22,58,24],[58,0,58,3],[57,0,57,3],[57,4,57,8],[58,4,58,8],[65,9,65,13],[64,28,64,30],[60,19,60,21],[56,14,56,18],[58,9,58,13],[59,31,59,33],[65,0,65,3],[64,0,64,3],[60,28,60,30],[79,25,79,27],[90,28,90,30],[82,19,82,21],[82,14,82,18],[97,4,97,8],[100,0,100,3],[100,4,100,8],[97,28,97,30],[98,28,98,30],[101,37,101,41],[65,37,65,41],[82,37,82,41],[83,37,83,41],[75,37,75,41],[71,37,71,41],[68,42,68,46],[59,34,59,36],[61,37,61,41],[62,37,62,41],[65,34,65,36],[59,37,59,41],[61,34,61,36],[63,34,63,36],[59,42,59,46],[63,42,63,46],[69,42,69,46],[70,42,70,46],[72,42,72,46],[73,42,73,46],[73,37,73,41],[72,37,72,41],[83,42,83,46],[85,14,85,18],[87,9,87,13],[83,0,83,3],[83,4,83,8],[83,14,83,18],[82,0,82,3],[78,0,78,3],[84,9,84,13],[84,0,84,3],[84,4,84,8],[79,0,79,3],[81,0,81,3],[101,14,101,18],[100,14,100,18],[86,0,86,3],[86,4,86,8],[89,0,89,3],[89,4,89,8],[85,0,85,3],[83,9,83,13],[91,0,91,3],[82,4,82,8],[82,9,82,13],[96,4,96,8],[95,0,95,3],[102,4,102,8],[77,4,77,8],[79,4,79,8],[88,0,88,3],[95,4,95,8],[95,9,95,13],[95,28,95,30],[102,0,102,3],[55,42,55,46],[57,31,57,33],[57,25,57,27],[61,25,61,27],[85,37,85,41],[69,37,69,41],[74,34,74,36],[76,31,76,33],[75,42,75,46],[74,42,74,46],[76,28,76,30],[76,37,76,41],[81,34,81,36],[78,31,78,33],[80,34,80,36],[78,34,78,36],[80,25,80,27],[81,31,81,33],[71,42,71,46],[60,34,60,36],[77,42,77,46],[102,28,102,30],[65,22,65,24],[67,25,67,27],[54,31,54,33],[54,34,54,36],[54,37,54,41],[58,19,58,21],[62,31,62,33],[63,31,63,33],[64,31,64,33],[143,0,143,3],[143,4,143,8],[143,9,143,13],[108,9,108,13],[111,4,111,8],[104,14,104,18],[104,9,104,13],[107,0,107,3],[86,25,86,27],[85,22,85,24],[85,25,85,27],[86,22,86,24],[87,0,87,3],[87,4,87,8],[86,9,86,13],[87,14,87,18],[87,19,87,21],[85,19,85,21],[88,25,88,27],[89,25,89,27],[91,22,91,24],[87,25,87,27],[63,19,63,21],[63,22,63,24],[77,19,77,21],[14,3,16,17],[60,4,60,8],[61,4,61,8],[62,4,62,8],[61,9,61,13],[60,9,60,13],[63,4,63,8],[64,4,64,8],[60,14,60,18],[63,14,63,18],[64,14,64,18],[63,9,63,13],[62,9,62,13],[41,29,41,46],[58,37,58,41],[58,42,58,46],[64,37,64,41],[64,42,64,46],[62,34,62,36],[57,19,57,21],[59,19,59,21],[54,42,54,46],[54,25,54,27],[60,42,60,46],[60,37,60,41],[61,42,61,46],[62,42,62,46],[57,42,57,46],[64,19,64,21],[59,28,59,30],[55,22,55,24],[58,31,58,33],[0,35,0,38],[58,34,58,36],[16,31,17,37],[21,24,22,36],[82,31,82,33],[83,28,83,30],[79,14,79,18],[68,14,68,18],[67,14,67,18],[62,22,62,24],[62,28,62,30],[75,31,75,33],[80,31,80,33],[77,31,77,33],[65,19,65,21],[0,14,0,16],[0,17,0,18],[46,6,47,46],[0,43,0,46],[0,39,0,42],[64,34,64,36],[59,4,59,8],[36,8,36,11],[38,8,38,11],[62,19,62,21],[60,31,60,33],[61,28,61,30],[63,25,63,27],[63,28,63,30],[54,14,54,18],[58,14,58,18],[74,37,74,41],[61,31,61,33],[60,22,60,24],[60,25,60,27],[61,22,61,24],[66,37,66,41],[68,25,68,27],[70,28,70,30],[68,28,68,30],[68,22,68,24],[69,22,69,24],[69,25,69,27],[73,31,73,33],[75,28,75,30],[72,31,72,33],[66,31,66,33],[67,42,67,46],[66,42,66,46],[66,34,66,36],[65,42,65,46],[70,25,70,27],[74,31,74,33],[67,22,67,24],[67,28,67,30],[67,31,67,33],[67,34,67,36],[74,25,74,27],[82,28,82,30],[84,28,84,30],[87,31,87,33],[86,31,86,33],[87,37,87,41],[84,31,84,33],[72,34,72,36],[75,34,75,36],[79,31,79,33],[80,37,80,41],[76,34,76,36],[77,28,77,30],[68,37,68,41],[78,37,78,41],[77,34,77,36],[84,42,84,46],[85,34,85,36],[78,42,78,46],[77,37,77,41],[79,34,79,36],[80,42,80,46],[79,42,79,46],[73,28,73,30],[73,34,73,36],[72,28,72,30],[76,42,76,46],[81,19,81,21],[90,42,90,46],[79,19,79,21],[80,19,80,21],[88,37,88,41],[86,34,86,36],[72,19,72,21],[74,19,74,21],[55,31,55,33],[57,37,57,41],[67,37,67,41],[68,31,68,33],[68,34,68,36],[56,22,56,24],[56,25,56,27],[55,25,55,27],[86,37,86,41],[86,42,86,46],[86,28,86,30],[82,34,82,36],[84,34,84,36],[84,37,84,41],[83,34,83,36],[83,31,83,33],[87,28,87,30],[82,42,82,46],[81,37,81,41],[81,42,81,46],[85,42,85,46],[85,31,85,33],[85,28,85,30],[81,28,81,30],[143,25,143,27],[111,34,111,36],[111,19,111,21],[111,22,111,24],[111,28,111,30],[114,14,114,18],[111,42,111,46],[106,19,106,21],[108,22,108,24],[106,25,106,27],[65,28,65,30],[65,31,65,33],[66,14,66,18],[79,37,79,41],[113,34,113,36],[113,25,113,27],[110,37,110,41],[96,42,96,46],[91,42,91,46],[90,25,90,27],[90,31,90,33],[92,42,92,46],[92,37,92,41],[88,34,88,36],[91,37,91,41],[90,37,90,41],[90,34,90,36],[105,37,105,41],[102,34,102,36],[96,34,96,36],[105,34,105,36],[104,25,104,27],[151,0,151,3],[147,9,147,13],[148,4,148,8],[149,4,149,8],[149,9,149,13],[146,0,146,3],[146,4,146,8],[142,0,142,3],[138,0,138,3],[138,4,138,8],[138,9,138,13],[108,14,108,18],[18,3,19,17],[21,5,22,17],[26,8,26,9],[64,9,64,13],[91,34,91,36],[89,28,89,30],[143,14,143,18],[106,34,106,36],[142,28,142,30],[142,22,142,24],[121,28,121,30],[128,22,128,24],[128,25,128,27],[115,22,115,24],[116,22,116,24],[115,25,115,27],[123,22,123,24],[123,25,123,27],[143,19,143,21],[143,22,143,24],[107,22,107,24],[110,34,110,36],[110,42,110,46],[115,42,115,46],[115,37,115,41],[106,9,106,13],[91,19,91,21],[92,19,92,21],[73,25,73,27],[72,25,72,27],[2,0,2,2],[2,13,2,15],[6,3,7,17],[12,3,13,17],[10,3,11,17],[8,3,9,17],[4,3,5,17],[103,42,103,46],[88,42,88,46],[105,42,105,46],[106,37,106,41],[106,42,106,46],[100,25,100,27],[98,25,98,27],[100,37,100,41],[99,31,99,33],[97,37,97,41],[102,31,102,33],[100,42,100,46],[99,42,99,46],[98,42,98,46],[98,34,98,36],[112,19,112,21],[102,19,102,21],[102,14,102,18],[102,9,102,13],[28,8,28,9],[30,8,30,9],[90,0,90,3],[90,4,90,8],[105,19,105,21],[76,19,76,21],[73,22,73,24],[103,14,103,18],[107,19,107,21],[108,25,108,27],[96,14,96,18],[106,22,106,24],[105,25,105,27],[105,22,105,24],[100,19,100,21],[92,22,92,24],[91,14,91,18],[80,22,80,24],[75,22,75,24],[75,25,75,27],[77,25,77,27],[93,25,93,27],[81,22,81,24],[81,25,81,27],[82,25,82,27],[84,14,84,18],[84,22,84,24],[95,14,95,18],[108,42,108,46],[112,14,112,18],[110,25,110,27],[109,42,109,46],[109,9,109,13],[99,14,99,18],[107,42,107,46],[104,31,104,33],[104,34,104,36],[104,37,104,41],[104,42,104,46],[102,37,102,41],[102,42,102,46],[103,9,103,13],[103,31,103,33],[103,34,103,36],[103,37,103,41],[107,28,107,30],[107,31,107,33],[108,28,108,30],[109,19,109,21],[112,42,112,46],[107,25,107,27],[100,22,100,24],[101,19,101,21],[110,19,110,21],[110,22,110,24],[111,25,111,27],[107,9,107,13],[107,14,107,18],[105,9,105,13],[108,19,108,21],[117,0,117,3],[117,4,117,8],[86,14,86,18],[89,14,89,18],[89,22,89,24],[105,0,105,3],[106,0,106,3],[99,0,99,3],[99,4,99,8],[103,28,103,30],[104,28,104,30],[104,22,104,24],[104,19,104,21],[103,19,103,21],[98,22,98,24],[97,0,97,3],[91,9,91,13],[92,9,92,13],[100,28,100,30],[97,22,97,24],[91,28,91,30],[101,22,101,24],[96,19,96,21],[96,22,96,24],[99,28,99,30],[98,19,98,21],[113,4,113,8],[113,9,113,13],[98,0,98,3],[90,14,90,18],[86,19,86,21],[88,19,88,21],[106,4,106,8],[107,4,107,8],[91,4,91,8],[105,4,105,8],[108,37,108,41],[108,31,108,33],[107,37,107,41],[109,37,109,41],[106,14,106,18],[116,25,116,27],[116,28,116,30],[114,34,114,36],[114,28,114,30],[115,28,115,30],[92,31,92,33],[98,37,98,41],[96,37,96,41],[100,34,100,36],[99,34,99,36],[92,34,92,36],[101,34,101,36],[99,37,99,41],[100,31,100,33],[97,34,97,36],[97,31,97,33],[97,25,97,27],[116,4,116,8],[112,25,112,27],[114,19,114,21],[114,22,114,24],[107,34,107,36],[109,34,109,36],[113,19,113,21],[106,28,106,30],[106,31,106,33],[105,31,105,33],[105,28,105,30],[117,31,117,33],[116,31,116,33],[115,31,115,33],[115,34,115,36],[112,31,112,33],[109,14,109,18],[110,9,110,13],[110,14,110,18],[109,31,109,33],[108,34,108,36],[118,37,118,41],[117,9,117,13],[117,28,117,30],[117,37,117,41],[118,22,118,24],[116,9,116,13],[116,14,116,18],[115,14,115,18],[110,31,110,33],[111,37,111,41],[110,28,110,30],[112,28,112,30],[114,25,114,27],[113,28,113,30],[118,9,118,13],[118,14,118,18],[112,22,112,24],[117,25,117,27],[112,34,112,36],[112,37,112,41],[114,37,114,41],[113,37,113,41],[113,31,113,33],[113,14,113,18],[111,14,111,18],[111,31,111,33],[109,28,109,30],[109,25,109,27],[119,42,119,46],[120,19,120,21],[120,22,120,24],[120,25,120,27],[120,42,120,46],[119,31,119,33],[119,34,119,36],[120,37,120,41],[120,28,120,30],[120,31,120,33],[118,34,118,36],[117,42,117,46],[117,22,117,24],[117,34,117,36],[116,42,116,46],[116,34,116,36],[119,14,119,18],[119,19,119,21],[119,22,119,24],[119,25,119,27],[113,22,113,24],[125,19,125,21],[124,0,124,3],[124,4,124,8],[124,9,124,13],[124,14,124,18],[124,19,124,21],[123,42,123,46],[124,25,124,27],[125,28,125,30],[124,31,124,33],[121,25,121,27],[121,0,121,3],[121,4,121,8],[121,9,121,13],[121,14,121,18],[121,22,121,24],[121,34,121,36],[121,42,121,46],[123,31,123,33],[122,25,122,27],[124,22,124,24],[123,37,123,41],[122,34,122,36],[122,37,122,41],[124,37,124,41],[124,42,124,46],[124,28,124,30],[123,34,123,36],[122,42,122,46],[125,42,125,46],[114,42,114,46],[116,37,116,41],[114,31,114,33],[118,25,118,27],[118,28,118,30],[118,31,118,33],[113,42,113,46],[122,14,122,18],[120,34,120,36],[122,19,122,21],[122,22,122,24],[121,37,121,41],[122,28,122,30],[121,31,121,33],[123,0,123,3],[123,4,123,8],[123,9,123,13],[123,14,123,18],[123,19,123,21],[121,19,121,21],[122,31,122,33],[119,0,119,3],[119,4,119,8],[119,9,119,13],[120,0,120,3],[120,4,120,8],[120,9,120,13],[120,14,120,18],[116,0,116,3],[118,0,118,3],[118,4,118,8],[119,28,119,30],[126,34,126,36],[126,37,126,41],[125,22,125,24],[118,42,118,46],[119,37,119,41],[118,19,118,21],[130,0,130,3],[130,4,130,8],[130,9,130,13],[130,14,130,18],[130,31,130,33],[130,42,130,46],[130,37,130,41],[130,25,130,27],[130,28,130,30],[129,31,129,33],[125,31,125,33],[126,42,126,46],[127,0,127,3],[127,4,127,8],[127,9,127,13],[127,14,127,18],[127,19,127,21],[126,22,126,24],[126,25,126,27],[128,31,128,33],[126,31,126,33],[125,34,125,36],[125,37,125,41],[127,31,127,33],[127,22,127,24],[125,14,125,18],[132,9,132,13],[139,31,139,33],[139,34,139,36],[127,25,127,27],[127,42,127,46],[126,28,126,30],[125,25,125,27],[125,0,125,3],[125,4,125,8],[125,9,125,13],[132,37,132,41],[132,19,132,21],[132,22,132,24],[132,34,132,36],[132,31,132,33],[131,19,131,21],[130,34,130,36],[128,34,128,36],[128,37,128,41],[129,42,129,46],[128,19,128,21],[129,4,129,8],[129,9,129,13],[129,14,129,18],[127,34,127,36],[127,37,127,41],[128,42,128,46],[129,34,129,36],[129,37,129,41],[128,14,128,18],[129,0,129,3],[126,19,126,21],[134,42,134,46],[133,42,133,46],[134,34,134,36],[134,19,134,21],[133,28,133,30],[134,37,134,41],[133,34,133,36],[133,37,133,41],[134,25,134,27],[133,25,133,27],[128,28,128,30],[131,42,131,46],[131,34,131,36],[131,37,131,41],[129,25,129,27],[129,28,129,30],[131,22,131,24],[130,19,130,21],[130,22,130,24],[132,42,132,46],[140,28,140,30],[133,0,133,3],[133,4,133,8],[133,9,133,13],[133,14,133,18],[133,19,133,21],[131,25,131,27],[131,28,131,30],[134,9,134,13],[134,14,134,18],[131,9,131,13],[131,14,131,18],[136,25,136,27],[135,0,135,3],[135,4,135,8],[135,9,135,13],[135,14,135,18],[132,25,132,27],[132,28,132,30],[134,0,134,3],[134,4,134,8],[139,28,139,30],[132,14,132,18],[138,14,138,18],[139,0,139,3],[139,4,139,8],[139,9,139,13],[139,14,139,18],[131,0,131,3],[131,4,131,8],[132,0,132,3],[132,4,132,8],[141,0,141,3],[141,4,141,8],[141,9,141,13],[141,14,141,18],[140,0,140,3],[140,4,140,8],[66,22,66,24],[141,42,141,46],[133,31,133,33],[131,31,131,33],[134,31,134,33],[141,28,141,30],[141,31,141,33],[141,34,141,36],[141,37,141,41],[140,31,140,33],[134,22,134,24],[133,22,133,24],[135,22,135,24],[135,25,135,27],[136,28,136,30],[134,28,134,30],[140,9,140,13],[140,14,140,18],[140,22,140,24],[136,0,136,3],[136,4,136,8],[136,9,136,13],[136,14,136,18],[136,19,136,21],[136,22,136,24],[66,4,66,8],[144,34,144,36],[144,37,144,41],[144,42,144,46],[142,31,142,33],[142,34,142,36],[142,37,142,41],[142,42,142,46],[143,34,143,36],[143,37,143,41],[143,31,143,33],[141,19,141,21],[141,22,141,24],[141,25,141,27],[140,19,140,21],[135,34,135,36],[140,34,140,36],[140,42,140,46],[136,42,136,46],[136,31,136,33],[135,42,135,46],[142,19,142,21],[138,19,138,21],[138,22,138,24],[138,25,138,27],[138,28,138,30],[138,31,138,33],[138,34,138,36],[138,37,138,41],[138,42,138,46],[139,19,139,21],[139,22,139,24],[139,25,139,27],[147,22,147,24],[147,0,147,3],[144,0,144,3],[147,4,147,8],[148,42,148,46],[147,28,147,30],[147,31,147,33],[148,14,148,18],[148,19,148,21]],"merged_total":6653,"flags":["merged_cut"]}
[null,null,null,null,null,null,null,null,null,null,null,null,null,null,null,null,null,null,null,null,null,null,null,null,null,null,null,null,null,"Auftrags-Nr.: ",null,null,null,null,null,{"$f":"Originalbestellung!O14","v":0},null,null,null,"a",null,null,null,"5.5"]
[]
["x",null,null,null,"Bestellung",null,null,null,null,null,null,null,null,null,null,null,null,"Offerte",null,null,null,null,null,null,"Josias Gasser Baumaterialien AG"]
[]
[null,null,null,null,null,null,null,null,null,null,null,null,null,null,null,null,null,null,null,null,null,null,null,null,"Zuschnitt- und Bearbeitung"]
["Kunde:",null,null,null,null,null,null,null,null,null,null,null,null,null,null,null,null,null,null,null,null,null,null,null,"Haldensteinstrasse 44"]
["                 ",null,null,null,null,null,null,null,null,null,null,null,null,null,null,null,null,null,null,null,null,null,null,null,"7001 Chur "]
[null,null,null,null,null,null,null,null,null,null,null,null,null,null,null,null,null,null,null,null,null,null,null,null,"Telefon 081 / 354 11 11 "]
["       ",null,null,null,null,null,null,null,null,null,null,null,null,null,null,null,null,null,null,null,null,null,null,null,"Telefax 081 / 354 11 10 "]
[null,null,null,null,null,null,null,null,null,null,null,null,null,null,null,null,null,null,null,null,null,null,null,null,"mailto:zuschnitt@gasser.ch"]
[]
["Ort:",null,null,null,null,null,null,null,null,null,null,null,null,null,null,null,null,null,null,null,null,null,null,null,"Objekt:"]
[]
["SB/Tel.:",null,null,null,null,null,null,null,null,null,null,null,null,null,null,null,null,null,null,null,null,null,null,null,"Lieferort:"]
[]
[]
["Datum:",null,null,null,null,null,null,null,null,null,null,null,null,null,null,null,null,null,null,null,null,null,null,null,"Lieferdatum (Wunsch):"]
[]
[]
["Liste:",null,null,null,null,null,null,null,null,null,null,null,null,null,null,null,null,null,null,null,null,null,null,null,"Letzte Stückliste des Objektes"]
[]
[null,null,null,null,null,null,null,null,null,null,null,null,null,null,null,null,null,null,null,null,null,null,null,null,null,null,null,null,null,null,null,null,null,null,null,null,null,null,null,null,null,null,8]
["Plattenmat.:",null,null,null,null,null,null,null,null,null,null,null,null,null,null,null,null,null,null,null,null,"Farbe:",null,null,null,null,null,null,null,null,null,null,null,null,null,null,null,null,null,"Dicke:",null,null,null,null,null,"mm",null,null,null,null,null,null,null,null,null,null,null,null,null,null,null,null,null,null,null,null,null,null,null,null,null,null,null,null,null,null,null,null,null,null,null,null,null,null,null,null,null,null,null,null,{"$f":"Farben!P24","v":0}]
[null,null,null,null,null,null,null,null,null,null,null,null,null,null,null,null,null,null,null,null,null,null,null,null,null,null,null,null,null,null,null,null,null,null,null,null,null,null,null,null,null,null,null,null,null,null,null,null,null,null,null,null,null,null,null,null,null,null,null,null,null,null,null,null,null,null,null,null,null,null,null,null,null,null,null,null,null,null,null,null,null,null,null,null,null,null,null,null,null,null,{"$f":"Farben!P25","v":0}]
["Beschriftung:",null,null,null,null,null,null,null,null,"Filzstift auf Längskante",null,null,null,null,null,null,null,null,null,null,null,"Fugenband:",null,null,null,null,null,null,null,null,null,null,null,null,null,null,null,null,null,null,null,null,null,null,null,null,null,null,null,null,null,null,null,null,null,null,null,null,null,null,null,null,null,null,null,null,null,null,null,null,null,null,null,null,null,null,null,null,null,null,null,null,null,null,null,null,null,null,null,null,{"$f":"Farben!P26","v":0}]
[null,null,null,null,null,null,null,null,null,null,null,null,null,null,null,null,null,null,null,null,null,null,null,null,null,null,null,null,null,null,null,null,null,null,null,null,null,null,null,null,null,null,null,null,null,null,null,null,null,null,null,null,null,null,null,null,null,null,null,null,null,null,null,null,null,null,null,null,null,null,null,null,null,null,null,null,null,null,null,null,null,null,null,null,null,null,null,null,null,null,{"$f":"Farben!P27","v":0}]
["Bohrlöcher:",null,null,null,null,null,null,null,5.5,null,"mm",null,"(Befestigung auf Holz)",null,null,null,null,null,null,null,null,null,null,null,"60 mm",null,null,null,"m¹",null,null,null,null,null,null,null,null,null,null,null,null,null,null,null,null,null,null,null,null,null,null,null,null,null,null,null,null,null,null,null,null,null,null,null,null,null,null,null,null,null,null,null,null,null,null,null,null,null,null,null,null,null,null,null,null,null,null,null,null,null,{"$f":"Farben!P28","v":0}]
[null,null,null,null,null,null,null,null,null,null,null,null,null,null,null,null,null,null,null,null,null,null,null,null,null,null,null,null,null,null,null,null,null,null,null,null,null,null,null,null,null,null,null,null,null,null,null,null,null,null,null,null,null,null,null,null,null,null,null,null,null,null,null,null,null,null,null,null,null,null,null,null,null,null,null,null,null,null,null,null,null,null,null,null,null,null,null,null,null,null,{"$f":"Farben!P29","v":0}]
[null,null,null,null,null,null,null,null,9.5,null,"mm",null,"(Befestigung auf Alu)",null,null,null,null,null,null,null,null,null,null,120,"60 mm",null,null,null,"m¹",null,null,null,null,null,null,null,null,null,null,null,null,null,null,null,null,null,null,null,null,null,null,null,null,null,null,null,null,null,null,null,null,null,null,null,null,null,null,null,null,null,null,null,null,null,null,null,null,null,null,null,null,null,null,null,null,null,null,null,null,null,{"$f":"Farben!P30","v":0}]
[null,null,null,null,null,null,null,null,null,null,null,null,null,null,null,null,null,null,null,null,null,null,null,null,null,null,null,null,null,null,null,null,null,null,null,null,null,null,null,null,null,null,null,null,null,null,null,null,null,null,null,null,null,null,null,null,null,null,null,null,null,null,null,null,null,null,null,null,null,null,null,null,null,null,null,null,null,null,null,null,null,null,null,null,null,null,null,null,null,null,{"$f":"Farben!P31","v":0}]
[null,null,null,null,null,null,null,null,null,null,"mm",null,null,null,null,null,null,null,null,null,null,null,null,150,"120 mm",null,null,null,"m¹",null,null,null,null,null,null,null,null,null,null,null,null,null,null,null,null,null,null,null,null,null,null,null,null,null,null,null,null,null,null,null,null,null,null,null,null,null,null,null,null,null,null,null,null,null,null,null,null,null,null,null,null,null,null,null,null,null,null,null,null,null,{"$f":"Farben!P32","v":0}]
[null,null,null,null,null,null,null,null,null,null,null,null,null,null,null,null,null,null,null,null,null,null,null,null,null,null,null,null,null,null,null,null,null,null,null,null,null,null,null,null,null,null,null,null,null,null,null,null,null,null,null,null,null,null,null,null,null,null,null,null,null,null,null,null,null,null,null,null,null,null,null,null,null,null,null,null,null,null,null,null,null,null,null,null,null,null,null,null,null,null,{"$f":"Farben!P33","v":0}]
["Schnittreste:",null,null,null,null,null,null,null,"  mitliefern",null,null,null,null,null,null,null,null,null,null,null,null,null,null,null,null,null,null,null,null,null,null,null,null,null,null,null,null,null,null,null,null,null,null,null,null,null,null,null,null,null,null,null,null,null,null,null,null,null,null,null,null,null,null,null,null,null,null,null,null,null,null,null,null,null,null,null,null,null,null,null,null,null,null,null,null,null,null,null,null,null,{"$f":"Farben!P34","v":0}]
[null,null,null,null,null,null,null,null,null,null,null,null,null,null,null,null,null,null,null,null,null,null,null,null,null,null,null,null,null,null,null,null,null,null,null,null,null,null,null,null,null,null,null,null,null,null,null,null,null,null,null,null,null,null,null,null,null,null,null,null,null,null,null,null,null,null,null,null,null,null,null,null,null,null,null,null,null,null,null,null,null,null,null,null,null,null,null,null,null,null,{"$f":"Farben!P35","v":0}]
[null,null,null,null,null,null,null,null,"  entsorgen",null,null,null,null,null,null,null,null,null,null,null,null,null,null,null,null,null,null,null,null,null,null,null,null,null,null,null,null,null,null,null,null,null,null,null,null,null,null,null,null,null,null,null,null,null,null,null,null,null,null,null,null,null,null,null,null,null,null,null,null,null,null,null,null,null,null,null,null,null,null,null,null,null,null,null,null,null,null,null,null,null,{"$f":"Farben!P36","v":0}]
[]
["Schrauben:",null,null,null,null,null,null,null,null,null,null,null,"Stk. ",null,"4.8 x 30 mm"]
[null,null,null,null,null,null,null,null,null,null,null,null,"Stk. ",null,"4.8 x 38 mm",null,null,null,null,null,null,null,null,null,null,null,null,"Sonder-Zubehör:"]
[null,null,null,null,null,null,null,null,null,null,null,null,"Stk.",null,"4.8 x 44 mm"]
[null,null,null,null,null,null,null,null,null,null,null,null,"Stk.",null,"4.8 x 60 mm"]
[]
["Nieten:",null,null,null,null,null,null,null,null,null,null,null,"Stk.  4 x 18 mm K 15 "]
[null,null,null,null,null,null,null,null,null,null,null,null,"Stk.  4 x 30 mm K 15"]
[]
[null,null,null,null,null,null,null,null,null,"Blank",null,null,null,null,null,null,null," m. Dichtung"]
[null,null,null,null,null,null,null,null,null,"Farbig",null,null,null,null,null,null,null," m. Dichtung",null,null,null,null,null,null,null,null,null,null,null,"Unterschrift:"]
[]
["Bemerkungen:"]
[]
[]
[null,null,null,null,null,null,null,null,null,null,null,"x",null,"definitive Stückliste",null,null,null,null,null,null,null,null,null,null,null,null,null,null,null,"  provisorische Stückliste"]
[]
["Auswertung:",null,null,null,null,null,"Gewicht: ",null,null,{"$f":"AY605*15.7","v":0},null,null,null,null,"Kg",null,null,"Fläche:",null,null,{"$f":"AY605","v":0},null,null,"m2",null,"Kantenschnitt:",null,null,null,null,{"$f":"AW605","v":0},null,null,null,"m1",null,"Anzahl Löcher:",null,null,null,null,{"$f":"BD605","v":0},null,null,null,"Stk."]
["Alle Masse sind in mm anzugeben! ",null,null,null,null,null,null,null,null,null,null,null,null,null,null,null,null,null,null,"Randabstand der Löcher",null,null,null,null,null,null,null,null,null,null,null,"Anzahl Löcher",null,null,null,null,null,"Total"]
["Pos.",null,null,null,"Stk",null,null,null,null,"xa      X       xb",null,null,null,null,"ya     Y      yb",null,null,null,null,"X1",null,null,"X2",null,null,"Y1",null,null,"Y2",null,null,"XL",null,null,"YL",null,null,"RaX",null,null,null,null,"RaY"]
[null,null,null,null,null,null,null,null,null,null,null,null,null,null,null,null,null,null,null,null,null,null,null,null,null,null,null,null,null,null,null,null,null,null,null,null,null,{"$f":"IF(AF56>1.1,BA56,0)","v":0},null,null,null,null,{"$f":"IF(AI56>1.1,BB56,0)","v":0},null,null,null,null,null,{"$f":"(((J56+O56)*2)/1000)*E56","v":0},null,{"$f":"((J56/1000)*(O56/1000))*E56","v":0},null,{"$f":"(J56-T56-W56)/(AF56-1)","v":0},{"$f":"(O56-Z56-AC56)/(AI56-1)","v":0},null,{"$f":"AI56*AF56*E56","v":0}]
[null,null,null,null,null,null,null,null,null,null,null,null,null,null,null,null,null,null,null,null,null,null,null,null,null,null,null,null,null,null,null,null,null,null,null,null,null,{"$f":"IF(AF57>1.1,BA57,0)","v":0},null,null,null,null,{"$f":"IF(AI57>1.1,BB57,0)","v":0},null,null,null,null,null,{"$f":"(((J57+O57)*2)/1000)*E57","v":0},null,{"$f":"((J57/1000)*(O57/1000))*E57","v":0},null,{"$f":"(J57-T57-W57)/(AF57-1)","v":0},{"$f":"(O57-Z57-AC57)/(AI57-1)","v":0},null,{"$f":"AI57*AF57*E57","v":0}]
[null,null,null,null,null,null,null,null,null,null,null,null,null,null,null,null,null,null,null,null,null,null,null,null,null,null,null,null,null,null,null,null,null,null,null,null,null,{"$f":"IF(AF58>1.1,BA58,0)","v":0},null,null,null,null,{"$f":"IF(AI58>1.1,BB58,0)","v":0},null,null,null,null,null,0,null,0,null,0,0,null,0]
[null,null,null,null,null,null,null,null,null,null,null,null,null,null,null,null,null,null,null,null,null,null,null,null,null,null,null,null,null,null,null,null,null,null,null,null,null,0,null,null,null,null,0,null,null,null,null,null,0,null,0,null,0,0,null,0]
[null,null,null,null,null,null,null,null,null,null,null,null,null,null,null,null,null,null,null,null,null,null,null,null,null,null,null,null,null,null,null,null,null,null,null,null,null,0,null,null,null,null,0,null,null,null,null,null,0,null,0,null,0,0,null,0]
[null,null,null,null,null,null,null,null,null,null,null,null,null,null,null,null,null,null,null,null,null,null,null,null,null,null,null,null,null,null,null,null,null,null,null,null,null,0,null,null,null,null,0,null,null,null,null,null,0,null,0,null,0,0,null,0]
[null,null,null,null,null,null,null,null,null,null,null,null,null,null,null,null,null,null,null,null,null,null,null,null,null,null,null,null,null,null,null,null,null,null,null,null,null,0,null,null,null,null,0,null,null,null,null,null,0,null,0,null,0,0,null,0]
[null,null,null,null,null,null,null,null,null,null,null,null,null,null,null,null,null,null,null,null,null,null,null,null,null,null,null,null,null,null,null,null,null,null,null,null,null,0,null,null,null,null,0,null,null,null,null,null,0,null,0,null,0,0,null,0]
[null,null,null,null,null,null,null,null,null,null,null,null,null,null,null,null,null,null,null,null,null,null,null,null,null,null,null,null,null,null,null,null,null,null,null,null,null,0,null,null,null,null,0,null,null,null,null,null,0,null,0,null,0,0,null,0]
[null,null,null,null,null,null,null,null,null,null,null,null,null,null,null,null,null,null,null,null,null,null,null,null,null,null,null,null,null,null,null,null,null,null,null,null,null,0,null,null,null,null,0,null,null,null,null,null,0,null,0,null,0,0,null,0]
[null,null,null,null,null,null,null,null,null,null,null,null,null,null,null,null,null,null,null,null,null,null,null,null,null,null,null,null,null,null,null,null,null,null,null,null,null,0,null,null,null,null,0,null,null,null,null,null,0,null,0,null,0,0,null,0]
[null,null,null,null,null,null,null,null,null,null,null,null,null,null,null,null,null,null,null,null,null,null,null,null,null,null,null,null,null,null,null,null,null,null,null,null,null,0,null,null,null,null,0,null,null,null,null,null,0,null,0,null,0,0,null,0]
[null,null,null,null,null,null,null,null,null,null,null,null,null,null,null,null,null,null,null,null,null,null,null,null,null,null,null,null,null,null,null,null,null,null,null,null,null,0,null,null,null,null,0,null,null,null,null,null,0,null,0,null,0,0,null,0]
[null,null,null,null,null,null,null,null,null,null,null,null,null,null,null,null,null,null,null,null,null,null,null,null,null,null,null,null,null,null,null,null,null,null,null,null,null,0,null,null,null,null,0,null,null,null,null,null,0,null,0,null,0,0,null,0]
[null,null,null,null,null,null,null,null,null,null,null,null,null,null,null,null,null,null,null,null,null,null,null,null,null,null,null,null,null,null,null,null,null,null,null,null,null,0,null,null,null,null,0,null,null,null,null,null,0,null,0,null,0,0,null,0]
[null,null,null,null,null,null,null,null,null,null,null,null,null,null,null,null,null,null,null,null,null,null,null,null,null,null,null,null,null,null,null,null,null,null,null,null,null,0,null,null,null,null,0,null,null,null,null,null,0,null,0,null,0,0,null,0]
[null,null,null,null,null,null,null,null,null,null,null,null,null,null,null,null,null,null,null,null,null,null,null,null,null,null,null,null,null,null,null,null,null,null,null,null,null,0,null,null,null,null,0,null,null,null,null,null,0,null,0,null,0,0,null,0]
[null,null,null,null,null,null,null,null,null,null,null,null,null,null,null,null,null,null,null,null,null,null,null,null,null,null,null,null,null,null,null,null,null,null,null,null,null,0,null,null,null,null,0,null,null,null,null,null,0,null,0,null,0,0,null,0]
[null,null,null,null,null,null,null,null,null,null,null,null,null,null,null,null,null,null,null,null,null,null,null,null,null,null,null,null,null,null,null,null,null,null,null,null,null,0,null,null,null,null,0,null,null,null,null,null,0,null,0,null,0,0,null,0]
[null,null,null,null,null,null,null,null,null,null,null,null,null,null,null,null,null,null,null,null,null,null,null,null,null,null,null,null,null,null,null,null,null,null,null,null,null,0,null,null,null,null,0,null,null,null,null,null,0,null,0,null,0,0,null,0]
[null,null,null,null,null,null,null,null,null,null,null,null,null,null,null,null,null,null,null,null,null,null,null,null,null,null,null,null,null,null,null,null,null,null,null,null,null,0,null,null,null,null,0,null,null,null,null,null,0,null,0,null,0,0,null,0]
[null,null,null,null,null,null,null,null,null,null,null,null,null,null,null,null,null,null,null,null,null,null,null,null,null,null,null,null,null,null,null,null,null,null,null,null,null,0,null,null,null,null,0,null,null,null,null,null,0,null,0,null,0,0,null,0]
[null,null,null,null,null,null,null,null,null,null,null,null,null,null,null,null,null,null,null,null,null,null,null,null,null,null,null,null,null,null,null,null,null,null,null,null,null,0,null,null,null,null,0,null,null,null,null,null,0,null,0,null,0,0,null,0]
[null,null,null,null,null,null,null,null,null,null,null,null,null,null,null,null,null,null,null,null,null,null,null,null,null,null,null,null,null,null,null,null,null,null,null,null,null,0,null,null,null,null,0,null,null,null,null,null,0,null,0,null,0,0,null,0]
[null,null,null,null,null,null,null,null,null,null,null,null,null,null,null,null,null,null,null,null,null,null,null,null,null,null,null,null,null,null,null,null,null,null,null,null,null,0,null,null,null,null,0,null,null,null,null,null,0,null,0,null,0,0,null,0]
[null,null,null,null,null,null,null,null,null,null,null,null,null,null,null,null,null,null,null,null,null,null,null,null,null,null,null,null,null,null,null,null,null,null,null,null,null,0,null,null,null,null,0,null,null,null,null,null,0,null,0,null,0,0,null,0]
[null,null,null,null,null,null,null,null,null,null,null,null,null,null,null,null,null,null,null,null,null,null,null,null,null,null,null,null,null,null,null,null,null,null,null,null,null,0,null,null,null,null,0,null,null,null,null,null,0,null,0,null,0,0,null,0]
[null,null,null,null,null,null,null,null,null,null,null,null,null,null,null,null,null,null,null,null,null,null,null,null,null,null,null,null,null,null,null,null,null,null,null,null,null,0,null,null,null,null,0,null,null,null,null,null,0,null,0,null,0,0,null,0]
[null,null,null,null,null,null,null,null,null,null,null,null,null,null,null,null,null,null,null,null,null,null,null,null,null,null,null,null,null,null,null,null,null,null,null,null,null,0,null,null,null,null,0,null,null,null,null,null,0,null,0,null,0,0,null,0]
[null,null,null,null,null,null,null,null,null,null,null,null,null,null,null,null,null,null,null,null,null,null,null,null,null,null,null,null,null,null,null,null,null,null,null,null,null,0,null,null,null,null,0,null,null,null,null,null,0,null,0,null,0,0,null,0]
[null,null,null,null,null,null,null,null,null,null,null,null,null,null,null,null,null,null,null,null,null,null,null,null,null,null,null,null,null,null,null,null,null,null,null,null,null,0,null,null,null,null,0,null,null,null,null,null,0,null,0,null,0,0,null,0]
[null,null,null,null,null,null,null,null,null,null,null,null,null,null,null,null,null,null,null,null,null,null,null,null,null,null,null,null,null,null,null,null,null,null,null,null,null,0,null,null,null,null,0,null,null,null,null,null,0,null,0,null,0,0,null,0]
[null,null,null,null,null,null,null,null,null,null,null,null,null,null,null,null,null,null,null,null,null,null,null,null,null,null,null,null,null,null,null,null,null,null,null,null,null,0,null,null,null,null,0,null,null,null,null,null,0,null,0,null,0,0,null,0]
[null,null,null,null,null,null,null,null,null,null,null,null,null,null,null,null,null,null,null,null,null,null,null,null,null,null,null,null,null,null,null,null,null,null,null,null,null,0,null,null,null,null,0,null,null,null,null,null,0,null,0,null,0,0,null,0]
[null,null,null,null,null,null,null,null,null,null,null,null,null,null,null,null,null,null,null,null,null,null,null,null,null,null,null,null,null,null,null,null,null,null,null,null,null,0,null,null,null,null,0,null,null,null,null,null,0,null,0,null,0,0,null,0]
[null,null,null,null,null,null,null,null,null,null,null,null,null,null,null,null,null,null,null,null,null,null,null,null,null,null,null,null,null,null,null,null,null,null,null,null,null,0,null,null,null,null,0,null,null,null,null,null,0,null,0,null,0,0,null,0]
[null,null,null,null,null,null,null,null,null,null,null,null,null,null,null,null,null,null,null,null,null,null,null,null,null,null,null,null,null,null,null,null,null,null,null,null,null,0,null,null,null,null,0,null,null,null,null,null,0,null,0,null,0,0,null,0]
[null,null,null,null,null,null,null,null,null,null,null,null,null,null,null,null,null,null,null,null,null,null,null,null,null,null,null,null,null,null,null,null,null,null,null,null,null,0,null,null,null,null,0,null,null,null,null,null,0,null,0,null,0,0,null,0]
[null,null,null,null,null,null,null,null,null,null,null,null,null,null,null,null,null,null,null,null,null,null,null,null,null,null,null,null,null,null,null,null,null,null,null,null,null,0,null,null,null,null,0,null,null,null,null,null,0,null,0,null,0,0,null,0]
[null,null,null,null,null,null,null,null,null,null,null,null,null,null,null,null,null,null,null,null,null,null,null,null,null,null,null,null,null,null,null,null,null,null,null,null,null,0,null,null,null,null,0,null,null,null,null,null,0,null,0,null,0,0,null,0]
[null,null,null,null,null,null,null,null,null,null,null,null,null,null,null,null,null,null,null,null,null,null,null,null,null,null,null,null,null,null,null,null,null,null,null,null,null,0,null,null,null,null,0,null,null,null,null,null,0,null,0,null,0,0,null,0]
[null,null,null,null,null,null,null,null,null,null,null,null,null,null,null,null,null,null,null,null,null,null,null,null,null,null,null,null,null,null,null,null,null,null,null,null,null,0,null,null,null,null,0,null,null,null,null,null,0,null,0,null,0,0,null,0]
[null,null,null,null,null,null,null,null,null,null,null,null,null,null,null,null,null,null,null,null,null,null,null,null,null,null,null,null,null,null,null,null,null,null,null,null,null,0,null,null,null,null,0,null,null,null,null,null,0,null,0,null,0,0,null,0]
[null,null,null,null,null,null,null,null,null,null,null,null,null,null,null,null,null,null,null,null,null,null,null,null,null,null,null,null,null,null,null,null,null,null,null,null,null,0,null,null,null,null,0,null,null,null,null,null,0,null,0,null,0,0,null,0]
[null,null,null,null,null,null,null,null,null,null,null,null,null,null,null,null,null,null,null,null,null,null,null,null,null,null,null,null,null,null,null,null,null,null,null,null,null,0,null,null,null,null,0,null,null,null,null,null,0,null,0,null,0,0,null,0]
[null,null,null,null,null,null,null,null,null,null,null,null,null,null,null,null,null,null,null,null,null,null,null,null,null,null,null,null,null,null,null,null,null,null,null,null,null,0,null,null,null,null,0,null,null,null,null,null,0,null,0,null,0,0,null,0]
[null,null,null,null,null,null,null,null,null,null,null,null,null,null,null,null,null,null,null,null,null,null,null,null,null,null,null,null,null,null,null,null,null,null,null,null,null,0,null,null,null,null,0,null,null,null,null,null,0,null,0,null,0,0,null,0]
[null,null,null,null,null,null,null,null,null,null,null,null,null,null,null,null,null,null,null,null,null,null,null,null,null,null,null,null,null,null,null,null,null,null,null,null,null,0,null,null,null,null,0,null,null,null,null,null,0,null,0,null,0,0,null,0]
[null,null,null,null,null,null,null,null,null,null,null,null,null,null,null,null,null,null,null,null,null,null,null,null,null,null,null,null,null,null,null,null,null,null,null,null,null,0,null,null,null,null,0,null,null,null,null,null,0,null,0,null,0,0,null,0]
[null,null,null,null,null,null,null,null,null,null,null,null,null,null,null,null,null,null,null,null,null,null,null,null,null,null,null,null,null,null,null,null,null,null,null,null,null,0,null,null,null,null,0,null,null,null,null,null,0,null,0,null,0,0,null,0]
[null,null,null,null,null,null,null,null,null,null,null,null,null,null,null,null,null,null,null,null,null,null,null,null,null,null,null,null,null,null,null,null,null,null,null,null,null,0,null,null,null,null,0,null,null,null,null,null,0,null,0,null,0,0,null,0]
[null,null,null,null,null,null,null,null,null,null,null,null,null,null,null,null,null,null,null,null,null,null,null,null,null,null,null,null,null,null,null,null,null,null,null,null,null,0,null,null,null,null,0,null,null,null,null,null,0,null,0,null,0,0,null,0]
[null,null,null,null,null,null,null,null,null,null,null,null,null,null,null,null,null,null,null,null,null,null,null,null,null,null,null,null,null,null,null,null,null,null,null,null,null,0,null,null,null,null,0,null,null,null,null,null,0,null,0,null,0,0,null,0]
[null,null,null,null,null,null,null,null,null,null,null,null,null,null,null,null,null,null,null,null,null,null,null,null,null,null,null,null,null,null,null,null,null,null,null,null,null,0,null,null,null,null,0,null,null,null,null,null,0,null,0,null,0,0,null,0]
[null,null,null,null,null,null,null,null,null,null,null,null,null,null,null,null,null,null,null,null,null,null,null,null,null,null,null,null,null,null,null,null,null,null,null,null,null,0,null,null,null,null,0,null,null,null,null,null,0,null,0,null,0,0,null,0]
[null,null,null,null,null,null,null,null,null,null,null,null,null,null,null,null,null,null,null,null,null,null,null,null,null,null,null,null,null,null,null,null,null,null,null,null,null,0,null,null,null,null,0,null,null,null,null,null,0,null,0,null,0,0,null,0]
[null,null,null,null,null,null,null,null,null,null,null,null,null,null,null,null,null,null,null,null,null,null,null,null,null,null,null,null,null,null,null,null,null,null,null,null,null,0,null,null,null,null,0,null,null,null,null,null,0,null,0,null,0,0,null,0]
[null,null,null,null,null,null,null,null,null,null,null,null,null,null,null,null,null,null,null,null,null,null,null,null,null,null,null,null,null,null,null,null,null,null,null,null,null,0,null,null,null,null,0,null,null,null,null,null,0,null,0,null,0,0,null,0]
[null,null,null,null,null,null,null,null,null,null,null,null,null,null,null,null,null,null,null,null,null,null,null,null,null,null,null,null,null,null,null,null,null,null,null,null,null,0,null,null,null,null,0,null,null,null,null,null,0,null,0,null,0,0,null,0]
[null,null,null,null,null,null,null,null,null,null,null,null,null,null,null,null,null,null,null,null,null,null,null,null,null,null,null,null,null,null,null,null,null,null,null,null,null,0,null,null,null,null,0,null,null,null,null,null,0,null,0,null,0,0,null,0]
[null,null,null,null,null,null,null,null,null,null,null,null,null,null,null,null,null,null,null,null,null,null,null,null,null,null,null,null,null,null,null,null,null,null,null,null,null,0,null,null,null,null,0,null,null,null,null,null,0,null,0,null,0,0,null,0]
[null,null,null,null,null,null,null,null,null,null,null,null,null,null,null,null,null,null,null,null,null,null,null,null,null,null,null,null,null,null,null,null,null,null,null,null,null,0,null,null,null,null,0,null,null,null,null,null,0,null,0,null,0,0,null,0]
[null,null,null,null,null,null,null,null,null,null,null,null,null,null,null,null,null,null,null,null,null,null,null,null,null,null,null,null,null,null,null,null,null,null,null,null,null,0,null,null,null,null,0,null,null,null,null,null,0,null,0,null,0,0,null,0]
[null,null,null,null,null,null,null,null,null,null,null,null,null,null,null,null,null,null,null,null,null,null,null,null,null,null,null,null,null,null,null,null,null,null,null,null,null,0,null,null,null,null,0,null,null,null,null,null,0,null,0,null,0,0,null,0]
[null,null,null,null,null,null,null,null,null,null,null,null,null,null,null,null,null,null,null,null,null,null,null,null,null,null,null,null,null,null,null,null,null,null,null,null,null,0,null,null,null,null,0,null,null,null,null,null,0,null,0,null,0,0,null,0]
[null,null,null,null,null,null,null,null,null,null,null,null,null,null,null,null,null,null,null,null,null,null,null,null,null,null,null,null,null,null,null,null,null,null,null,null,null,0,null,null,null,null,0,null,null,null,null,null,{"$f":"(((J121+O121)*2)/1000)*E121","v":0},null,{"$f":"((J121/1000)*(O121/1000))*E121","v":0},null,{"$f":"(J121-T121-W121)/(AF121-1)","v":0},{"$f":"(O121-Z121-AC121)/(AI121-1)","v":0},null,{"$f":"AI121*AF121*E121","v":0}]
[null,null,null,null,null,null,null,null,null,null,null,null,null,null,null,null,null,null,null,null,null,null,null,null,null,null,null,null,null,null,null,null,null,null,null,null,null,{"$f":"IF(AF122>1.1,BA122,0)","v":0},null,null,null,null,{"$f":"IF(AI122>1.1,BB122,0)","v":0},null,null,null,null,null,0,null,0,null,0,0,null,0]
[null,null,null,null,null,null,null,null,null,null,null,null,null,null,null,null,null,null,null,null,null,null,null,null,null,null,null,null,null,null,null,null,null,null,null,null,null,0,null,null,null,null,0,null,null,null,null,null,0,null,0,null,0,0,null,0]
[null,null,null,null,null,null,null,null,null,null,null,null,null,null,null,null,null,null,null,null,null,null,null,null,null,null,null,null,null,null,null,null,null,null,null,null,null,0,null,null,null,null,0,null,null,null,null,null,0,null,0,null,0,0,null,0]
[null,null,null,null,null,null,null,null,null,null,null,null,null,null,null,null,null,null,null,null,null,null,null,null,null,null,null,null,null,null,null,null,null,null,null,null,null,0,null,null,null,null,0,null,null,null,null,null,0,null,0,null,0,0,null,0]
[null,null,null,null,null,null,null,null,null,null,null,null,null,null,null,null,null,null,null,null,null,null,null,null,null,null,null,null,null,null,null,null,null,null,null,null,null,0,null,null,null,null,0,null,null,null,null,null,0,null,0,null,0,0,null,0]
[null,null,null,null,null,null,null,null,null,null,null,null,null,null,null,null,null,null,null,null,null,null,null,null,null,null,null,null,null,null,null,null,null,null,null,null,null,0,null,null,null,null,0,null,null,null,null,null,0,null,0,null,0,0,null,0]
[null,null,null,null,null,null,null,null,null,null,null,null,null,null,null,null,null,null,null,null,null,null,null,null,null,null,null,null,null,null,null,null,null,null,null,null,null,0,null,null,null,null,0,null,null,null,null,null,0,null,0,null,0,0,null,0]
[null,null,null,null,null,null,null,null,null,null,null,null,null,null,null,null,null,null,null,null,null,null,null,null,null,null,null,null,null,null,null,null,null,null,null,null,null,0,null,null,null,null,0,null,null,null,null,null,0,null,0,null,0,0,null,0]
[null,null,null,null,null,null,null,null,null,null,null,null,null,null,null,null,null,null,null,null,null,null,null,null,null,null,null,null,null,null,null,null,null,null,null,null,null,0,null,null,null,null,0,null,null,null,null,null,0,null,0,null,0,0,null,0]
[null,null,null,null,null,null,null,null,null,null,null,null,null,null,null,null,null,null,null,null,null,null,null,null,null,null,null,null,null,null,null,null,null,null,null,null,null,0,null,null,null,null,0,null,null,null,null,null,0,null,0,null,0,0,null,0]
[null,null,null,null,null,null,null,null,null,null,null,null,null,null,null,null,null,null,null,null,null,null,null,null,null,null,null,null,null,null,null,null,null,null,null,null,null,0,null,null,null,null,0,null,null,null,null,null,0,null,0,null,0,0,null,0]
[null,null,null,null,null,null,null,null,null,null,null,null,null,null,null,null,null,null,null,null,null,null,null,null,null,null,null,null,null,null,null,null,null,null,null,null,null,0,null,null,null,null,0,null,null,null,null,null,0,null,0,null,0,0,null,0]
[null,null,null,null,null,null,null,null,null,null,null,null,null,null,null,null,null,null,null,null,null,null,null,null,null,null,null,null,null,null,null,null,null,null,null,null,null,0,null,null,null,null,0,null,null,null,null,null,0,null,0,null,0,0,null,0]
[null,null,null,null,null,null,null,null,null,null,null,null,null,null,null,null,null,null,null,null,null,null,null,null,null,null,null,null,null,null,null,null,null,null,null,null,null,0,null,null,null,null,0,null,null,null,null,null,0,null,0,null,0,0,null,0]
[null,null,null,null,null,null,null,null,null,null,null,null,null,null,null,null,null,null,null,null,null,null,null,null,null,null,null,null,null,null,null,null,null,null,null,null,null,0,null,null,null,null,0,null,null,null,null,null,0,null,0,null,0,0,null,0]
[null,null,null,null,null,null,null,null,null,null,null,null,null,null,null,null,null,null,null,null,null,null,null,null,null,null,null,null,null,null,null,null,null,null,null,null,null,0,null,null,null,null,0,null,null,null,null,null,0,null,0,null,0,0,null,0]
[null,null,null,null,null,null,null,null,null,null,null,null,null,null,null,null,null,null,null,null,null,null,null,null,null,null,null,null,null,null,null,null,null,null,null,null,null,0,null,null,null,null,0,null,null,null,null,null,0,null,0,null,0,0,null,0]
[null,null,null,null,null,null,null,null,null,null,null,null,null,null,null,null,null,null,null,null,null,null,null,null,null,null,null,null,null,null,null,null,null,null,null,null,null,0,null,null,null,null,0,null,null,null,null,null,0,null,0,null,0,0,null,0]
[null,null,null,null,null,null,null,null,null,null,null,null,null,null,null,null,null,null,null,null,null,null,null,null,null,null,null,null,null,null,null,null,null,null,null,null,null,0,null,null,null,null,0,null,null,null,null,null,0,null,0,null,0,0,null,0]
[null,null,null,null,null,null,null,null,null,null,null,null,null,null,null,null,null,null,null,null,null,null,null,null,null,null,null,null,null,null,null,null,null,null,null,null,null,0,null,null,null,null,0,null,null,null,null,null,0,null,0,null,0,0,null,0]
[null,null,null,null,null,null,null,null,null,null,null,null,null,null,null,null,null,null,null,null,null,null,null,null,null,null,null,null,null,null,null,null,null,null,null,null,null,0,null,null,null,null,0,null,null,null,null,null,0,null,0,null,0,0,null,0]
[null,null,null,null,null,null,null,null,null,null,null,null,null,null,null,null,null,null,null,null,null,null,null,null,null,null,null,null,null,null,null,null,null,null,null,null,null,0,null,null,null,null,0,null,null,null,null,null,0,null,0,null,0,0,null,0]
[null,null,null,null,null,null,null,null,null,null,null,null,null,null,null,null,null,null,null,null,null,null,null,null,null,null,null,null,null,null,null,null,null,null,null,null,null,0,null,null,null,null,0,null,null,null,null,null,0,null,0,null,0,0,null,0]
[null,null,null,null,null,null,null,null,null,null,null,null,null,null,null,null,null,null,null,null,null,null,null,null,null,null,null,null,null,null,null,null,null,null,null,null,null,0,null,null,null,null,0,null,null,null,null,null,0,null,0,null,0,0,null,0]
[null,null,null,null,null,null,null,null,null,null,null,null,null,null,null,null,null,null,null,null,null,null,null,null,null,null,null,null,null,null,null,null,null,null,null,null,null,0,null,null,null,null,0,null,null,null,null,null,0,null,0,null,0,0,null,0]
[null,null,null,null,null,null,null,null,null,null,null,null,null,null,null,null,null,null,null,null,null,null,null,null,null,null,null,null,null,null,null,null,null,null,null,null,null,0,null,null,null,null,0,null,null,null,null,null,0,null,0,null,0,0,null,0]
[null,null,null,null,null,null,null,null,null,null,null,null,null,null,null,null,null,null,null,null,null,null,null,null,null,null,null,null,null,null,null,null,null,null,null,null,null,0,null,null,null,null,0,null,null,null,null,null,0,null,0,null,0,0,null,0]
[null,null,null,null,null,null,null,null,null,null,null,null,null,null,null,null,null,null,null,null,null,null,null,null,null,null,null,null,null,null,null,null,null,null,null,null,null,0,null,null,null,null,0,null,null,null,null,null,0,null,0,null,0,0,null,0]
[null,null,null,null,null,null,null,null,null,null,null,null,null,null,null,null,null,null,null,null,null,null,null,null,null,null,null,null,null,null,null,null,null,null,null,null,null,0,null,null,null,null,0,null,null,null,null,null,0,null,0,null,0,0,null,0]
[null,null,null,null,null,null,null,null,null,null,null,null,null,null,null,null,null,null,null,null,null,null,null,null,null,null,null,null,null,null,null,null,null,null,null,null,null,0,null,null,null,null,0,null,null,null,null,null,0,null,0,null,0,0,null,0]
[null,null,null,null,null,null,null,null,null,null,null,null,null,null,null,null,null,null,null,null,null,null,null,null,null,null,null,null,null,null,null,null,null,null,null,null,null,0,null,null,null,null,0,null,null,null,null,null,0,null,0,null,0,0,null,0]
[null,null,null,null,null,null,null,null,null,null,null,null,null,null,null,null,null,null,null,null,null,null,null,null,null,null,null,null,null,null,null,null,null,null,null,null,null,0,null,null,null,null,0,null,null,null,null,null,0,null,0,null,0,0,null,0]
[null,null,null,null,null,null,null,null,null,null,null,null,null,null,null,null,null,null,null,null,null,null,null,null,null,null,null,null,null,null,null,null,null,null,null,null,null,0,null,null,null,null,0,null,null,null,null,null,0,null,0,null,0,0,null,0]
[null,null,null,null,null,null,null,null,null,null,null,null,null,null,null,null,null,null,null,null,null,null,null,null,null,null,null,null,null,null,null,null,null,null,null,null,null,0,null,null,null,null,0,null,null,null,null,null,0,null,0,null,0,0,null,0]
[null,null,null,null,null,null,null,null,null,null,null,null,null,null,null,null,null,null,null,null,null,null,null,null,null,null,null,null,null,null,null,null,null,null,null,null,null,0,null,null,null,null,0,null,null,null,null,null,0,null,0,null,0,0,null,0]
[null,null,null,null,null,null,null,null,null,null,null,null,null,null,null,null,null,null,null,null,null,null,null,null,null,null,null,null,null,null,null,null,null,null,null,null,null,0,null,null,null,null,0,null,null,null,null,null,0,null,0,null,0,0,null,0]
[null,null,null,null,null,null,null,null,null,null,null,null,null,null,null,null,null,null,null,null,null,null,null,null,null,null,null,null,null,null,null,null,null,null,null,null,null,0,null,null,null,null,0,null,null,null,null,null,0,null,0,null,0,0,null,0]
[null,null,null,null,null,null,null,null,null,null,null,null,null,null,null,null,null,null,null,null,null,null,null,null,null,null,null,null,null,null,null,null,null,null,null,null,null,0,null,null,null,null,0,null,null,null,null,null,0,null,0,null,0,0,null,0]
[null,null,null,null,null,null,null,null,null,null,null,null,null,null,null,null,null,null,null,null,null,null,null,null,null,null,null,null,null,null,null,null,null,null,null,null,null,0,null,null,null,null,0,null,null,null,null,null,0,null,0,null,0,0,null,0]
[null,null,null,null,null,null,null,null,null,null,null,null,null,null,null,null,null,null,null,null,null,null,null,null,null,null,null,null,null,null,null,null,null,null,null,null,null,0,null,null,null,null,0,null,null,null,null,null,0,null,0,null,0,0,null,0]
[null,null,null,null,null,null,null,null,null,null,null,null,null,null,null,null,null,null,null,null,null,null,null,null,null,null,null,null,null,null,null,null,null,null,null,null,null,0,null,null,null,null,0,null,null,null,null,null,0,null,0,null,0,0,null,0]
[null,null,null,null,null,null,null,null,null,null,null,null,null,null,null,null,null,null,null,null,null,null,null,null,null,null,null,null,null,null,null,null,null,null,null,null,null,0,null,null,null,null,0,null,null,null,null,null,0,null,0,null,0,0,null,0]
[null,null,null,null,null,null,null,null,null,null,null,null,null,null,null,null,null,null,null,null,null,null,null,null,null,null,null,null,null,null,null,null,null,null,null,null,null,0,null,null,null,null,0,null,null,null,null,null,0,null,0,null,0,0,null,0]
[null,null,null,null,null,null,null,null,null,null,null,null,null,null,null,null,null,null,null,null,null,null,null,null,null,null,null,null,null,null,null,null,null,null,null,null,null,0,null,null,null,null,0,null,null,null,null,null,0,null,0,null,0,0,null,0]
[null,null,null,null,null,null,null,null,null,null,null,null,null,null,null,null,null,null,null,null,null,null,null,null,null,null,null,null,null,null,null,null,null,null,null,null,null,0,null,null,null,null,0,null,null,null,null,null,0,null,0,null,0,0,null,0]
[null,null,null,null,null,null,null,null,null,null,null,null,null,null,null,null,null,null,null,null,null,null,null,null,null,null,null,null,null,null,null,null,null,null,null,null,null,0,null,null,null,null,0,null,null,null,null,null,0,null,0,null,0,0,null,0]
[null,null,null,null,null,null,null,null,null,null,null,null,null,null,null,null,null,null,null,null,null,null,null,null,null,null,null,null,null,null,null,null,null,null,null,null,null,0,null,null,null,null,0,null,null,null,null,null,0,null,0,null,0,0,null,0]
[null,null,null,null,null,null,null,null,null,null,null,null,null,null,null,null,null,null,null,null,null,null,null,null,null,null,null,null,null,null,null,null,null,null,null,null,null,0,null,null,null,null,0,null,null,null,null,null,0,null,0,null,0,0,null,0]
[null,null,null,null,null,null,null,null,null,null,null,null,null,null,null,null,null,null,null,null,null,null,null,null,null,null,null,null,null,null,null,null,null,null,null,null,null,0,null,null,null,null,0,null,null,null,null,null,0,null,0,null,0,0,null,0]
[null,null,null,null,null,null,null,null,null,null,null,null,null,null,null,null,null,null,null,null,null,null,null,null,null,null,null,null,null,null,null,null,null,null,null,null,null,0,null,null,null,null,0,null,null,null,null,null,0,null,0,null,0,0,null,0]
[null,null,null,null,null,null,null,null,null,null,null,null,null,null,null,null,null,null,null,null,null,null,null,null,null,null,null,null,null,null,null,null,null,null,null,null,null,0,null,null,null,null,0,null,null,null,null,null,0,null,0,null,0,0,null,0]
[null,null,null,null,null,null,null,null,null,null,null,null,null,null,null,null,null,null,null,null,null,null,null,null,null,null,null,null,null,null,null,null,null,null,null,null,null,0,null,null,null,null,0,null,null,null,null,null,0,null,0,null,0,0,null,0]
[null,null,null,null,null,null,null,null,null,null,null,null,null,null,null,null,null,null,null,null,null,null,null,null,null,null,null,null,null,null,null,null,null,null,null,null,null,0,null,null,null,null,0,null,null,null,null,null,0,null,0,null,0,0,null,0]
[null,null,null,null,null,null,null,null,null,null,null,null,null,null,null,null,null,null,null,null,null,null,null,null,null,null,null,null,null,null,null,null,null,null,null,null,null,0,null,null,null,null,0,null,null,null,null,null,0,null,0,null,0,0,null,0]
[null,null,null,null,null,null,null,null,null,null,null,null,null,null,null,null,null,null,null,null,null,null,null,null,null,null,null,null,null,null,null,null,null,null,null,null,null,0,null,null,null,null,0,null,null,null,null,null,0,null,0,null,0,0,null,0]
[null,null,null,null,null,null,null,null,null,null,null,null,null,null,null,null,null,null,null,null,null,null,null,null,null,null,null,null,null,null,null,null,null,null,null,null,null,0,null,null,null,null,0,null,null,null,null,null,0,null,0,null,0,0,null,0]
[null,null,null,null,null,null,null,null,null,null,null,null,null,null,null,null,null,null,null,null,null,null,null,null,null,null,null,null,null,null,null,null,null,null,null,null,null,0,null,null,null,null,0,null,null,null,null,null,0,null,0,null,0,0,null,0]
[null,null,null,null,null,null,null,null,null,null,null,null,null,null,null,null,null,null,null,null,null,null,null,null,null,null,null,null,null,null,null,null,null,null,null,null,null,0,null,null,null,null,0,null,null,null,null,null,0,null,0,null,0,0,null,0]
[null,null,null,null,null,null,null,null,null,null,null,null,null,null,null,null,null,null,null,null,null,null,null,null,null,null,null,null,null,null,null,null,null,null,null,null,null,0,null,null,null,null,0,null,null,null,null,null,0,null,0,null,0,0,null,0]
[null,null,null,null,null,null,null,null,null,null,null,null,null,null,null,null,null,null,null,null,null,null,null,null,null,null,null,null,null,null,null,null,null,null,null,null,null,0,null,null,null,null,0,null,null,null,null,null,0,null,0,null,0,0,null,0]
[null,null,null,null,null,null,null,null,null,null,null,null,null,null,null,null,null,null,null,null,null,null,null,null,null,null,null,null,null,null,null,null,null,null,null,null,null,0,null,null,null,null,0,null,null,null,null,null,0,null,0,null,0,0,null,0]
[null,null,null,null,null,null,null,null,null,null,null,null,null,null,null,null,null,null,null,null,null,null,null,null,null,null,null,null,null,null,null,null,null,null,null,null,null,0,null,null,null,null,0,null,null,null,null,null,0,null,0,null,0,0,null,0]
[null,null,null,null,null,null,null,null,null,null,null,null,null,null,null,null,null,null,null,null,null,null,null,null,null,null,null,null,null,null,null,null,null,null,null,null,null,0,null,null,null,null,0,null,null,null,null,null,0,null,0,null,0,0,null,0]
[null,null,null,null,null,null,null,null,null,null,null,null,null,null,null,null,null,null,null,null,null,null,null,null,null,null,null,null,null,null,null,null,null,null,null,null,null,0,null,null,null,null,0,null,null,null,null,null,{"$f":"(((J185+O185)*2)/1000)*E185","v":0},null,{"$f":"((J185/1000)*(O185/1000))*E185","v":0},null,{"$f":"(J185-T185-W185)/(AF185-1)","v":0},{"$f":"(O185-Z185-AC185)/(AI185-1)","v":0},null,{"$f":"AI185*AF185*E185","v":0}]
[null,null,null,null,null,null,null,null,null,null,null,null,null,null,null,null,null,null,null,null,null,null,null,null,null,null,null,null,null,null,null,null,null,null,null,null,null,{"$f":"IF(AF186>1.1,BA186,0)","v":0},null,null,null,null,{"$f":"IF(AI186>1.1,BB186,0)","v":0},null,null,null,null,null,0,null,0,null,0,0,null,0]
[null,null,null,null,null,null,null,null,null,null,null,null,null,null,null,null,null,null,null,null,null,null,null,null,null,null,null,null,null,null,null,null,null,null,null,null,null,0,null,null,null,null,0,null,null,null,null,null,0,null,0,null,0,0,null,0]
[null,null,null,null,null,null,null,null,null,null,null,null,null,null,null,null,null,null,null,null,null,null,null,null,null,null,null,null,null,null,null,null,null,null,null,null,null,0,null,null,null,null,0,null,null,null,null,null,0,null,0,null,0,0,null,0]
[null,null,null,null,null,null,null,null,null,null,null,null,null,null,null,null,null,null,null,null,null,null,null,null,null,null,null,null,null,null,null,null,null,null,null,null,null,0,null,null,null,null,0,null,null,null,null,null,0,null,0,null,0,0,null,0]
[null,null,null,null,null,null,null,null,null,null,null,null,null,null,null,null,null,null,null,null,null,null,null,null,null,null,null,null,null,null,null,null,null,null,null,null,null,0,null,null,null,null,0,null,null,null,null,null,0,null,0,null,0,0,null,0]
[null,null,null,null,null,null,null,null,null,null,null,null,null,null,null,null,null,null,null,null,null,null,null,null,null,null,null,null,null,null,null,null,null,null,null,null,null,0,null,null,null,null,0,null,null,null,null,null,0,null,0,null,0,0,null,0]
[null,null,null,null,null,null,null,null,null,null,null,null,null,null,null,null,null,null,null,null,null,null,null,null,null,null,null,null,null,null,null,null,null,null,null,null,null,0,null,null,null,null,0,null,null,null,null,null,0,null,0,null,0,0,null,0]
[null,null,null,null,null,null,null,null,null,null,null,null,null,null,null,null,null,null,null,null,null,null,null,null,null,null,null,null,null,null,null,null,null,null,null,null,null,0,null,null,null,null,0,null,null,null,null,null,0,null,0,null,0,0,null,0]
[null,null,null,null,null,null,null,null,null,null,null,null,null,null,null,null,null,null,null,null,null,null,null,null,null,null,null,null,null,null,null,null,null,null,null,null,null,0,null,null,null,null,0,null,null,null,null,null,0,null,0,null,0,0,null,0]
[null,null,null,null,null,null,null,null,null,null,null,null,null,null,null,null,null,null,null,null,null,null,null,null,null,null,null,null,null,null,null,null,null,null,null,null,null,0,null,null,null,null,0,null,null,null,null,null,0,null,0,null,0,0,null,0]
[null,null,null,null,null,null,null,null,null,null,null,null,null,null,null,null,null,null,null,null,null,null,null,null,null,null,null,null,null,null,null,null,null,null,null,null,null,0,null,null,null,null,0,null,null,null,null,null,0,null,0,null,0,0,null,0]
[null,null,null,null,null,null,null,null,null,null,null,null,null,null,null,null,null,null,null,null,null,null,null,null,null,null,null,null,null,null,null,null,null,null,null,null,null,0,null,null,null,null,0,null,null,null,null,null,0,null,0,null,0,0,null,0]
[null,null,null,null,null,null,null,null,null,null,null,null,null,null,null,null,null,null,null,null,null,null,null,null,null,null,null,null,null,null,null,null,null,null,null,null,null,0,null,null,null,null,0,null,null,null,null,null,0,null,0,null,0,0,null,0]
[null,null,null,null,null,null,null,null,null,null,null,null,null,null,null,null,null,null,null,null,null,null,null,null,null,null,null,null,null,null,null,null,null,null,null,null,null,0,null,null,null,null,0,null,null,null,null,null,0,null,0,null,0,0,null,0]
[null,null,null,null,null,null,null,null,null,null,null,null,null,null,null,null,null,null,null,null,null,null,null,null,null,null,null,null,null,null,null,null,null,null,null,null,null,0,null,null,null,null,0,null,null,null,null,null,0,null,0,null,0,0,null,0]
[null,null,null,null,null,null,null,null,null,null,null,null,null,null,null,null,null,null,null,null,null,null,null,null,null,null,null,null,null,null,null,null,null,null,null,null,null,0,null,null,null,null,0,null,null,null,null,null,0,null,0,null,0,0,null,0]
[null,null,null,null,null,null,null,null,null,null,null,null,null,null,null,null,null,null,null,null,null,null,null,null,null,null,null,null,null,null,null,null,null,null,null,null,null,0,null,null,null,null,0,null,null,null,null,null,0,null,0,null,0,0,null,0]
[null,null,null,null,null,null,null,null,null,null,null,null,null,null,null,null,null,null,null,null,null,null,null,null,null,null,null,null,null,null,null,null,null,null,null,null,null,0,null,null,null,null,0,null,null,null,null,null,0,null,0,null,0,0,null,0]
[null,null,null,null,null,null,null,null,null,null,null,null,null,null,null,null,null,null,null,null,null,null,null,null,null,null,null,null,null,null,null,null,null,null,null,null,null,0,null,null,null,null,0,null,null,null,null,null,0,null,0,null,0,0,null,0]
[null,null,null,null,null,null,null,null,null,null,null,null,null,null,null,null,null,null,null,null,null,null,null,null,null,null,null,null,null,null,null,null,null,null,null,null,null,0,null,null,null,null,0,null,null,null,null,null,0,null,0,null,0,0,null,0]
[null,null,null,null,null,null,null,null,null,null,null,null,null,null,null,null,null,null,null,null,null,null,null,null,null,null,null,null,null,null,null,null,null,null,null,null,null,0,null,null,null,null,0,null,null,null,null,null,0,null,0,null,0,0,null,0]
[null,null,null,null,null,null,null,null,null,null,null,null,null,null,null,null,null,null,null,null,null,null,null,null,null,null,null,null,null,null,null,null,null,null,null,null,null,0,null,null,null,null,0,null,null,null,null,null,0,null,0,null,0,0,null,0]
[null,null,null,null,null,null,null,null,null,null,null,null,null,null,null,null,null,null,null,null,null,null,null,null,null,null,null,null,null,null,null,null,null,null,null,null,null,0,null,null,null,null,0,null,null,null,null,null,0,null,0,null,0,0,null,0]
[null,null,null,null,null,null,null,null,null,null,null,null,null,null,null,null,null,null,null,null,null,null,null,null,null,null,null,null,null,null,null,null,null,null,null,null,null,0,null,null,null,null,0,null,null,null,null,null,0,null,0,null,0,0,null,0]
[null,null,null,null,null,null,null,null,null,null,null,null,null,null,null,null,null,null,null,null,null,null,null,null,null,null,null,null,null,null,null,null,null,null,null,null,null,0,null,null,null,null,0,null,null,null,null,null,0,null,0,null,0,0,null,0]
[null,null,null,null,null,null,null,null,null,null,null,null,null,null,null,null,null,null,null,null,null,null,null,null,null,null,null,null,null,null,null,null,null,null,null,null,null,0,null,null,null,null,0,null,null,null,null,null,0,null,0,null,0,0,null,0]
[null,null,null,null,null,null,null,null,null,null,null,null,null,null,null,null,null,null,null,null,null,null,null,null,null,null,null,null,null,null,null,null,null,null,null,null,null,0,null,null,null,null,0,null,null,null,null,null,0,null,0,null,0,0,null,0]
[null,null,null,null,null,null,null,null,null,null,null,null,null,null,null,null,null,null,null,null,null,null,null,null,null,null,null,null,null,null,null,null,null,null,null,null,null,0,null,null,null,null,0,null,null,null,null,null,0,null,0,null,0,0,null,0]
[null,null,null,null,null,null,null,null,null,null,null,null,null,null,null,null,null,null,null,null,null,null,null,null,null,null,null,null,null,null,null,null,null,null,null,null,null,0,null,null,null,null,0,null,null,null,null,null,0,null,0,null,0,0,null,0]
[null,null,null,null,null,null,null,null,null,null,null,null,null,null,null,null,null,null,null,null,null,null,null,null,null,null,null,null,null,null,null,null,null,null,null,null,null,0,null,null,null,null,0,null,null,null,null,null,0,null,0,null,0,0,null,0]
[null,null,null,null,null,null,null,null,null,null,null,null,null,null,null,null,null,null,null,null,null,null,null,null,null,null,null,null,null,null,null,null,null,null,null,null,null,0,null,null,null,null,0,null,null,null,null,null,0,null,0,null,0,0,null,0]
[null,null,null,null,null,null,null,null,null,null,null,null,null,null,null,null,null,null,null,null,null,null,null,null,null,null,null,null,null,null,null,null,null,null,null,null,null,0,null,null,null,null,0,null,null,null,null,null,0,null,0,null,0,0,null,0]
[null,null,null,null,null,null,null,null,null,null,null,null,null,null,null,null,null,null,null,null,null,null,null,null,null,null,null,null,null,null,null,null,null,null,null,null,null,0,null,null,null,null,0,null,null,null,null,null,0,null,0,null,0,0,null,0]
[null,null,null,null,null,null,null,null,null,null,null,null,null,null,null,null,null,null,null,null,null,null,null,null,null,null,null,null,null,null,null,null,null,null,null,null,null,0,null,null,null,null,0,null,null,null,null,null,0,null,0,null,0,0,null,0]
[null,null,null,null,null,null,null,null,null,null,null,null,null,null,null,null,null,null,null,null,null,null,null,null,null,null,null,null,null,null,null,null,null,null,null,null,null,0,null,null,null,null,0,null,null,null,null,null,0,null,0,null,0,0,null,0]
[null,null,null,null,null,null,null,null,null,null,null,null,null,null,null,null,null,null,null,null,null,null,null,null,null,null,null,null,null,null,null,null,null,null,null,null,null,0,null,null,null,null,0,null,null,null,null,null,0,null,0,null,0,0,null,0]
[null,null,null,null,null,null,null,null,null,null,null,null,null,null,null,null,null,null,null,null,null,null,null,null,null,null,null,null,null,null,null,null,null,null,null,null,null,0,null,null,null,null,0,null,null,null,null,null,0,null,0,null,0,0,null,0]
[null,null,null,null,null,null,null,null,null,null,null,null,null,null,null,null,null,null,null,null,null,null,null,null,null,null,null,null,null,null,null,null,null,null,null,null,null,0,null,null,null,null,0,null,null,null,null,null,0,null,0,null,0,0,null,0]
[null,null,null,null,null,null,null,null,null,null,null,null,null,null,null,null,null,null,null,null,null,null,null,null,null,null,null,null,null,null,null,null,null,null,null,null,null,0,null,null,null,null,0,null,null,null,null,null,0,null,0,null,0,0,null,0]
[null,null,null,null,null,null,null,null,null,null,null,null,null,null,null,null,null,null,null,null,null,null,null,null,null,null,null,null,null,null,null,null,null,null,null,null,null,0,null,null,null,null,0,null,null,null,null,null,0,null,0,null,0,0,null,0]
[null,null,null,null,null,null,null,null,null,null,null,null,null,null,null,null,null,null,null,null,null,null,null,null,null,null,null,null,null,null,null,null,null,null,null,null,null,0,null,null,null,null,0,null,null,null,null,null,0,null,0,null,0,0,null,0]
[null,null,null,null,null,null,null,null,null,null,null,null,null,null,null,null,null,null,null,null,null,null,null,null,null,null,null,null,null,null,null,null,null,null,null,null,null,0,null,null,null,null,0,null,null,null,null,null,0,null,0,null,0,0,null,0]
[null,null,null,null,null,null,null,null,null,null,null,null,null,null,null,null,null,null,null,null,null,null,null,null,null,null,null,null,null,null,null,null,null,null,null,null,null,0,null,null,null,null,0,null,null,null,null,null,0,null,0,null,0,0,null,0]
[null,null,null,null,null,null,null,null,null,null,null,null,null,null,null,null,null,null,null,null,null,null,null,null,null,null,null,null,null,null,null,null,null,null,null,null,null,0,null,null,null,null,0,null,null,null,null,null,0,null,0,null,0,0,null,0]
[null,null,null,null,null,null,null,null,null,null,null,null,null,null,null,null,null,null,null,null,null,null,null,null,null,null,null,null,null,null,null,null,null,null,null,null,null,0,null,null,null,null,0,null,null,null,null,null,0,null,0,null,0,0,null,0]
[null,null,null,null,null,null,null,null,null,null,null,null,null,null,null,null,null,null,null,null,null,null,null,null,null,null,null,null,null,null,null,null,null,null,null,null,null,0,null,null,null,null,0,null,null,null,null,null,0,null,0,null,0,0,null,0]
[null,null,null,null,null,null,null,null,null,null,null,null,null,null,null,null,null,null,null,null,null,null,null,null,null,null,null,null,null,null,null,null,null,null,null,null,null,0,null,null,null,null,0,null,null,null,null,null,0,null,0,null,0,0,null,0]
[null,null,null,null,null,null,null,null,null,null,null,null,null,null,null,null,null,null,null,null,null,null,null,null,null,null,null,null,null,null,null,null,null,null,null,null,null,0,null,null,null,null,0,null,null,null,null,null,0,null,0,null,0,0,null,0]
[null,null,null,null,null,null,null,null,null,null,null,null,null,null,null,null,null,null,null,null,null,null,null,null,null,null,null,null,null,null,null,null,null,null,null,null,null,0,null,null,null,null,0,null,null,null,null,null,0,null,0,null,0,0,null,0]
[null,null,null,null,null,null,null,null,null,null,null,null,null,null,null,null,null,null,null,null,null,null,null,null,null,null,null,null,null,null,null,null,null,null,null,null,null,0,null,null,null,null,0,null,null,null,null,null,0,null,0,null,0,0,null,0]
[null,null,null,null,null,null,null,null,null,null,null,null,null,null,null,null,null,null,null,null,null,null,null,null,null,null,null,null,null,null,null,null,null,null,null,null,null,0,null,null,null,null,0,null,null,null,null,null,0,null,0,null,0,0,null,0]
[null,null,null,null,null,null,null,null,null,null,null,null,null,null,null,null,null,null,null,null,null,null,null,null,null,null,null,null,null,null,null,null,null,null,null,null,null,0,null,null,null,null,0,null,null,null,null,null,0,null,0,null,0,0,null,0]
[null,null,null,null,null,null,null,null,null,null,null,null,null,null,null,null,null,null,null,null,null,null,null,null,null,null,null,null,null,null,null,null,null,null,null,null,null,0,null,null,null,null,0,null,null,null,null,null,0,null,0,null,0,0,null,0]
[null,null,null,null,null,null,null,null,null,null,null,null,null,null,null,null,null,null,null,null,null,null,null,null,null,null,null,null,null,null,null,null,null,null,null,null,null,0,null,null,null,null,0,null,null,null,null,null,0,null,0,null,0,0,null,0]
[null,null,null,null,null,null,null,null,null,null,null,null,null,null,null,null,null,null,null,null,null,null,null,null,null,null,null,null,null,null,null,null,null,null,null,null,null,0,null,null,null,null,0,null,null,null,null,null,0,null,0,null,0,0,null,0]
[null,null,null,null,null,null,null,null,null,null,null,null,null,null,null,null,null,null,null,null,null,null,null,null,null,null,null,null,null,null,null,null,null,null,null,null,null,0,null,null,null,null,0,null,null,null,null,null,0,null,0,null,0,0,null,0]
[null,null,null,null,null,null,null,null,null,null,null,null,null,null,null,null,null,null,null,null,null,null,null,null,null,null,null,null,null,null,null,null,null,null,null,null,null,0,null,null,null,null,0,null,null,null,null,null,0,null,0,null,0,0,null,0]
[null,null,null,null,null,null,null,null,null,null,null,null,null,null,null,null,null,null,null,null,null,null,null,null,null,null,null,null,null,null,null,null,null,null,null,null,null,0,null,null,null,null,0,null,null,null,null,null,0,null,0,null,0,0,null,0]
[null,null,null,null,null,null,null,null,null,null,null,null,null,null,null,null,null,null,null,null,null,null,null,null,null,null,null,null,null,null,null,null,null,null,null,null,null,0,null,null,null,null,0,null,null,null,null,null,0,null,0,null,0,0,null,0]
[null,null,null,null,null,null,null,null,null,null,null,null,null,null,null,null,null,null,null,null,null,null,null,null,null,null,null,null,null,null,null,null,null,null,null,null,null,0,null,null,null,null,0,null,null,null,null,null,0,null,0,null,0,0,null,0]
[null,null,null,null,null,null,null,null,null,null,null,null,null,null,null,null,null,null,null,null,null,null,null,null,null,null,null,null,null,null,null,null,null,null,null,null,null,0,null,null,null,null,0,null,null,null,null,null,0,null,0,null,0,0,null,0]
[null,null,null,null,null,null,null,null,null,null,null,null,null,null,null,null,null,null,null,null,null,null,null,null,null,null,null,null,null,null,null,null,null,null,null,null,null,0,null,null,null,null,0,null,null,null,null,null,0,null,0,null,0,0,null,0]
[null,null,null,null,null,null,null,null,null,null,null,null,null,null,null,null,null,null,null,null,null,null,null,null,null,null,null,null,null,null,null,null,null,null,null,null,null,0,null,null,null,null,0,null,null,null,null,null,0,null,0,null,0,0,null,0]
[null,null,null,null,null,null,null,null,null,null,null,null,null,null,null,null,null,null,null,null,null,null,null,null,null,null,null,null,null,null,null,null,null,null,null,null,null,0,null,null,null,null,0,null,null,null,null,null,{"$f":"(((J249+O249)*2)/1000)*E249","v":0},null,{"$f":"((J249/1000)*(O249/1000))*E249","v":0},null,{"$f":"(J249-T249-W249)/(AF249-1)","v":0},{"$f":"(O249-Z249-AC249)/(AI249-1)","v":0},null,{"$f":"AI249*AF249*E249","v":0}]
[null,null,null,null,null,null,null,null,null,null,null,null,null,null,null,null,null,null,null,null,null,null,null,null,null,null,null,null,null,null,null,null,null,null,null,null,null,{"$f":"IF(AF250>1.1,BA250,0)","v":0},null,null,null,null,{"$f":"IF(AI250>1.1,BB250,0)","v":0},null,null,null,null,null,0,null,0,null,0,0,null,0]
[null,null,null,null,null,null,null,null,null,null,null,null,null,null,null,null,null,null,null,null,null,null,null,null,null,null,null,null,null,null,null,null,null,null,null,null,null,0,null,null,null,null,0,null,null,null,null,null,0,null,0,null,0,0,null,0]
[null,null,null,null,null,null,null,null,null,null,null,null,null,null,null,null,null,null,null,null,null,null,null,null,null,null,null,null,null,null,null,null,null,null,null,null,null,0,null,null,null,null,0,null,null,null,null,null,0,null,0,null,0,0,null,0]
[null,null,null,null,null,null,null,null,null,null,null,null,null,null,null,null,null,null,null,null,null,null,null,null,null,null,null,null,null,null,null,null,null,null,null,null,null,0,null,null,null,null,0,null,null,null,null,null,0,null,0,null,0,0,null,0]
[null,null,null,null,null,null,null,null,null,null,null,null,null,null,null,null,null,null,null,null,null,null,null,null,null,null,null,null,null,null,null,null,null,null,null,null,null,0,null,null,null,null,0,null,null,null,null,null,0,null,0,null,0,0,null,0]
[null,null,null,null,null,null,null,null,null,null,null,null,null,null,null,null,null,null,null,null,null,null,null,null,null,null,null,null,null,null,null,null,null,null,null,null,null,0,null,null,null,null,0,null,null,null,null,null,0,null,0,null,0,0,null,0]
[null,null,null,null,null,null,null,null,null,null,null,null,null,null,null,null,null,null,null,null,null,null,null,null,null,null,null,null,null,null,null,null,null,null,null,null,null,0,null,null,null,null,0,null,null,null,null,null,0,null,0,null,0,0,null,0]
[null,null,null,null,null,null,null,null,null,null,null,null,null,null,null,null,null,null,null,null,null,null,null,null,null,null,null,null,null,null,null,null,null,null,null,null,null,0,null,null,null,null,0,null,null,null,null,null,0,null,0,null,0,0,null,0]
[null,null,null,null,null,null,null,null,null,null,null,null,null,null,null,null,null,null,null,null,null,null,null,null,null,null,null,null,null,null,null,null,null,null,null,null,null,0,null,null,null,null,0,null,null,null,null,null,0,null,0,null,0,0,null,0]
[null,null,null,null,null,null,null,null,null,null,null,null,null,null,null,null,null,null,null,null,null,null,null,null,null,null,null,null,null,null,null,null,null,null,null,null,null,0,null,null,null,null,0,null,null,null,null,null,0,null,0,null,0,0,null,0]
[null,null,null,null,null,null,null,null,null,null,null,null,null,null,null,null,null,null,null,null,null,null,null,null,null,null,null,null,null,null,null,null,null,null,null,null,null,0,null,null,null,null,0,null,null,null,null,null,0,null,0,null,0,0,null,0]
[null,null,null,null,null,null,null,null,null,null,null,null,null,null,null,null,null,null,null,null,null,null,null,null,null,null,null,null,null,null,null,null,null,null,null,null,null,0,null,null,null,null,0,null,null,null,null,null,0,null,0,null,0,0,null,0]
[null,null,null,null,null,null,null,null,null,null,null,null,null,null,null,null,null,null,null,null,null,null,null,null,null,null,null,null,null,null,null,null,null,null,null,null,null,0,null,null,null,null,0,null,null,null,null,null,0,null,0,null,0,0,null,0]
[null,null,null,null,null,null,null,null,null,null,null,null,null,null,null,null,null,null,null,null,null,null,null,null,null,null,null,null,null,null,null,null,null,null,null,null,null,0,null,null,null,null,0,null,null,null,null,null,0,null,0,null,0,0,null,0]
[null,null,null,null,null,null,null,null,null,null,null,null,null,null,null,null,null,null,null,null,null,null,null,null,null,null,null,null,null,null,null,null,null,null,null,null,null,0,null,null,null,null,0,null,null,null,null,null,0,null,0,null,0,0,null,0]
[null,null,null,null,null,null,null,null,null,null,null,null,null,null,null,null,null,null,null,null,null,null,null,null,null,null,null,null,null,null,null,null,null,null,null,null,null,0,null,null,null,null,0,null,null,null,null,null,0,null,0,null,0,0,null,0]
[null,null,null,null,null,null,null,null,null,null,null,null,null,null,null,null,null,null,null,null,null,null,null,null,null,null,null,null,null,null,null,null,null,null,null,null,null,0,null,null,null,null,0,null,null,null,null,null,0,null,0,null,0,0,null,0]
[null,null,null,null,null,null,null,null,null,null,null,null,null,null,null,null,null,null,null,null,null,null,null,null,null,null,null,null,null,null,null,null,null,null,null,null,null,0,null,null,null,null,0,null,null,null,null,null,0,null,0,null,0,0,null,0]
[null,null,null,null,null,null,null,null,null,null,null,null,null,null,null,null,null,null,null,null,null,null,null,null,null,null,null,null,null,null,null,null,null,null,null,null,null,0,null,null,null,null,0,null,null,null,null,null,0,null,0,null,0,0,null,0]
[null,null,null,null,null,null,null,null,null,null,null,null,null,null,null,null,null,null,null,null,null,null,null,null,null,null,null,null,null,null,null,null,null,null,null,null,null,0,null,null,null,null,0,null,null,null,null,null,0,null,0,null,0,0,null,0]
[null,null,null,null,null,null,null,null,null,null,null,null,null,null,null,null,null,null,null,null,null,null,null,null,null,null,null,null,null,null,null,null,null,null,null,null,null,0,null,null,null,null,0,null,null,null,null,null,0,null,0,null,0,0,null,0]
[null,null,null,null,null,null,null,null,null,null,null,null,null,null,null,null,null,null,null,null,null,null,null,null,null,null,null,null,null,null,null,null,null,null,null,null,null,0,null,null,null,null,0,null,null,null,null,null,0,null,0,null,0,0,null,0]
[null,null,null,null,null,null,null,null,null,null,null,null,null,null,null,null,null,null,null,null,null,null,null,null,null,null,null,null,null,null,null,null,null,null,null,null,null,0,null,null,null,null,0,null,null,null,null,null,0,null,0,null,0,0,null,0]
[null,null,null,null,null,null,null,null,null,null,null,null,null,null,null,null,null,null,null,null,null,null,null,null,null,null,null,null,null,null,null,null,null,null,null,null,null,0,null,null,null,null,0,null,null,null,null,null,0,null,0,null,0,0,null,0]
[null,null,null,null,null,null,null,null,null,null,null,null,null,null,null,null,null,null,null,null,null,null,null,null,null,null,null,null,null,null,null,null,null,null,null,null,null,0,null,null,null,null,0,null,null,null,null,null,0,null,0,null,0,0,null,0]
[null,null,null,null,null,null,null,null,null,null,null,null,null,null,null,null,null,null,null,null,null,null,null,null,null,null,null,null,null,null,null,null,null,null,null,null,null,0,null,null,null,null,0,null,null,null,null,null,0,null,0,null,0,0,null,0]
[null,null,null,null,null,null,null,null,null,null,null,null,null,null,null,null,null,null,null,null,null,null,null,null,null,null,null,null,null,null,null,null,null,null,null,null,null,0,null,null,null,null,0,null,null,null,null,null,0,null,0,null,0,0,null,0]
[null,null,null,null,null,null,null,null,null,null,null,null,null,null,null,null,null,null,null,null,null,null,null,null,null,null,null,null,null,null,null,null,null,null,null,null,null,0,null,null,null,null,0,null,null,null,null,null,0,null,0,null,0,0,null,0]
[null,null,null,null,null,null,null,null,null,null,null,null,null,null,null,null,null,null,null,null,null,null,null,null,null,null,null,null,null,null,null,null,null,null,null,null,null,0,null,null,null,null,0,null,null,null,null,null,0,null,0,null,0,0,null,0]
[null,null,null,null,null,null,null,null,null,null,null,null,null,null,null,null,null,null,null,null,null,null,null,null,null,null,null,null,null,null,null,null,null,null,null,null,null,0,null,null,null,null,0,null,null,null,null,null,0,null,0,null,0,0,null,0]
[null,null,null,null,null,null,null,null,null,null,null,null,null,null,null,null,null,null,null,null,null,null,null,null,null,null,null,null,null,null,null,null,null,null,null,null,null,0,null,null,null,null,0,null,null,null,null,null,0,null,0,null,0,0,null,0]
[null,null,null,null,null,null,null,null,null,null,null,null,null,null,null,null,null,null,null,null,null,null,null,null,null,null,null,null,null,null,null,null,null,null,null,null,null,0,null,null,null,null,0,null,null,null,null,null,0,null,0,null,0,0,null,0]
[null,null,null,null,null,null,null,null,null,null,null,null,null,null,null,null,null,null,null,null,null,null,null,null,null,null,null,null,null,null,null,null,null,null,null,null,null,0,null,null,null,null,0,null,null,null,null,null,0,null,0,null,0,0,null,0]
[null,null,null,null,null,null,null,null,null,null,null,null,null,null,null,null,null,null,null,null,null,null,null,null,null,null,null,null,null,null,null,null,null,null,null,null,null,0,null,null,null,null,0,null,null,null,null,null,0,null,0,null,0,0,null,0]
[null,null,null,null,null,null,null,null,null,null,null,null,null,null,null,null,null,null,null,null,null,null,null,null,null,null,null,null,null,null,null,null,null,null,null,null,null,0,null,null,null,null,0,null,null,null,null,null,0,null,0,null,0,0,null,0]
[null,null,null,null,null,null,null,null,null,null,null,null,null,null,null,null,null,null,null,null,null,null,null,null,null,null,null,null,null,null,null,null,null,null,null,null,null,0,null,null,null,null,0,null,null,null,null,null,0,null,0,null,0,0,null,0]
[null,null,null,null,null,null,null,null,null,null,null,null,null,null,null,null,null,null,null,null,null,null,null,null,null,null,null,null,null,null,null,null,null,null,null,null,null,0,null,null,null,null,0,null,null,null,null,null,0,null,0,null,0,0,null,0]
[null,null,null,null,null,null,null,null,null,null,null,null,null,null,null,null,null,null,null,null,null,null,null,null,null,null,null,null,null,null,null,null,null,null,null,null,null,0,null,null,null,null,0,null,null,null,null,null,0,null,0,null,0,0,null,0]
[null,null,null,null,null,null,null,null,null,null,null,null,null,null,null,null,null,null,null,null,null,null,null,null,null,null,null,null,null,null,null,null,null,null,null,null,null,0,null,null,null,null,0,null,null,null,null,null,0,null,0,null,0,0,null,0]
[null,null,null,null,null,null,null,null,null,null,null,null,null,null,null,null,null,null,null,null,null,null,null,null,null,null,null,null,null,null,null,null,null,null,null,null,null,0,null,null,null,null,0,null,null,null,null,null,0,null,0,null,0,0,null,0]
[null,null,null,null,null,null,null,null,null,null,null,null,null,null,null,null,null,null,null,null,null,null,null,null,null,null,null,null,null,null,null,null,null,null,null,null,null,0,null,null,null,null,0,null,null,null,null,null,0,null,0,null,0,0,null,0]
[null,null,null,null,null,null,null,null,null,null,null,null,null,null,null,null,null,null,null,null,null,null,null,null,null,null,null,null,null,null,null,null,null,null,null,null,null,0,null,null,null,null,0,null,null,null,null,null,0,null,0,null,0,0,null,0]
[null,null,null,null,null,null,null,null,null,null,null,null,null,null,null,null,null,null,null,null,null,null,null,null,null,null,null,null,null,null,null,null,null,null,null,null,null,0,null,null,null,null,0,null,null,null,null,null,0,null,0,null,0,0,null,0]
[null,null,null,null,null,null,null,null,null,null,null,null,null,null,null,null,null,null,null,null,null,null,null,null,null,null,null,null,null,null,null,null,null,null,null,null,null,0,null,null,null,null,0,null,null,null,null,null,0,null,0,null,0,0,null,0]
[null,null,null,null,null,null,null,null,null,null,null,null,null,null,null,null,null,null,null,null,null,null,null,null,null,null,null,null,null,null,null,null,null,null,null,null,null,0,null,null,null,null,0,null,null,null,null,null,0,null,0,null,0,0,null,0]
[null,null,null,null,null,null,null,null,null,null,null,null,null,null,null,null,null,null,null,null,null,null,null,null,null,null,null,null,null,null,null,null,null,null,null,null,null,0,null,null,null,null,0,null,null,null,null,null,0,null,0,null,0,0,null,0]
[null,null,null,null,null,null,null,null,null,null,null,null,null,null,null,null,null,null,null,null,null,null,null,null,null,null,null,null,null,null,null,null,null,null,null,null,null,0,null,null,null,null,0,null,null,null,null,null,0,null,0,null,0,0,null,0]
[null,null,null,null,null,null,null,null,null,null,null,null,null,null,null,null,null,null,null,null,null,null,null,null,null,null,null,null,null,null,null,null,null,null,null,null,null,0,null,null,null,null,0,null,null,null,null,null,0,null,0,null,0,0,null,0]
[null,null,null,null,null,null,null,null,null,null,null,null,null,null,null,null,null,null,null,null,null,null,null,null,null,null,null,null,null,null,null,null,null,null,null,null,null,0,null,null,null,null,0,null,null,null,null,null,0,null,0,null,0,0,null,0]
[null,null,null,null,null,null,null,null,null,null,null,null,null,null,null,null,null,null,null,null,null,null,null,null,null,null,null,null,null,null,null,null,null,null,null,null,null,0,null,null,null,null,0,null,null,null,null,null,0,null,0,null,0,0,null,0]
[null,null,null,null,null,null,null,null,null,null,null,null,null,null,null,null,null,null,null,null,null,null,null,null,null,null,null,null,null,null,null,null,null,null,null,null,null,0,null,null,null,null,0,null,null,null,null,null,0,null,0,null,0,0,null,0]
[null,null,null,null,null,null,null,null,null,null,null,null,null,null,null,null,null,null,null,null,null,null,null,null,null,null,null,null,null,null,null,null,null,null,null,null,null,0,null,null,null,null,0,null,null,null,null,null,0,null,0,null,0,0,null,0]
[null,null,null,null,null,null,null,null,null,null,null,null,null,null,null,null,null,null,null,null,null,null,null,null,null,null,null,null,null,null,null,null,null,null,null,null,null,0,null,null,null,null,0,null,null,null,null,null,0,null,0,null,0,0,null,0]
[null,null,null,null,null,null,null,null,null,null,null,null,null,null,null,null,null,null,null,null,null,null,null,null,null,null,null,null,null,null,null,null,null,null,null,null,null,0,null,null,null,null,0,null,null,null,null,null,0,null,0,null,0,0,null,0]
[null,null,null,null,null,null,null,null,null,null,null,null,null,null,null,null,null,null,null,null,null,null,null,null,null,null,null,null,null,null,null,null,null,null,null,null,null,0,null,null,null,null,0,null,null,null,null,null,0,null,0,null,0,0,null,0]
[null,null,null,null,null,null,null,null,null,null,null,null,null,null,null,null,null,null,null,null,null,null,null,null,null,null,null,null,null,null,null,null,null,null,null,null,null,0,null,null,null,null,0,null,null,null,null,null,0,null,0,null,0,0,null,0]
[null,null,null,null,null,null,null,null,null,null,null,null,null,null,null,null,null,null,null,null,null,null,null,null,null,null,null,null,null,null,null,null,null,null,null,null,null,0,null,null,null,null,0,null,null,null,null,null,0,null,0,null,0,0,null,0]
[null,null,null,null,null,null,null,null,null,null,null,null,null,null,null,null,null,null,null,null,null,null,null,null,null,null,null,null,null,null,null,null,null,null,null,null,null,0,null,null,null,null,0,null,null,null,null,null,0,null,0,null,0,0,null,0]
[null,null,null,null,null,null,null,null,null,null,null,null,null,null,null,null,null,null,null,null,null,null,null,null,null,null,null,null,null,null,null,null,null,null,null,null,null,0,null,null,null,null,0,null,null,null,null,null,0,null,0,null,0,0,null,0]
[null,null,null,null,null,null,null,null,null,null,null,null,null,null,null,null,null,null,null,null,null,null,null,null,null,null,null,null,null,null,null,null,null,null,null,null,null,0,null,null,null,null,0,null,null,null,null,null,0,null,0,null,0,0,null,0]
[null,null,null,null,null,null,null,null,null,null,null,null,null,null,null,null,null,null,null,null,null,null,null,null,null,null,null,null,null,null,null,null,null,null,null,null,null,0,null,null,null,null,0,null,null,null,null,null,0,null,0,null,0,0,null,0]
[null,null,null,null,null,null,null,null,null,null,null,null,null,null,null,null,null,null,null,null,null,null,null,null,null,null,null,null,null,null,null,null,null,null,null,null,null,0,null,null,null,null,0,null,null,null,null,null,0,null,0,null,0,0,null,0]
[null,null,null,null,null,null,null,null,null,null,null,null,null,null,null,null,null,null,null,null,null,null,null,null,null,null,null,null,null,null,null,null,null,null,null,null,null,0,null,null,null,null,0,null,null,null,null,null,0,null,0,null,0,0,null,0]
[null,null,null,null,null,null,null,null,null,null,null,null,null,null,null,null,null,null,null,null,null,null,null,null,null,null,null,null,null,null,null,null,null,null,null,null,null,0,null,null,null,null,0,null,null,null,null,null,{"$f":"(((J313+O313)*2)/1000)*E313","v":0},null,{"$f":"((J313/1000)*(O313/1000))*E313","v":0},null,{"$f":"(J313-T313-W313)/(AF313-1)","v":0},{"$f":"(O313-Z313-AC313)/(AI313-1)","v":0},null,{"$f":"AI313*AF313*E313","v":0}]
[null,null,null,null,null,null,null,null,null,null,null,null,null,null,null,null,null,null,null,null,null,null,null,null,null,null,null,null,null,null,null,null,null,null,null,null,null,{"$f":"IF(AF314>1.1,BA314,0)","v":0},null,null,null,null,{"$f":"IF(AI314>1.1,BB314,0)","v":0},null,null,null,null,null,0,null,0,null,0,0,null,0]
[null,null,null,null,null,null,null,null,null,null,null,null,null,null,null,null,null,null,null,null,null,null,null,null,null,null,null,null,null,null,null,null,null,null,null,null,null,0,null,null,null,null,0,null,null,null,null,null,0,null,0,null,0,0,null,0]
[null,null,null,null,null,null,null,null,null,null,null,null,null,null,null,null,null,null,null,null,null,null,null,null,null,null,null,null,null,null,null,null,null,null,null,null,null,0,null,null,null,null,0,null,null,null,null,null,0,null,0,null,0,0,null,0]
[null,null,null,null,null,null,null,null,null,null,null,null,null,null,null,null,null,null,null,null,null,null,null,null,null,null,null,null,null,null,null,null,null,null,null,null,null,0,null,null,null,null,0,null,null,null,null,null,0,null,0,null,0,0,null,0]
[null,null,null,null,null,null,null,null,null,null,null,null,null,null,null,null,null,null,null,null,null,null,null,null,null,null,null,null,null,null,null,null,null,null,null,null,null,0,null,null,null,null,0,null,null,null,null,null,0,null,0,null,0,0,null,0]
[null,null,null,null,null,null,null,null,null,null,null,null,null,null,null,null,null,null,null,null,null,null,null,null,null,null,null,null,null,null,null,null,null,null,null,null,null,0,null,null,null,null,0,null,null,null,null,null,0,null,0,null,0,0,null,0]
[null,null,null,null,null,null,null,null,null,null,null,null,null,null,null,null,null,null,null,null,null,null,null,null,null,null,null,null,null,null,null,null,null,null,null,null,null,0,null,null,null,null,0,null,null,null,null,null,0,null,0,null,0,0,null,0]
[null,null,null,null,null,null,null,null,null,null,null,null,null,null,null,null,null,null,null,null,null,null,null,null,null,null,null,null,null,null,null,null,null,null,null,null,null,0,null,null,null,null,0,null,null,null,null,null,0,null,0,null,0,0,null,0]
[null,null,null,null,null,null,null,null,null,null,null,null,null,null,null,null,null,null,null,null,null,null,null,null,null,null,null,null,null,null,null,null,null,null,null,null,null,0,null,null,null,null,0,null,null,null,null,null,0,null,0,null,0,0,null,0]
[null,null,null,null,null,null,null,null,null,null,null,null,null,null,null,null,null,null,null,null,null,null,null,null,null,null,null,null,null,null,null,null,null,null,null,null,null,0,null,null,null,null,0,null,null,null,null,null,0,null,0,null,0,0,null,0]
[null,null,null,null,null,null,null,null,null,null,null,null,null,null,null,null,null,null,null,null,null,null,null,null,null,null,null,null,null,null,null,null,null,null,null,null,null,0,null,null,null,null,0,null,null,null,null,null,0,null,0,null,0,0,null,0]
[null,null,null,null,null,null,null,null,null,null,null,null,null,null,null,null,null,null,null,null,null,null,null,null,null,null,null,null,null,null,null,null,null,null,null,null,null,0,null,null,null,null,0,null,null,null,null,null,0,null,0,null,0,0,null,0]
[null,null,null,null,null,null,null,null,null,null,null,null,null,null,null,null,null,null,null,null,null,null,null,null,null,null,null,null,null,null,null,null,null,null,null,null,null,0,null,null,null,null,0,null,null,null,null,null,0,null,0,null,0,0,null,0]
[null,null,null,null,null,null,null,null,null,null,null,null,null,null,null,null,null,null,null,null,null,null,null,null,null,null,null,null,null,null,null,null,null,null,null,null,null,0,null,null,null,null,0,null,null,null,null,null,0,null,0,null,0,0,null,0]
[null,null,null,null,null,null,null,null,null,null,null,null,null,null,null,null,null,null,null,null,null,null,null,null,null,null,null,null,null,null,null,null,null,null,null,null,null,0,null,null,null,null,0,null,null,null,null,null,0,null,0,null,0,0,null,0]
[null,null,null,null,null,null,null,null,null,null,null,null,null,null,null,null,null,null,null,null,null,null,null,null,null,null,null,null,null,null,null,null,null,null,null,null,null,0,null,null,null,null,0,null,null,null,null,null,0,null,0,null,0,0,null,0]
[null,null,null,null,null,null,null,null,null,null,null,null,null,null,null,null,null,null,null,null,null,null,null,null,null,null,null,null,null,null,null,null,null,null,null,null,null,0,null,null,null,null,0,null,null,null,null,null,0,null,0,null,0,0,null,0]
[null,null,null,null,null,null,null,null,null,null,null,null,null,null,null,null,null,null,null,null,null,null,null,null,null,null,null,null,null,null,null,null,null,null,null,null,null,0,null,null,null,null,0,null,null,null,null,null,0,null,0,null,0,0,null,0]
[null,null,null,null,null,null,null,null,null,null,null,null,null,null,null,null,null,null,null,null,null,null,null,null,null,null,null,null,null,null,null,null,null,null,null,null,null,0,null,null,null,null,0,null,null,null,null,null,0,null,0,null,0,0,null,0]
[null,null,null,null,null,null,null,null,null,null,null,null,null,null,null,null,null,null,null,null,null,null,null,null,null,null,null,null,null,null,null,null,null,null,null,null,null,0,null,null,null,null,0,null,null,null,null,null,0,null,0,null,0,0,null,0]
[null,null,null,null,null,null,null,null,null,null,null,null,null,null,null,null,null,null,null,null,null,null,null,null,null,null,null,null,null,null,null,null,null,null,null,null,null,0,null,null,null,null,0,null,null,null,null,null,0,null,0,null,0,0,null,0]
[null,null,null,null,null,null,null,null,null,null,null,null,null,null,null,null,null,null,null,null,null,null,null,null,null,null,null,null,null,null,null,null,null,null,null,null,null,0,null,null,null,null,0,null,null,null,null,null,0,null,0,null,0,0,null,0]
[null,null,null,null,null,null,null,null,null,null,null,null,null,null,null,null,null,null,null,null,null,null,null,null,null,null,null,null,null,null,null,null,null,null,null,null,null,0,null,null,null,null,0,null,null,null,null,null,0,null,0,null,0,0,null,0]
[null,null,null,null,null,null,null,null,null,null,null,null,null,null,null,null,null,null,null,null,null,null,null,null,null,null,null,null,null,null,null,null,null,null,null,null,null,0,null,null,null,null,0,null,null,null,null,null,0,null,0,null,0,0,null,0]
[null,null,null,null,null,null,null,null,null,null,null,null,null,null,null,null,null,null,null,null,null,null,null,null,null,null,null,null,null,null,null,null,null,null,null,null,null,0,null,null,null,null,0,null,null,null,null,null,0,null,0,null,0,0,null,0]
[null,null,null,null,null,null,null,null,null,null,null,null,null,null,null,null,null,null,null,null,null,null,null,null,null,null,null,null,null,null,null,null,null,null,null,null,null,0,null,null,null,null,0,null,null,null,null,null,0,null,0,null,0,0,null,0]
[null,null,null,null,null,null,null,null,null,null,null,null,null,null,null,null,null,null,null,null,null,null,null,null,null,null,null,null,null,null,null,null,null,null,null,null,null,0,null,null,null,null,0,null,null,null,null,null,0,null,0,null,0,0,null,0]
[null,null,null,null,null,null,null,null,null,null,null,null,null,null,null,null,null,null,null,null,null,null,null,null,null,null,null,null,null,null,null,null,null,null,null,null,null,0,null,null,null,null,0,null,null,null,null,null,0,null,0,null,0,0,null,0]
[null,null,null,null,null,null,null,null,null,null,null,null,null,null,null,null,null,null,null,null,null,null,null,null,null,null,null,null,null,null,null,null,null,null,null,null,null,0,null,null,null,null,0,null,null,null,null,null,0,null,0,null,0,0,null,0]
[null,null,null,null,null,null,null,null,null,null,null,null,null,null,null,null,null,null,null,null,null,null,null,null,null,null,null,null,null,null,null,null,null,null,null,null,null,0,null,null,null,null,0,null,null,null,null,null,0,null,0,null,0,0,null,0]
[null,null,null,null,null,null,null,null,null,null,null,null,null,null,null,null,null,null,null,null,null,null,null,null,null,null,null,null,null,null,null,null,null,null,null,null,null,0,null,null,null,null,0,null,null,null,null,null,0,null,0,null,0,0,null,0]
[null,null,null,null,null,null,null,null,null,null,null,null,null,null,null,null,null,null,null,null,null,null,null,null,null,null,null,null,null,null,null,null,null,null,null,null,null,0,null,null,null,null,0,null,null,null,null,null,0,null,0,null,0,0,null,0]
[null,null,null,null,null,null,null,null,null,null,null,null,null,null,null,null,null,null,null,null,null,null,null,null,null,null,null,null,null,null,null,null,null,null,null,null,null,0,null,null,null,null,0,null,null,null,null,null,0,null,0,null,0,0,null,0]
[null,null,null,null,null,null,null,null,null,null,null,null,null,null,null,null,null,null,null,null,null,null,null,null,null,null,null,null,null,null,null,null,null,null,null,null,null,0,null,null,null,null,0,null,null,null,null,null,0,null,0,null,0,0,null,0]
[null,null,null,null,null,null,null,null,null,null,null,null,null,null,null,null,null,null,null,null,null,null,null,null,null,null,null,null,null,null,null,null,null,null,null,null,null,0,null,null,null,null,0,null,null,null,null,null,0,null,0,null,0,0,null,0]
[null,null,null,null,null,null,null,null,null,null,null,null,null,null,null,null,null,null,null,null,null,null,null,null,null,null,null,null,null,null,null,null,null,null,null,null,null,0,null,null,null,null,0,null,null,null,null,null,0,null,0,null,0,0,null,0]
[null,null,null,null,null,null,null,null,null,null,null,null,null,null,null,null,null,null,null,null,null,null,null,null,null,null,null,null,null,null,null,null,null,null,null,null,null,0,null,null,null,null,0,null,null,null,null,null,0,null,0,null,0,0,null,0]
[null,null,null,null,null,null,null,null,null,null,null,null,null,null,null,null,null,null,null,null,null,null,null,null,null,null,null,null,null,null,null,null,null,null,null,null,null,0,null,null,null,null,0,null,null,null,null,null,0,null,0,null,0,0,null,0]
[null,null,null,null,null,null,null,null,null,null,null,null,null,null,null,null,null,null,null,null,null,null,null,null,null,null,null,null,null,null,null,null,null,null,null,null,null,0,null,null,null,null,0,null,null,null,null,null,0,null,0,null,0,0,null,0]
[null,null,null,null,null,null,null,null,null,null,null,null,null,null,null,null,null,null,null,null,null,null,null,null,null,null,null,null,null,null,null,null,null,null,null,null,null,0,null,null,null,null,0,null,null,null,null,null,0,null,0,null,0,0,null,0]
[null,null,null,null,null,null,null,null,null,null,null,null,null,null,null,null,null,null,null,null,null,null,null,null,null,null,null,null,null,null,null,null,null,null,null,null,null,0,null,null,null,null,0,null,null,null,null,null,0,null,0,null,0,0,null,0]
[null,null,null,null,null,null,null,null,null,null,null,null,null,null,null,null,null,null,null,null,null,null,null,null,null,null,null,null,null,null,null,null,null,null,null,null,null,0,null,null,null,null,0,null,null,null,null,null,0,null,0,null,0,0,null,0]
[null,null,null,null,null,null,null,null,null,null,null,null,null,null,null,null,null,null,null,null,null,null,null,null,null,null,null,null,null,null,null,null,null,null,null,null,null,0,null,null,null,null,0,null,null,null,null,null,0,null,0,null,0,0,null,0]
[null,null,null,null,null,null,null,null,null,null,null,null,null,null,null,null,null,null,null,null,null,null,null,null,null,null,null,null,null,null,null,null,null,null,null,null,null,0,null,null,null,null,0,null,null,null,null,null,0,null,0,null,0,0,null,0]
[null,null,null,null,null,null,null,null,null,null,null,null,null,null,null,null,null,null,null,null,null,null,null,null,null,null,null,null,null,null,null,null,null,null,null,null,null,0,null,null,null,null,0,null,null,null,null,null,0,null,0,null,0,0,null,0]
[null,null,null,null,null,null,null,null,null,null,null,null,null,null,null,null,null,null,null,null,null,null,null,null,null,null,null,null,null,null,null,null,null,null,null,null,null,0,null,null,null,null,0,null,null,null,null,null,0,null,0,null,0,0,null,0]
[null,null,null,null,null,null,null,null,null,null,null,null,null,null,null,null,null,null,null,null,null,null,null,null,null,null,null,null,null,null,null,null,null,null,null,null,null,0,null,null,null,null,0,null,null,null,null,null,0,null,0,null,0,0,null,0]
[null,null,null,null,null,null,null,null,null,null,null,null,null,null,null,null,null,null,null,null,null,null,null,null,null,null,null,null,null,null,null,null,null,null,null,null,null,0,null,null,null,null,0,null,null,null,null,null,0,null,0,null,0,0,null,0]
[null,null,null,null,null,null,null,null,null,null,null,null,null,null,null,null,null,null,null,null,null,null,null,null,null,null,null,null,null,null,null,null,null,null,null,null,null,0,null,null,null,null,0,null,null,null,null,null,0,null,0,null,0,0,null,0]
[null,null,null,null,null,null,null,null,null,null,null,null,null,null,null,null,null,null,null,null,null,null,null,null,null,null,null,null,null,null,null,null,null,null,null,null,null,0,null,null,null,null,0,null,null,null,null,null,0,null,0,null,0,0,null,0]
[null,null,null,null,null,null,null,null,null,null,null,null,null,null,null,null,null,null,null,null,null,null,null,null,null,null,null,null,null,null,null,null,null,null,null,null,null,0,null,null,null,null,0,null,null,null,null,null,0,null,0,null,0,0,null,0]
[null,null,null,null,null,null,null,null,null,null,null,null,null,null,null,null,null,null,null,null,null,null,null,null,null,null,null,null,null,null,null,null,null,null,null,null,null,0,null,null,null,null,0,null,null,null,null,null,0,null,0,null,0,0,null,0]
[null,null,null,null,null,null,null,null,null,null,null,null,null,null,null,null,null,null,null,null,null,null,null,null,null,null,null,null,null,null,null,null,null,null,null,null,null,0,null,null,null,null,0,null,null,null,null,null,0,null,0,null,0,0,null,0]
[null,null,null,null,null,null,null,null,null,null,null,null,null,null,null,null,null,null,null,null,null,null,null,null,null,null,null,null,null,null,null,null,null,null,null,null,null,0,null,null,null,null,0,null,null,null,null,null,0,null,0,null,0,0,null,0]
[null,null,null,null,null,null,null,null,null,null,null,null,null,null,null,null,null,null,null,null,null,null,null,null,null,null,null,null,null,null,null,null,null,null,null,null,null,0,null,null,null,null,0,null,null,null,null,null,0,null,0,null,0,0,null,0]
[null,null,null,null,null,null,null,null,null,null,null,null,null,null,null,null,null,null,null,null,null,null,null,null,null,null,null,null,null,null,null,null,null,null,null,null,null,0,null,null,null,null,0,null,null,null,null,null,0,null,0,null,0,0,null,0]
[null,null,null,null,null,null,null,null,null,null,null,null,null,null,null,null,null,null,null,null,null,null,null,null,null,null,null,null,null,null,null,null,null,null,null,null,null,0,null,null,null,null,0,null,null,null,null,null,0,null,0,null,0,0,null,0]
[null,null,null,null,null,null,null,null,null,null,null,null,null,null,null,null,null,null,null,null,null,null,null,null,null,null,null,null,null,null,null,null,null,null,null,null,null,0,null,null,null,null,0,null,null,null,null,null,0,null,0,null,0,0,null,0]
[null,null,null,null,null,null,null,null,null,null,null,null,null,null,null,null,null,null,null,null,null,null,null,null,null,null,null,null,null,null,null,null,null,null,null,null,null,0,null,null,null,null,0,null,null,null,null,null,0,null,0,null,0,0,null,0]
[null,null,null,null,null,null,null,null,null,null,null,null,null,null,null,null,null,null,null,null,null,null,null,null,null,null,null,null,null,null,null,null,null,null,null,null,null,0,null,null,null,null,0,null,null,null,null,null,0,null,0,null,0,0,null,0]
[null,null,null,null,null,null,null,null,null,null,null,null,null,null,null,null,null,null,null,null,null,null,null,null,null,null,null,null,null,null,null,null,null,null,null,null,null,0,null,null,null,null,0,null,null,null,null,null,0,null,0,null,0,0,null,0]
[null,null,null,null,null,null,null,null,null,null,null,null,null,null,null,null,null,null,null,null,null,null,null,null,null,null,null,null,null,null,null,null,null,null,null,null,null,0,null,null,null,null,0,null,null,null,null,null,0,null,0,null,0,0,null,0]
[null,null,null,null,null,null,null,null,null,null,null,null,null,null,null,null,null,null,null,null,null,null,null,null,null,null,null,null,null,null,null,null,null,null,null,null,null,0,null,null,null,null,0,null,null,null,null,null,0,null,0,null,0,0,null,0]
[null,null,null,null,null,null,null,null,null,null,null,null,null,null,null,null,null,null,null,null,null,null,null,null,null,null,null,null,null,null,null,null,null,null,null,null,null,0,null,null,null,null,0,null,null,null,null,null,{"$f":"(((J377+O377)*2)/1000)*E377","v":0},null,{"$f":"((J377/1000)*(O377/1000))*E377","v":0},null,{"$f":"(J377-T377-W377)/(AF377-1)","v":0},{"$f":"(O377-Z377-AC377)/(AI377-1)","v":0},null,{"$f":"AI377*AF377*E377","v":0}]
[null,null,null,null,null,null,null,null,null,null,null,null,null,null,null,null,null,null,null,null,null,null,null,null,null,null,null,null,null,null,null,null,null,null,null,null,null,{"$f":"IF(AF378>1.1,BA378,0)","v":0},null,null,null,null,{"$f":"IF(AI378>1.1,BB378,0)","v":0},null,null,null,null,null,0,null,0,null,0,0,null,0]
[null,null,null,null,null,null,null,null,null,null,null,null,null,null,null,null,null,null,null,null,null,null,null,null,null,null,null,null,null,null,null,null,null,null,null,null,null,0,null,null,null,null,0,null,null,null,null,null,0,null,0,null,0,0,null,0]
[null,null,null,null,null,null,null,null,null,null,null,null,null,null,null,null,null,null,null,null,null,null,null,null,null,null,null,null,null,null,null,null,null,null,null,null,null,0,null,null,null,null,0,null,null,null,null,null,0,null,0,null,0,0,null,0]
[null,null,null,null,null,null,null,null,null,null,null,null,null,null,null,null,null,null,null,null,null,null,null,null,null,null,null,null,null,null,null,null,null,null,null,null,null,0,null,null,null,null,0,null,null,null,null,null,0,null,0,null,0,0,null,0]
[null,null,null,null,null,null,null,null,null,null,null,null,null,null,null,null,null,null,null,null,null,null,null,null,null,null,null,null,null,null,null,null,null,null,null,null,null,0,null,null,null,null,0,null,null,null,null,null,0,null,0,null,0,0,null,0]
[null,null,null,null,null,null,null,null,null,null,null,null,null,null,null,null,null,null,null,null,null,null,null,null,null,null,null,null,null,null,null,null,null,null,null,null,null,0,null,null,null,null,0,null,null,null,null,null,0,null,0,null,0,0,null,0]
[null,null,null,null,null,null,null,null,null,null,null,null,null,null,null,null,null,null,null,null,null,null,null,null,null,null,null,null,null,null,null,null,null,null,null,null,null,0,null,null,null,null,0,null,null,null,null,null,0,null,0,null,0,0,null,0]
[null,null,null,null,null,null,null,null,null,null,null,null,null,null,null,null,null,null,null,null,null,null,null,null,null,null,null,null,null,null,null,null,null,null,null,null,null,0,null,null,null,null,0,null,null,null,null,null,0,null,0,null,0,0,null,0]
[null,null,null,null,null,null,null,null,null,null,null,null,null,null,null,null,null,null,null,null,null,null,null,null,null,null,null,null,null,null,null,null,null,null,null,null,null,0,null,null,null,null,0,null,null,null,null,null,0,null,0,null,0,0,null,0]
[null,null,null,null,null,null,null,null,null,null,null,null,null,null,null,null,null,null,null,null,null,null,null,null,null,null,null,null,null,null,null,null,null,null,null,null,null,0,null,null,null,null,0,null,null,null,null,null,0,null,0,null,0,0,null,0]
[null,null,null,null,null,null,null,null,null,null,null,null,null,null,null,null,null,null,null,null,null,null,null,null,null,null,null,null,null,null,null,null,null,null,null,null,null,0,null,null,null,null,0,null,null,null,null,null,0,null,0,null,0,0,null,0]
[null,null,null,null,null,null,null,null,null,null,null,null,null,null,null,null,null,null,null,null,null,null,null,null,null,null,null,null,null,null,null,null,null,null,null,null,null,0,null,null,null,null,0,null,null,null,null,null,0,null,0,null,0,0,null,0]
[null,null,null,null,null,null,null,null,null,null,null,null,null,null,null,null,null,null,null,null,null,null,null,null,null,null,null,null,null,null,null,null,null,null,null,null,null,0,null,null,null,null,0,null,null,null,null,null,0,null,0,null,0,0,null,0]
[null,null,null,null,null,null,null,null,null,null,null,null,null,null,null,null,null,null,null,null,null,null,null,null,null,null,null,null,null,null,null,null,null,null,null,null,null,0,null,null,null,null,0,null,null,null,null,null,0,null,0,null,0,0,null,0]
[null,null,null,null,null,null,null,null,null,null,null,null,null,null,null,null,null,null,null,null,null,null,null,null,null,null,null,null,null,null,null,null,null,null,null,null,null,0,null,null,null,null,0,null,null,null,null,null,0,null,0,null,0,0,null,0]
[null,null,null,null,null,null,null,null,null,null,null,null,null,null,null,null,null,null,null,null,null,null,null,null,null,null,null,null,null,null,null,null,null,null,null,null,null,0,null,null,null,null,0,null,null,null,null,null,0,null,0,null,0,0,null,0]
[null,null,null,null,null,null,null,null,null,null,null,null,null,null,null,null,null,null,null,null,null,null,null,null,null,null,null,null,null,null,null,null,null,null,null,null,null,0,null,null,null,null,0,null,null,null,null,null,0,null,0,null,0,0,null,0]
[null,null,null,null,null,null,null,null,null,null,null,null,null,null,null,null,null,null,null,null,null,null,null,null,null,null,null,null,null,null,null,null,null,null,null,null,null,0,null,null,null,null,0,null,null,null,null,null,0,null,0,null,0,0,null,0]
[null,null,null,null,null,null,null,null,null,null,null,null,null,null,null,null,null,null,null,null,null,null,null,null,null,null,null,null,null,null,null,null,null,null,null,null,null,0,null,null,null,null,0,null,null,null,null,null,0,null,0,null,0,0,null,0]
[null,null,null,null,null,null,null,null,null,null,null,null,null,null,null,null,null,null,null,null,null,null,null,null,null,null,null,null,null,null,null,null,null,null,null,null,null,0,null,null,null,null,0,null,null,null,null,null,0,null,0,null,0,0,null,0]
[null,null,null,null,null,null,null,null,null,null,null,null,null,null,null,null,null,null,null,null,null,null,null,null,null,null,null,null,null,null,null,null,null,null,null,null,null,0,null,null,null,null,0,null,null,null,null,null,0,null,0,null,0,0,null,0]
[null,null,null,null,null,null,null,null,null,null,null,null,null,null,null,null,null,null,null,null,null,null,null,null,null,null,null,null,null,null,null,null,null,null,null,null,null,0,null,null,null,null,0,null,null,null,null,null,0,null,0,null,0,0,null,0]
[null,null,null,null,null,null,null,null,null,null,null,null,null,null,null,null,null,null,null,null,null,null,null,null,null,null,null,null,null,null,null,null,null,null,null,null,null,0,null,null,null,null,0,null,null,null,null,null,0,null,0,null,0,0,null,0]
[null,null,null,null,null,null,null,null,null,null,null,null,null,null,null,null,null,null,null,null,null,null,null,null,null,null,null,null,null,null,null,null,null,null,null,null,null,0,null,null,null,null,0,null,null,null,null,null,0,null,0,null,0,0,null,0]
[null,null,null,null,null,null,null,null,null,null,null,null,null,null,null,null,null,null,null,null,null,null,null,null,null,null,null,null,null,null,null,null,null,null,null,null,null,0,null,null,null,null,0,null,null,null,null,null,0,null,0,null,0,0,null,0]
[null,null,null,null,null,null,null,null,null,null,null,null,null,null,null,null,null,null,null,null,null,null,null,null,null,null,null,null,null,null,null,null,null,null,null,null,null,0,null,null,null,null,0,null,null,null,null,null,0,null,0,null,0,0,null,0]
[null,null,null,null,null,null,null,null,null,null,null,null,null,null,null,null,null,null,null,null,null,null,null,null,null,null,null,null,null,null,null,null,null,null,null,null,null,0,null,null,null,null,0,null,null,null,null,null,0,null,0,null,0,0,null,0]
[null,null,null,null,null,null,null,null,null,null,null,null,null,null,null,null,null,null,null,null,null,null,null,null,null,null,null,null,null,null,null,null,null,null,null,null,null,0,null,null,null,null,0,null,null,null,null,null,0,null,0,null,0,0,null,0]
[null,null,null,null,null,null,null,null,null,null,null,null,null,null,null,null,null,null,null,null,null,null,null,null,null,null,null,null,null,null,null,null,null,null,null,null,null,0,null,null,null,null,0,null,null,null,null,null,0,null,0,null,0,0,null,0]
[null,null,null,null,null,null,null,null,null,null,null,null,null,null,null,null,null,null,null,null,null,null,null,null,null,null,null,null,null,null,null,null,null,null,null,null,null,0,null,null,null,null,0,null,null,null,null,null,0,null,0,null,0,0,null,0]
[null,null,null,null,null,null,null,null,null,null,null,null,null,null,null,null,null,null,null,null,null,null,null,null,null,null,null,null,null,null,null,null,null,null,null,null,null,0,null,null,null,null,0,null,null,null,null,null,0,null,0,null,0,0,null,0]
[null,null,null,null,null,null,null,null,null,null,null,null,null,null,null,null,null,null,null,null,null,null,null,null,null,null,null,null,null,null,null,null,null,null,null,null,null,0,null,null,null,null,0,null,null,null,null,null,0,null,0,null,0,0,null,0]
[null,null,null,null,null,null,null,null,null,null,null,null,null,null,null,null,null,null,null,null,null,null,null,null,null,null,null,null,null,null,null,null,null,null,null,null,null,0,null,null,null,null,0,null,null,null,null,null,0,null,0,null,0,0,null,0]
[null,null,null,null,null,null,null,null,null,null,null,null,null,null,null,null,null,null,null,null,null,null,null,null,null,null,null,null,null,null,null,null,null,null,null,null,null,0,null,null,null,null,0,null,null,null,null,null,0,null,0,null,0,0,null,0]
[null,null,null,null,null,null,null,null,null,null,null,null,null,null,null,null,null,null,null,null,null,null,null,null,null,null,null,null,null,null,null,null,null,null,null,null,null,0,null,null,null,null,0,null,null,null,null,null,0,null,0,null,0,0,null,0]
[null,null,null,null,null,null,null,null,null,null,null,null,null,null,null,null,null,null,null,null,null,null,null,null,null,null,null,null,null,null,null,null,null,null,null,null,null,0,null,null,null,null,0,null,null,null,null,null,0,null,0,null,0,0,null,0]
[null,null,null,null,null,null,null,null,null,null,null,null,null,null,null,null,null,null,null,null,null,null,null,null,null,null,null,null,null,null,null,null,null,null,null,null,null,0,null,null,null,null,0,null,null,null,null,null,0,null,0,null,0,0,null,0]
[null,null,null,null,null,null,null,null,null,null,null,null,null,null,null,null,null,null,null,null,null,null,null,null,null,null,null,null,null,null,null,null,null,null,null,null,null,0,null,null,null,null,0,null,null,null,null,null,0,null,0,null,0,0,null,0]
[null,null,null,null,null,null,null,null,null,null,null,null,null,null,null,null,null,null,null,null,null,null,null,null,null,null,null,null,null,null,null,null,null,null,null,null,null,0,null,null,null,null,0,null,null,null,null,null,0,null,0,null,0,0,null,0]
[null,null,null,null,null,null,null,null,null,null,null,null,null,null,null,null,null,null,null,null,null,null,null,null,null,null,null,null,null,null,null,null,null,null,null,null,null,0,null,null,null,null,0,null,null,null,null,null,0,null,0,null,0,0,null,0]
[null,null,null,null,null,null,null,null,null,null,null,null,null,null,null,null,null,null,null,null,null,null,null,null,null,null,null,null,null,null,null,null,null,null,null,null,null,0,null,null,null,null,0,null,null,null,null,null,0,null,0,null,0,0,null,0]
[null,null,null,null,null,null,null,null,null,null,null,null,null,null,null,null,null,null,null,null,null,null,null,null,null,null,null,null,null,null,null,null,null,null,null,null,null,0,null,null,null,null,0,null,null,null,null,null,0,null,0,null,0,0,null,0]
[null,null,null,null,null,null,null,null,null,null,null,null,null,null,null,null,null,null,null,null,null,null,null,null,null,null,null,null,null,null,null,null,null,null,null,null,null,0,null,null,null,null,0,null,null,null,null,null,0,null,0,null,0,0,null,0]
[null,null,null,null,null,null,null,null,null,null,null,null,null,null,null,null,null,null,null,null,null,null,null,null,null,null,null,null,null,null,null,null,null,null,null,null,null,0,null,null,null,null,0,null,null,null,null,null,0,null,0,null,0,0,null,0]
[null,null,null,null,null,null,null,null,null,null,null,null,null,null,null,null,null,null,null,null,null,null,null,null,null,null,null,null,null,null,null,null,null,null,null,null,null,0,null,null,null,null,0,null,null,null,null,null,0,null,0,null,0,0,null,0]
[null,null,null,null,null,null,null,null,null,null,null,null,null,null,null,null,null,null,null,null,null,null,null,null,null,null,null,null,null,null,null,null,null,null,null,null,null,0,null,null,null,null,0,null,null,null,null,null,0,null,0,null,0,0,null,0]
[null,null,null,null,null,null,null,null,null,null,null,null,null,null,null,null,null,null,null,null,null,null,null,null,null,null,null,null,null,null,null,null,null,null,null,null,null,0,null,null,null,null,0,null,null,null,null,null,0,null,0,null,0,0,null,0]
[null,null,null,null,null,null,null,null,null,null,null,null,null,null,null,null,null,null,null,null,null,null,null,null,null,null,null,null,null,null,null,null,null,null,null,null,null,0,null,null,null,null,0,null,null,null,null,null,0,null,0,null,0,0,null,0]
[null,null,null,null,null,null,null,null,null,null,null,null,null,null,null,null,null,null,null,null,null,null,null,null,null,null,null,null,null,null,null,null,null,null,null,null,null,0,null,null,null,null,0,null,null,null,null,null,0,null,0,null,0,0,null,0]
[null,null,null,null,null,null,null,null,null,null,null,null,null,null,null,null,null,null,null,null,null,null,null,null,null,null,null,null,null,null,null,null,null,null,null,null,null,0,null,null,null,null,0,null,null,null,null,null,0,null,0,null,0,0,null,0]
[null,null,null,null,null,null,null,null,null,null,null,null,null,null,null,null,null,null,null,null,null,null,null,null,null,null,null,null,null,null,null,null,null,null,null,null,null,0,null,null,null,null,0,null,null,null,null,null,0,null,0,null,0,0,null,0]
[null,null,null,null,null,null,null,null,null,null,null,null,null,null,null,null,null,null,null,null,null,null,null,null,null,null,null,null,null,null,null,null,null,null,null,null,null,0,null,null,null,null,0,null,null,null,null,null,0,null,0,null,0,0,null,0]
[null,null,null,null,null,null,null,null,null,null,null,null,null,null,null,null,null,null,null,null,null,null,null,null,null,null,null,null,null,null,null,null,null,null,null,null,null,0,null,null,null,null,0,null,null,null,null,null,0,null,0,null,0,0,null,0]
[null,null,null,null,null,null,null,null,null,null,null,null,null,null,null,null,null,null,null,null,null,null,null,null,null,null,null,null,null,null,null,null,null,null,null,null,null,0,null,null,null,null,0,null,null,null,null,null,0,null,0,null,0,0,null,0]
[null,null,null,null,null,null,null,null,null,null,null,null,null,null,null,null,null,null,null,null,null,null,null,null,null,null,null,null,null,null,null,null,null,null,null,null,null,0,null,null,null,null,0,null,null,null,null,null,0,null,0,null,0,0,null,0]
[null,null,null,null,null,null,null,null,null,null,null,null,null,null,null,null,null,null,null,null,null,null,null,null,null,null,null,null,null,null,null,null,null,null,null,null,null,0,null,null,null,null,0,null,null,null,null,null,0,null,0,null,0,0,null,0]
[null,null,null,null,null,null,null,null,null,null,null,null,null,null,null,null,null,null,null,null,null,null,null,null,null,null,null,null,null,null,null,null,null,null,null,null,null,0,null,null,null,null,0,null,null,null,null,null,0,null,0,null,0,0,null,0]
[null,null,null,null,null,null,null,null,null,null,null,null,null,null,null,null,null,null,null,null,null,null,null,null,null,null,null,null,null,null,null,null,null,null,null,null,null,0,null,null,null,null,0,null,null,null,null,null,0,null,0,null,0,0,null,0]
[null,null,null,null,null,null,null,null,null,null,null,null,null,null,null,null,null,null,null,null,null,null,null,null,null,null,null,null,null,null,null,null,null,null,null,null,null,0,null,null,null,null,0,null,null,null,null,null,0,null,0,null,0,0,null,0]
[null,null,null,null,null,null,null,null,null,null,null,null,null,null,null,null,null,null,null,null,null,null,null,null,null,null,null,null,null,null,null,null,null,null,null,null,null,0,null,null,null,null,0,null,null,null,null,null,0,null,0,null,0,0,null,0]
[null,null,null,null,null,null,null,null,null,null,null,null,null,null,null,null,null,null,null,null,null,null,null,null,null,null,null,null,null,null,null,null,null,null,null,null,null,0,null,null,null,null,0,null,null,null,null,null,0,null,0,null,0,0,null,0]
[null,null,null,null,null,null,null,null,null,null,null,null,null,null,null,null,null,null,null,null,null,null,null,null,null,null,null,null,null,null,null,null,null,null,null,null,null,0,null,null,null,null,0,null,null,null,null,null,0,null,0,null,0,0,null,0]
[null,null,null,null,null,null,null,null,null,null,null,null,null,null,null,null,null,null,null,null,null,null,null,null,null,null,null,null,null,null,null,null,null,null,null,null,null,0,null,null,null,null,0,null,null,null,null,null,0,null,0,null,0,0,null,0]
[null,null,null,null,null,null,null,null,null,null,null,null,null,null,null,null,null,null,null,null,null,null,null,null,null,null,null,null,null,null,null,null,null,null,null,null,null,0,null,null,null,null,0,null,null,null,null,null,{"$f":"(((J441+O441)*2)/1000)*E441","v":0},null,{"$f":"((J441/1000)*(O441/1000))*E441","v":0},null,{"$f":"(J441-T441-W441)/(AF441-1)","v":0},{"$f":"(O441-Z441-AC441)/(AI441-1)","v":0},null,{"$f":"AI441*AF441*E441","v":0}]
[null,null,null,null,null,null,null,null,null,null,null,null,null,null,null,null,null,null,null,null,null,null,null,null,null,null,null,null,null,null,null,null,null,null,null,null,null,{"$f":"IF(AF442>1.1,BA442,0)","v":0},null,null,null,null,{"$f":"IF(AI442>1.1,BB442,0)","v":0},null,null,null,null,null,0,null,0,null,0,0,null,0]
[null,null,null,null,null,null,null,null,null,null,null,null,null,null,null,null,null,null,null,null,null,null,null,null,null,null,null,null,null,null,null,null,null,null,null,null,null,0,null,null,null,null,0,null,null,null,null,null,0,null,0,null,0,0,null,0]
[null,null,null,null,null,null,null,null,null,null,null,null,null,null,null,null,null,null,null,null,null,null,null,null,null,null,null,null,null,null,null,null,null,null,null,null,null,0,null,null,null,null,0,null,null,null,null,null,0,null,0,null,0,0,null,0]
[null,null,null,null,null,null,null,null,null,null,null,null,null,null,null,null,null,null,null,null,null,null,null,null,null,null,null,null,null,null,null,null,null,null,null,null,null,0,null,null,null,null,0,null,null,null,null,null,0,null,0,null,0,0,null,0]
[null,null,null,null,null,null,null,null,null,null,null,null,null,null,null,null,null,null,null,null,null,null,null,null,null,null,null,null,null,null,null,null,null,null,null,null,null,0,null,null,null,null,0,null,null,null,null,null,0,null,0,null,0,0,null,0]
[null,null,null,null,null,null,null,null,null,null,null,null,null,null,null,null,null,null,null,null,null,null,null,null,null,null,null,null,null,null,null,null,null,null,null,null,null,0,null,null,null,null,0,null,null,null,null,null,0,null,0,null,0,0,null,0]
[null,null,null,null,null,null,null,null,null,null,null,null,null,null,null,null,null,null,null,null,null,null,null,null,null,null,null,null,null,null,null,null,null,null,null,null,null,0,null,null,null,null,0,null,null,null,null,null,0,null,0,null,0,0,null,0]
[null,null,null,null,null,null,null,null,null,null,null,null,null,null,null,null,null,null,null,null,null,null,null,null,null,null,null,null,null,null,null,null,null,null,null,null,null,0,null,null,null,null,0,null,null,null,null,null,0,null,0,null,0,0,null,0]
[null,null,null,null,null,null,null,null,null,null,null,null,null,null,null,null,null,null,null,null,null,null,null,null,null,null,null,null,null,null,null,null,null,null,null,null,null,0,null,null,null,null,0,null,null,null,null,null,0,null,0,null,0,0,null,0]
[null,null,null,null,null,null,null,null,null,null,null,null,null,null,null,null,null,null,null,null,null,null,null,null,null,null,null,null,null,null,null,null,null,null,null,null,null,0,null,null,null,null,0,null,null,null,null,null,0,null,0,null,0,0,null,0]
[null,null,null,null,null,null,null,null,null,null,null,null,null,null,null,null,null,null,null,null,null,null,null,null,null,null,null,null,null,null,null,null,null,null,null,null,null,0,null,null,null,null,0,null,null,null,null,null,0,null,0,null,0,0,null,0]
[null,null,null,null,null,null,null,null,null,null,null,null,null,null,null,null,null,null,null,null,null,null,null,null,null,null,null,null,null,null,null,null,null,null,null,null,null,0,null,null,null,null,0,null,null,null,null,null,0,null,0,null,0,0,null,0]
[null,null,null,null,null,null,null,null,null,null,null,null,null,null,null,null,null,null,null,null,null,null,null,null,null,null,null,null,null,null,null,null,null,null,null,null,null,0,null,null,null,null,0,null,null,null,null,null,0,null,0,null,0,0,null,0]
[null,null,null,null,null,null,null,null,null,null,null,null,null,null,null,null,null,null,null,null,null,null,null,null,null,null,null,null,null,null,null,null,null,null,null,null,null,0,null,null,null,null,0,null,null,null,null,null,0,null,0,null,0,0,null,0]
[null,null,null,null,null,null,null,null,null,null,null,null,null,null,null,null,null,null,null,null,null,null,null,null,null,null,null,null,null,null,null,null,null,null,null,null,null,0,null,null,null,null,0,null,null,null,null,null,0,null,0,null,0,0,null,0]
[null,null,null,null,null,null,null,null,null,null,null,null,null,null,null,null,null,null,null,null,null,null,null,null,null,null,null,null,null,null,null,null,null,null,null,null,null,0,null,null,null,null,0,null,null,null,null,null,0,null,0,null,0,0,null,0]
[null,null,null,null,null,null,null,null,null,null,null,null,null,null,null,null,null,null,null,null,null,null,null,null,null,null,null,null,null,null,null,null,null,null,null,null,null,0,null,null,null,null,0,null,null,null,null,null,0,null,0,null,0,0,null,0]
[null,null,null,null,null,null,null,null,null,null,null,null,null,null,null,null,null,null,null,null,null,null,null,null,null,null,null,null,null,null,null,null,null,null,null,null,null,0,null,null,null,null,0,null,null,null,null,null,0,null,0,null,0,0,null,0]
[null,null,null,null,null,null,null,null,null,null,null,null,null,null,null,null,null,null,null,null,null,null,null,null,null,null,null,null,null,null,null,null,null,null,null,null,null,0,null,null,null,null,0,null,null,null,null,null,0,null,0,null,0,0,null,0]
[null,null,null,null,null,null,null,null,null,null,null,null,null,null,null,null,null,null,null,null,null,null,null,null,null,null,null,null,null,null,null,null,null,null,null,null,null,0,null,null,null,null,0,null,null,null,null,null,0,null,0,null,0,0,null,0]
[null,null,null,null,null,null,null,null,null,null,null,null,null,null,null,null,null,null,null,null,null,null,null,null,null,null,null,null,null,null,null,null,null,null,null,null,null,0,null,null,null,null,0,null,null,null,null,null,0,null,0,null,0,0,null,0]
[null,null,null,null,null,null,null,null,null,null,null,null,null,null,null,null,null,null,null,null,null,null,null,null,null,null,null,null,null,null,null,null,null,null,null,null,null,0,null,null,null,null,0,null,null,null,null,null,0,null,0,null,0,0,null,0]
[null,null,null,null,null,null,null,null,null,null,null,null,null,null,null,null,null,null,null,null,null,null,null,null,null,null,null,null,null,null,null,null,null,null,null,null,null,0,null,null,null,null,0,null,null,null,null,null,0,null,0,null,0,0,null,0]
[null,null,null,null,null,null,null,null,null,null,null,null,null,null,null,null,null,null,null,null,null,null,null,null,null,null,null,null,null,null,null,null,null,null,null,null,null,0,null,null,null,null,0,null,null,null,null,null,0,null,0,null,0,0,null,0]
[null,null,null,null,null,null,null,null,null,null,null,null,null,null,null,null,null,null,null,null,null,null,null,null,null,null,null,null,null,null,null,null,null,null,null,null,null,0,null,null,null,null,0,null,null,null,null,null,0,null,0,null,0,0,null,0]
[null,null,null,null,null,null,null,null,null,null,null,null,null,null,null,null,null,null,null,null,null,null,null,null,null,null,null,null,null,null,null,null,null,null,null,null,null,0,null,null,null,null,0,null,null,null,null,null,0,null,0,null,0,0,null,0]
[null,null,null,null,null,null,null,null,null,null,null,null,null,null,null,null,null,null,null,null,null,null,null,null,null,null,null,null,null,null,null,null,null,null,null,null,null,0,null,null,null,null,0,null,null,null,null,null,0,null,0,null,0,0,null,0]
[null,null,null,null,null,null,null,null,null,null,null,null,null,null,null,null,null,null,null,null,null,null,null,null,null,null,null,null,null,null,null,null,null,null,null,null,null,0,null,null,null,null,0,null,null,null,null,null,0,null,0,null,0,0,null,0]
[null,null,null,null,null,null,null,null,null,null,null,null,null,null,null,null,null,null,null,null,null,null,null,null,null,null,null,null,null,null,null,null,null,null,null,null,null,0,null,null,null,null,0,null,null,null,null,null,0,null,0,null,0,0,null,0]
[null,null,null,null,null,null,null,null,null,null,null,null,null,null,null,null,null,null,null,null,null,null,null,null,null,null,null,null,null,null,null,null,null,null,null,null,null,0,null,null,null,null,0,null,null,null,null,null,0,null,0,null,0,0,null,0]
[null,null,null,null,null,null,null,null,null,null,null,null,null,null,null,null,null,null,null,null,null,null,null,null,null,null,null,null,null,null,null,null,null,null,null,null,null,0,null,null,null,null,0,null,null,null,null,null,0,null,0,null,0,0,null,0]
[null,null,null,null,null,null,null,null,null,null,null,null,null,null,null,null,null,null,null,null,null,null,null,null,null,null,null,null,null,null,null,null,null,null,null,null,null,0,null,null,null,null,0,null,null,null,null,null,0,null,0,null,0,0,null,0]
[null,null,null,null,null,null,null,null,null,null,null,null,null,null,null,null,null,null,null,null,null,null,null,null,null,null,null,null,null,null,null,null,null,null,null,null,null,0,null,null,null,null,0,null,null,null,null,null,0,null,0,null,0,0,null,0]
[null,null,null,null,null,null,null,null,null,null,null,null,null,null,null,null,null,null,null,null,null,null,null,null,null,null,null,null,null,null,null,null,null,null,null,null,null,0,null,null,null,null,0,null,null,null,null,null,0,null,0,null,0,0,null,0]
[null,null,null,null,null,null,null,null,null,null,null,null,null,null,null,null,null,null,null,null,null,null,null,null,null,null,null,null,null,null,null,null,null,null,null,null,null,0,null,null,null,null,0,null,null,null,null,null,0,null,0,null,0,0,null,0]
[null,null,null,null,null,null,null,null,null,null,null,null,null,null,null,null,null,null,null,null,null,null,null,null,null,null,null,null,null,null,null,null,null,null,null,null,null,0,null,null,null,null,0,null,null,null,null,null,0,null,0,null,0,0,null,0]
[null,null,null,null,null,null,null,null,null,null,null,null,null,null,null,null,null,null,null,null,null,null,null,null,null,null,null,null,null,null,null,null,null,null,null,null,null,0,null,null,null,null,0,null,null,null,null,null,0,null,0,null,0,0,null,0]
[null,null,null,null,null,null,null,null,null,null,null,null,null,null,null,null,null,null,null,null,null,null,null,null,null,null,null,null,null,null,null,null,null,null,null,null,null,0,null,null,null,null,0,null,null,null,null,null,0,null,0,null,0,0,null,0]
[null,null,null,null,null,null,null,null,null,null,null,null,null,null,null,null,null,null,null,null,null,null,null,null,null,null,null,null,null,null,null,null,null,null,null,null,null,0,null,null,null,null,0,null,null,null,null,null,0,null,0,null,0,0,null,0]
[null,null,null,null,null,null,null,null,null,null,null,null,null,null,null,null,null,null,null,null,null,null,null,null,null,null,null,null,null,null,null,null,null,null,null,null,null,0,null,null,null,null,0,null,null,null,null,null,0,null,0,null,0,0,null,0]
[null,null,null,null,null,null,null,null,null,null,null,null,null,null,null,null,null,null,null,null,null,null,null,null,null,null,null,null,null,null,null,null,null,null,null,null,null,0,null,null,null,null,0,null,null,null,null,null,0,null,0,null,0,0,null,0]
[null,null,null,null,null,null,null,null,null,null,null,null,null,null,null,null,null,null,null,null,null,null,null,null,null,null,null,null,null,null,null,null,null,null,null,null,null,0,null,null,null,null,0,null,null,null,null,null,0,null,0,null,0,0,null,0]
[null,null,null,null,null,null,null,null,null,null,null,null,null,null,null,null,null,null,null,null,null,null,null,null,null,null,null,null,null,null,null,null,null,null,null,null,null,0,null,null,null,null,0,null,null,null,null,null,0,null,0,null,0,0,null,0]
[null,null,null,null,null,null,null,null,null,null,null,null,null,null,null,null,null,null,null,null,null,null,null,null,null,null,null,null,null,null,null,null,null,null,null,null,null,0,null,null,null,null,0,null,null,null,null,null,0,null,0,null,0,0,null,0]
[null,null,null,null,null,null,null,null,null,null,null,null,null,null,null,null,null,null,null,null,null,null,null,null,null,null,null,null,null,null,null,null,null,null,null,null,null,0,null,null,null,null,0,null,null,null,null,null,0,null,0,null,0,0,null,0]
[null,null,null,null,null,null,null,null,null,null,null,null,null,null,null,null,null,null,null,null,null,null,null,null,null,null,null,null,null,null,null,null,null,null,null,null,null,0,null,null,null,null,0,null,null,null,null,null,0,null,0,null,0,0,null,0]
[null,null,null,null,null,null,null,null,null,null,null,null,null,null,null,null,null,null,null,null,null,null,null,null,null,null,null,null,null,null,null,null,null,null,null,null,null,0,null,null,null,null,0,null,null,null,null,null,0,null,0,null,0,0,null,0]
[null,null,null,null,null,null,null,null,null,null,null,null,null,null,null,null,null,null,null,null,null,null,null,null,null,null,null,null,null,null,null,null,null,null,null,null,null,0,null,null,null,null,0,null,null,null,null,null,0,null,0,null,0,0,null,0]
[null,null,null,null,null,null,null,null,null,null,null,null,null,null,null,null,null,null,null,null,null,null,null,null,null,null,null,null,null,null,null,null,null,null,null,null,null,0,null,null,null,null,0,null,null,null,null,null,0,null,0,null,0,0,null,0]
[null,null,null,null,null,null,null,null,null,null,null,null,null,null,null,null,null,null,null,null,null,null,null,null,null,null,null,null,null,null,null,null,null,null,null,null,null,0,null,null,null,null,0,null,null,null,null,null,0,null,0,null,0,0,null,0]
[null,null,null,null,null,null,null,null,null,null,null,null,null,null,null,null,null,null,null,null,null,null,null,null,null,null,null,null,null,null,null,null,null,null,null,null,null,0,null,null,null,null,0,null,null,null,null,null,0,null,0,null,0,0,null,0]
[null,null,null,null,null,null,null,null,null,null,null,null,null,null,null,null,null,null,null,null,null,null,null,null,null,null,null,null,null,null,null,null,null,null,null,null,null,0,null,null,null,null,0,null,null,null,null,null,0,null,0,null,0,0,null,0]
[null,null,null,null,null,null,null,null,null,null,null,null,null,null,null,null,null,null,null,null,null,null,null,null,null,null,null,null,null,null,null,null,null,null,null,null,null,0,null,null,null,null,0,null,null,null,null,null,0,null,0,null,0,0,null,0]
[null,null,null,null,null,null,null,null,null,null,null,null,null,null,null,null,null,null,null,null,null,null,null,null,null,null,null,null,null,null,null,null,null,null,null,null,null,0,null,null,null,null,0,null,null,null,null,null,0,null,0,null,0,0,null,0]
[null,null,null,null,null,null,null,null,null,null,null,null,null,null,null,null,null,null,null,null,null,null,null,null,null,null,null,null,null,null,null,null,null,null,null,null,null,0,null,null,null,null,0,null,null,null,null,null,0,null,0,null,0,0,null,0]
[null,null,null,null,null,null,null,null,null,null,null,null,null,null,null,null,null,null,null,null,null,null,null,null,null,null,null,null,null,null,null,null,null,null,null,null,null,0,null,null,null,null,0,null,null,null,null,null,0,null,0,null,0,0,null,0]
[null,null,null,null,null,null,null,null,null,null,null,null,null,null,null,null,null,null,null,null,null,null,null,null,null,null,null,null,null,null,null,null,null,null,null,null,null,0,null,null,null,null,0,null,null,null,null,null,0,null,0,null,0,0,null,0]
[null,null,null,null,null,null,null,null,null,null,null,null,null,null,null,null,null,null,null,null,null,null,null,null,null,null,null,null,null,null,null,null,null,null,null,null,null,0,null,null,null,null,0,null,null,null,null,null,0,null,0,null,0,0,null,0]
[null,null,null,null,null,null,null,null,null,null,null,null,null,null,null,null,null,null,null,null,null,null,null,null,null,null,null,null,null,null,null,null,null,null,null,null,null,0,null,null,null,null,0,null,null,null,null,null,0,null,0,null,0,0,null,0]
[null,null,null,null,null,null,null,null,null,null,null,null,null,null,null,null,null,null,null,null,null,null,null,null,null,null,null,null,null,null,null,null,null,null,null,null,null,0,null,null,null,null,0,null,null,null,null,null,0,null,0,null,0,0,null,0]
[null,null,null,null,null,null,null,null,null,null,null,null,null,null,null,null,null,null,null,null,null,null,null,null,null,null,null,null,null,null,null,null,null,null,null,null,null,0,null,null,null,null,0,null,null,null,null,null,0,null,0,null,0,0,null,0]
[null,null,null,null,null,null,null,null,null,null,null,null,null,null,null,null,null,null,null,null,null,null,null,null,null,null,null,null,null,null,null,null,null,null,null,null,null,0,null,null,null,null,0,null,null,null,null,null,0,null,0,null,0,0,null,0]
[null,null,null,null,null,null,null,null,null,null,null,null,null,null,null,null,null,null,null,null,null,null,null,null,null,null,null,null,null,null,null,null,null,null,null,null,null,0,null,null,null,null,0,null,null,null,null,null,0,null,0,null,0,0,null,0]
[null,null,null,null,null,null,null,null,null,null,null,null,null,null,null,null,null,null,null,null,null,null,null,null,null,null,null,null,null,null,null,null,null,null,null,null,null,0,null,null,null,null,0,null,null,null,null,null,{"$f":"(((J505+O505)*2)/1000)*E505","v":0},null,{"$f":"((J505/1000)*(O505/1000))*E505","v":0},null,{"$f":"(J505-T505-W505)/(AF505-1)","v":0},{"$f":"(O505-Z505-AC505)/(AI505-1)","v":0},null,{"$f":"AI505*AF505*E505","v":0}]
[null,null,null,null,null,null,null,null,null,null,null,null,null,null,null,null,null,null,null,null,null,null,null,null,null,null,null,null,null,null,null,null,null,null,null,null,null,{"$f":"IF(AF506>1.1,BA506,0)","v":0},null,null,null,null,{"$f":"IF(AI506>1.1,BB506,0)","v":0},null,null,null,null,null,0,null,0,null,0,0,null,0]
[null,null,null,null,null,null,null,null,null,null,null,null,null,null,null,null,null,null,null,null,null,null,null,null,null,null,null,null,null,null,null,null,null,null,null,null,null,0,null,null,null,null,0,null,null,null,null,null,0,null,0,null,0,0,null,0]
[null,null,null,null,null,null,null,null,null,null,null,null,null,null,null,null,null,null,null,null,null,null,null,null,null,null,null,null,null,null,null,null,null,null,null,null,null,0,null,null,null,null,0,null,null,null,null,null,0,null,0,null,0,0,null,0]
[null,null,null,null,null,null,null,null,null,null,null,null,null,null,null,null,null,null,null,null,null,null,null,null,null,null,null,null,null,null,null,null,null,null,null,null,null,0,null,null,null,null,0,null,null,null,null,null,0,null,0,null,0,0,null,0]
[null,null,null,null,null,null,null,null,null,null,null,null,null,null,null,null,null,null,null,null,null,null,null,null,null,null,null,null,null,null,null,null,null,null,null,null,null,0,null,null,null,null,0,null,null,null,null,null,0,null,0,null,0,0,null,0]
[null,null,null,null,null,null,null,null,null,null,null,null,null,null,null,null,null,null,null,null,null,null,null,null,null,null,null,null,null,null,null,null,null,null,null,null,null,0,null,null,null,null,0,null,null,null,null,null,0,null,0,null,0,0,null,0]
[null,null,null,null,null,null,null,null,null,null,null,null,null,null,null,null,null,null,null,null,null,null,null,null,null,null,null,null,null,null,null,null,null,null,null,null,null,0,null,null,null,null,0,null,null,null,null,null,0,null,0,null,0,0,null,0]
[null,null,null,null,null,null,null,null,null,null,null,null,null,null,null,null,null,null,null,null,null,null,null,null,null,null,null,null,null,null,null,null,null,null,null,null,null,0,null,null,null,null,0,null,null,null,null,null,0,null,0,null,0,0,null,0]
[null,null,null,null,null,null,null,null,null,null,null,null,null,null,null,null,null,null,null,null,null,null,null,null,null,null,null,null,null,null,null,null,null,null,null,null,null,0,null,null,null,null,0,null,null,null,null,null,0,null,0,null,0,0,null,0]
[null,null,null,null,null,null,null,null,null,null,null,null,null,null,null,null,null,null,null,null,null,null,null,null,null,null,null,null,null,null,null,null,null,null,null,null,null,0,null,null,null,null,0,null,null,null,null,null,0,null,0,null,0,0,null,0]
[null,null,null,null,null,null,null,null,null,null,null,null,null,null,null,null,null,null,null,null,null,null,null,null,null,null,null,null,null,null,null,null,null,null,null,null,null,0,null,null,null,null,0,null,null,null,null,null,0,null,0,null,0,0,null,0]
[null,null,null,null,null,null,null,null,null,null,null,null,null,null,null,null,null,null,null,null,null,null,null,null,null,null,null,null,null,null,null,null,null,null,null,null,null,0,null,null,null,null,0,null,null,null,null,null,0,null,0,null,0,0,null,0]
[null,null,null,null,null,null,null,null,null,null,null,null,null,null,null,null,null,null,null,null,null,null,null,null,null,null,null,null,null,null,null,null,null,null,null,null,null,0,null,null,null,null,0,null,null,null,null,null,0,null,0,null,0,0,null,0]
[null,null,null,null,null,null,null,null,null,null,null,null,null,null,null,null,null,null,null,null,null,null,null,null,null,null,null,null,null,null,null,null,null,null,null,null,null,0,null,null,null,null,0,null,null,null,null,null,0,null,0,null,0,0,null,0]
[null,null,null,null,null,null,null,null,null,null,null,null,null,null,null,null,null,null,null,null,null,null,null,null,null,null,null,null,null,null,null,null,null,null,null,null,null,0,null,null,null,null,0,null,null,null,null,null,0,null,0,null,0,0,null,0]
[null,null,null,null,null,null,null,null,null,null,null,null,null,null,null,null,null,null,null,null,null,null,null,null,null,null,null,null,null,null,null,null,null,null,null,null,null,0,null,null,null,null,0,null,null,null,null,null,0,null,0,null,0,0,null,0]
[null,null,null,null,null,null,null,null,null,null,null,null,null,null,null,null,null,null,null,null,null,null,null,null,null,null,null,null,null,null,null,null,null,null,null,null,null,0,null,null,null,null,0,null,null,null,null,null,0,null,0,null,0,0,null,0]
[null,null,null,null,null,null,null,null,null,null,null,null,null,null,null,null,null,null,null,null,null,null,null,null,null,null,null,null,null,null,null,null,null,null,null,null,null,0,null,null,null,null,0,null,null,null,null,null,0,null,0,null,0,0,null,0]
[null,null,null,null,null,null,null,null,null,null,null,null,null,null,null,null,null,null,null,null,null,null,null,null,null,null,null,null,null,null,null,null,null,null,null,null,null,0,null,null,null,null,0,null,null,null,null,null,0,null,0,null,0,0,null,0]
[null,null,null,null,null,null,null,null,null,null,null,null,null,null,null,null,null,null,null,null,null,null,null,null,null,null,null,null,null,null,null,null,null,null,null,null,null,0,null,null,null,null,0,null,null,null,null,null,0,null,0,null,0,0,null,0]
[null,null,null,null,null,null,null,null,null,null,null,null,null,null,null,null,null,null,null,null,null,null,null,null,null,null,null,null,null,null,null,null,null,null,null,null,null,0,null,null,null,null,0,null,null,null,null,null,0,null,0,null,0,0,null,0]
[null,null,null,null,null,null,null,null,null,null,null,null,null,null,null,null,null,null,null,null,null,null,null,null,null,null,null,null,null,null,null,null,null,null,null,null,null,0,null,null,null,null,0,null,null,null,null,null,0,null,0,null,0,0,null,0]
[null,null,null,null,null,null,null,null,null,null,null,null,null,null,null,null,null,null,null,null,null,null,null,null,null,null,null,null,null,null,null,null,null,null,null,null,null,0,null,null,null,null,0,null,null,null,null,null,0,null,0,null,0,0,null,0]
[null,null,null,null,null,null,null,null,null,null,null,null,null,null,null,null,null,null,null,null,null,null,null,null,null,null,null,null,null,null,null,null,null,null,null,null,null,0,null,null,null,null,0,null,null,null,null,null,0,null,0,null,0,0,null,0]
[null,null,null,null,null,null,null,null,null,null,null,null,null,null,null,null,null,null,null,null,null,null,null,null,null,null,null,null,null,null,null,null,null,null,null,null,null,0,null,null,null,null,0,null,null,null,null,null,0,null,0,null,0,0,null,0]
[null,null,null,null,null,null,null,null,null,null,null,null,null,null,null,null,null,null,null,null,null,null,null,null,null,null,null,null,null,null,null,null,null,null,null,null,null,0,null,null,null,null,0,null,null,null,null,null,0,null,0,null,0,0,null,0]
[null,null,null,null,null,null,null,null,null,null,null,null,null,null,null,null,null,null,null,null,null,null,null,null,null,null,null,null,null,null,null,null,null,null,null,null,null,0,null,null,null,null,0,null,null,null,null,null,0,null,0,null,0,0,null,0]
[null,null,null,null,null,null,null,null,null,null,null,null,null,null,null,null,null,null,null,null,null,null,null,null,null,null,null,null,null,null,null,null,null,null,null,null,null,0,null,null,null,null,0,null,null,null,null,null,0,null,0,null,0,0,null,0]
[null,null,null,null,null,null,null,null,null,null,null,null,null,null,null,null,null,null,null,null,null,null,null,null,null,null,null,null,null,null,null,null,null,null,null,null,null,0,null,null,null,null,0,null,null,null,null,null,0,null,0,null,0,0,null,0]
[null,null,null,null,null,null,null,null,null,null,null,null,null,null,null,null,null,null,null,null,null,null,null,null,null,null,null,null,null,null,null,null,null,null,null,null,null,0,null,null,null,null,0,null,null,null,null,null,0,null,0,null,0,0,null,0]
[null,null,null,null,null,null,null,null,null,null,null,null,null,null,null,null,null,null,null,null,null,null,null,null,null,null,null,null,null,null,null,null,null,null,null,null,null,0,null,null,null,null,0,null,null,null,null,null,0,null,0,null,0,0,null,0]
[null,null,null,null,null,null,null,null,null,null,null,null,null,null,null,null,null,null,null,null,null,null,null,null,null,null,null,null,null,null,null,null,null,null,null,null,null,0,null,null,null,null,0,null,null,null,null,null,0,null,0,null,0,0,null,0]
[null,null,null,null,null,null,null,null,null,null,null,null,null,null,null,null,null,null,null,null,null,null,null,null,null,null,null,null,null,null,null,null,null,null,null,null,null,0,null,null,null,null,0,null,null,null,null,null,0,null,0,null,0,0,null,0]
[null,null,null,null,null,null,null,null,null,null,null,null,null,null,null,null,null,null,null,null,null,null,null,null,null,null,null,null,null,null,null,null,null,null,null,null,null,0,null,null,null,null,0,null,null,null,null,null,0,null,0,null,0,0,null,0]
[null,null,null,null,null,null,null,null,null,null,null,null,null,null,null,null,null,null,null,null,null,null,null,null,null,null,null,null,null,null,null,null,null,null,null,null,null,0,null,null,null,null,0,null,null,null,null,null,0,null,0,null,0,0,null,0]
[null,null,null,null,null,null,null,null,null,null,null,null,null,null,null,null,null,null,null,null,null,null,null,null,null,null,null,null,null,null,null,null,null,null,null,null,null,0,null,null,null,null,0,null,null,null,null,null,0,null,0,null,0,0,null,0]
[null,null,null,null,null,null,null,null,null,null,null,null,null,null,null,null,null,null,null,null,null,null,null,null,null,null,null,null,null,null,null,null,null,null,null,null,null,0,null,null,null,null,0,null,null,null,null,null,0,null,0,null,0,0,null,0]
[null,null,null,null,null,null,null,null,null,null,null,null,null,null,null,null,null,null,null,null,null,null,null,null,null,null,null,null,null,null,null,null,null,null,null,null,null,0,null,null,null,null,0,null,null,null,null,null,0,null,0,null,0,0,null,0]
[null,null,null,null,null,null,null,null,null,null,null,null,null,null,null,null,null,null,null,null,null,null,null,null,null,null,null,null,null,null,null,null,null,null,null,null,null,0,null,null,null,null,0,null,null,null,null,null,0,null,0,null,0,0,null,0]
[null,null,null,null,null,null,null,null,null,null,null,null,null,null,null,null,null,null,null,null,null,null,null,null,null,null,null,null,null,null,null,null,null,null,null,null,null,0,null,null,null,null,0,null,null,null,null,null,0,null,0,null,0,0,null,0]
[null,null,null,null,null,null,null,null,null,null,null,null,null,null,null,null,null,null,null,null,null,null,null,null,null,null,null,null,null,null,null,null,null,null,null,null,null,0,null,null,null,null,0,null,null,null,null,null,0,null,0,null,0,0,null,0]
[null,null,null,null,null,null,null,null,null,null,null,null,null,null,null,null,null,null,null,null,null,null,null,null,null,null,null,null,null,null,null,null,null,null,null,null,null,0,null,null,null,null,0,null,null,null,null,null,0,null,0,null,0,0,null,0]
[null,null,null,null,null,null,null,null,null,null,null,null,null,null,null,null,null,null,null,null,null,null,null,null,null,null,null,null,null,null,null,null,null,null,null,null,null,0,null,null,null,null,0,null,null,null,null,null,0,null,0,null,0,0,null,0]
[null,null,null,null,null,null,null,null,null,null,null,null,null,null,null,null,null,null,null,null,null,null,null,null,null,null,null,null,null,null,null,null,null,null,null,null,null,0,null,null,null,null,0,null,null,null,null,null,0,null,0,null,0,0,null,0]
[null,null,null,null,null,null,null,null,null,null,null,null,null,null,null,null,null,null,null,null,null,null,null,null,null,null,null,null,null,null,null,null,null,null,null,null,null,0,null,null,null,null,0,null,null,null,null,null,0,null,0,null,0,0,null,0]
[null,null,null,null,null,null,null,null,null,null,null,null,null,null,null,null,null,null,null,null,null,null,null,null,null,null,null,null,null,null,null,null,null,null,null,null,null,0,null,null,null,null,0,null,null,null,null,null,0,null,0,null,0,0,null,0]
[null,null,null,null,null,null,null,null,null,null,null,null,null,null,null,null,null,null,null,null,null,null,null,null,null,null,null,null,null,null,null,null,null,null,null,null,null,0,null,null,null,null,0,null,null,null,null,null,0,null,0,null,0,0,null,0]
[null,null,null,null,null,null,null,null,null,null,null,null,null,null,null,null,null,null,null,null,null,null,null,null,null,null,null,null,null,null,null,null,null,null,null,null,null,0,null,null,null,null,0,null,null,null,null,null,0,null,0,null,0,0,null,0]
[null,null,null,null,null,null,null,null,null,null,null,null,null,null,null,null,null,null,null,null,null,null,null,null,null,null,null,null,null,null,null,null,null,null,null,null,null,0,null,null,null,null,0,null,null,null,null,null,0,null,0,null,0,0,null,0]
[null,null,null,null,null,null,null,null,null,null,null,null,null,null,null,null,null,null,null,null,null,null,null,null,null,null,null,null,null,null,null,null,null,null,null,null,null,0,null,null,null,null,0,null,null,null,null,null,0,null,0,null,0,0,null,0]
[null,null,null,null,null,null,null,null,null,null,null,null,null,null,null,null,null,null,null,null,null,null,null,null,null,null,null,null,null,null,null,null,null,null,null,null,null,0,null,null,null,null,0,null,null,null,null,null,0,null,0,null,0,0,null,0]
[null,null,null,null,null,null,null,null,null,null,null,null,null,null,null,null,null,null,null,null,null,null,null,null,null,null,null,null,null,null,null,null,null,null,null,null,null,0,null,null,null,null,0,null,null,null,null,null,0,null,0,null,0,0,null,0]
[null,null,null,null,null,null,null,null,null,null,null,null,null,null,null,null,null,null,null,null,null,null,null,null,null,null,null,null,null,null,null,null,null,null,null,null,null,0,null,null,null,null,0,null,null,null,null,null,0,null,0,null,0,0,null,0]
[null,null,null,null,null,null,null,null,null,null,null,null,null,null,null,null,null,null,null,null,null,null,null,null,null,null,null,null,null,null,null,null,null,null,null,null,null,0,null,null,null,null,0,null,null,null,null,null,0,null,0,null,0,0,null,0]
[null,null,null,null,null,null,null,null,null,null,null,null,null,null,null,null,null,null,null,null,null,null,null,null,null,null,null,null,null,null,null,null,null,null,null,null,null,0,null,null,null,null,0,null,null,null,null,null,0,null,0,null,0,0,null,0]
[null,null,null,null,null,null,null,null,null,null,null,null,null,null,null,null,null,null,null,null,null,null,null,null,null,null,null,null,null,null,null,null,null,null,null,null,null,0,null,null,null,null,0,null,null,null,null,null,0,null,0,null,0,0,null,0]
[null,null,null,null,null,null,null,null,null,null,null,null,null,null,null,null,null,null,null,null,null,null,null,null,null,null,null,null,null,null,null,null,null,null,null,null,null,0,null,null,null,null,0,null,null,null,null,null,0,null,0,null,0,0,null,0]
[null,null,null,null,null,null,null,null,null,null,null,null,null,null,null,null,null,null,null,null,null,null,null,null,null,null,null,null,null,null,null,null,null,null,null,null,null,0,null,null,null,null,0,null,null,null,null,null,0,null,0,null,0,0,null,0]
[null,null,null,null,null,null,null,null,null,null,null,null,null,null,null,null,null,null,null,null,null,null,null,null,null,null,null,null,null,null,null,null,null,null,null,null,null,0,null,null,null,null,0,null,null,null,null,null,0,null,0,null,0,0,null,0]
[null,null,null,null,null,null,null,null,null,null,null,null,null,null,null,null,null,null,null,null,null,null,null,null,null,null,null,null,null,null,null,null,null,null,null,null,null,0,null,null,null,null,0,null,null,null,null,null,0,null,0,null,0,0,null,0]
[null,null,null,null,null,null,null,null,null,null,null,null,null,null,null,null,null,null,null,null,null,null,null,null,null,null,null,null,null,null,null,null,null,null,null,null,null,0,null,null,null,null,0,null,null,null,null,null,0,null,0,null,0,0,null,0]
[null,null,null,null,null,null,null,null,null,null,null,null,null,null,null,null,null,null,null,null,null,null,null,null,null,null,null,null,null,null,null,null,null,null,null,null,null,0,null,null,null,null,0,null,null,null,null,null,0,null,0,null,0,0,null,0]
[null,null,null,null,null,null,null,null,null,null,null,null,null,null,null,null,null,null,null,null,null,null,null,null,null,null,null,null,null,null,null,null,null,null,null,null,null,0,null,null,null,null,0,null,null,null,null,null,0,null,0,null,0,0,null,0]
[null,null,null,null,null,null,null,null,null,null,null,null,null,null,null,null,null,null,null,null,null,null,null,null,null,null,null,null,null,null,null,null,null,null,null,null,null,0,null,null,null,null,0,null,null,null,null,null,{"$f":"(((J569+O569)*2)/1000)*E569","v":0},null,{"$f":"((J569/1000)*(O569/1000))*E569","v":0},null,{"$f":"(J569-T569-W569)/(AF569-1)","v":0},{"$f":"(O569-Z569-AC569)/(AI569-1)","v":0},null,{"$f":"AI569*AF569*E569","v":0}]
[null,null,null,null,null,null,null,null,null,null,null,null,null,null,null,null,null,null,null,null,null,null,null,null,null,null,null,null,null,null,null,null,null,null,null,null,null,{"$f":"IF(AF570>1.1,BA570,0)","v":0},null,null,null,null,{"$f":"IF(AI570>1.1,BB570,0)","v":0},null,null,null,null,null,0,null,0,null,0,0,null,0]
[null,null,null,null,null,null,null,null,null,null,null,null,null,null,null,null,null,null,null,null,null,null,null,null,null,null,null,null,null,null,null,null,null,null,null,null,null,0,null,null,null,null,0,null,null,null,null,null,0,null,0,null,0,0,null,0]
[null,null,null,null,null,null,null,null,null,null,null,null,null,null,null,null,null,null,null,null,null,null,null,null,null,null,null,null,null,null,null,null,null,null,null,null,null,0,null,null,null,null,0,null,null,null,null,null,0,null,0,null,0,0,null,0]
[null,null,null,null,null,null,null,null,null,null,null,null,null,null,null,null,null,null,null,null,null,null,null,null,null,null,null,null,null,null,null,null,null,null,null,null,null,0,null,null,null,null,0,null,null,null,null,null,0,null,0,null,0,0,null,0]
[null,null,null,null,null,null,null,null,null,null,null,null,null,null,null,null,null,null,null,null,null,null,null,null,null,null,null,null,null,null,null,null,null,null,null,null,null,0,null,null,null,null,0,null,null,null,null,null,0,null,0,null,0,0,null,0]
[null,null,null,null,null,null,null,null,null,null,null,null,null,null,null,null,null,null,null,null,null,null,null,null,null,null,null,null,null,null,null,null,null,null,null,null,null,0,null,null,null,null,0,null,null,null,null,null,0,null,0,null,0,0,null,0]
[null,null,null,null,null,null,null,null,null,null,null,null,null,null,null,null,null,null,null,null,null,null,null,null,null,null,null,null,null,null,null,null,null,null,null,null,null,0,null,null,null,null,0,null,null,null,null,null,0,null,0,null,0,0,null,0]
[null,null,null,null,null,null,null,null,null,null,null,null,null,null,null,null,null,null,null,null,null,null,null,null,null,null,null,null,null,null,null,null,null,null,null,null,null,0,null,null,null,null,0,null,null,null,null,null,0,null,0,null,0,0,null,0]
[null,null,null,null,null,null,null,null,null,null,null,null,null,null,null,null,null,null,null,null,null,null,null,null,null,null,null,null,null,null,null,null,null,null,null,null,null,0,null,null,null,null,0,null,null,null,null,null,0,null,0,null,0,0,null,0]
[null,null,null,null,null,null,null,null,null,null,null,null,null,null,null,null,null,null,null,null,null,null,null,null,null,null,null,null,null,null,null,null,null,null,null,null,null,0,null,null,null,null,0,null,null,null,null,null,0,null,0,null,0,0,null,0]
[null,null,null,null,null,null,null,null,null,null,null,null,null,null,null,null,null,null,null,null,null,null,null,null,null,null,null,null,null,null,null,null,null,null,null,null,null,0,null,null,null,null,0,null,null,null,null,null,0,null,0,null,0,0,null,0]
[null,null,null,null,null,null,null,null,null,null,null,null,null,null,null,null,null,null,null,null,null,null,null,null,null,null,null,null,null,null,null,null,null,null,null,null,null,0,null,null,null,null,0,null,null,null,null,null,0,null,0,null,0,0,null,0]
[null,null,null,null,null,null,null,null,null,null,null,null,null,null,null,null,null,null,null,null,null,null,null,null,null,null,null,null,null,null,null,null,null,null,null,null,null,0,null,null,null,null,0,null,null,null,null,null,0,null,0,null,0,0,null,0]
[null,null,null,null,null,null,null,null,null,null,null,null,null,null,null,null,null,null,null,null,null,null,null,null,null,null,null,null,null,null,null,null,null,null,null,null,null,0,null,null,null,null,0,null,null,null,null,null,0,null,0,null,0,0,null,0]
[null,null,null,null,null,null,null,null,null,null,null,null,null,null,null,null,null,null,null,null,null,null,null,null,null,null,null,null,null,null,null,null,null,null,null,null,null,0,null,null,null,null,0,null,null,null,null,null,0,null,0,null,0,0,null,0]
[null,null,null,null,null,null,null,null,null,null,null,null,null,null,null,null,null,null,null,null,null,null,null,null,null,null,null,null,null,null,null,null,null,null,null,null,null,0,null,null,null,null,0,null,null,null,null,null,0,null,0,null,0,0,null,0]
[null,null,null,null,null,null,null,null,null,null,null,null,null,null,null,null,null,null,null,null,null,null,null,null,null,null,null,null,null,null,null,null,null,null,null,null,null,0,null,null,null,null,0,null,null,null,null,null,0,null,0,null,0,0,null,0]
[null,null,null,null,null,null,null,null,null,null,null,null,null,null,null,null,null,null,null,null,null,null,null,null,null,null,null,null,null,null,null,null,null,null,null,null,null,0,null,null,null,null,0,null,null,null,null,null,0,null,0,null,0,0,null,0]
[null,null,null,null,null,null,null,null,null,null,null,null,null,null,null,null,null,null,null,null,null,null,null,null,null,null,null,null,null,null,null,null,null,null,null,null,null,0,null,null,null,null,0,null,null,null,null,null,0,null,0,null,0,0,null,0]
[null,null,null,null,null,null,null,null,null,null,null,null,null,null,null,null,null,null,null,null,null,null,null,null,null,null,null,null,null,null,null,null,null,null,null,null,null,0,null,null,null,null,0,null,null,null,null,null,0,null,0,null,0,0,null,0]
[null,null,null,null,null,null,null,null,null,null,null,null,null,null,null,null,null,null,null,null,null,null,null,null,null,null,null,null,null,null,null,null,null,null,null,null,null,0,null,null,null,null,0,null,null,null,null,null,0,null,0,null,0,0,null,0]
[null,null,null,null,null,null,null,null,null,null,null,null,null,null,null,null,null,null,null,null,null,null,null,null,null,null,null,null,null,null,null,null,null,null,null,null,null,0,null,null,null,null,0,null,null,null,null,null,0,null,0,null,0,0,null,0]
[null,null,null,null,null,null,null,null,null,null,null,null,null,null,null,null,null,null,null,null,null,null,null,null,null,null,null,null,null,null,null,null,null,null,null,null,null,0,null,null,null,null,0,null,null,null,null,null,0,null,0,null,0,0,null,0]
[null,null,null,null,null,null,null,null,null,null,null,null,null,null,null,null,null,null,null,null,null,null,null,null,null,null,null,null,null,null,null,null,null,null,null,null,null,0,null,null,null,null,0,null,null,null,null,null,0,null,0,null,0,0,null,0]
[null,null,null,null,null,null,null,null,null,null,null,null,null,null,null,null,null,null,null,null,null,null,null,null,null,null,null,null,null,null,null,null,null,null,null,null,null,0,null,null,null,null,0,null,null,null,null,null,0,null,0,null,0,0,null,0]
[null,null,null,null,null,null,null,null,null,null,null,null,null,null,null,null,null,null,null,null,null,null,null,null,null,null,null,null,null,null,null,null,null,null,null,null,null,0,null,null,null,null,0,null,null,null,null,null,0,null,0,null,0,0,null,0]
[null,null,null,null,null,null,null,null,null,null,null,null,null,null,null,null,null,null,null,null,null,null,null,null,null,null,null,null,null,null,null,null,null,null,null,null,null,0,null,null,null,null,0,null,null,null,null,null,0,null,0,null,0,0,null,0]
[null,null,null,null,null,null,null,null,null,null,null,null,null,null,null,null,null,null,null,null,null,null,null,null,null,null,null,null,null,null,null,null,null,null,null,null,null,0,null,null,null,null,0,null,null,null,null,null,0,null,0,null,0,0,null,0]
[null,null,null,null,null,null,null,null,null,null,null,null,null,null,null,null,null,null,null,null,null,null,null,null,null,null,null,null,null,null,null,null,null,null,null,null,null,0,null,null,null,null,0,null,null,null,null,null,0,null,0,null,0,0,null,0]
[null,null,null,null,null,null,null,null,null,null,null,null,null,null,null,null,null,null,null,null,null,null,null,null,null,null,null,null,null,null,null,null,null,null,null,null,null,0,null,null,null,null,0,null,null,null,null,null,0,null,0,null,0,0,null,0]
[null,null,null,null,null,null,null,null,null,null,null,null,null,null,null,null,null,null,null,null,null,null,null,null,null,null,null,null,null,null,null,null,null,null,null,null,null,0,null,null,null,null,0,null,null,null,null,null,0,null,0,null,0,0,null,0]
[null,null,null,null,null,null,null,null,null,null,null,null,null,null,null,null,null,null,null,null,null,null,null,null,null,null,null,null,null,null,null,null,null,null,null,null,null,0,null,null,null,null,0,null,null,null,null,null,0,null,0,null,0,0,null,0]
[null,null,null,null,null,null,null,null,null,null,null,null,null,null,null,null,null,null,null,null,null,null,null,null,null,null,null,null,null,null,null,null,null,null,null,null,null,0,null,null,null,null,0,null,null,null,null,null,0,null,0,null,0,0,null,0]
[null,null,null,null,null,null,null,null,null,null,null,null,null,null,null,null,null,null,null,null,null,null,null,null,null,null,null,null,null,null,null,null,null,null,null,null,null,0,null,null,null,null,0,null,null,null,null,null,0,null,0,null,0,0,null,0]
[null,null,null,null,null,null,null,null,null,null,null,null,null,null,null,null,null,null,null,null,null,null,null,null,null,null,null,null,null,null,null,null,null,null,null,null,null,0,null,null,null,null,0,null,null,null,null,null,0,null,0,null,0,0,null,0]
[null,null,null,null,null,null,null,null,null,null,null,null,null,null,null,null,null,null,null,null,null,null,null,null,null,null,null,null,null,null,null,null,null,null,null,null,null,null,null,null,null,null,null,null,null,null,null,null,{"$f":"SUM(AW56:AW604)","v":0},null,{"$f":"SUM(AY56:AY604)","v":0},null,null,null,null,{"$f":"SUM(BD56:BD604)","v":0}]

{"sheet":"Schelling ","index":2,"n_rows":119,"n_cols":13,"rows_kept":119,"cut":false,"hidden":true,"merged":[]}
["Pos.","Stk.","Länge X mm","Breite Y mm","Material","Dicke mm","Kunde Zeile 1","Kunde Zeile 2","Kunde Zeile 3","Objekt","Lieferort","Lieferort","Lieferdatum \n(Wunsch)"]
[{"$f":"Stückliste!A56","v":0},{"$f":"Stückliste!E56","v":0},{"$f":"Stückliste!J56","v":0},{"$f":"Stückliste!O56","v":0},{"$f":"Stückliste!Y22","v":0},{"$f":"Stückliste!AQ22","v":8},{"$f":"Stückliste!D5","v":0},{"$f":"Stückliste!D7","v":0},{"$f":"Stückliste!D11","v":0},{"$f":"Stückliste!AB11","v":0},{"$f":"[1]Stückliste!AF11","v":0},{"$f":"Stückliste!AB13","v":0},{"$f":"Stückliste!AF17","v":"00:00:00"}]
[{"$f":"Stückliste!A57","v":0},{"$f":"Stückliste!E57","v":0},{"$f":"Stückliste!J57","v":0},{"$f":"Stückliste!O57","v":0},{"$f":"Stückliste!Y22","v":0},{"$f":"F2","v":8},0,0,0,0,0,0,{"$f":"M2","v":"00:00:00"}]
[{"$f":"Stückliste!A58","v":0},{"$f":"Stückliste!E58","v":0},{"$f":"Stückliste!J58","v":0},{"$f":"Stückliste!O58","v":0},{"$f":"Stückliste!Y22","v":0},8,0,0,0,0,0,0,"00:00:00"]
[{"$f":"Stückliste!A59","v":0},{"$f":"Stückliste!E59","v":0},{"$f":"Stückliste!J59","v":0},{"$f":"Stückliste!O59","v":0},{"$f":"Stückliste!Y22","v":0},8,0,0,0,0,0,0,"00:00:00"]
[{"$f":"Stückliste!A60","v":0},{"$f":"Stückliste!E60","v":0},{"$f":"Stückliste!J60","v":0},{"$f":"Stückliste!O60","v":0},{"$f":"Stückliste!Y22","v":0},8,0,0,0,0,0,0,"00:00:00"]
[{"$f":"Stückliste!A61","v":0},{"$f":"Stückliste!E61","v":0},{"$f":"Stückliste!J61","v":0},{"$f":"Stückliste!O61","v":0},{"$f":"Stückliste!Y22","v":0},8,0,0,0,0,0,0,"00:00:00"]
[{"$f":"Stückliste!A62","v":0},{"$f":"Stückliste!E62","v":0},{"$f":"Stückliste!J62","v":0},{"$f":"Stückliste!O62","v":0},{"$f":"Stückliste!Y22","v":0},8,0,0,0,0,0,0,"00:00:00"]
[{"$f":"Stückliste!A63","v":0},{"$f":"Stückliste!E63","v":0},{"$f":"Stückliste!J63","v":0},{"$f":"Stückliste!O63","v":0},{"$f":"Stückliste!Y22","v":0},8,0,0,0,0,0,0,"00:00:00"]
[{"$f":"Stückliste!A64","v":0},{"$f":"Stückliste!E64","v":0},{"$f":"Stückliste!J64","v":0},{"$f":"Stückliste!O64","v":0},{"$f":"Stückliste!Y22","v":0},8,0,0,0,0,0,0,"00:00:00"]
[{"$f":"Stückliste!A65","v":0},{"$f":"Stückliste!E65","v":0},{"$f":"Stückliste!J65","v":0},{"$f":"Stückliste!O65","v":0},{"$f":"Stückliste!Y22","v":0},8,0,0,0,0,0,0,"00:00:00"]
[{"$f":"Stückliste!#REF!","v":{"$error":"#REF!"}},{"$f":"Stückliste!#REF!","v":{"$error":"#REF!"}},{"$f":"Stückliste!#REF!","v":{"$error":"#REF!"}},{"$f":"Stückliste!#REF!","v":{"$error":"#REF!"}},{"$f":"Stückliste!Y22","v":0},8,0,0,0,0,0,0,"00:00:00"]
[{"$f":"Stückliste!#REF!","v":{"$error":"#REF!"}},{"$f":"Stückliste!#REF!","v":{"$error":"#REF!"}},{"$f":"Stückliste!#REF!","v":{"$error":"#REF!"}},{"$f":"Stückliste!#REF!","v":{"$error":"#REF!"}},{"$f":"Stückliste!Y22","v":0},8,0,0,0,0,0,0,"00:00:00"]
[{"$f":"Stückliste!#REF!","v":{"$error":"#REF!"}},{"$f":"Stückliste!#REF!","v":{"$error":"#REF!"}},{"$f":"Stückliste!#REF!","v":{"$error":"#REF!"}},{"$f":"Stückliste!#REF!","v":{"$error":"#REF!"}},{"$f":"Stückliste!Y22","v":0},8,0,0,0,0,0,0,"00:00:00"]
[{"$f":"Stückliste!#REF!","v":{"$error":"#REF!"}},{"$f":"Stückliste!#REF!","v":{"$error":"#REF!"}},{"$f":"Stückliste!#REF!","v":{"$error":"#REF!"}},{"$f":"Stückliste!#REF!","v":{"$error":"#REF!"}},{"$f":"Stückliste!Y22","v":0},8,0,0,0,0,0,0,"00:00:00"]
[{"$f":"Stückliste!#REF!","v":{"$error":"#REF!"}},{"$f":"Stückliste!#REF!","v":{"$error":"#REF!"}},{"$f":"Stückliste!#REF!","v":{"$error":"#REF!"}},{"$f":"Stückliste!#REF!","v":{"$error":"#REF!"}},{"$f":"Stückliste!Y22","v":0},8,0,0,0,0,0,0,"00:00:00"]
[{"$f":"Stückliste!#REF!","v":{"$error":"#REF!"}},{"$f":"Stückliste!#REF!","v":{"$error":"#REF!"}},{"$f":"Stückliste!#REF!","v":{"$error":"#REF!"}},{"$f":"Stückliste!#REF!","v":{"$error":"#REF!"}},{"$f":"Stückliste!Y22","v":0},8,0,0,0,0,0,0,"00:00:00"]
[{"$f":"Stückliste!#REF!","v":{"$error":"#REF!"}},{"$f":"Stückliste!#REF!","v":{"$error":"#REF!"}},{"$f":"Stückliste!#REF!","v":{"$error":"#REF!"}},{"$f":"Stückliste!#REF!","v":{"$error":"#REF!"}},{"$f":"Stückliste!Y22","v":0},8,0,0,0,0,0,0,"00:00:00"]
[{"$f":"Stückliste!#REF!","v":{"$error":"#REF!"}},{"$f":"Stückliste!#REF!","v":{"$error":"#REF!"}},{"$f":"Stückliste!#REF!","v":{"$error":"#REF!"}},{"$f":"Stückliste!#REF!","v":{"$error":"#REF!"}},{"$f":"Stückliste!Y22","v":0},{"$f":"F18","v":8},0,0,0,0,0,0,"00:00:00"]
[{"$f":"Stückliste!#REF!","v":{"$error":"#REF!"}},{"$f":"Stückliste!#REF!","v":{"$error":"#REF!"}},{"$f":"Stückliste!#REF!","v":{"$error":"#REF!"}},{"$f":"Stückliste!#REF!","v":{"$error":"#REF!"}},{"$f":"Stückliste!Y22","v":0},8,0,0,0,0,0,0,"00:00:00"]
[{"$f":"Stückliste!#REF!","v":{"$error":"#REF!"}},{"$f":"Stückliste!#REF!","v":{"$error":"#REF!"}},{"$f":"Stückliste!#REF!","v":{"$error":"#REF!"}},{"$f":"Stückliste!#REF!","v":{"$error":"#REF!"}},{"$f":"Stückliste!Y22","v":0},8,0,0,0,0,0,0,"00:00:00"]
[{"$f":"Stückliste!#REF!","v":{"$error":"#REF!"}},{"$f":"Stückliste!#REF!","v":{"$error":"#REF!"}},{"$f":"Stückliste!#REF!","v":{"$error":"#REF!"}},{"$f":"Stückliste!#REF!","v":{"$error":"#REF!"}},{"$f":"Stückliste!Y22","v":0},8,0,0,0,0,0,0,"00:00:00"]
[{"$f":"Stückliste!#REF!","v":{"$error":"#REF!"}},{"$f":"Stückliste!#REF!","v":{"$error":"#REF!"}},{"$f":"Stückliste!#REF!","v":{"$error":"#REF!"}},{"$f":"Stückliste!#REF!","v":{"$error":"#REF!"}},{"$f":"Stückliste!Y22","v":0},8,0,0,0,0,0,0,"00:00:00"]
[{"$f":"Stückliste!#REF!","v":{"$error":"#REF!"}},{"$f":"Stückliste!#REF!","v":{"$error":"#REF!"}},{"$f":"Stückliste!#REF!","v":{"$error":"#REF!"}},{"$f":"Stückliste!#REF!","v":{"$error":"#REF!"}},{"$f":"Stückliste!Y22","v":0},8,0,0,0,0,0,0,"00:00:00"]
[{"$f":"Stückliste!#REF!","v":{"$error":"#REF!"}},{"$f":"Stückliste!#REF!","v":{"$error":"#REF!"}},{"$f":"Stückliste!#REF!","v":{"$error":"#REF!"}},{"$f":"Stückliste!#REF!","v":{"$error":"#REF!"}},{"$f":"Stückliste!Y22","v":0},8,0,0,0,0,0,0,"00:00:00"]
[{"$f":"Stückliste!#REF!","v":{"$error":"#REF!"}},{"$f":"Stückliste!#REF!","v":{"$error":"#REF!"}},{"$f":"Stückliste!#REF!","v":{"$error":"#REF!"}},{"$f":"Stückliste!#REF!","v":{"$error":"#REF!"}},{"$f":"Stückliste!Y22","v":0},8,0,0,0,0,0,0,"00:00:00"]
[{"$f":"Stückliste!#REF!","v":{"$error":"#REF!"}},{"$f":"Stückliste!#REF!","v":{"$error":"#REF!"}},{"$f":"Stückliste!#REF!","v":{"$error":"#REF!"}},{"$f":"Stückliste!#REF!","v":{"$error":"#REF!"}},{"$f":"Stückliste!Y22","v":0},8,0,0,0,0,0,0,"00:00:00"]
[{"$f":"Stückliste!#REF!","v":{"$error":"#REF!"}},{"$f":"Stückliste!#REF!","v":{"$error":"#REF!"}},{"$f":"Stückliste!#REF!","v":{"$error":"#REF!"}},{"$f":"Stückliste!#REF!","v":{"$error":"#REF!"}},{"$f":"Stückliste!Y22","v":0},8,0,0,0,0,0,0,"00:00:00"]
[{"$f":"Stückliste!#REF!","v":{"$error":"#REF!"}},{"$f":"Stückliste!#REF!","v":{"$error":"#REF!"}},{"$f":"Stückliste!#REF!","v":{"$error":"#REF!"}},{"$f":"Stückliste!#REF!","v":{"$error":"#REF!"}},{"$f":"Stückliste!Y22","v":0},8,0,0,0,0,0,0,"00:00:00"]
[{"$f":"Stückliste!#REF!","v":{"$error":"#REF!"}},{"$f":"Stückliste!#REF!","v":{"$error":"#REF!"}},{"$f":"Stückliste!#REF!","v":{"$error":"#REF!"}},{"$f":"Stückliste!#REF!","v":{"$error":"#REF!"}},{"$f":"Stückliste!Y22","v":0},8,0,0,0,0,0,0,"00:00:00"]
[{"$f":"Stückliste!#REF!","v":{"$error":"#REF!"}},{"$f":"Stückliste!#REF!","v":{"$error":"#REF!"}},{"$f":"Stückliste!#REF!","v":{"$error":"#REF!"}},{"$f":"Stückliste!#REF!","v":{"$error":"#REF!"}},{"$f":"Stückliste!Y22","v":0},8,0,0,0,0,0,0,"00:00:00"]
[{"$f":"Stückliste!#REF!","v":{"$error":"#REF!"}},{"$f":"Stückliste!#REF!","v":{"$error":"#REF!"}},{"$f":"Stückliste!#REF!","v":{"$error":"#REF!"}},{"$f":"Stückliste!#REF!","v":{"$error":"#REF!"}},{"$f":"Stückliste!Y22","v":0},8,0,0,0,0,0,0,"00:00:00"]
[{"$f":"Stückliste!#REF!","v":{"$error":"#REF!"}},{"$f":"Stückliste!#REF!","v":{"$error":"#REF!"}},{"$f":"Stückliste!#REF!","v":{"$error":"#REF!"}},{"$f":"Stückliste!#REF!","v":{"$error":"#REF!"}},{"$f":"Stückliste!Y22","v":0},8,0,0,0,0,0,0,"00:00:00"]
[{"$f":"Stückliste!#REF!","v":{"$error":"#REF!"}},{"$f":"Stückliste!#REF!","v":{"$error":"#REF!"}},{"$f":"Stückliste!#REF!","v":{"$error":"#REF!"}},{"$f":"Stückliste!#REF!","v":{"$error":"#REF!"}},{"$f":"Stückliste!Y22","v":0},8,0,0,0,0,0,0,"00:00:00"]
[{"$f":"Stückliste!#REF!","v":{"$error":"#REF!"}},{"$f":"Stückliste!#REF!","v":{"$error":"#REF!"}},{"$f":"Stückliste!#REF!","v":{"$error":"#REF!"}},{"$f":"Stückliste!#REF!","v":{"$error":"#REF!"}},{"$f":"Stückliste!Y22","v":0},{"$f":"F34","v":8},0,0,0,0,0,0,"00:00:00"]
[{"$f":"Stückliste!#REF!","v":{"$error":"#REF!"}},{"$f":"Stückliste!#REF!","v":{"$error":"#REF!"}},{"$f":"Stückliste!#REF!","v":{"$error":"#REF!"}},{"$f":"Stückliste!#REF!","v":{"$error":"#REF!"}},{"$f":"Stückliste!Y22","v":0},8,0,0,0,0,0,0,"00:00:00"]
[{"$f":"Stückliste!#REF!","v":{"$error":"#REF!"}},{"$f":"Stückliste!#REF!","v":{"$error":"#REF!"}},{"$f":"Stückliste!#REF!","v":{"$error":"#REF!"}},{"$f":"Stückliste!#REF!","v":{"$error":"#REF!"}},{"$f":"Stückliste!Y22","v":0},8,0,0,0,0,0,0,"00:00:00"]
[{"$f":"Stückliste!#REF!","v":{"$error":"#REF!"}},{"$f":"Stückliste!#REF!","v":{"$error":"#REF!"}},{"$f":"Stückliste!#REF!","v":{"$error":"#REF!"}},{"$f":"Stückliste!#REF!","v":{"$error":"#REF!"}},{"$f":"Stückliste!Y22","v":0},8,0,0,0,0,0,0,"00:00:00"]
[{"$f":"Stückliste!#REF!","v":{"$error":"#REF!"}},{"$f":"Stückliste!#REF!","v":{"$error":"#REF!"}},{"$f":"Stückliste!#REF!","v":{"$error":"#REF!"}},{"$f":"Stückliste!#REF!","v":{"$error":"#REF!"}},{"$f":"Stückliste!Y22","v":0},8,0,0,0,0,0,0,"00:00:00"]
[{"$f":"Stückliste!#REF!","v":{"$error":"#REF!"}},{"$f":"Stückliste!#REF!","v":{"$error":"#REF!"}},{"$f":"Stückliste!#REF!","v":{"$error":"#REF!"}},{"$f":"Stückliste!#REF!","v":{"$error":"#REF!"}},{"$f":"Stückliste!Y22","v":0},8,0,0,0,0,0,0,"00:00:00"]
[{"$f":"Stückliste!#REF!","v":{"$error":"#REF!"}},{"$f":"Stückliste!#REF!","v":{"$error":"#REF!"}},{"$f":"Stückliste!#REF!","v":{"$error":"#REF!"}},{"$f":"Stückliste!#REF!","v":{"$error":"#REF!"}},{"$f":"Stückliste!Y22","v":0},8,0,0,0,0,0,0,"00:00:00"]
[{"$f":"Stückliste!#REF!","v":{"$error":"#REF!"}},{"$f":"Stückliste!#REF!","v":{"$error":"#REF!"}},{"$f":"Stückliste!#REF!","v":{"$error":"#REF!"}},{"$f":"Stückliste!#REF!","v":{"$error":"#REF!"}},{"$f":"Stückliste!Y22","v":0},8,0,0,0,0,0,0,"00:00:00"]
[{"$f":"Stückliste!#REF!","v":{"$error":"#REF!"}},{"$f":"Stückliste!#REF!","v":{"$error":"#REF!"}},{"$f":"Stückliste!#REF!","v":{"$error":"#REF!"}},{"$f":"Stückliste!#REF!","v":{"$error":"#REF!"}},{"$f":"Stückliste!Y22","v":0},8,0,0,0,0,0,0,"00:00:00"]
[{"$f":"Stückliste!#REF!","v":{"$error":"#REF!"}},{"$f":"Stückliste!#REF!","v":{"$error":"#REF!"}},{"$f":"Stückliste!#REF!","v":{"$error":"#REF!"}},{"$f":"Stückliste!#REF!","v":{"$error":"#REF!"}},{"$f":"Stückliste!Y22","v":0},8,0,0,0,0,0,0,"00:00:00"]
[{"$f":"Stückliste!#REF!","v":{"$error":"#REF!"}},{"$f":"Stückliste!#REF!","v":{"$error":"#REF!"}},{"$f":"Stückliste!#REF!","v":{"$error":"#REF!"}},{"$f":"Stückliste!#REF!","v":{"$error":"#REF!"}},{"$f":"Stückliste!Y22","v":0},8,0,0,0,0,0,0,"00:00:00"]
[{"$f":"Stückliste!#REF!","v":{"$error":"#REF!"}},{"$f":"Stückliste!#REF!","v":{"$error":"#REF!"}},{"$f":"Stückliste!#REF!","v":{"$error":"#REF!"}},{"$f":"Stückliste!#REF!","v":{"$error":"#REF!"}},{"$f":"Stückliste!Y22","v":0},8,0,0,0,0,0,0,"00:00:00"]
[{"$f":"Stückliste!#REF!","v":{"$error":"#REF!"}},{"$f":"Stückliste!#REF!","v":{"$error":"#REF!"}},{"$f":"Stückliste!#REF!","v":{"$error":"#REF!"}},{"$f":"Stückliste!#REF!","v":{"$error":"#REF!"}},{"$f":"Stückliste!Y22","v":0},8,0,0,0,0,0,0,"00:00:00"]
[{"$f":"Stückliste!#REF!","v":{"$error":"#REF!"}},{"$f":"Stückliste!#REF!","v":{"$error":"#REF!"}},{"$f":"Stückliste!#REF!","v":{"$error":"#REF!"}},{"$f":"Stückliste!#REF!","v":{"$error":"#REF!"}},{"$f":"Stückliste!Y22","v":0},8,0,0,0,0,0,0,"00:00:00"]
[{"$f":"Stückliste!#REF!","v":{"$error":"#REF!"}},{"$f":"Stückliste!#REF!","v":{"$error":"#REF!"}},{"$f":"Stückliste!#REF!","v":{"$error":"#REF!"}},{"$f":"Stückliste!#REF!","v":{"$error":"#REF!"}},{"$f":"Stückliste!Y22","v":0},8,0,0,0,0,0,0,"00:00:00"]
[{"$f":"Stückliste!#REF!","v":{"$error":"#REF!"}},{"$f":"Stückliste!#REF!","v":{"$error":"#REF!"}},{"$f":"Stückliste!#REF!","v":{"$error":"#REF!"}},{"$f":"Stückliste!#REF!","v":{"$error":"#REF!"}},{"$f":"Stückliste!Y22","v":0},8,0,0,0,0,0,0,"00:00:00"]
[{"$f":"Stückliste!#REF!","v":{"$error":"#REF!"}},{"$f":"Stückliste!#REF!","v":{"$error":"#REF!"}},{"$f":"Stückliste!#REF!","v":{"$error":"#REF!"}},{"$f":"Stückliste!#REF!","v":{"$error":"#REF!"}},{"$f":"Stückliste!Y22","v":0},{"$f":"F50","v":8},0,0,0,0,0,0,"00:00:00"]
[{"$f":"Stückliste!#REF!","v":{"$error":"#REF!"}},{"$f":"Stückliste!#REF!","v":{"$error":"#REF!"}},{"$f":"Stückliste!#REF!","v":{"$error":"#REF!"}},{"$f":"Stückliste!#REF!","v":{"$error":"#REF!"}},{"$f":"Stückliste!Y22","v":0},8,0,0,0,0,0,0,"00:00:00"]
[{"$f":"Stückliste!#REF!","v":{"$error":"#REF!"}},{"$f":"Stückliste!#REF!","v":{"$error":"#REF!"}},{"$f":"Stückliste!#REF!","v":{"$error":"#REF!"}},{"$f":"Stückliste!#REF!","v":{"$error":"#REF!"}},{"$f":"Stückliste!Y22","v":0},8,0,0,0,0,0,0,"00:00:00"]
[{"$f":"Stückliste!#REF!","v":{"$error":"#REF!"}},{"$f":"Stückliste!#REF!","v":{"$error":"#REF!"}},{"$f":"Stückliste!#REF!","v":{"$error":"#REF!"}},{"$f":"Stückliste!#REF!","v":{"$error":"#REF!"}},{"$f":"Stückliste!Y22","v":0},8,0,0,0,0,0,0,"00:00:00"]
[{"$f":"Stückliste!#REF!","v":{"$error":"#REF!"}},{"$f":"Stückliste!#REF!","v":{"$error":"#REF!"}},{"$f":"Stückliste!#REF!","v":{"$error":"#REF!"}},{"$f":"Stückliste!#REF!","v":{"$error":"#REF!"}},{"$f":"Stückliste!Y22","v":0},8,0,0,0,0,0,0,"00:00:00"]
[{"$f":"Stückliste!#REF!","v":{"$error":"#REF!"}},{"$f":"Stückliste!#REF!","v":{"$error":"#REF!"}},{"$f":"Stückliste!#REF!","v":{"$error":"#REF!"}},{"$f":"Stückliste!#REF!","v":{"$error":"#REF!"}},{"$f":"Stückliste!Y22","v":0},8,0,0,0,0,0,0,"00:00:00"]
[{"$f":"Stückliste!#REF!","v":{"$error":"#REF!"}},{"$f":"Stückliste!#REF!","v":{"$error":"#REF!"}},{"$f":"Stückliste!#REF!","v":{"$error":"#REF!"}},{"$f":"Stückliste!#REF!","v":{"$error":"#REF!"}},{"$f":"Stückliste!Y22","v":0},8,0,0,0,0,0,0,"00:00:00"]
[{"$f":"Stückliste!#REF!","v":{"$error":"#REF!"}},{"$f":"Stückliste!#REF!","v":{"$error":"#REF!"}},{"$f":"Stückliste!#REF!","v":{"$error":"#REF!"}},{"$f":"Stückliste!#REF!","v":{"$error":"#REF!"}},{"$f":"Stückliste!Y22","v":0},8,0,0,0,0,0,0,"00:00:00"]
[{"$f":"Stückliste!#REF!","v":{"$error":"#REF!"}},{"$f":"Stückliste!#REF!","v":{"$error":"#REF!"}},{"$f":"Stückliste!#REF!","v":{"$error":"#REF!"}},{"$f":"Stückliste!#REF!","v":{"$error":"#REF!"}},{"$f":"Stückliste!Y22","v":0},8,0,0,0,0,0,0,"00:00:00"]
[{"$f":"Stückliste!#REF!","v":{"$error":"#REF!"}},{"$f":"Stückliste!#REF!","v":{"$error":"#REF!"}},{"$f":"Stückliste!#REF!","v":{"$error":"#REF!"}},{"$f":"Stückliste!#REF!","v":{"$error":"#REF!"}},{"$f":"Stückliste!Y22","v":0},8,0,0,0,0,0,0,"00:00:00"]
[{"$f":"Stückliste!#REF!","v":{"$error":"#REF!"}},{"$f":"Stückliste!#REF!","v":{"$error":"#REF!"}},{"$f":"Stückliste!#REF!","v":{"$error":"#REF!"}},{"$f":"Stückliste!#REF!","v":{"$error":"#REF!"}},{"$f":"Stückliste!Y22","v":0},8,0,0,0,0,0,0,"00:00:00"]
[{"$f":"Stückliste!#REF!","v":{"$error":"#REF!"}},{"$f":"Stückliste!#REF!","v":{"$error":"#REF!"}},{"$f":"Stückliste!#REF!","v":{"$error":"#REF!"}},{"$f":"Stückliste!#REF!","v":{"$error":"#REF!"}},{"$f":"Stückliste!Y22","v":0},8,0,0,0,0,0,0,"00:00:00"]
[{"$f":"Stückliste!#REF!","v":{"$error":"#REF!"}},{"$f":"Stückliste!#REF!","v":{"$error":"#REF!"}},{"$f":"Stückliste!#REF!","v":{"$error":"#REF!"}},{"$f":"Stückliste!#REF!","v":{"$error":"#REF!"}},{"$f":"Stückliste!Y22","v":0},8,0,0,0,0,0,0,"00:00:00"]
[{"$f":"Stückliste!#REF!","v":{"$error":"#REF!"}},{"$f":"Stückliste!#REF!","v":{"$error":"#REF!"}},{"$f":"Stückliste!#REF!","v":{"$error":"#REF!"}},{"$f":"Stückliste!#REF!","v":{"$error":"#REF!"}},{"$f":"Stückliste!Y22","v":0},8,0,0,0,0,0,0,"00:00:00"]
[{"$f":"Stückliste!#REF!","v":{"$error":"#REF!"}},{"$f":"Stückliste!#REF!","v":{"$error":"#REF!"}},{"$f":"Stückliste!#REF!","v":{"$error":"#REF!"}},{"$f":"Stückliste!#REF!","v":{"$error":"#REF!"}},{"$f":"Stückliste!Y22","v":0},8,0,0,0,0,0,0,"00:00:00"]
[{"$f":"Stückliste!#REF!","v":{"$error":"#REF!"}},{"$f":"Stückliste!#REF!","v":{"$error":"#REF!"}},{"$f":"Stückliste!#REF!","v":{"$error":"#REF!"}},{"$f":"Stückliste!#REF!","v":{"$error":"#REF!"}},{"$f":"Stückliste!Y22","v":0},8,0,0,0,0,0,0,"00:00:00"]
[{"$f":"Stückliste!#REF!","v":{"$error":"#REF!"}},{"$f":"Stückliste!#REF!","v":{"$error":"#REF!"}},{"$f":"Stückliste!#REF!","v":{"$error":"#REF!"}},{"$f":"Stückliste!#REF!","v":{"$error":"#REF!"}},{"$f":"Stückliste!Y22","v":0},{"$f":"F66","v":8},0,0,0,0,0,0,"00:00:00"]
[{"$f":"Stückliste!#REF!","v":{"$error":"#REF!"}},{"$f":"Stückliste!#REF!","v":{"$error":"#REF!"}},{"$f":"Stückliste!#REF!","v":{"$error":"#REF!"}},{"$f":"Stückliste!#REF!","v":{"$error":"#REF!"}},{"$f":"Stückliste!Y22","v":0},8,0,0,0,0,0,0,"00:00:00"]
[{"$f":"Stückliste!#REF!","v":{"$error":"#REF!"}},{"$f":"Stückliste!#REF!","v":{"$error":"#REF!"}},{"$f":"Stückliste!#REF!","v":{"$error":"#REF!"}},{"$f":"Stückliste!#REF!","v":{"$error":"#REF!"}},{"$f":"Stückliste!Y22","v":0},8,0,0,0,0,0,0,"00:00:00"]
[{"$f":"Stückliste!#REF!","v":{"$error":"#REF!"}},{"$f":"Stückliste!#REF!","v":{"$error":"#REF!"}},{"$f":"Stückliste!#REF!","v":{"$error":"#REF!"}},{"$f":"Stückliste!#REF!","v":{"$error":"#REF!"}},{"$f":"Stückliste!Y22","v":0},8,0,0,0,0,0,0,"00:00:00"]
[{"$f":"Stückliste!#REF!","v":{"$error":"#REF!"}},{"$f":"Stückliste!#REF!","v":{"$error":"#REF!"}},{"$f":"Stückliste!#REF!","v":{"$error":"#REF!"}},{"$f":"Stückliste!#REF!","v":{"$error":"#REF!"}},{"$f":"Stückliste!Y22","v":0},8,0,0,0,0,0,0,"00:00:00"]
[{"$f":"Stückliste!#REF!","v":{"$error":"#REF!"}},{"$f":"Stückliste!#REF!","v":{"$error":"#REF!"}},{"$f":"Stückliste!#REF!","v":{"$error":"#REF!"}},{"$f":"Stückliste!#REF!","v":{"$error":"#REF!"}},{"$f":"Stückliste!Y22","v":0},8,0,0,0,0,0,0,"00:00:00"]
[{"$f":"Stückliste!#REF!","v":{"$error":"#REF!"}},{"$f":"Stückliste!#REF!","v":{"$error":"#REF!"}},{"$f":"Stückliste!#REF!","v":{"$error":"#REF!"}},{"$f":"Stückliste!#REF!","v":{"$error":"#REF!"}},{"$f":"Stückliste!Y22","v":0},8,0,0,0,0,0,0,"00:00:00"]
[{"$f":"Stückliste!#REF!","v":{"$error":"#REF!"}},{"$f":"Stückliste!#REF!","v":{"$error":"#REF!"}},{"$f":"Stückliste!#REF!","v":{"$error":"#REF!"}},{"$f":"Stückliste!#REF!","v":{"$error":"#REF!"}},{"$f":"Stückliste!Y22","v":0},8,0,0,0,0,0,0,"00:00:00"]
[{"$f":"Stückliste!#REF!","v":{"$error":"#REF!"}},{"$f":"Stückliste!#REF!","v":{"$error":"#REF!"}},{"$f":"Stückliste!#REF!","v":{"$error":"#REF!"}},{"$f":"Stückliste!#REF!","v":{"$error":"#REF!"}},{"$f":"Stückliste!Y22","v":0},8,0,0,0,0,0,0,"00:00:00"]
[{"$f":"Stückliste!#REF!","v":{"$error":"#REF!"}},{"$f":"Stückliste!#REF!","v":{"$error":"#REF!"}},{"$f":"Stückliste!#REF!","v":{"$error":"#REF!"}},{"$f":"Stückliste!#REF!","v":{"$error":"#REF!"}},{"$f":"Stückliste!Y22","v":0},8,0,0,0,0,0,0,"00:00:00"]
[{"$f":"Stückliste!#REF!","v":{"$error":"#REF!"}},{"$f":"Stückliste!#REF!","v":{"$error":"#REF!"}},{"$f":"Stückliste!#REF!","v":{"$error":"#REF!"}},{"$f":"Stückliste!#REF!","v":{"$error":"#REF!"}},{"$f":"Stückliste!Y22","v":0},8,0,0,0,0,0,0,"00:00:00"]
[{"$f":"Stückliste!#REF!","v":{"$error":"#REF!"}},{"$f":"Stückliste!#REF!","v":{"$error":"#REF!"}},{"$f":"Stückliste!#REF!","v":{"$error":"#REF!"}},{"$f":"Stückliste!#REF!","v":{"$error":"#REF!"}},{"$f":"Stückliste!Y22","v":0},8,0,0,0,0,0,0,"00:00:00"]
[{"$f":"Stückliste!#REF!","v":{"$error":"#REF!"}},{"$f":"Stückliste!#REF!","v":{"$error":"#REF!"}},{"$f":"Stückliste!#REF!","v":{"$error":"#REF!"}},{"$f":"Stückliste!#REF!","v":{"$error":"#REF!"}},{"$f":"Stückliste!Y22","v":0},8,0,0,0,0,0,0,"00:00:00"]
[{"$f":"Stückliste!#REF!","v":{"$error":"#REF!"}},{"$f":"Stückliste!#REF!","v":{"$error":"#REF!"}},{"$f":"Stückliste!#REF!","v":{"$error":"#REF!"}},{"$f":"Stückliste!#REF!","v":{"$error":"#REF!"}},{"$f":"Stückliste!Y22","v":0},8,0,0,0,0,0,0,"00:00:00"]
[{"$f":"Stückliste!#REF!","v":{"$error":"#REF!"}},{"$f":"Stückliste!#REF!","v":{"$error":"#REF!"}},{"$f":"Stückliste!#REF!","v":{"$error":"#REF!"}},{"$f":"Stückliste!#REF!","v":{"$error":"#REF!"}},{"$f":"Stückliste!Y22","v":0},8,0,0,0,0,0,0,"00:00:00"]
[{"$f":"Stückliste!#REF!","v":{"$error":"#REF!"}},{"$f":"Stückliste!#REF!","v":{"$error":"#REF!"}},{"$f":"Stückliste!#REF!","v":{"$error":"#REF!"}},{"$f":"Stückliste!#REF!","v":{"$error":"#REF!"}},{"$f":"Stückliste!Y22","v":0},8,0,0,0,0,0,0,"00:00:00"]
[{"$f":"Stückliste!#REF!","v":{"$error":"#REF!"}},{"$f":"Stückliste!#REF!","v":{"$error":"#REF!"}},{"$f":"Stückliste!#REF!","v":{"$error":"#REF!"}},{"$f":"Stückliste!#REF!","v":{"$error":"#REF!"}},{"$f":"Stückliste!Y22","v":0},{"$f":"F82","v":8},0,0,0,0,0,0,"00:00:00"]
[{"$f":"Stückliste!#REF!","v":{"$error":"#REF!"}},{"$f":"Stückliste!#REF!","v":{"$error":"#REF!"}},{"$f":"Stückliste!#REF!","v":{"$error":"#REF!"}},{"$f":"Stückliste!#REF!","v":{"$error":"#REF!"}},{"$f":"Stückliste!Y22","v":0},8,0,0,0,0,0,0,"00:00:00"]
[{"$f":"Stückliste!#REF!","v":{"$error":"#REF!"}},{"$f":"Stückliste!#REF!","v":{"$error":"#REF!"}},{"$f":"Stückliste!#REF!","v":{"$error":"#REF!"}},{"$f":"Stückliste!#REF!","v":{"$error":"#REF!"}},{"$f":"Stückliste!Y22","v":0},8,0,0,0,0,0,0,"00:00:00"]
[{"$f":"Stückliste!#REF!","v":{"$error":"#REF!"}},{"$f":"Stückliste!#REF!","v":{"$error":"#REF!"}},{"$f":"Stückliste!#REF!","v":{"$error":"#REF!"}},{"$f":"Stückliste!#REF!","v":{"$error":"#REF!"}},{"$f":"Stückliste!Y22","v":0},8,0,0,0,0,0,0,"00:00:00"]
[{"$f":"Stückliste!#REF!","v":{"$error":"#REF!"}},{"$f":"Stückliste!#REF!","v":{"$error":"#REF!"}},{"$f":"Stückliste!#REF!","v":{"$error":"#REF!"}},{"$f":"Stückliste!#REF!","v":{"$error":"#REF!"}},{"$f":"Stückliste!Y22","v":0},8,0,0,0,0,0,0,"00:00:00"]
[{"$f":"Stückliste!#REF!","v":{"$error":"#REF!"}},{"$f":"Stückliste!#REF!","v":{"$error":"#REF!"}},{"$f":"Stückliste!#REF!","v":{"$error":"#REF!"}},{"$f":"Stückliste!#REF!","v":{"$error":"#REF!"}},{"$f":"Stückliste!Y22","v":0},8,0,0,0,0,0,0,"00:00:00"]
[{"$f":"Stückliste!#REF!","v":{"$error":"#REF!"}},{"$f":"Stückliste!#REF!","v":{"$error":"#REF!"}},{"$f":"Stückliste!#REF!","v":{"$error":"#REF!"}},{"$f":"Stückliste!#REF!","v":{"$error":"#REF!"}},{"$f":"Stückliste!Y22","v":0},8,0,0,0,0,0,0,"00:00:00"]
[{"$f":"Stückliste!#REF!","v":{"$error":"#REF!"}},{"$f":"Stückliste!#REF!","v":{"$error":"#REF!"}},{"$f":"Stückliste!#REF!","v":{"$error":"#REF!"}},{"$f":"Stückliste!#REF!","v":{"$error":"#REF!"}},{"$f":"Stückliste!Y22","v":0},8,0,0,0,0,0,0,"00:00:00"]
[{"$f":"Stückliste!#REF!","v":{"$error":"#REF!"}},{"$f":"Stückliste!#REF!","v":{"$error":"#REF!"}},{"$f":"Stückliste!#REF!","v":{"$error":"#REF!"}},{"$f":"Stückliste!#REF!","v":{"$error":"#REF!"}},{"$f":"Stückliste!Y22","v":0},8,0,0,0,0,0,0,"00:00:00"]
[{"$f":"Stückliste!#REF!","v":{"$error":"#REF!"}},{"$f":"Stückliste!#REF!","v":{"$error":"#REF!"}},{"$f":"Stückliste!#REF!","v":{"$error":"#REF!"}},{"$f":"Stückliste!#REF!","v":{"$error":"#REF!"}},{"$f":"Stückliste!Y22","v":0},8,0,0,0,0,0,0,"00:00:00"]
[{"$f":"Stückliste!#REF!","v":{"$error":"#REF!"}},{"$f":"Stückliste!#REF!","v":{"$error":"#REF!"}},{"$f":"Stückliste!#REF!","v":{"$error":"#REF!"}},{"$f":"Stückliste!#REF!","v":{"$error":"#REF!"}},{"$f":"Stückliste!Y22","v":0},8,0,0,0,0,0,0,"00:00:00"]
[{"$f":"Stückliste!#REF!","v":{"$error":"#REF!"}},{"$f":"Stückliste!#REF!","v":{"$error":"#REF!"}},{"$f":"Stückliste!#REF!","v":{"$error":"#REF!"}},{"$f":"Stückliste!#REF!","v":{"$error":"#REF!"}},{"$f":"Stückliste!Y22","v":0},8,0,0,0,0,0,0,"00:00:00"]
[{"$f":"Stückliste!#REF!","v":{"$error":"#REF!"}},{"$f":"Stückliste!#REF!","v":{"$error":"#REF!"}},{"$f":"Stückliste!#REF!","v":{"$error":"#REF!"}},{"$f":"Stückliste!#REF!","v":{"$error":"#REF!"}},{"$f":"Stückliste!Y22","v":0},8,0,0,0,0,0,0,"00:00:00"]
[{"$f":"Stückliste!#REF!","v":{"$error":"#REF!"}},{"$f":"Stückliste!#REF!","v":{"$error":"#REF!"}},{"$f":"Stückliste!#REF!","v":{"$error":"#REF!"}},{"$f":"Stückliste!#REF!","v":{"$error":"#REF!"}},{"$f":"Stückliste!Y22","v":0},8,0,0,0,0,0,0,"00:00:00"]
[{"$f":"Stückliste!#REF!","v":{"$error":"#REF!"}},{"$f":"Stückliste!#REF!","v":{"$error":"#REF!"}},{"$f":"Stückliste!#REF!","v":{"$error":"#REF!"}},{"$f":"Stückliste!#REF!","v":{"$error":"#REF!"}},{"$f":"Stückliste!Y22","v":0},8,0,0,0,0,0,0,"00:00:00"]
[{"$f":"Stückliste!#REF!","v":{"$error":"#REF!"}},{"$f":"Stückliste!#REF!","v":{"$error":"#REF!"}},{"$f":"Stückliste!#REF!","v":{"$error":"#REF!"}},{"$f":"Stückliste!#REF!","v":{"$error":"#REF!"}},{"$f":"Stückliste!Y22","v":0},8,0,0,0,0,0,0,"00:00:00"]
[{"$f":"Stückliste!#REF!","v":{"$error":"#REF!"}},{"$f":"Stückliste!#REF!","v":{"$error":"#REF!"}},{"$f":"Stückliste!#REF!","v":{"$error":"#REF!"}},{"$f":"Stückliste!#REF!","v":{"$error":"#REF!"}},{"$f":"Stückliste!Y22","v":0},{"$f":"F98","v":8},0,0,0,0,0,0,"00:00:00"]
[{"$f":"Stückliste!#REF!","v":{"$error":"#REF!"}},{"$f":"Stückliste!#REF!","v":{"$error":"#REF!"}},{"$f":"Stückliste!#REF!","v":{"$error":"#REF!"}},{"$f":"Stückliste!#REF!","v":{"$error":"#REF!"}},{"$f":"Stückliste!Y22","v":0},8,0,0,0,0,0,0,"00:00:00"]
[{"$f":"Stückliste!#REF!","v":{"$error":"#REF!"}},{"$f":"Stückliste!#REF!","v":{"$error":"#REF!"}},{"$f":"Stückliste!#REF!","v":{"$error":"#REF!"}},{"$f":"Stückliste!#REF!","v":{"$error":"#REF!"}},{"$f":"Stückliste!Y22","v":0},8,0,0,0,0,0,0,"00:00:00"]
[{"$f":"Stückliste!#REF!","v":{"$error":"#REF!"}},{"$f":"Stückliste!#REF!","v":{"$error":"#REF!"}},{"$f":"Stückliste!#REF!","v":{"$error":"#REF!"}},{"$f":"Stückliste!#REF!","v":{"$error":"#REF!"}},{"$f":"Stückliste!Y22","v":0},8,0,0,0,0,0,0,"00:00:00"]
[{"$f":"Stückliste!#REF!","v":{"$error":"#REF!"}},{"$f":"Stückliste!#REF!","v":{"$error":"#REF!"}},{"$f":"Stückliste!#REF!","v":{"$error":"#REF!"}},{"$f":"Stückliste!#REF!","v":{"$error":"#REF!"}},{"$f":"Stückliste!Y22","v":0},8,0,0,0,0,0,0,"00:00:00"]
[{"$f":"Stückliste!#REF!","v":{"$error":"#REF!"}},{"$f":"Stückliste!#REF!","v":{"$error":"#REF!"}},{"$f":"Stückliste!#REF!","v":{"$error":"#REF!"}},{"$f":"Stückliste!#REF!","v":{"$error":"#REF!"}},{"$f":"Stückliste!Y22","v":0},8,0,0,0,0,0,0,"00:00:00"]
[{"$f":"Stückliste!#REF!","v":{"$error":"#REF!"}},{"$f":"Stückliste!#REF!","v":{"$error":"#REF!"}},{"$f":"Stückliste!#REF!","v":{"$error":"#REF!"}},{"$f":"Stückliste!#REF!","v":{"$error":"#REF!"}},{"$f":"Stückliste!Y22","v":0},8,0,0,0,0,0,0,"00:00:00"]
[{"$f":"Stückliste!#REF!","v":{"$error":"#REF!"}},{"$f":"Stückliste!#REF!","v":{"$error":"#REF!"}},{"$f":"Stückliste!#REF!","v":{"$error":"#REF!"}},{"$f":"Stückliste!#REF!","v":{"$error":"#REF!"}},{"$f":"Stückliste!Y22","v":0},8,0,0,0,0,0,0,"00:00:00"]
[{"$f":"Stückliste!#REF!","v":{"$error":"#REF!"}},{"$f":"Stückliste!#REF!","v":{"$error":"#REF!"}},{"$f":"Stückliste!#REF!","v":{"$error":"#REF!"}},{"$f":"Stückliste!#REF!","v":{"$error":"#REF!"}},{"$f":"Stückliste!Y22","v":0},8,0,0,0,0,0,0,"00:00:00"]
[{"$f":"Stückliste!#REF!","v":{"$error":"#REF!"}},{"$f":"Stückliste!#REF!","v":{"$error":"#REF!"}},{"$f":"Stückliste!#REF!","v":{"$error":"#REF!"}},{"$f":"Stückliste!#REF!","v":{"$error":"#REF!"}},{"$f":"Stückliste!Y22","v":0},8,0,0,0,0,0,0,"00:00:00"]
[{"$f":"Stückliste!#REF!","v":{"$error":"#REF!"}},{"$f":"Stückliste!#REF!","v":{"$error":"#REF!"}},{"$f":"Stückliste!#REF!","v":{"$error":"#REF!"}},{"$f":"Stückliste!#REF!","v":{"$error":"#REF!"}},{"$f":"Stückliste!Y22","v":0},8,0,0,0,0,0,0,"00:00:00"]
[{"$f":"Stückliste!#REF!","v":{"$error":"#REF!"}},{"$f":"Stückliste!#REF!","v":{"$error":"#REF!"}},{"$f":"Stückliste!#REF!","v":{"$error":"#REF!"}},{"$f":"Stückliste!#REF!","v":{"$error":"#REF!"}},{"$f":"Stückliste!Y22","v":0},8,0,0,0,0,0,0,"00:00:00"]
[{"$f":"Stückliste!#REF!","v":{"$error":"#REF!"}},{"$f":"Stückliste!#REF!","v":{"$error":"#REF!"}},{"$f":"Stückliste!#REF!","v":{"$error":"#REF!"}},{"$f":"Stückliste!#REF!","v":{"$error":"#REF!"}},{"$f":"Stückliste!Y22","v":0},8,0,0,0,0,0,0,"00:00:00"]
[{"$f":"Stückliste!#REF!","v":{"$error":"#REF!"}},{"$f":"Stückliste!#REF!","v":{"$error":"#REF!"}},{"$f":"Stückliste!#REF!","v":{"$error":"#REF!"}},{"$f":"Stückliste!#REF!","v":{"$error":"#REF!"}},{"$f":"Stückliste!Y22","v":0},8,0,0,0,0,0,0,"00:00:00"]
[{"$f":"Stückliste!#REF!","v":{"$error":"#REF!"}},{"$f":"Stückliste!#REF!","v":{"$error":"#REF!"}},{"$f":"Stückliste!#REF!","v":{"$error":"#REF!"}},{"$f":"Stückliste!#REF!","v":{"$error":"#REF!"}},{"$f":"Stückliste!Y22","v":0},8,0,0,0,0,0,0,"00:00:00"]
[{"$f":"Stückliste!#REF!","v":{"$error":"#REF!"}},{"$f":"Stückliste!#REF!","v":{"$error":"#REF!"}},{"$f":"Stückliste!#REF!","v":{"$error":"#REF!"}},{"$f":"Stückliste!#REF!","v":{"$error":"#REF!"}},{"$f":"Stückliste!Y22","v":0},8,0,0,0,0,0,0,"00:00:00"]
[{"$f":"Stückliste!#REF!","v":{"$error":"#REF!"}},{"$f":"Stückliste!#REF!","v":{"$error":"#REF!"}},{"$f":"Stückliste!#REF!","v":{"$error":"#REF!"}},{"$f":"Stückliste!#REF!","v":{"$error":"#REF!"}},{"$f":"Stückliste!Y22","v":0},{"$f":"F114","v":8},0,0,0,0,0,0,"00:00:00"]
[{"$f":"Stückliste!#REF!","v":{"$error":"#REF!"}},{"$f":"Stückliste!#REF!","v":{"$error":"#REF!"}},{"$f":"Stückliste!#REF!","v":{"$error":"#REF!"}},{"$f":"Stückliste!#REF!","v":{"$error":"#REF!"}},{"$f":"Stückliste!Y22","v":0},8,0,0,0,0,0,0,"00:00:00"]
[{"$f":"Stückliste!#REF!","v":{"$error":"#REF!"}},{"$f":"Stückliste!#REF!","v":{"$error":"#REF!"}},{"$f":"Stückliste!#REF!","v":{"$error":"#REF!"}},{"$f":"Stückliste!#REF!","v":{"$error":"#REF!"}},{"$f":"Stückliste!Y22","v":0},8,0,0,0,0,0,0,"00:00:00"]
[{"$f":"Stückliste!#REF!","v":{"$error":"#REF!"}},{"$f":"Stückliste!#REF!","v":{"$error":"#REF!"}},{"$f":"Stückliste!#REF!","v":{"$error":"#REF!"}},{"$f":"Stückliste!#REF!","v":{"$error":"#REF!"}},{"$f":"Stückliste!Y22","v":0},8,0,0,0,0,0,0,"00:00:00"]
[{"$f":"Stückliste!#REF!","v":{"$error":"#REF!"}},{"$f":"Stückliste!#REF!","v":{"$error":"#REF!"}},{"$f":"Stückliste!#REF!","v":{"$error":"#REF!"}},{"$f":"Stückliste!#REF!","v":{"$error":"#REF!"}},{"$f":"Stückliste!Y22","v":0},8,0,0,0,0,0,0,"00:00:00"]

{"sheet":"Alphacam","index":3,"n_rows":120,"n_cols":13,"rows_kept":120,"cut":false,"hidden":true,"merged":[[0,7,0,10],[0,11,0,12],[0,0,1,0],[0,1,1,1],[0,2,1,2],[0,3,1,3],[0,4,1,4],[0,5,0,6]]}
["Auftrag-Nr.","Bohrloch-Durchmesser","Platten-dicke","Pos.","Stück","Plattenformat",null,"Rasterabstand der Löcher",null,null,null,"Anzahl Löcher"]
[null,null,null,null,null,"Länge X mm","Breite Y mm","X1","X2","Y1","Y2","XL","YL"]
[{"$f":"Stückliste!AN1","v":"a"},{"$f":"Stückliste!AR1","v":"5.5"},{"$f":"Stückliste!AQ22","v":8},{"$f":"Stückliste!A56","v":0},{"$f":"Stückliste!E56","v":0},{"$f":"Stückliste!J56","v":0},{"$f":"Stückliste!O56","v":0},{"$f":"Stückliste!T56","v":0},{"$f":"Stückliste!W56","v":0},{"$f":"Stückliste!Z56","v":0},{"$f":"Stückliste!AC56","v":0},{"$f":"Stückliste!AF56","v":0},{"$f":"Stückliste!AI56","v":0}]
[{"$f":"Stückliste!AN1","v":"a"},{"$f":"Stückliste!AR1","v":"5.5"},{"$f":"C3","v":8},{"$f":"Stückliste!A57","v":0},{"$f":"Stückliste!E57","v":0},{"$f":"Stückliste!J57","v":0},{"$f":"Stückliste!O57","v":0},{"$f":"Stückliste!T57","v":0},{"$f":"Stückliste!W57","v":0},{"$f":"Stückliste!Z57","v":0},{"$f":"Stückliste!AC57","v":0},{"$f":"Stückliste!AF57","v":0},{"$f":"Stückliste!AI57","v":0}]
[{"$f":"A4","v":"a"},{"$f":"B4","v":"5.5"},{"$f":"C4","v":8},{"$f":"Stückliste!A58","v":0},{"$f":"Stückliste!E58","v":0},{"$f":"Stückliste!J58","v":0},{"$f":"Stückliste!O58","v":0},{"$f":"Stückliste!T58","v":0},{"$f":"Stückliste!W58","v":0},{"$f":"Stückliste!Z58","v":0},{"$f":"Stückliste!AC58","v":0},{"$f":"Stückliste!AF58","v":0},{"$f":"Stückliste!AI58","v":0}]
[{"$f":"A5","v":"a"},{"$f":"B5","v":"5.5"},8,{"$f":"Stückliste!A59","v":0},{"$f":"Stückliste!E59","v":0},{"$f":"Stückliste!J59","v":0},{"$f":"Stückliste!O59","v":0},{"$f":"Stückliste!T59","v":0},{"$f":"Stückliste!W59","v":0},{"$f":"Stückliste!Z59","v":0},{"$f":"Stückliste!AC59","v":0},{"$f":"Stückliste!AF59","v":0},{"$f":"Stückliste!AI59","v":0}]
["a","5.5",8,{"$f":"Stückliste!A60","v":0},{"$f":"Stückliste!E60","v":0},{"$f":"Stückliste!J60","v":0},{"$f":"Stückliste!O60","v":0},{"$f":"Stückliste!T60","v":0},{"$f":"Stückliste!W60","v":0},{"$f":"Stückliste!Z60","v":0},{"$f":"Stückliste!AC60","v":0},{"$f":"Stückliste!AF60","v":0},{"$f":"Stückliste!AI60","v":0}]
["a","5.5",8,{"$f":"Stückliste!A61","v":0},{"$f":"Stückliste!E61","v":0},{"$f":"Stückliste!J61","v":0},{"$f":"Stückliste!O61","v":0},{"$f":"Stückliste!T61","v":0},{"$f":"Stückliste!W61","v":0},{"$f":"Stückliste!Z61","v":0},{"$f":"Stückliste!AC61","v":0},{"$f":"Stückliste!AF61","v":0},{"$f":"Stückliste!AI61","v":0}]
["a","5.5",8,{"$f":"Stückliste!A62","v":0},{"$f":"Stückliste!E62","v":0},{"$f":"Stückliste!J62","v":0},{"$f":"Stückliste!O62","v":0},{"$f":"Stückliste!T62","v":0},{"$f":"Stückliste!W62","v":0},{"$f":"Stückliste!Z62","v":0},{"$f":"Stückliste!AC62","v":0},{"$f":"Stückliste!AF62","v":0},{"$f":"Stückliste!AI62","v":0}]
["a","5.5",8,{"$f":"Stückliste!A63","v":0},{"$f":"Stückliste!E63","v":0},{"$f":"Stückliste!J63","v":0},{"$f":"Stückliste!O63","v":0},{"$f":"Stückliste!T63","v":0},{"$f":"Stückliste!W63","v":0},{"$f":"Stückliste!Z63","v":0},{"$f":"Stückliste!AC63","v":0},{"$f":"Stückliste!AF63","v":0},{"$f":"Stückliste!AI63","v":0}]
["a","5.5",8,{"$f":"Stückliste!A64","v":0},{"$f":"Stückliste!E64","v":0},{"$f":"Stückliste!J64","v":0},{"$f":"Stückliste!O64","v":0},{"$f":"Stückliste!T64","v":0},{"$f":"Stückliste!W64","v":0},{"$f":"Stückliste!Z64","v":0},{"$f":"Stückliste!AC64","v":0},{"$f":"Stückliste!AF64","v":0},{"$f":"Stückliste!AI64","v":0}]
["a","5.5",8,{"$f":"Stückliste!A65","v":0},{"$f":"Stückliste!E65","v":0},{"$f":"Stückliste!J65","v":0},{"$f":"Stückliste!O65","v":0},{"$f":"Stückliste!T65","v":0},{"$f":"Stückliste!W65","v":0},{"$f":"Stückliste!Z65","v":0},{"$f":"Stückliste!AC65","v":0},{"$f":"Stückliste!AF65","v":0},{"$f":"Stückliste!AI65","v":0}]
["a","5.5",8,{"$f":"Stückliste!#REF!","v":{"$error":"#REF!"}},{"$f":"Stückliste!#REF!","v":{"$error":"#REF!"}},{"$f":"Stückliste!#REF!","v":{"$error":"#REF!"}},{"$f":"Stückliste!#REF!","v":{"$error":"#REF!"}},{"$f":"Stückliste!#REF!","v":{"$error":"#REF!"}},{"$f":"Stückliste!#REF!","v":{"$error":"#REF!"}},{"$f":"Stückliste!#REF!","v":{"$error":"#REF!"}},{"$f":"Stückliste!#REF!","v":{"$error":"#REF!"}},{"$f":"Stückliste!#REF!","v":{"$error":"#REF!"}},{"$f":"Stückliste!#REF!","v":{"$error":"#REF!"}}]
["a","5.5",8,{"$f":"Stückliste!#REF!","v":{"$error":"#REF!"}},{"$f":"Stückliste!#REF!","v":{"$error":"#REF!"}},{"$f":"Stückliste!#REF!","v":{"$error":"#REF!"}},{"$f":"Stückliste!#REF!","v":{"$error":"#REF!"}},{"$f":"Stückliste!#REF!","v":{"$error":"#REF!"}},{"$f":"Stückliste!#REF!","v":{"$error":"#REF!"}},{"$f":"Stückliste!#REF!","v":{"$error":"#REF!"}},{"$f":"Stückliste!#REF!","v":{"$error":"#REF!"}},{"$f":"Stückliste!#REF!","v":{"$error":"#REF!"}},{"$f":"Stückliste!#REF!","v":{"$error":"#REF!"}}]
["a","5.5",8,{"$f":"Stückliste!#REF!","v":{"$error":"#REF!"}},{"$f":"Stückliste!#REF!","v":{"$error":"#REF!"}},{"$f":"Stückliste!#REF!","v":{"$error":"#REF!"}},{"$f":"Stückliste!#REF!","v":{"$error":"#REF!"}},{"$f":"Stückliste!#REF!","v":{"$error":"#REF!"}},{"$f":"Stückliste!#REF!","v":{"$error":"#REF!"}},{"$f":"Stückliste!#REF!","v":{"$error":"#REF!"}},{"$f":"Stückliste!#REF!","v":{"$error":"#REF!"}},{"$f":"Stückliste!#REF!","v":{"$error":"#REF!"}},{"$f":"Stückliste!#REF!","v":{"$error":"#REF!"}}]
["a","5.5",8,{"$f":"Stückliste!#REF!","v":{"$error":"#REF!"}},{"$f":"Stückliste!#REF!","v":{"$error":"#REF!"}},{"$f":"Stückliste!#REF!","v":{"$error":"#REF!"}},{"$f":"Stückliste!#REF!","v":{"$error":"#REF!"}},{"$f":"Stückliste!#REF!","v":{"$error":"#REF!"}},{"$f":"Stückliste!#REF!","v":{"$error":"#REF!"}},{"$f":"Stückliste!#REF!","v":{"$error":"#REF!"}},{"$f":"Stückliste!#REF!","v":{"$error":"#REF!"}},{"$f":"Stückliste!#REF!","v":{"$error":"#REF!"}},{"$f":"Stückliste!#REF!","v":{"$error":"#REF!"}}]
["a","5.5",8,{"$f":"Stückliste!#REF!","v":{"$error":"#REF!"}},{"$f":"Stückliste!#REF!","v":{"$error":"#REF!"}},{"$f":"Stückliste!#REF!","v":{"$error":"#REF!"}},{"$f":"Stückliste!#REF!","v":{"$error":"#REF!"}},{"$f":"Stückliste!#REF!","v":{"$error":"#REF!"}},{"$f":"Stückliste!#REF!","v":{"$error":"#REF!"}},{"$f":"Stückliste!#REF!","v":{"$error":"#REF!"}},{"$f":"Stückliste!#REF!","v":{"$error":"#REF!"}},{"$f":"Stückliste!#REF!","v":{"$error":"#REF!"}},{"$f":"Stückliste!#REF!","v":{"$error":"#REF!"}}]
["a","5.5",8,{"$f":"Stückliste!#REF!","v":{"$error":"#REF!"}},{"$f":"Stückliste!#REF!","v":{"$error":"#REF!"}},{"$f":"Stückliste!#REF!","v":{"$error":"#REF!"}},{"$f":"Stückliste!#REF!","v":{"$error":"#REF!"}},{"$f":"Stückliste!#REF!","v":{"$error":"#REF!"}},{"$f":"Stückliste!#REF!","v":{"$error":"#REF!"}},{"$f":"Stückliste!#REF!","v":{"$error":"#REF!"}},{"$f":"Stückliste!#REF!","v":{"$error":"#REF!"}},{"$f":"Stückliste!#REF!","v":{"$error":"#REF!"}},{"$f":"Stückliste!#REF!","v":{"$error":"#REF!"}}]
["a","5.5",8,{"$f":"Stückliste!#REF!","v":{"$error":"#REF!"}},{"$f":"Stückliste!#REF!","v":{"$error":"#REF!"}},{"$f":"Stückliste!#REF!","v":{"$error":"#REF!"}},{"$f":"Stückliste!#REF!","v":{"$error":"#REF!"}},{"$f":"Stückliste!#REF!","v":{"$error":"#REF!"}},{"$f":"Stückliste!#REF!","v":{"$error":"#REF!"}},{"$f":"Stückliste!#REF!","v":{"$error":"#REF!"}},{"$f":"Stückliste!#REF!","v":{"$error":"#REF!"}},{"$f":"Stückliste!#REF!","v":{"$error":"#REF!"}},{"$f":"Stückliste!#REF!","v":{"$error":"#REF!"}}]
["a","5.5",8,{"$f":"Stückliste!#REF!","v":{"$error":"#REF!"}},{"$f":"Stückliste!#REF!","v":{"$error":"#REF!"}},{"$f":"Stückliste!#REF!","v":{"$error":"#REF!"}},{"$f":"Stückliste!#REF!","v":{"$error":"#REF!"}},{"$f":"Stückliste!#REF!","v":{"$error":"#REF!"}},{"$f":"Stückliste!#REF!","v":{"$error":"#REF!"}},{"$f":"Stückliste!#REF!","v":{"$error":"#REF!"}},{"$f":"Stückliste!#REF!","v":{"$error":"#REF!"}},{"$f":"Stückliste!#REF!","v":{"$error":"#REF!"}},{"$f":"Stückliste!#REF!","v":{"$error":"#REF!"}}]
["a","5.5",8,{"$f":"Stückliste!#REF!","v":{"$error":"#REF!"}},{"$f":"Stückliste!#REF!","v":{"$error":"#REF!"}},{"$f":"Stückliste!#REF!","v":{"$error":"#REF!"}},{"$f":"Stückliste!#REF!","v":{"$error":"#REF!"}},{"$f":"Stückliste!#REF!","v":{"$error":"#REF!"}},{"$f":"Stückliste!#REF!","v":{"$error":"#REF!"}},{"$f":"Stückliste!#REF!","v":{"$error":"#REF!"}},{"$f":"Stückliste!#REF!","v":{"$error":"#REF!"}},{"$f":"Stückliste!#REF!","v":{"$error":"#REF!"}},{"$f":"Stückliste!#REF!","v":{"$error":"#REF!"}}]
["a","5.5",8,{"$f":"Stückliste!#REF!","v":{"$error":"#REF!"}},{"$f":"Stückliste!#REF!","v":{"$error":"#REF!"}},{"$f":"Stückliste!#REF!","v":{"$error":"#REF!"}},{"$f":"Stückliste!#REF!","v":{"$error":"#REF!"}},{"$f":"Stückliste!#REF!","v":{"$error":"#REF!"}},{"$f":"Stückliste!#REF!","v":{"$error":"#REF!"}},{"$f":"Stückliste!#REF!","v":{"$error":"#REF!"}},{"$f":"Stückliste!#REF!","v":{"$error":"#REF!"}},{"$f":"Stückliste!#REF!","v":{"$error":"#REF!"}},{"$f":"Stückliste!#REF!","v":{"$error":"#REF!"}}]
["a","5.5",8,{"$f":"Stückliste!#REF!","v":{"$error":"#REF!"}},{"$f":"Stückliste!#REF!","v":{"$error":"#REF!"}},{"$f":"Stückliste!#REF!","v":{"$error":"#REF!"}},{"$f":"Stückliste!#REF!","v":{"$error":"#REF!"}},{"$f":"Stückliste!#REF!","v":{"$error":"#REF!"}},{"$f":"Stückliste!#REF!","v":{"$error":"#REF!"}},{"$f":"Stückliste!#REF!","v":{"$error":"#REF!"}},{"$f":"Stückliste!#REF!","v":{"$error":"#REF!"}},{"$f":"Stückliste!#REF!","v":{"$error":"#REF!"}},{"$f":"Stückliste!#REF!","v":{"$error":"#REF!"}}]
["a","5.5",8,{"$f":"Stückliste!#REF!","v":{"$error":"#REF!"}},{"$f":"Stückliste!#REF!","v":{"$error":"#REF!"}},{"$f":"Stückliste!#REF!","v":{"$error":"#REF!"}},{"$f":"Stückliste!#REF!","v":{"$error":"#REF!"}},{"$f":"Stückliste!#REF!","v":{"$error":"#REF!"}},{"$f":"Stückliste!#REF!","v":{"$error":"#REF!"}},{"$f":"Stückliste!#REF!","v":{"$error":"#REF!"}},{"$f":"Stückliste!#REF!","v":{"$error":"#REF!"}},{"$f":"Stückliste!#REF!","v":{"$error":"#REF!"}},{"$f":"Stückliste!#REF!","v":{"$error":"#REF!"}}]
["a","5.5",8,{"$f":"Stückliste!#REF!","v":{"$error":"#REF!"}},{"$f":"Stückliste!#REF!","v":{"$error":"#REF!"}},{"$f":"Stückliste!#REF!","v":{"$error":"#REF!"}},{"$f":"Stückliste!#REF!","v":{"$error":"#REF!"}},{"$f":"Stückliste!#REF!","v":{"$error":"#REF!"}},{"$f":"Stückliste!#REF!","v":{"$error":"#REF!"}},{"$f":"Stückliste!#REF!","v":{"$error":"#REF!"}},{"$f":"Stückliste!#REF!","v":{"$error":"#REF!"}},{"$f":"Stückliste!#REF!","v":{"$error":"#REF!"}},{"$f":"Stückliste!#REF!","v":{"$error":"#REF!"}}]
["a","5.5",8,{"$f":"Stückliste!#REF!","v":{"$error":"#REF!"}},{"$f":"Stückliste!#REF!","v":{"$error":"#REF!"}},{"$f":"Stückliste!#REF!","v":{"$error":"#REF!"}},{"$f":"Stückliste!#REF!","v":{"$error":"#REF!"}},{"$f":"Stückliste!#REF!","v":{"$error":"#REF!"}},{"$f":"Stückliste!#REF!","v":{"$error":"#REF!"}},{"$f":"Stückliste!#REF!","v":{"$error":"#REF!"}},{"$f":"Stückliste!#REF!","v":{"$error":"#REF!"}},{"$f":"Stückliste!#REF!","v":{"$error":"#REF!"}},{"$f":"Stückliste!#REF!","v":{"$error":"#REF!"}}]
["a","5.5",8,{"$f":"Stückliste!#REF!","v":{"$error":"#REF!"}},{"$f":"Stückliste!#REF!","v":{"$error":"#REF!"}},{"$f":"Stückliste!#REF!","v":{"$error":"#REF!"}},{"$f":"Stückliste!#REF!","v":{"$error":"#REF!"}},{"$f":"Stückliste!#REF!","v":{"$error":"#REF!"}},{"$f":"Stückliste!#REF!","v":{"$error":"#REF!"}},{"$f":"Stückliste!#REF!","v":{"$error":"#REF!"}},{"$f":"Stückliste!#REF!","v":{"$error":"#REF!"}},{"$f":"Stückliste!#REF!","v":{"$error":"#REF!"}},{"$f":"Stückliste!#REF!","v":{"$error":"#REF!"}}]
["a","5.5",8,{"$f":"Stückliste!#REF!","v":{"$error":"#REF!"}},{"$f":"Stückliste!#REF!","v":{"$error":"#REF!"}},{"$f":"Stückliste!#REF!","v":{"$error":"#REF!"}},{"$f":"Stückliste!#REF!","v":{"$error":"#REF!"}},{"$f":"Stückliste!#REF!","v":{"$error":"#REF!"}},{"$f":"Stückliste!#REF!","v":{"$error":"#REF!"}},{"$f":"Stückliste!#REF!","v":{"$error":"#REF!"}},{"$f":"Stückliste!#REF!","v":{"$error":"#REF!"}},{"$f":"Stückliste!#REF!","v":{"$error":"#REF!"}},{"$f":"Stückliste!#REF!","v":{"$error":"#REF!"}}]
["a","5.5",8,{"$f":"Stückliste!#REF!","v":{"$error":"#REF!"}},{"$f":"Stückliste!#REF!","v":{"$error":"#REF!"}},{"$f":"Stückliste!#REF!","v":{"$error":"#REF!"}},{"$f":"Stückliste!#REF!","v":{"$error":"#REF!"}},{"$f":"Stückliste!#REF!","v":{"$error":"#REF!"}},{"$f":"Stückliste!#REF!","v":{"$error":"#REF!"}},{"$f":"Stückliste!#REF!","v":{"$error":"#REF!"}},{"$f":"Stückliste!#REF!","v":{"$error":"#REF!"}},{"$f":"Stückliste!#REF!","v":{"$error":"#REF!"}},{"$f":"Stückliste!#REF!","v":{"$error":"#REF!"}}]
["a","5.5",8,{"$f":"Stückliste!#REF!","v":{"$error":"#REF!"}},{"$f":"Stückliste!#REF!","v":{"$error":"#REF!"}},{"$f":"Stückliste!#REF!","v":{"$error":"#REF!"}},{"$f":"Stückliste!#REF!","v":{"$error":"#REF!"}},{"$f":"Stückliste!#REF!","v":{"$error":"#REF!"}},{"$f":"Stückliste!#REF!","v":{"$error":"#REF!"}},{"$f":"Stückliste!#REF!","v":{"$error":"#REF!"}},{"$f":"Stückliste!#REF!","v":{"$error":"#REF!"}},{"$f":"Stückliste!#REF!","v":{"$error":"#REF!"}},{"$f":"Stückliste!#REF!","v":{"$error":"#REF!"}}]
["a","5.5",8,{"$f":"Stückliste!#REF!","v":{"$error":"#REF!"}},{"$f":"Stückliste!#REF!","v":{"$error":"#REF!"}},{"$f":"Stückliste!#REF!","v":{"$error":"#REF!"}},{"$f":"Stückliste!#REF!","v":{"$error":"#REF!"}},{"$f":"Stückliste!#REF!","v":{"$error":"#REF!"}},{"$f":"Stückliste!#REF!","v":{"$error":"#REF!"}},{"$f":"Stückliste!#REF!","v":{"$error":"#REF!"}},{"$f":"Stückliste!#REF!","v":{"$error":"#REF!"}},{"$f":"Stückliste!#REF!","v":{"$error":"#REF!"}},{"$f":"Stückliste!#REF!","v":{"$error":"#REF!"}}]
["a","5.5",8,{"$f":"Stückliste!#REF!","v":{"$error":"#REF!"}},{"$f":"Stückliste!#REF!","v":{"$error":"#REF!"}},{"$f":"Stückliste!#REF!","v":{"$error":"#REF!"}},{"$f":"Stückliste!#REF!","v":{"$error":"#REF!"}},{"$f":"Stückliste!#REF!","v":{"$error":"#REF!"}},{"$f":"Stückliste!#REF!","v":{"$error":"#REF!"}},{"$f":"Stückliste!#REF!","v":{"$error":"#REF!"}},{"$f":"Stückliste!#REF!","v":{"$error":"#REF!"}},{"$f":"Stückliste!#REF!","v":{"$error":"#REF!"}},{"$f":"Stückliste!#REF!","v":{"$error":"#REF!"}}]
["a","5.5",8,{"$f":"Stückliste!#REF!","v":{"$error":"#REF!"}},{"$f":"Stückliste!#REF!","v":{"$error":"#REF!"}},{"$f":"Stückliste!#REF!","v":{"$error":"#REF!"}},{"$f":"Stückliste!#REF!","v":{"$error":"#REF!"}},{"$f":"Stückliste!#REF!","v":{"$error":"#REF!"}},{"$f":"Stückliste!#REF!","v":{"$error":"#REF!"}},{"$f":"Stückliste!#REF!","v":{"$error":"#REF!"}},{"$f":"Stückliste!#REF!","v":{"$error":"#REF!"}},{"$f":"Stückliste!#REF!","v":{"$error":"#REF!"}},{"$f":"Stückliste!#REF!","v":{"$error":"#REF!"}}]
["a","5.5",8,{"$f":"Stückliste!#REF!","v":{"$error":"#REF!"}},{"$f":"Stückliste!#REF!","v":{"$error":"#REF!"}},{"$f":"Stückliste!#REF!","v":{"$error":"#REF!"}},{"$f":"Stückliste!#REF!","v":{"$error":"#REF!"}},{"$f":"Stückliste!#REF!","v":{"$error":"#REF!"}},{"$f":"Stückliste!#REF!","v":{"$error":"#REF!"}},{"$f":"Stückliste!#REF!","v":{"$error":"#REF!"}},{"$f":"Stückliste!#REF!","v":{"$error":"#REF!"}},{"$f":"Stückliste!#REF!","v":{"$error":"#REF!"}},{"$f":"Stückliste!#REF!","v":{"$error":"#REF!"}}]
["a","5.5",8,{"$f":"Stückliste!#REF!","v":{"$error":"#REF!"}},{"$f":"Stückliste!#REF!","v":{"$error":"#REF!"}},{"$f":"Stückliste!#REF!","v":{"$error":"#REF!"}},{"$f":"Stückliste!#REF!","v":{"$error":"#REF!"}},{"$f":"Stückliste!#REF!","v":{"$error":"#REF!"}},{"$f":"Stückliste!#REF!","v":{"$error":"#REF!"}},{"$f":"Stückliste!#REF!","v":{"$error":"#REF!"}},{"$f":"Stückliste!#REF!","v":{"$error":"#REF!"}},{"$f":"Stückliste!#REF!","v":{"$error":"#REF!"}},{"$f":"Stückliste!#REF!","v":{"$error":"#REF!"}}]
["a","5.5",8,{"$f":"Stückliste!#REF!","v":{"$error":"#REF!"}},{"$f":"Stückliste!#REF!","v":{"$error":"#REF!"}},{"$f":"Stückliste!#REF!","v":{"$error":"#REF!"}},{"$f":"Stückliste!#REF!","v":{"$error":"#REF!"}},{"$f":"Stückliste!#REF!","v":{"$error":"#REF!"}},{"$f":"Stückliste!#REF!","v":{"$error":"#REF!"}},{"$f":"Stückliste!#REF!","v":{"$error":"#REF!"}},{"$f":"Stückliste!#REF!","v":{"$error":"#REF!"}},{"$f":"Stückliste!#REF!","v":{"$error":"#REF!"}},{"$f":"Stückliste!#REF!","v":{"$error":"#REF!"}}]
["a","5.5",8,{"$f":"Stückliste!#REF!","v":{"$error":"#REF!"}},{"$f":"Stückliste!#REF!","v":{"$error":"#REF!"}},{"$f":"Stückliste!#REF!","v":{"$error":"#REF!"}},{"$f":"Stückliste!#REF!","v":{"$error":"#REF!"}},{"$f":"Stückliste!#REF!","v":{"$error":"#REF!"}},{"$f":"Stückliste!#REF!","v":{"$error":"#REF!"}},{"$f":"Stückliste!#REF!","v":{"$error":"#REF!"}},{"$f":"Stückliste!#REF!","v":{"$error":"#REF!"}},{"$f":"Stückliste!#REF!","v":{"$error":"#REF!"}},{"$f":"Stückliste!#REF!","v":{"$error":"#REF!"}}]
["a","5.5",8,{"$f":"Stückliste!#REF!","v":{"$error":"#REF!"}},{"$f":"Stückliste!#REF!","v":{"$error":"#REF!"}},{"$f":"Stückliste!#REF!","v":{"$error":"#REF!"}},{"$f":"Stückliste!#REF!","v":{"$error":"#REF!"}},{"$f":"Stückliste!#REF!","v":{"$error":"#REF!"}},{"$f":"Stückliste!#REF!","v":{"$error":"#REF!"}},{"$f":"Stückliste!#REF!","v":{"$error":"#REF!"}},{"$f":"Stückliste!#REF!","v":{"$error":"#REF!"}},{"$f":"Stückliste!#REF!","v":{"$error":"#REF!"}},{"$f":"Stückliste!#REF!","v":{"$error":"#REF!"}}]
["a","5.5",8,{"$f":"Stückliste!#REF!","v":{"$error":"#REF!"}},{"$f":"Stückliste!#REF!","v":{"$error":"#REF!"}},{"$f":"Stückliste!#REF!","v":{"$error":"#REF!"}},{"$f":"Stückliste!#REF!","v":{"$error":"#REF!"}},{"$f":"Stückliste!#REF!","v":{"$error":"#REF!"}},{"$f":"Stückliste!#REF!","v":{"$error":"#REF!"}},{"$f":"Stückliste!#REF!","v":{"$error":"#REF!"}},{"$f":"Stückliste!#REF!","v":{"$error":"#REF!"}},{"$f":"Stückliste!#REF!","v":{"$error":"#REF!"}},{"$f":"Stückliste!#REF!","v":{"$error":"#REF!"}}]
["a","5.5",8,{"$f":"Stückliste!#REF!","v":{"$error":"#REF!"}},{"$f":"Stückliste!#REF!","v":{"$error":"#REF!"}},{"$f":"Stückliste!#REF!","v":{"$error":"#REF!"}},{"$f":"Stückliste!#REF!","v":{"$error":"#REF!"}},{"$f":"Stückliste!#REF!","v":{"$error":"#REF!"}},{"$f":"Stückliste!#REF!","v":{"$error":"#REF!"}},{"$f":"Stückliste!#REF!","v":{"$error":"#REF!"}},{"$f":"Stückliste!#REF!","v":{"$error":"#REF!"}},{"$f":"Stückliste!#REF!","v":{"$error":"#REF!"}},{"$f":"Stückliste!#REF!","v":{"$error":"#REF!"}}]
["a","5.5",8,{"$f":"Stückliste!#REF!","v":{"$error":"#REF!"}},{"$f":"Stückliste!#REF!","v":{"$error":"#REF!"}},{"$f":"Stückliste!#REF!","v":{"$error":"#REF!"}},{"$f":"Stückliste!#REF!","v":{"$error":"#REF!"}},{"$f":"Stückliste!#REF!","v":{"$error":"#REF!"}},{"$f":"Stückliste!#REF!","v":{"$error":"#REF!"}},{"$f":"Stückliste!#REF!","v":{"$error":"#REF!"}},{"$f":"Stückliste!#REF!","v":{"$error":"#REF!"}},{"$f":"Stückliste!#REF!","v":{"$error":"#REF!"}},{"$f":"Stückliste!#REF!","v":{"$error":"#REF!"}}]
["a","5.5",8,{"$f":"Stückliste!#REF!","v":{"$error":"#REF!"}},{"$f":"Stückliste!#REF!","v":{"$error":"#REF!"}},{"$f":"Stückliste!#REF!","v":{"$error":"#REF!"}},{"$f":"Stückliste!#REF!","v":{"$error":"#REF!"}},{"$f":"Stückliste!#REF!","v":{"$error":"#REF!"}},{"$f":"Stückliste!#REF!","v":{"$error":"#REF!"}},{"$f":"Stückliste!#REF!","v":{"$error":"#REF!"}},{"$f":"Stückliste!#REF!","v":{"$error":"#REF!"}},{"$f":"Stückliste!#REF!","v":{"$error":"#REF!"}},{"$f":"Stückliste!#REF!","v":{"$error":"#REF!"}}]
["a","5.5",8,{"$f":"Stückliste!#REF!","v":{"$error":"#REF!"}},{"$f":"Stückliste!#REF!","v":{"$error":"#REF!"}},{"$f":"Stückliste!#REF!","v":{"$error":"#REF!"}},{"$f":"Stückliste!#REF!","v":{"$error":"#REF!"}},{"$f":"Stückliste!#REF!","v":{"$error":"#REF!"}},{"$f":"Stückliste!#REF!","v":{"$error":"#REF!"}},{"$f":"Stückliste!#REF!","v":{"$error":"#REF!"}},{"$f":"Stückliste!#REF!","v":{"$error":"#REF!"}},{"$f":"Stückliste!#REF!","v":{"$error":"#REF!"}},{"$f":"Stückliste!#REF!","v":{"$error":"#REF!"}}]
["a","5.5",8,{"$f":"Stückliste!#REF!","v":{"$error":"#REF!"}},{"$f":"Stückliste!#REF!","v":{"$error":"#REF!"}},{"$f":"Stückliste!#REF!","v":{"$error":"#REF!"}},{"$f":"Stückliste!#REF!","v":{"$error":"#REF!"}},{"$f":"Stückliste!#REF!","v":{"$error":"#REF!"}},{"$f":"Stückliste!#REF!","v":{"$error":"#REF!"}},{"$f":"Stückliste!#REF!","v":{"$error":"#REF!"}},{"$f":"Stückliste!#REF!","v":{"$error":"#REF!"}},{"$f":"Stückliste!#REF!","v":{"$error":"#REF!"}},{"$f":"Stückliste!#REF!","v":{"$error":"#REF!"}}]
["a","5.5",8,{"$f":"Stückliste!#REF!","v":{"$error":"#REF!"}},{"$f":"Stückliste!#REF!","v":{"$error":"#REF!"}},{"$f":"Stückliste!#REF!","v":{"$error":"#REF!"}},{"$f":"Stückliste!#REF!","v":{"$error":"#REF!"}},{"$f":"Stückliste!#REF!","v":{"$error":"#REF!"}},{"$f":"Stückliste!#REF!","v":{"$error":"#REF!"}},{"$f":"Stückliste!#REF!","v":{"$error":"#REF!"}},{"$f":"Stückliste!#REF!","v":{"$error":"#REF!"}},{"$f":"Stückliste!#REF!","v":{"$error":"#REF!"}},{"$f":"Stückliste!#REF!","v":{"$error":"#REF!"}}]
["a","5.5",8,{"$f":"Stückliste!#REF!","v":{"$error":"#REF!"}},{"$f":"Stückliste!#REF!","v":{"$error":"#REF!"}},{"$f":"Stückliste!#REF!","v":{"$error":"#REF!"}},{"$f":"Stückliste!#REF!","v":{"$error":"#REF!"}},{"$f":"Stückliste!#REF!","v":{"$error":"#REF!"}},{"$f":"Stückliste!#REF!","v":{"$error":"#REF!"}},{"$f":"Stückliste!#REF!","v":{"$error":"#REF!"}},{"$f":"Stückliste!#REF!","v":{"$error":"#REF!"}},{"$f":"Stückliste!#REF!","v":{"$error":"#REF!"}},{"$f":"Stückliste!#REF!","v":{"$error":"#REF!"}}]
["a","5.5",8,{"$f":"Stückliste!#REF!","v":{"$error":"#REF!"}},{"$f":"Stückliste!#REF!","v":{"$error":"#REF!"}},{"$f":"Stückliste!#REF!","v":{"$error":"#REF!"}},{"$f":"Stückliste!#REF!","v":{"$error":"#REF!"}},{"$f":"Stückliste!#REF!","v":{"$error":"#REF!"}},{"$f":"Stückliste!#REF!","v":{"$error":"#REF!"}},{"$f":"Stückliste!#REF!","v":{"$error":"#REF!"}},{"$f":"Stückliste!#REF!","v":{"$error":"#REF!"}},{"$f":"Stückliste!#REF!","v":{"$error":"#REF!"}},{"$f":"Stückliste!#REF!","v":{"$error":"#REF!"}}]
["a","5.5",8,{"$f":"Stückliste!#REF!","v":{"$error":"#REF!"}},{"$f":"Stückliste!#REF!","v":{"$error":"#REF!"}},{"$f":"Stückliste!#REF!","v":{"$error":"#REF!"}},{"$f":"Stückliste!#REF!","v":{"$error":"#REF!"}},{"$f":"Stückliste!#REF!","v":{"$error":"#REF!"}},{"$f":"Stückliste!#REF!","v":{"$error":"#REF!"}},{"$f":"Stückliste!#REF!","v":{"$error":"#REF!"}},{"$f":"Stückliste!#REF!","v":{"$error":"#REF!"}},{"$f":"Stückliste!#REF!","v":{"$error":"#REF!"}},{"$f":"Stückliste!#REF!","v":{"$error":"#REF!"}}]
["a","5.5",8,{"$f":"Stückliste!#REF!","v":{"$error":"#REF!"}},{"$f":"Stückliste!#REF!","v":{"$error":"#REF!"}},{"$f":"Stückliste!#REF!","v":{"$error":"#REF!"}},{"$f":"Stückliste!#REF!","v":{"$error":"#REF!"}},{"$f":"Stückliste!#REF!","v":{"$error":"#REF!"}},{"$f":"Stückliste!#REF!","v":{"$error":"#REF!"}},{"$f":"Stückliste!#REF!","v":{"$error":"#REF!"}},{"$f":"Stückliste!#REF!","v":{"$error":"#REF!"}},{"$f":"Stückliste!#REF!","v":{"$error":"#REF!"}},{"$f":"Stückliste!#REF!","v":{"$error":"#REF!"}}]
["a","5.5",8,{"$f":"Stückliste!#REF!","v":{"$error":"#REF!"}},{"$f":"Stückliste!#REF!","v":{"$error":"#REF!"}},{"$f":"Stückliste!#REF!","v":{"$error":"#REF!"}},{"$f":"Stückliste!#REF!","v":{"$error":"#REF!"}},{"$f":"Stückliste!#REF!","v":{"$error":"#REF!"}},{"$f":"Stückliste!#REF!","v":{"$error":"#REF!"}},{"$f":"Stückliste!#REF!","v":{"$error":"#REF!"}},{"$f":"Stückliste!#REF!","v":{"$error":"#REF!"}},{"$f":"Stückliste!#REF!","v":{"$error":"#REF!"}},{"$f":"Stückliste!#REF!","v":{"$error":"#REF!"}}]
["a","5.5",8,{"$f":"Stückliste!#REF!","v":{"$error":"#REF!"}},{"$f":"Stückliste!#REF!","v":{"$error":"#REF!"}},{"$f":"Stückliste!#REF!","v":{"$error":"#REF!"}},{"$f":"Stückliste!#REF!","v":{"$error":"#REF!"}},{"$f":"Stückliste!#REF!","v":{"$error":"#REF!"}},{"$f":"Stückliste!#REF!","v":{"$error":"#REF!"}},{"$f":"Stückliste!#REF!","v":{"$error":"#REF!"}},{"$f":"Stückliste!#REF!","v":{"$error":"#REF!"}},{"$f":"Stückliste!#REF!","v":{"$error":"#REF!"}},{"$f":"Stückliste!#REF!","v":{"$error":"#REF!"}}]
["a","5.5",8,{"$f":"Stückliste!#REF!","v":{"$error":"#REF!"}},{"$f":"Stückliste!#REF!","v":{"$error":"#REF!"}},{"$f":"Stückliste!#REF!","v":{"$error":"#REF!"}},{"$f":"Stückliste!#REF!","v":{"$error":"#REF!"}},{"$f":"Stückliste!#REF!","v":{"$error":"#REF!"}},{"$f":"Stückliste!#REF!","v":{"$error":"#REF!"}},{"$f":"Stückliste!#REF!","v":{"$error":"#REF!"}},{"$f":"Stückliste!#REF!","v":{"$error":"#REF!"}},{"$f":"Stückliste!#REF!","v":{"$error":"#REF!"}},{"$f":"Stückliste!#REF!","v":{"$error":"#REF!"}}]
["a","5.5",8,{"$f":"Stückliste!#REF!","v":{"$error":"#REF!"}},{"$f":"Stückliste!#REF!","v":{"$error":"#REF!"}},{"$f":"Stückliste!#REF!","v":{"$error":"#REF!"}},{"$f":"Stückliste!#REF!","v":{"$error":"#REF!"}},{"$f":"Stückliste!#REF!","v":{"$error":"#REF!"}},{"$f":"Stückliste!#REF!","v":{"$error":"#REF!"}},{"$f":"Stückliste!#REF!","v":{"$error":"#REF!"}},{"$f":"Stückliste!#REF!","v":{"$error":"#REF!"}},{"$f":"Stückliste!#REF!","v":{"$error":"#REF!"}},{"$f":"Stückliste!#REF!","v":{"$error":"#REF!"}}]
["a","5.5",8,{"$f":"Stückliste!#REF!","v":{"$error":"#REF!"}},{"$f":"Stückliste!#REF!","v":{"$error":"#REF!"}},{"$f":"Stückliste!#REF!","v":{"$error":"#REF!"}},{"$f":"Stückliste!#REF!","v":{"$error":"#REF!"}},{"$f":"Stückliste!#REF!","v":{"$error":"#REF!"}},{"$f":"Stückliste!#REF!","v":{"$error":"#REF!"}},{"$f":"Stückliste!#REF!","v":{"$error":"#REF!"}},{"$f":"Stückliste!#REF!","v":{"$error":"#REF!"}},{"$f":"Stückliste!#REF!","v":{"$error":"#REF!"}},{"$f":"Stückliste!#REF!","v":{"$error":"#REF!"}}]
["a","5.5",8,{"$f":"Stückliste!#REF!","v":{"$error":"#REF!"}},{"$f":"Stückliste!#REF!","v":{"$error":"#REF!"}},{"$f":"Stückliste!#REF!","v":{"$error":"#REF!"}},{"$f":"Stückliste!#REF!","v":{"$error":"#REF!"}},{"$f":"Stückliste!#REF!","v":{"$error":"#REF!"}},{"$f":"Stückliste!#REF!","v":{"$error":"#REF!"}},{"$f":"Stückliste!#REF!","v":{"$error":"#REF!"}},{"$f":"Stückliste!#REF!","v":{"$error":"#REF!"}},{"$f":"Stückliste!#REF!","v":{"$error":"#REF!"}},{"$f":"Stückliste!#REF!","v":{"$error":"#REF!"}}]
["a","5.5",8,{"$f":"Stückliste!#REF!","v":{"$error":"#REF!"}},{"$f":"Stückliste!#REF!","v":{"$error":"#REF!"}},{"$f":"Stückliste!#REF!","v":{"$error":"#REF!"}},{"$f":"Stückliste!#REF!","v":{"$error":"#REF!"}},{"$f":"Stückliste!#REF!","v":{"$error":"#REF!"}},{"$f":"Stückliste!#REF!","v":{"$error":"#REF!"}},{"$f":"Stückliste!#REF!","v":{"$error":"#REF!"}},{"$f":"Stückliste!#REF!","v":{"$error":"#REF!"}},{"$f":"Stückliste!#REF!","v":{"$error":"#REF!"}},{"$f":"Stückliste!#REF!","v":{"$error":"#REF!"}}]
["a","5.5",8,{"$f":"Stückliste!#REF!","v":{"$error":"#REF!"}},{"$f":"Stückliste!#REF!","v":{"$error":"#REF!"}},{"$f":"Stückliste!#REF!","v":{"$error":"#REF!"}},{"$f":"Stückliste!#REF!","v":{"$error":"#REF!"}},{"$f":"Stückliste!#REF!","v":{"$error":"#REF!"}},{"$f":"Stückliste!#REF!","v":{"$error":"#REF!"}},{"$f":"Stückliste!#REF!","v":{"$error":"#REF!"}},{"$f":"Stückliste!#REF!","v":{"$error":"#REF!"}},{"$f":"Stückliste!#REF!","v":{"$error":"#REF!"}},{"$f":"Stückliste!#REF!","v":{"$error":"#REF!"}}]
["a","5.5",8,{"$f":"Stückliste!#REF!","v":{"$error":"#REF!"}},{"$f":"Stückliste!#REF!","v":{"$error":"#REF!"}},{"$f":"Stückliste!#REF!","v":{"$error":"#REF!"}},{"$f":"Stückliste!#REF!","v":{"$error":"#REF!"}},{"$f":"Stückliste!#REF!","v":{"$error":"#REF!"}},{"$f":"Stückliste!#REF!","v":{"$error":"#REF!"}},{"$f":"Stückliste!#REF!","v":{"$error":"#REF!"}},{"$f":"Stückliste!#REF!","v":{"$error":"#REF!"}},{"$f":"Stückliste!#REF!","v":{"$error":"#REF!"}},{"$f":"Stückliste!#REF!","v":{"$error":"#REF!"}}]
["a","5.5",8,{"$f":"Stückliste!#REF!","v":{"$error":"#REF!"}},{"$f":"Stückliste!#REF!","v":{"$error":"#REF!"}},{"$f":"Stückliste!#REF!","v":{"$error":"#REF!"}},{"$f":"Stückliste!#REF!","v":{"$error":"#REF!"}},{"$f":"Stückliste!#REF!","v":{"$error":"#REF!"}},{"$f":"Stückliste!#REF!","v":{"$error":"#REF!"}},{"$f":"Stückliste!#REF!","v":{"$error":"#REF!"}},{"$f":"Stückliste!#REF!","v":{"$error":"#REF!"}},{"$f":"Stückliste!#REF!","v":{"$error":"#REF!"}},{"$f":"Stückliste!#REF!","v":{"$error":"#REF!"}}]
["a","5.5",8,{"$f":"Stückliste!#REF!","v":{"$error":"#REF!"}},{"$f":"Stückliste!#REF!","v":{"$error":"#REF!"}},{"$f":"Stückliste!#REF!","v":{"$error":"#REF!"}},{"$f":"Stückliste!#REF!","v":{"$error":"#REF!"}},{"$f":"Stückliste!#REF!","v":{"$error":"#REF!"}},{"$f":"Stückliste!#REF!","v":{"$error":"#REF!"}},{"$f":"Stückliste!#REF!","v":{"$error":"#REF!"}},{"$f":"Stückliste!#REF!","v":{"$error":"#REF!"}},{"$f":"Stückliste!#REF!","v":{"$error":"#REF!"}},{"$f":"Stückliste!#REF!","v":{"$error":"#REF!"}}]
["a","5.5",8,{"$f":"Stückliste!#REF!","v":{"$error":"#REF!"}},{"$f":"Stückliste!#REF!","v":{"$error":"#REF!"}},{"$f":"Stückliste!#REF!","v":{"$error":"#REF!"}},{"$f":"Stückliste!#REF!","v":{"$error":"#REF!"}},{"$f":"Stückliste!#REF!","v":{"$error":"#REF!"}},{"$f":"Stückliste!#REF!","v":{"$error":"#REF!"}},{"$f":"Stückliste!#REF!","v":{"$error":"#REF!"}},{"$f":"Stückliste!#REF!","v":{"$error":"#REF!"}},{"$f":"Stückliste!#REF!","v":{"$error":"#REF!"}},{"$f":"Stückliste!#REF!","v":{"$error":"#REF!"}}]
["a","5.5",8,{"$f":"Stückliste!#REF!","v":{"$error":"#REF!"}},{"$f":"Stückliste!#REF!","v":{"$error":"#REF!"}},{"$f":"Stückliste!#REF!","v":{"$error":"#REF!"}},{"$f":"Stückliste!#REF!","v":{"$error":"#REF!"}},{"$f":"Stückliste!#REF!","v":{"$error":"#REF!"}},{"$f":"Stückliste!#REF!","v":{"$error":"#REF!"}},{"$f":"Stückliste!#REF!","v":{"$error":"#REF!"}},{"$f":"Stückliste!#REF!","v":{"$error":"#REF!"}},{"$f":"Stückliste!#REF!","v":{"$error":"#REF!"}},{"$f":"Stückliste!#REF!","v":{"$error":"#REF!"}}]
["a","5.5",8,{"$f":"Stückliste!#REF!","v":{"$error":"#REF!"}},{"$f":"Stückliste!#REF!","v":{"$error":"#REF!"}},{"$f":"Stückliste!#REF!","v":{"$error":"#REF!"}},{"$f":"Stückliste!#REF!","v":{"$error":"#REF!"}},{"$f":"Stückliste!#REF!","v":{"$error":"#REF!"}},{"$f":"Stückliste!#REF!","v":{"$error":"#REF!"}},{"$f":"Stückliste!#REF!","v":{"$error":"#REF!"}},{"$f":"Stückliste!#REF!","v":{"$error":"#REF!"}},{"$f":"Stückliste!#REF!","v":{"$error":"#REF!"}},{"$f":"Stückliste!#REF!","v":{"$error":"#REF!"}}]
["a","5.5",8,{"$f":"Stückliste!#REF!","v":{"$error":"#REF!"}},{"$f":"Stückliste!#REF!","v":{"$error":"#REF!"}},{"$f":"Stückliste!#REF!","v":{"$error":"#REF!"}},{"$f":"Stückliste!#REF!","v":{"$error":"#REF!"}},{"$f":"Stückliste!#REF!","v":{"$error":"#REF!"}},{"$f":"Stückliste!#REF!","v":{"$error":"#REF!"}},{"$f":"Stückliste!#REF!","v":{"$error":"#REF!"}},{"$f":"Stückliste!#REF!","v":{"$error":"#REF!"}},{"$f":"Stückliste!#REF!","v":{"$error":"#REF!"}},{"$f":"Stückliste!#REF!","v":{"$error":"#REF!"}}]
["a","5.5",8,{"$f":"Stückliste!#REF!","v":{"$error":"#REF!"}},{"$f":"Stückliste!#REF!","v":{"$error":"#REF!"}},{"$f":"Stückliste!#REF!","v":{"$error":"#REF!"}},{"$f":"Stückliste!#REF!","v":{"$error":"#REF!"}},{"$f":"Stückliste!#REF!","v":{"$error":"#REF!"}},{"$f":"Stückliste!#REF!","v":{"$error":"#REF!"}},{"$f":"Stückliste!#REF!","v":{"$error":"#REF!"}},{"$f":"Stückliste!#REF!","v":{"$error":"#REF!"}},{"$f":"Stückliste!#REF!","v":{"$error":"#REF!"}},{"$f":"Stückliste!#REF!","v":{"$error":"#REF!"}}]
["a","5.5",8,{"$f":"Stückliste!#REF!","v":{"$error":"#REF!"}},{"$f":"Stückliste!#REF!","v":{"$error":"#REF!"}},{"$f":"Stückliste!#REF!","v":{"$error":"#REF!"}},{"$f":"Stückliste!#REF!","v":{"$error":"#REF!"}},{"$f":"Stückliste!#REF!","v":{"$error":"#REF!"}},{"$f":"Stückliste!#REF!","v":{"$error":"#REF!"}},{"$f":"Stückliste!#REF!","v":{"$error":"#REF!"}},{"$f":"Stückliste!#REF!","v":{"$error":"#REF!"}},{"$f":"Stückliste!#REF!","v":{"$error":"#REF!"}},{"$f":"Stückliste!#REF!","v":{"$error":"#REF!"}}]
["a","5.5",8,{"$f":"Stückliste!#REF!","v":{"$error":"#REF!"}},{"$f":"Stückliste!#REF!","v":{"$error":"#REF!"}},{"$f":"Stückliste!#REF!","v":{"$error":"#REF!"}},{"$f":"Stückliste!#REF!","v":{"$error":"#REF!"}},{"$f":"Stückliste!#REF!","v":{"$error":"#REF!"}},{"$f":"Stückliste!#REF!","v":{"$error":"#REF!"}},{"$f":"Stückliste!#REF!","v":{"$error":"#REF!"}},{"$f":"Stückliste!#REF!","v":{"$error":"#REF!"}},{"$f":"Stückliste!#REF!","v":{"$error":"#REF!"}},{"$f":"Stückliste!#REF!","v":{"$error":"#REF!"}}]
["a","5.5",8,{"$f":"Stückliste!#REF!","v":{"$error":"#REF!"}},{"$f":"Stückliste!#REF!","v":{"$error":"#REF!"}},{"$f":"Stückliste!#REF!","v":{"$error":"#REF!"}},{"$f":"Stückliste!#REF!","v":{"$error":"#REF!"}},{"$f":"Stückliste!#REF!","v":{"$error":"#REF!"}},{"$f":"Stückliste!#REF!","v":{"$error":"#REF!"}},{"$f":"Stückliste!#REF!","v":{"$error":"#REF!"}},{"$f":"Stückliste!#REF!","v":{"$error":"#REF!"}},{"$f":"Stückliste!#REF!","v":{"$error":"#REF!"}},{"$f":"Stückliste!#REF!","v":{"$error":"#REF!"}}]
["a","5.5",{"$f":"C68","v":8},{"$f":"Stückliste!#REF!","v":{"$error":"#REF!"}},{"$f":"Stückliste!#REF!","v":{"$error":"#REF!"}},{"$f":"Stückliste!#REF!","v":{"$error":"#REF!"}},{"$f":"Stückliste!#REF!","v":{"$error":"#REF!"}},{"$f":"Stückliste!#REF!","v":{"$error":"#REF!"}},{"$f":"Stückliste!#REF!","v":{"$error":"#REF!"}},{"$f":"Stückliste!#REF!","v":{"$error":"#REF!"}},{"$f":"Stückliste!#REF!","v":{"$error":"#REF!"}},{"$f":"Stückliste!#REF!","v":{"$error":"#REF!"}},{"$f":"Stückliste!#REF!","v":{"$error":"#REF!"}}]
[{"$f":"A69","v":"a"},{"$f":"B69","v":"5.5"},8,{"$f":"Stückliste!#REF!","v":{"$error":"#REF!"}},{"$f":"Stückliste!#REF!","v":{"$error":"#REF!"}},{"$f":"Stückliste!#REF!","v":{"$error":"#REF!"}},{"$f":"Stückliste!#REF!","v":{"$error":"#REF!"}},{"$f":"Stückliste!#REF!","v":{"$error":"#REF!"}},{"$f":"Stückliste!#REF!","v":{"$error":"#REF!"}},{"$f":"Stückliste!#REF!","v":{"$error":"#REF!"}},{"$f":"Stückliste!#REF!","v":{"$error":"#REF!"}},{"$f":"Stückliste!#REF!","v":{"$error":"#REF!"}},{"$f":"Stückliste!#REF!","v":{"$error":"#REF!"}}]
["a","5.5",8,{"$f":"Stückliste!#REF!","v":{"$error":"#REF!"}},{"$f":"Stückliste!#REF!","v":{"$error":"#REF!"}},{"$f":"Stückliste!#REF!","v":{"$error":"#REF!"}},{"$f":"Stückliste!#REF!","v":{"$error":"#REF!"}},{"$f":"Stückliste!#REF!","v":{"$error":"#REF!"}},{"$f":"Stückliste!#REF!","v":{"$error":"#REF!"}},{"$f":"Stückliste!#REF!","v":{"$error":"#REF!"}},{"$f":"Stückliste!#REF!","v":{"$error":"#REF!"}},{"$f":"Stückliste!#REF!","v":{"$error":"#REF!"}},{"$f":"Stückliste!#REF!","v":{"$error":"#REF!"}}]
["a","5.5",8,{"$f":"Stückliste!#REF!","v":{"$error":"#REF!"}},{"$f":"Stückliste!#REF!","v":{"$error":"#REF!"}},{"$f":"Stückliste!#REF!","v":{"$error":"#REF!"}},{"$f":"Stückliste!#REF!","v":{"$error":"#REF!"}},{"$f":"Stückliste!#REF!","v":{"$error":"#REF!"}},{"$f":"Stückliste!#REF!","v":{"$error":"#REF!"}},{"$f":"Stückliste!#REF!","v":{"$error":"#REF!"}},{"$f":"Stückliste!#REF!","v":{"$error":"#REF!"}},{"$f":"Stückliste!#REF!","v":{"$error":"#REF!"}},{"$f":"Stückliste!#REF!","v":{"$error":"#REF!"}}]
["a","5.5",8,{"$f":"Stückliste!#REF!","v":{"$error":"#REF!"}},{"$f":"Stückliste!#REF!","v":{"$error":"#REF!"}},{"$f":"Stückliste!#REF!","v":{"$error":"#REF!"}},{"$f":"Stückliste!#REF!","v":{"$error":"#REF!"}},{"$f":"Stückliste!#REF!","v":{"$error":"#REF!"}},{"$f":"Stückliste!#REF!","v":{"$error":"#REF!"}},{"$f":"Stückliste!#REF!","v":{"$error":"#REF!"}},{"$f":"Stückliste!#REF!","v":{"$error":"#REF!"}},{"$f":"Stückliste!#REF!","v":{"$error":"#REF!"}},{"$f":"Stückliste!#REF!","v":{"$error":"#REF!"}}]
["a","5.5",8,{"$f":"Stückliste!#REF!","v":{"$error":"#REF!"}},{"$f":"Stückliste!#REF!","v":{"$error":"#REF!"}},{"$f":"Stückliste!#REF!","v":{"$error":"#REF!"}},{"$f":"Stückliste!#REF!","v":{"$error":"#REF!"}},{"$f":"Stückliste!#REF!","v":{"$error":"#REF!"}},{"$f":"Stückliste!#REF!","v":{"$error":"#REF!"}},{"$f":"Stückliste!#REF!","v":{"$error":"#REF!"}},{"$f":"Stückliste!#REF!","v":{"$error":"#REF!"}},{"$f":"Stückliste!#REF!","v":{"$error":"#REF!"}},{"$f":"Stückliste!#REF!","v":{"$error":"#REF!"}}]
["a","5.5",8,{"$f":"Stückliste!#REF!","v":{"$error":"#REF!"}},{"$f":"Stückliste!#REF!","v":{"$error":"#REF!"}},{"$f":"Stückliste!#REF!","v":{"$error":"#REF!"}},{"$f":"Stückliste!#REF!","v":{"$error":"#REF!"}},{"$f":"Stückliste!#REF!","v":{"$error":"#REF!"}},{"$f":"Stückliste!#REF!","v":{"$error":"#REF!"}},{"$f":"Stückliste!#REF!","v":{"$error":"#REF!"}},{"$f":"Stückliste!#REF!","v":{"$error":"#REF!"}},{"$f":"Stückliste!#REF!","v":{"$error":"#REF!"}},{"$f":"Stückliste!#REF!","v":{"$error":"#REF!"}}]
["a","5.5",8,{"$f":"Stückliste!#REF!","v":{"$error":"#REF!"}},{"$f":"Stückliste!#REF!","v":{"$error":"#REF!"}},{"$f":"Stückliste!#REF!","v":{"$error":"#REF!"}},{"$f":"Stückliste!#REF!","v":{"$error":"#REF!"}},{"$f":"Stückliste!#REF!","v":{"$error":"#REF!"}},{"$f":"Stückliste!#REF!","v":{"$error":"#REF!"}},{"$f":"Stückliste!#REF!","v":{"$error":"#REF!"}},{"$f":"Stückliste!#REF!","v":{"$error":"#REF!"}},{"$f":"Stückliste!#REF!","v":{"$error":"#REF!"}},{"$f":"Stückliste!#REF!","v":{"$error":"#REF!"}}]
["a","5.5",8,{"$f":"Stückliste!#REF!","v":{"$error":"#REF!"}},{"$f":"Stückliste!#REF!","v":{"$error":"#REF!"}},{"$f":"Stückliste!#REF!","v":{"$error":"#REF!"}},{"$f":"Stückliste!#REF!","v":{"$error":"#REF!"}},{"$f":"Stückliste!#REF!","v":{"$error":"#REF!"}},{"$f":"Stückliste!#REF!","v":{"$error":"#REF!"}},{"$f":"Stückliste!#REF!","v":{"$error":"#REF!"}},{"$f":"Stückliste!#REF!","v":{"$error":"#REF!"}},{"$f":"Stückliste!#REF!","v":{"$error":"#REF!"}},{"$f":"Stückliste!#REF!","v":{"$error":"#REF!"}}]
["a","5.5",8,{"$f":"Stückliste!#REF!","v":{"$error":"#REF!"}},{"$f":"Stückliste!#REF!","v":{"$error":"#REF!"}},{"$f":"Stückliste!#REF!","v":{"$error":"#REF!"}},{"$f":"Stückliste!#REF!","v":{"$error":"#REF!"}},{"$f":"Stückliste!#REF!","v":{"$error":"#REF!"}},{"$f":"Stückliste!#REF!","v":{"$error":"#REF!"}},{"$f":"Stückliste!#REF!","v":{"$error":"#REF!"}},{"$f":"Stückliste!#REF!","v":{"$error":"#REF!"}},{"$f":"Stückliste!#REF!","v":{"$error":"#REF!"}},{"$f":"Stückliste!#REF!","v":{"$error":"#REF!"}}]
["a","5.5",8,{"$f":"Stückliste!#REF!","v":{"$error":"#REF!"}},{"$f":"Stückliste!#REF!","v":{"$error":"#REF!"}},{"$f":"Stückliste!#REF!","v":{"$error":"#REF!"}},{"$f":"Stückliste!#REF!","v":{"$error":"#REF!"}},{"$f":"Stückliste!#REF!","v":{"$error":"#REF!"}},{"$f":"Stückliste!#REF!","v":{"$error":"#REF!"}},{"$f":"Stückliste!#REF!","v":{"$error":"#REF!"}},{"$f":"Stückliste!#REF!","v":{"$error":"#REF!"}},{"$f":"Stückliste!#REF!","v":{"$error":"#REF!"}},{"$f":"Stückliste!#REF!","v":{"$error":"#REF!"}}]
["a","5.5",8,{"$f":"Stückliste!#REF!","v":{"$error":"#REF!"}},{"$f":"Stückliste!#REF!","v":{"$error":"#REF!"}},{"$f":"Stückliste!#REF!","v":{"$error":"#REF!"}},{"$f":"Stückliste!#REF!","v":{"$error":"#REF!"}},{"$f":"Stückliste!#REF!","v":{"$error":"#REF!"}},{"$f":"Stückliste!#REF!","v":{"$error":"#REF!"}},{"$f":"Stückliste!#REF!","v":{"$error":"#REF!"}},{"$f":"Stückliste!#REF!","v":{"$error":"#REF!"}},{"$f":"Stückliste!#REF!","v":{"$error":"#REF!"}},{"$f":"Stückliste!#REF!","v":{"$error":"#REF!"}}]
["a","5.5",8,{"$f":"Stückliste!#REF!","v":{"$error":"#REF!"}},{"$f":"Stückliste!#REF!","v":{"$error":"#REF!"}},{"$f":"Stückliste!#REF!","v":{"$error":"#REF!"}},{"$f":"Stückliste!#REF!","v":{"$error":"#REF!"}},{"$f":"Stückliste!#REF!","v":{"$error":"#REF!"}},{"$f":"Stückliste!#REF!","v":{"$error":"#REF!"}},{"$f":"Stückliste!#REF!","v":{"$error":"#REF!"}},{"$f":"Stückliste!#REF!","v":{"$error":"#REF!"}},{"$f":"Stückliste!#REF!","v":{"$error":"#REF!"}},{"$f":"Stückliste!#REF!","v":{"$error":"#REF!"}}]
["a","5.5",8,{"$f":"Stückliste!#REF!","v":{"$error":"#REF!"}},{"$f":"Stückliste!#REF!","v":{"$error":"#REF!"}},{"$f":"Stückliste!#REF!","v":{"$error":"#REF!"}},{"$f":"Stückliste!#REF!","v":{"$error":"#REF!"}},{"$f":"Stückliste!#REF!","v":{"$error":"#REF!"}},{"$f":"Stückliste!#REF!","v":{"$error":"#REF!"}},{"$f":"Stückliste!#REF!","v":{"$error":"#REF!"}},{"$f":"Stückliste!#REF!","v":{"$error":"#REF!"}},{"$f":"Stückliste!#REF!","v":{"$error":"#REF!"}},{"$f":"Stückliste!#REF!","v":{"$error":"#REF!"}}]
["a","5.5",8,{"$f":"Stückliste!#REF!","v":{"$error":"#REF!"}},{"$f":"Stückliste!#REF!","v":{"$error":"#REF!"}},{"$f":"Stückliste!#REF!","v":{"$error":"#REF!"}},{"$f":"Stückliste!#REF!","v":{"$error":"#REF!"}},{"$f":"Stückliste!#REF!","v":{"$error":"#REF!"}},{"$f":"Stückliste!#REF!","v":{"$error":"#REF!"}},{"$f":"Stückliste!#REF!","v":{"$error":"#REF!"}},{"$f":"Stückliste!#REF!","v":{"$error":"#REF!"}},{"$f":"Stückliste!#REF!","v":{"$error":"#REF!"}},{"$f":"Stückliste!#REF!","v":{"$error":"#REF!"}}]
["a","5.5",8,{"$f":"Stückliste!#REF!","v":{"$error":"#REF!"}},{"$f":"Stückliste!#REF!","v":{"$error":"#REF!"}},{"$f":"Stückliste!#REF!","v":{"$error":"#REF!"}},{"$f":"Stückliste!#REF!","v":{"$error":"#REF!"}},{"$f":"Stückliste!#REF!","v":{"$error":"#REF!"}},{"$f":"Stückliste!#REF!","v":{"$error":"#REF!"}},{"$f":"Stückliste!#REF!","v":{"$error":"#REF!"}},{"$f":"Stückliste!#REF!","v":{"$error":"#REF!"}},{"$f":"Stückliste!#REF!","v":{"$error":"#REF!"}},{"$f":"Stückliste!#REF!","v":{"$error":"#REF!"}}]
["a","5.5",8,{"$f":"Stückliste!#REF!","v":{"$error":"#REF!"}},{"$f":"Stückliste!#REF!","v":{"$error":"#REF!"}},{"$f":"Stückliste!#REF!","v":{"$error":"#REF!"}},{"$f":"Stückliste!#REF!","v":{"$error":"#REF!"}},{"$f":"Stückliste!#REF!","v":{"$error":"#REF!"}},{"$f":"Stückliste!#REF!","v":{"$error":"#REF!"}},{"$f":"Stückliste!#REF!","v":{"$error":"#REF!"}},{"$f":"Stückliste!#REF!","v":{"$error":"#REF!"}},{"$f":"Stückliste!#REF!","v":{"$error":"#REF!"}},{"$f":"Stückliste!#REF!","v":{"$error":"#REF!"}}]
["a","5.5",8,{"$f":"Stückliste!#REF!","v":{"$error":"#REF!"}},{"$f":"Stückliste!#REF!","v":{"$error":"#REF!"}},{"$f":"Stückliste!#REF!","v":{"$error":"#REF!"}},{"$f":"Stückliste!#REF!","v":{"$error":"#REF!"}},{"$f":"Stückliste!#REF!","v":{"$error":"#REF!"}},{"$f":"Stückliste!#REF!","v":{"$error":"#REF!"}},{"$f":"Stückliste!#REF!","v":{"$error":"#REF!"}},{"$f":"Stückliste!#REF!","v":{"$error":"#REF!"}},{"$f":"Stückliste!#REF!","v":{"$error":"#REF!"}},{"$f":"Stückliste!#REF!","v":{"$error":"#REF!"}}]
["a","5.5",8,{"$f":"Stückliste!#REF!","v":{"$error":"#REF!"}},{"$f":"Stückliste!#REF!","v":{"$error":"#REF!"}},{"$f":"Stückliste!#REF!","v":{"$error":"#REF!"}},{"$f":"Stückliste!#REF!","v":{"$error":"#REF!"}},{"$f":"Stückliste!#REF!","v":{"$error":"#REF!"}},{"$f":"Stückliste!#REF!","v":{"$error":"#REF!"}},{"$f":"Stückliste!#REF!","v":{"$error":"#REF!"}},{"$f":"Stückliste!#REF!","v":{"$error":"#REF!"}},{"$f":"Stückliste!#REF!","v":{"$error":"#REF!"}},{"$f":"Stückliste!#REF!","v":{"$error":"#REF!"}}]
["a","5.5",8,{"$f":"Stückliste!#REF!","v":{"$error":"#REF!"}},{"$f":"Stückliste!#REF!","v":{"$error":"#REF!"}},{"$f":"Stückliste!#REF!","v":{"$error":"#REF!"}},{"$f":"Stückliste!#REF!","v":{"$error":"#REF!"}},{"$f":"Stückliste!#REF!","v":{"$error":"#REF!"}},{"$f":"Stückliste!#REF!","v":{"$error":"#REF!"}},{"$f":"Stückliste!#REF!","v":{"$error":"#REF!"}},{"$f":"Stückliste!#REF!","v":{"$error":"#REF!"}},{"$f":"Stückliste!#REF!","v":{"$error":"#REF!"}},{"$f":"Stückliste!#REF!","v":{"$error":"#REF!"}}]
["a","5.5",8,{"$f":"Stückliste!#REF!","v":{"$error":"#REF!"}},{"$f":"Stückliste!#REF!","v":{"$error":"#REF!"}},{"$f":"Stückliste!#REF!","v":{"$error":"#REF!"}},{"$f":"Stückliste!#REF!","v":{"$error":"#REF!"}},{"$f":"Stückliste!#REF!","v":{"$error":"#REF!"}},{"$f":"Stückliste!#REF!","v":{"$error":"#REF!"}},{"$f":"Stückliste!#REF!","v":{"$error":"#REF!"}},{"$f":"Stückliste!#REF!","v":{"$error":"#REF!"}},{"$f":"Stückliste!#REF!","v":{"$error":"#REF!"}},{"$f":"Stückliste!#REF!","v":{"$error":"#REF!"}}]
["a","5.5",8,{"$f":"Stückliste!#REF!","v":{"$error":"#REF!"}},{"$f":"Stückliste!#REF!","v":{"$error":"#REF!"}},{"$f":"Stückliste!#REF!","v":{"$error":"#REF!"}},{"$f":"Stückliste!#REF!","v":{"$error":"#REF!"}},{"$f":"Stückliste!#REF!","v":{"$error":"#REF!"}},{"$f":"Stückliste!#REF!","v":{"$error":"#REF!"}},{"$f":"Stückliste!#REF!","v":{"$error":"#REF!"}},{"$f":"Stückliste!#REF!","v":{"$error":"#REF!"}},{"$f":"Stückliste!#REF!","v":{"$error":"#REF!"}},{"$f":"Stückliste!#REF!","v":{"$error":"#REF!"}}]
["a","5.5",8,{"$f":"Stückliste!#REF!","v":{"$error":"#REF!"}},{"$f":"Stückliste!#REF!","v":{"$error":"#REF!"}},{"$f":"Stückliste!#REF!","v":{"$error":"#REF!"}},{"$f":"Stückliste!#REF!","v":{"$error":"#REF!"}},{"$f":"Stückliste!#REF!","v":{"$error":"#REF!"}},{"$f":"Stückliste!#REF!","v":{"$error":"#REF!"}},{"$f":"Stückliste!#REF!","v":{"$error":"#REF!"}},{"$f":"Stückliste!#REF!","v":{"$error":"#REF!"}},{"$f":"Stückliste!#REF!","v":{"$error":"#REF!"}},{"$f":"Stückliste!#REF!","v":{"$error":"#REF!"}}]
["a","5.5",8,{"$f":"Stückliste!#REF!","v":{"$error":"#REF!"}},{"$f":"Stückliste!#REF!","v":{"$error":"#REF!"}},{"$f":"Stückliste!#REF!","v":{"$error":"#REF!"}},{"$f":"Stückliste!#REF!","v":{"$error":"#REF!"}},{"$f":"Stückliste!#REF!","v":{"$error":"#REF!"}},{"$f":"Stückliste!#REF!","v":{"$error":"#REF!"}},{"$f":"Stückliste!#REF!","v":{"$error":"#REF!"}},{"$f":"Stückliste!#REF!","v":{"$error":"#REF!"}},{"$f":"Stückliste!#REF!","v":{"$error":"#REF!"}},{"$f":"Stückliste!#REF!","v":{"$error":"#REF!"}}]
["a","5.5",8,{"$f":"Stückliste!#REF!","v":{"$error":"#REF!"}},{"$f":"Stückliste!#REF!","v":{"$error":"#REF!"}},{"$f":"Stückliste!#REF!","v":{"$error":"#REF!"}},{"$f":"Stückliste!#REF!","v":{"$error":"#REF!"}},{"$f":"Stückliste!#REF!","v":{"$error":"#REF!"}},{"$f":"Stückliste!#REF!","v":{"$error":"#REF!"}},{"$f":"Stückliste!#REF!","v":{"$error":"#REF!"}},{"$f":"Stückliste!#REF!","v":{"$error":"#REF!"}},{"$f":"Stückliste!#REF!","v":{"$error":"#REF!"}},{"$f":"Stückliste!#REF!","v":{"$error":"#REF!"}}]
["a","5.5",8,{"$f":"Stückliste!#REF!","v":{"$error":"#REF!"}},{"$f":"Stückliste!#REF!","v":{"$error":"#REF!"}},{"$f":"Stückliste!#REF!","v":{"$error":"#REF!"}},{"$f":"Stückliste!#REF!","v":{"$error":"#REF!"}},{"$f":"Stückliste!#REF!","v":{"$error":"#REF!"}},{"$f":"Stückliste!#REF!","v":{"$error":"#REF!"}},{"$f":"Stückliste!#REF!","v":{"$error":"#REF!"}},{"$f":"Stückliste!#REF!","v":{"$error":"#REF!"}},{"$f":"Stückliste!#REF!","v":{"$error":"#REF!"}},{"$f":"Stückliste!#REF!","v":{"$error":"#REF!"}}]
["a","5.5",8,{"$f":"Stückliste!#REF!","v":{"$error":"#REF!"}},{"$f":"Stückliste!#REF!","v":{"$error":"#REF!"}},{"$f":"Stückliste!#REF!","v":{"$error":"#REF!"}},{"$f":"Stückliste!#REF!","v":{"$error":"#REF!"}},{"$f":"Stückliste!#REF!","v":{"$error":"#REF!"}},{"$f":"Stückliste!#REF!","v":{"$error":"#REF!"}},{"$f":"Stückliste!#REF!","v":{"$error":"#REF!"}},{"$f":"Stückliste!#REF!","v":{"$error":"#REF!"}},{"$f":"Stückliste!#REF!","v":{"$error":"#REF!"}},{"$f":"Stückliste!#REF!","v":{"$error":"#REF!"}}]
["a","5.5",8,{"$f":"Stückliste!#REF!","v":{"$error":"#REF!"}},{"$f":"Stückliste!#REF!","v":{"$error":"#REF!"}},{"$f":"Stückliste!#REF!","v":{"$error":"#REF!"}},{"$f":"Stückliste!#REF!","v":{"$error":"#REF!"}},{"$f":"Stückliste!#REF!","v":{"$error":"#REF!"}},{"$f":"Stückliste!#REF!","v":{"$error":"#REF!"}},{"$f":"Stückliste!#REF!","v":{"$error":"#REF!"}},{"$f":"Stückliste!#REF!","v":{"$error":"#REF!"}},{"$f":"Stückliste!#REF!","v":{"$error":"#REF!"}},{"$f":"Stückliste!#REF!","v":{"$error":"#REF!"}}]
["a","5.5",8,{"$f":"Stückliste!#REF!","v":{"$error":"#REF!"}},{"$f":"Stückliste!#REF!","v":{"$error":"#REF!"}},{"$f":"Stückliste!#REF!","v":{"$error":"#REF!"}},{"$f":"Stückliste!#REF!","v":{"$error":"#REF!"}},{"$f":"Stückliste!#REF!","v":{"$error":"#REF!"}},{"$f":"Stückliste!#REF!","v":{"$error":"#REF!"}},{"$f":"Stückliste!#REF!","v":{"$error":"#REF!"}},{"$f":"Stückliste!#REF!","v":{"$error":"#REF!"}},{"$f":"Stückliste!#REF!","v":{"$error":"#REF!"}},{"$f":"Stückliste!#REF!","v":{"$error":"#REF!"}}]
["a","5.5",8,{"$f":"Stückliste!#REF!","v":{"$error":"#REF!"}},{"$f":"Stückliste!#REF!","v":{"$error":"#REF!"}},{"$f":"Stückliste!#REF!","v":{"$error":"#REF!"}},{"$f":"Stückliste!#REF!","v":{"$error":"#REF!"}},{"$f":"Stückliste!#REF!","v":{"$error":"#REF!"}},{"$f":"Stückliste!#REF!","v":{"$error":"#REF!"}},{"$f":"Stückliste!#REF!","v":{"$error":"#REF!"}},{"$f":"Stückliste!#REF!","v":{"$error":"#REF!"}},{"$f":"Stückliste!#REF!","v":{"$error":"#REF!"}},{"$f":"Stückliste!#REF!","v":{"$error":"#REF!"}}]
["a","5.5",8,{"$f":"Stückliste!#REF!","v":{"$error":"#REF!"}},{"$f":"Stückliste!#REF!","v":{"$error":"#REF!"}},{"$f":"Stückliste!#REF!","v":{"$error":"#REF!"}},{"$f":"Stückliste!#REF!","v":{"$error":"#REF!"}},{"$f":"Stückliste!#REF!","v":{"$error":"#REF!"}},{"$f":"Stückliste!#REF!","v":{"$error":"#REF!"}},{"$f":"Stückliste!#REF!","v":{"$error":"#REF!"}},{"$f":"Stückliste!#REF!","v":{"$error":"#REF!"}},{"$f":"Stückliste!#REF!","v":{"$error":"#REF!"}},{"$f":"Stückliste!#REF!","v":{"$error":"#REF!"}}]
["a","5.5",8,{"$f":"Stückliste!#REF!","v":{"$error":"#REF!"}},{"$f":"Stückliste!#REF!","v":{"$error":"#REF!"}},{"$f":"Stückliste!#REF!","v":{"$error":"#REF!"}},{"$f":"Stückliste!#REF!","v":{"$error":"#REF!"}},{"$f":"Stückliste!#REF!","v":{"$error":"#REF!"}},{"$f":"Stückliste!#REF!","v":{"$error":"#REF!"}},{"$f":"Stückliste!#REF!","v":{"$error":"#REF!"}},{"$f":"Stückliste!#REF!","v":{"$error":"#REF!"}},{"$f":"Stückliste!#REF!","v":{"$error":"#REF!"}},{"$f":"Stückliste!#REF!","v":{"$error":"#REF!"}}]
["a","5.5",8,{"$f":"Stückliste!#REF!","v":{"$error":"#REF!"}},{"$f":"Stückliste!#REF!","v":{"$error":"#REF!"}},{"$f":"Stückliste!#REF!","v":{"$error":"#REF!"}},{"$f":"Stückliste!#REF!","v":{"$error":"#REF!"}},{"$f":"Stückliste!#REF!","v":{"$error":"#REF!"}},{"$f":"Stückliste!#REF!","v":{"$error":"#REF!"}},{"$f":"Stückliste!#REF!","v":{"$error":"#REF!"}},{"$f":"Stückliste!#REF!","v":{"$error":"#REF!"}},{"$f":"Stückliste!#REF!","v":{"$error":"#REF!"}},{"$f":"Stückliste!#REF!","v":{"$error":"#REF!"}}]
["a","5.5",8,{"$f":"Stückliste!#REF!","v":{"$error":"#REF!"}},{"$f":"Stückliste!#REF!","v":{"$error":"#REF!"}},{"$f":"Stückliste!#REF!","v":{"$error":"#REF!"}},{"$f":"Stückliste!#REF!","v":{"$error":"#REF!"}},{"$f":"Stückliste!#REF!","v":{"$error":"#REF!"}},{"$f":"Stückliste!#REF!","v":{"$error":"#REF!"}},{"$f":"Stückliste!#REF!","v":{"$error":"#REF!"}},{"$f":"Stückliste!#REF!","v":{"$error":"#REF!"}},{"$f":"Stückliste!#REF!","v":{"$error":"#REF!"}},{"$f":"Stückliste!#REF!","v":{"$error":"#REF!"}}]
["a","5.5",8,{"$f":"Stückliste!#REF!","v":{"$error":"#REF!"}},{"$f":"Stückliste!#REF!","v":{"$error":"#REF!"}},{"$f":"Stückliste!#REF!","v":{"$error":"#REF!"}},{"$f":"Stückliste!#REF!","v":{"$error":"#REF!"}},{"$f":"Stückliste!#REF!","v":{"$error":"#REF!"}},{"$f":"Stückliste!#REF!","v":{"$error":"#REF!"}},{"$f":"Stückliste!#REF!","v":{"$error":"#REF!"}},{"$f":"Stückliste!#REF!","v":{"$error":"#REF!"}},{"$f":"Stückliste!#REF!","v":{"$error":"#REF!"}},{"$f":"Stückliste!#REF!","v":{"$error":"#REF!"}}]
["a","5.5",8,{"$f":"Stückliste!#REF!","v":{"$error":"#REF!"}},{"$f":"Stückliste!#REF!","v":{"$error":"#REF!"}},{"$f":"Stückliste!#REF!","v":{"$error":"#REF!"}},{"$f":"Stückliste!#REF!","v":{"$error":"#REF!"}},{"$f":"Stückliste!#REF!","v":{"$error":"#REF!"}},{"$f":"Stückliste!#REF!","v":{"$error":"#REF!"}},{"$f":"Stückliste!#REF!","v":{"$error":"#REF!"}},{"$f":"Stückliste!#REF!","v":{"$error":"#REF!"}},{"$f":"Stückliste!#REF!","v":{"$error":"#REF!"}},{"$f":"Stückliste!#REF!","v":{"$error":"#REF!"}}]
["a","5.5",8,{"$f":"Stückliste!#REF!","v":{"$error":"#REF!"}},{"$f":"Stückliste!#REF!","v":{"$error":"#REF!"}},{"$f":"Stückliste!#REF!","v":{"$error":"#REF!"}},{"$f":"Stückliste!#REF!","v":{"$error":"#REF!"}},{"$f":"Stückliste!#REF!","v":{"$error":"#REF!"}},{"$f":"Stückliste!#REF!","v":{"$error":"#REF!"}},{"$f":"Stückliste!#REF!","v":{"$error":"#REF!"}},{"$f":"Stückliste!#REF!","v":{"$error":"#REF!"}},{"$f":"Stückliste!#REF!","v":{"$error":"#REF!"}},{"$f":"Stückliste!#REF!","v":{"$error":"#REF!"}}]
["a","5.5",8,{"$f":"Stückliste!#REF!","v":{"$error":"#REF!"}},{"$f":"Stückliste!#REF!","v":{"$error":"#REF!"}},{"$f":"Stückliste!#REF!","v":{"$error":"#REF!"}},{"$f":"Stückliste!#REF!","v":{"$error":"#REF!"}},{"$f":"Stückliste!#REF!","v":{"$error":"#REF!"}},{"$f":"Stückliste!#REF!","v":{"$error":"#REF!"}},{"$f":"Stückliste!#REF!","v":{"$error":"#REF!"}},{"$f":"Stückliste!#REF!","v":{"$error":"#REF!"}},{"$f":"Stückliste!#REF!","v":{"$error":"#REF!"}},{"$f":"Stückliste!#REF!","v":{"$error":"#REF!"}}]
["a","5.5",8,{"$f":"Stückliste!#REF!","v":{"$error":"#REF!"}},{"$f":"Stückliste!#REF!","v":{"$error":"#REF!"}},{"$f":"Stückliste!#REF!","v":{"$error":"#REF!"}},{"$f":"Stückliste!#REF!","v":{"$error":"#REF!"}},{"$f":"Stückliste!#REF!","v":{"$error":"#REF!"}},{"$f":"Stückliste!#REF!","v":{"$error":"#REF!"}},{"$f":"Stückliste!#REF!","v":{"$error":"#REF!"}},{"$f":"Stückliste!#REF!","v":{"$error":"#REF!"}},{"$f":"Stückliste!#REF!","v":{"$error":"#REF!"}},{"$f":"Stückliste!#REF!","v":{"$error":"#REF!"}}]
["a","5.5",8,{"$f":"Stückliste!#REF!","v":{"$error":"#REF!"}},{"$f":"Stückliste!#REF!","v":{"$error":"#REF!"}},{"$f":"Stückliste!#REF!","v":{"$error":"#REF!"}},{"$f":"Stückliste!#REF!","v":{"$error":"#REF!"}},{"$f":"Stückliste!#REF!","v":{"$error":"#REF!"}},{"$f":"Stückliste!#REF!","v":{"$error":"#REF!"}},{"$f":"Stückliste!#REF!","v":{"$error":"#REF!"}},{"$f":"Stückliste!#REF!","v":{"$error":"#REF!"}},{"$f":"Stückliste!#REF!","v":{"$error":"#REF!"}},{"$f":"Stückliste!#REF!","v":{"$error":"#REF!"}}]
["a","5.5",8,{"$f":"Stückliste!#REF!","v":{"$error":"#REF!"}},{"$f":"Stückliste!#REF!","v":{"$error":"#REF!"}},{"$f":"Stückliste!#REF!","v":{"$error":"#REF!"}},{"$f":"Stückliste!#REF!","v":{"$error":"#REF!"}},{"$f":"Stückliste!#REF!","v":{"$error":"#REF!"}},{"$f":"Stückliste!#REF!","v":{"$error":"#REF!"}},{"$f":"Stückliste!#REF!","v":{"$error":"#REF!"}},{"$f":"Stückliste!#REF!","v":{"$error":"#REF!"}},{"$f":"Stückliste!#REF!","v":{"$error":"#REF!"}},{"$f":"Stückliste!#REF!","v":{"$error":"#REF!"}}]
["a","5.5",8,{"$f":"Stückliste!#REF!","v":{"$error":"#REF!"}},{"$f":"Stückliste!#REF!","v":{"$error":"#REF!"}},{"$f":"Stückliste!#REF!","v":{"$error":"#REF!"}},{"$f":"Stückliste!#REF!","v":{"$error":"#REF!"}},{"$f":"Stückliste!#REF!","v":{"$error":"#REF!"}},{"$f":"Stückliste!#REF!","v":{"$error":"#REF!"}},{"$f":"Stückliste!#REF!","v":{"$error":"#REF!"}},{"$f":"Stückliste!#REF!","v":{"$error":"#REF!"}},{"$f":"Stückliste!#REF!","v":{"$error":"#REF!"}},{"$f":"Stückliste!#REF!","v":{"$error":"#REF!"}}]
["a","5.5",8,{"$f":"Stückliste!#REF!","v":{"$error":"#REF!"}},{"$f":"Stückliste!#REF!","v":{"$error":"#REF!"}},{"$f":"Stückliste!#REF!","v":{"$error":"#REF!"}},{"$f":"Stückliste!#REF!","v":{"$error":"#REF!"}},{"$f":"Stückliste!#REF!","v":{"$error":"#REF!"}},{"$f":"Stückliste!#REF!","v":{"$error":"#REF!"}},{"$f":"Stückliste!#REF!","v":{"$error":"#REF!"}},{"$f":"Stückliste!#REF!","v":{"$error":"#REF!"}},{"$f":"Stückliste!#REF!","v":{"$error":"#REF!"}},{"$f":"Stückliste!#REF!","v":{"$error":"#REF!"}}]
["a","5.5",8,{"$f":"Stückliste!#REF!","v":{"$error":"#REF!"}},{"$f":"Stückliste!#REF!","v":{"$error":"#REF!"}},{"$f":"Stückliste!#REF!","v":{"$error":"#REF!"}},{"$f":"Stückliste!#REF!","v":{"$error":"#REF!"}},{"$f":"Stückliste!#REF!","v":{"$error":"#REF!"}},{"$f":"Stückliste!#REF!","v":{"$error":"#REF!"}},{"$f":"Stückliste!#REF!","v":{"$error":"#REF!"}},{"$f":"Stückliste!#REF!","v":{"$error":"#REF!"}},{"$f":"Stückliste!#REF!","v":{"$error":"#REF!"}},{"$f":"Stückliste!#REF!","v":{"$error":"#REF!"}}]
["a","5.5",8,{"$f":"Stückliste!#REF!","v":{"$error":"#REF!"}},{"$f":"Stückliste!#REF!","v":{"$error":"#REF!"}},{"$f":"Stückliste!#REF!","v":{"$error":"#REF!"}},{"$f":"Stückliste!#REF!","v":{"$error":"#REF!"}},{"$f":"Stückliste!#REF!","v":{"$error":"#REF!"}},{"$f":"Stückliste!#REF!","v":{"$error":"#REF!"}},{"$f":"Stückliste!#REF!","v":{"$error":"#REF!"}},{"$f":"Stückliste!#REF!","v":{"$error":"#REF!"}},{"$f":"Stückliste!#REF!","v":{"$error":"#REF!"}},{"$f":"Stückliste!#REF!","v":{"$error":"#REF!"}}]
["a","5.5",8,{"$f":"Stückliste!#REF!","v":{"$error":"#REF!"}},{"$f":"Stückliste!#REF!","v":{"$error":"#REF!"}},{"$f":"Stückliste!#REF!","v":{"$error":"#REF!"}},{"$f":"Stückliste!#REF!","v":{"$error":"#REF!"}},{"$f":"Stückliste!#REF!","v":{"$error":"#REF!"}},{"$f":"Stückliste!#REF!","v":{"$error":"#REF!"}},{"$f":"Stückliste!#REF!","v":{"$error":"#REF!"}},{"$f":"Stückliste!#REF!","v":{"$error":"#REF!"}},{"$f":"Stückliste!#REF!","v":{"$error":"#REF!"}},{"$f":"Stückliste!#REF!","v":{"$error":"#REF!"}}]
["a","5.5",8,{"$f":"Stückliste!#REF!","v":{"$error":"#REF!"}},{"$f":"Stückliste!#REF!","v":{"$error":"#REF!"}},{"$f":"Stückliste!#REF!","v":{"$error":"#REF!"}},{"$f":"Stückliste!#REF!","v":{"$error":"#REF!"}},{"$f":"Stückliste!#REF!","v":{"$error":"#REF!"}},{"$f":"Stückliste!#REF!","v":{"$error":"#REF!"}},{"$f":"Stückliste!#REF!","v":{"$error":"#REF!"}},{"$f":"Stückliste!#REF!","v":{"$error":"#REF!"}},{"$f":"Stückliste!#REF!","v":{"$error":"#REF!"}},{"$f":"Stückliste!#REF!","v":{"$error":"#REF!"}}]
["a","5.5",8,{"$f":"Stückliste!#REF!","v":{"$error":"#REF!"}},{"$f":"Stückliste!#REF!","v":{"$error":"#REF!"}},{"$f":"Stückliste!#REF!","v":{"$error":"#REF!"}},{"$f":"Stückliste!#REF!","v":{"$error":"#REF!"}},{"$f":"Stückliste!#REF!","v":{"$error":"#REF!"}},{"$f":"Stückliste!#REF!","v":{"$error":"#REF!"}},{"$f":"Stückliste!#REF!","v":{"$error":"#REF!"}},{"$f":"Stückliste!#REF!","v":{"$error":"#REF!"}},{"$f":"Stückliste!#REF!","v":{"$error":"#REF!"}},{"$f":"Stückliste!#REF!","v":{"$error":"#REF!"}}]
["a","5.5",8,{"$f":"Stückliste!#REF!","v":{"$error":"#REF!"}},{"$f":"Stückliste!#REF!","v":{"$error":"#REF!"}},{"$f":"Stückliste!#REF!","v":{"$error":"#REF!"}},{"$f":"Stückliste!#REF!","v":{"$error":"#REF!"}},{"$f":"Stückliste!#REF!","v":{"$error":"#REF!"}},{"$f":"Stückliste!#REF!","v":{"$error":"#REF!"}},{"$f":"Stückliste!#REF!","v":{"$error":"#REF!"}},{"$f":"Stückliste!#REF!","v":{"$error":"#REF!"}},{"$f":"Stückliste!#REF!","v":{"$error":"#REF!"}},{"$f":"Stückliste!#REF!","v":{"$error":"#REF!"}}]
["a","5.5",8,{"$f":"Stückliste!#REF!","v":{"$error":"#REF!"}},{"$f":"Stückliste!#REF!","v":{"$error":"#REF!"}},{"$f":"Stückliste!#REF!","v":{"$error":"#REF!"}},{"$f":"Stückliste!#REF!","v":{"$error":"#REF!"}},{"$f":"Stückliste!#REF!","v":{"$error":"#REF!"}},{"$f":"Stückliste!#REF!","v":{"$error":"#REF!"}},{"$f":"Stückliste!#REF!","v":{"$error":"#REF!"}},{"$f":"Stückliste!#REF!","v":{"$error":"#REF!"}},{"$f":"Stückliste!#REF!","v":{"$error":"#REF!"}},{"$f":"Stückliste!#REF!","v":{"$error":"#REF!"}}]
["a","5.5",8,{"$f":"Stückliste!#REF!","v":{"$error":"#REF!"}},{"$f":"Stückliste!#REF!","v":{"$error":"#REF!"}},{"$f":"Stückliste!#REF!","v":{"$error":"#REF!"}},{"$f":"Stückliste!#REF!","v":{"$error":"#REF!"}},{"$f":"Stückliste!#REF!","v":{"$error":"#REF!"}},{"$f":"Stückliste!#REF!","v":{"$error":"#REF!"}},{"$f":"Stückliste!#REF!","v":{"$error":"#REF!"}},{"$f":"Stückliste!#REF!","v":{"$error":"#REF!"}},{"$f":"Stückliste!#REF!","v":{"$error":"#REF!"}},{"$f":"Stückliste!#REF!","v":{"$error":"#REF!"}}]
["a","5.5",8,{"$f":"Stückliste!#REF!","v":{"$error":"#REF!"}},{"$f":"Stückliste!#REF!","v":{"$error":"#REF!"}},{"$f":"Stückliste!#REF!","v":{"$error":"#REF!"}},{"$f":"Stückliste!#REF!","v":{"$error":"#REF!"}},{"$f":"Stückliste!#REF!","v":{"$error":"#REF!"}},{"$f":"Stückliste!#REF!","v":{"$error":"#REF!"}},{"$f":"Stückliste!#REF!","v":{"$error":"#REF!"}},{"$f":"Stückliste!#REF!","v":{"$error":"#REF!"}},{"$f":"Stückliste!#REF!","v":{"$error":"#REF!"}},{"$f":"Stückliste!#REF!","v":{"$error":"#REF!"}}]

{"sheet":"Originalbestellung","index":4,"n_rows":162,"n_cols":51,"rows_kept":162,"cut":false,"hidden":true,"merged":[[6,0,6,54],[0,0,3,38],[0,39,3,54],[4,0,4,54],[5,0,5,13],[5,14,5,53],[11,44,11,49],[12,0,12,54],[7,0,7,13],[7,14,7,53],[8,0,8,54],[9,0,9,13],[9,14,9,53],[10,0,10,54],[11,0,11,13],[11,14,11,28],[11,29,11,31],[11,39,11,43],[15,0,15,54],[16,0,16,13],[16,14,16,19],[16,20,16,25],[16,31,16,33],[16,34,16,37],[13,0,13,13],[13,14,13,28],[18,43,18,48],[18,49,18,54],[17,0,17,54],[18,0,18,13],[18,14,18,19],[18,20,18,25],[18,31,18,33],[18,34,18,37],[13,29,13,54],[14,0,14,54],[16,43,16,48],[16,49,16,54],[19,0,19,54],[20,0,20,13],[20,14,20,19],[20,20,20,25],[20,31,20,33],[20,34,20,37],[20,43,20,48],[20,49,20,54],[24,0,24,54],[25,0,25,13],[25,14,25,32],[25,39,25,43],[25,44,25,54],[21,0,21,54],[22,0,22,13],[22,14,22,53],[23,0,23,54],[28,0,28,54],[26,0,26,54],[27,0,27,13],[27,14,27,32],[27,33,27,54],[29,0,29,13],[29,14,29,17],[29,18,29,21],[29,22,29,26],[29,27,29,31],[29,32,29,36],[29,37,29,41],[29,42,29,49],[31,0,47,13],[31,14,31,17],[31,18,31,21],[31,22,31,26],[31,27,31,31],[32,14,32,54],[33,14,33,17],[33,18,33,21],[31,42,31,49],[31,50,31,52],[29,50,29,52],[30,0,30,54],[35,18,35,21],[35,22,35,26],[35,27,35,31],[35,32,35,36],[31,32,31,36],[31,37,31,41],[36,14,36,54],[37,14,37,17],[37,18,37,21],[37,22,37,26],[37,50,37,52],[34,14,34,54],[35,42,35,49],[35,50,35,52],[35,14,35,17],[35,37,35,41],[33,32,33,36],[33,42,33,49],[33,22,33,26],[33,27,33,31],[38,14,38,54],[37,27,37,31],[33,50,33,52],[33,37,33,41],[37,32,37,36],[37,37,37,41],[37,42,37,49],[40,14,40,54],[39,42,39,49],[39,50,39,52],[39,14,39,17],[39,18,39,21],[39,22,39,26],[39,27,39,31],[41,14,41,17],[41,18,41,21],[41,22,41,26],[41,27,41,31],[41,32,41,36],[41,37,41,41],[41,42,41,49],[41,50,41,52],[39,32,39,36],[39,37,39,41],[42,14,42,54],[43,14,43,17],[43,18,43,21],[43,22,43,26],[43,27,43,31],[43,32,43,36],[43,37,43,41],[43,42,43,49],[43,50,43,52],[44,14,44,54],[45,14,45,17],[45,18,45,21],[45,22,45,26],[45,27,45,31],[45,32,45,36],[45,37,45,41],[45,42,45,49],[45,50,45,52],[46,14,46,54],[47,14,47,17],[47,18,47,21],[47,22,47,26],[47,27,47,31],[47,32,47,36],[47,37,47,41],[47,42,47,49],[47,50,47,52],[48,0,48,54],[49,0,49,38],[50,0,50,13],[50,14,50,21],[50,22,50,25],[50,26,50,28],[50,29,50,34],[50,35,50,38],[50,42,50,47],[51,0,51,38],[52,0,52,13],[52,14,52,21],[52,22,52,25],[52,26,52,28],[52,29,52,34],[52,35,52,38],[52,42,52,47],[53,0,53,38],[54,0,54,13],[54,14,54,21],[54,22,54,25],[54,26,54,28],[54,29,54,34],[54,35,54,38],[59,0,59,38],[71,0,74,38],[71,39,74,54],[55,0,55,38],[56,0,56,13],[56,14,56,21],[56,22,56,38],[56,40,56,46],[57,0,57,38],[58,0,58,13],[58,14,58,21],[58,22,58,38],[58,40,58,47],[82,44,82,47],[75,0,75,54],[76,0,76,13],[76,14,76,53],[77,0,77,54],[78,0,78,13],[78,14,78,53],[82,0,82,13],[82,14,82,28],[82,29,82,38],[82,39,82,43],[79,0,79,54],[80,0,80,13],[80,14,80,53],[81,0,81,54],[87,44,87,54],[88,0,88,54],[83,0,83,54],[84,0,84,13],[84,14,84,28],[84,29,84,54],[85,0,85,54],[86,0,86,54],[87,0,87,13],[87,14,87,32],[87,33,87,38],[87,39,87,43],[92,0,92,1],[92,2,92,3],[92,4,92,13],[92,14,92,53],[89,0,89,13],[89,14,89,32],[89,33,89,54],[90,0,91,54],[98,0,98,26],[98,27,98,54],[93,0,93,54],[94,0,94,13],[94,14,94,53],[95,0,95,54],[96,0,96,26],[96,27,96,54],[97,0,97,1],[97,2,97,26],[97,27,97,28],[97,29,97,54],[99,0,99,16],[99,26,100,26],[99,27,99,33],[99,34,100,53],[100,0,100,13],[100,15,100,21],[100,22,100,25],[100,27,100,32],[101,0,102,26],[101,27,101,54],[102,27,102,33],[102,34,103,53],[103,0,103,13],[103,15,103,21],[103,22,103,26],[103,27,103,32],[104,0,104,26],[104,27,104,33],[104,34,105,53],[105,0,105,13],[105,15,105,21],[105,22,105,26],[105,27,105,32],[106,0,106,26],[106,27,106,33],[106,34,107,53],[107,0,107,13],[107,15,107,21],[107,22,107,26],[107,27,107,32],[108,0,109,26],[108,27,109,54],[110,0,110,5],[110,6,110,13],[110,14,110,23],[110,24,110,29],[110,30,110,35],[110,36,110,41],[110,42,110,54],[112,0,112,5],[112,6,112,13],[112,14,112,23],[112,24,112,29],[112,30,112,35],[112,36,112,41],[112,42,112,54],[111,0,111,5],[111,6,111,13],[111,14,111,23],[111,24,111,29],[111,30,111,35],[111,36,111,41],[111,42,111,54],[114,0,114,5],[114,6,114,13],[114,14,114,23],[114,24,114,29],[114,30,114,35],[114,36,114,41],[114,42,114,54],[113,0,113,5],[113,6,113,13],[113,30,113,35],[113,36,113,41],[113,14,113,23],[113,24,113,29],[113,42,113,54],[142,39,145,54],[115,0,115,5],[115,6,115,13],[115,14,115,23],[115,24,115,29],[116,24,116,29],[116,30,116,35],[116,36,116,41],[116,42,116,54],[115,42,115,54],[116,0,116,5],[116,6,116,13],[116,14,116,23],[115,30,115,35],[115,36,115,41],[117,0,141,54],[142,0,145,38],[160,0,160,54],[161,0,161,54],[156,0,156,54],[157,0,157,13],[157,14,157,53],[158,0,158,54],[159,0,159,13],[159,14,159,53],[146,0,146,54],[155,0,155,13],[155,14,155,53],[148,0,148,54],[149,0,149,13],[149,14,149,53],[150,0,150,54],[151,0,151,13],[151,14,151,53],[153,0,153,13],[153,14,153,53],[154,0,154,54],[152,0,152,54],[147,0,147,13],[147,14,147,53]]}
["Auftragsblatt"]
[]
[]
[]
[]
["Kunde:",null,null,null,null,null,null,null,null,null,null,null,null,null,{"$f":"Stückliste!D5","v":0}]
[]
["Ort:",null,null,null,null,null,null,null,null,null,null,null,null,null,{"$f":"Stückliste!D11","v":0}]
[]
["Baustelle:",null,null,null,null,null,null,null,null,null,null,null,null,null,{"$f":"Stückliste!AB11","v":0}]
[]
["Vorgang:",null,null,null,null,null,null,null,null,null,null,null,null,null,null,null,null,null,null,null,null,null,null,null,null,null,null,null,null,null,null,null,null,null,null,null,null,null,"Bohrung:",{"$f":"Stückliste!AR1","v":"5.5"},null,null,null,null,"mm"]
[]
[]
[]
[]
["Plattenpreis:",null,null,null,null,null,null,null,null,null,null,null,null,null,null,null,null,null,null,null," Fr./m2",null,null,null,null,null,null,null,null,null,"Rab.:",null,null,null," %",null,null,null,null,null,null,null,"= netto",{"$f":"(O17/100)*(100-AF17)","v":0},null,null,null,null,null," Fr./m2"]
[]
["Schnittpreis:",null,null,null,null,null,null,null,null,null,null,null,null,null,null,null,null,null,null,null," Fr./ml",null,null,null,null,null,null,null,null,null,"Rab.:",null,null,null," %",null,null,null,null,null,null,null,"= netto",{"$f":"(O19/100)*(100-AF19)","v":0},null,null,null,null,null," Fr./ml"]
[]
["Lochpreis:",null,null,null,null,null,null,null,null,null,null,null,null,null,null,null,null,null,null,null," Fr./Stk.",null,null,null,null,null,null,null,null,null,"Rab.:",null,null,null," %",null,null,null,null,null,null,null,"= netto",{"$f":"(O21/100)*(100-AF21)","v":0},null,null,null,null,null," Fr./Stk."]
[]
["Bemerkungen:"]
[]
[]
["Material:",null,null,null,null,null,null,null,null,null,null,null,null,null,{"$f":"Stückliste!F22","v":0},null,null,null,null,null,null,null,null,null,null,null,null,null,null,null,null,null,null,null,null,null,null,null,"Dicke:",{"$f":"Stückliste!AQ22","v":8},null,null,null,null,"mm"]
[]
["Farbe:",null,null,null,null,null,null,null,null,null,null,null,null,null,{"$f":"Stückliste!Y22","v":0}]
[]
["Originalplatten:",null,null,null,null,null,null,null,null,null,null,null,null,null,null,null,null,null,"Stk. ",null,null,null,"3070",null,null,null,null,"mm   x ",null,null,null,null,"1270",null,null,null,null,"mm   =",null,null,null,null,{"$f":"O30*((W30/1000)*(AG30/1000))","v":0},null,null,null,null,null,null,null,"m2 "]
[]
[null,null,null,null,null,null,null,null,null,null,null,null,null,null,null,null,null,null,"Stk. ",null,null,null,"2530",null,null,null,null,"mm   x ",null,null,null,null,"1270",null,null,null,null,"mm   =",null,null,null,null,{"$f":"O32*((W32/1000)*(AG32/1000))","v":0},null,null,null,null,null,null,null,"m2 "]
[]
[null,null,null,null,null,null,null,null,null,null,null,null,null,null,null,null,null,null,"Stk. ",null,null,null,"2030",null,null,null,null,"mm   x ",null,null,null,null,"1270",null,null,null,null,"mm   =",null,null,null,null,{"$f":"O34*((W34/1000)*(AG34/1000))","v":0},null,null,null,null,null,null,null,"m2 "]
[]
[null,null,null,null,null,null,null,null,null,null,null,null,null,null,null,null,null,null,"Stk. ",null,null,null,"3070",null,null,null,null,"mm   x ",null,null,null,null,"950",null,null,null,null,"mm   =",null,null,null,null,{"$f":"O36*((W36/1000)*(AG36/1000))","v":0},null,null,null,null,null,null,null,"m2 "]
[]
[null,null,null,null,null,null,null,null,null,null,null,null,null,null,null,null,null,null,"Stk. ",null,null,null,"2530",null,null,null,null,"mm   x ",null,null,null,null,"950",null,null,null,null,"mm   =",null,null,null,null,{"$f":"O38*((W38/1000)*(AG38/1000))","v":0},null,null,null,null,null,null,null,"m2 "]
[]
[null,null,null,null,null,null,null,null,null,null,null,null,null,null,null,null,null,null,"Stk. ",null,null,null,null,null,null,null,null,"mm   x ",null,null,null,null,null,null,null,null,null,"mm   =",null,null,null,null,{"$f":"O40*((W40/1000)*(AG40/1000))","v":0},null,null,null,null,null,null,null,"m2 "]
[]
[null,null,null,null,null,null,null,null,null,null,null,null,null,null,null,null,null,null,"Stk. ",null,null,null,null,null,null,null,null,"mm   x ",null,null,null,null,null,null,null,null,null,"mm   =",null,null,null,null,{"$f":"O42*((W42/1000)*(AG42/1000))","v":0},null,null,null,null,null,null,null,"m2 "]
[]
[null,null,null,null,null,null,null,null,null,null,null,null,null,null,null,null,null,null,"Stk. ",null,null,null,null,null,null,null,null,"mm   x ",null,null,null,null,null,null,null,null,null,"mm   =",null,null,null,null,{"$f":"O44*((W44/1000)*(AG44/1000))","v":0},null,null,null,null,null,null,null,"m2 "]
[]
[null,null,null,null,null,null,null,null,null,null,null,null,null,null,null,null,null,null,"Stk. ",null,null,null,null,null,null,null,null,"mm   x ",null,null,null,null,null,null,null,null,null,"mm   =",null,null,null,null,{"$f":"O46*((W46/1000)*(AG46/1000))","v":0},null,null,null,null,null,null,null,"m2 "]
[]
[null,null,null,null,null,null,null,null,null,null,null,null,null,null,null,null,null,null,"Stk. ",null,null,null,null,null,null,null,null,"mm   x ",null,null,null,null,null,null,null,null,null,"mm   =",null,null,null,null,{"$f":"O48*((W48/1000)*(AG48/1000))","v":0},null,null,null,null,null,null,null,"m2 "]
[]
[]
["Plattenverbrauch:",null,null,null,null,null,null,null,null,null,null,null,null,null,{"$f":"SUM(AQ30:AX48)","v":0},null,null,null,null,null,null,null," m2  ",null,null,null,"=",null,null,100,null,null,null,null,null," %  "]
[]
["Ausnutzung:",null,null,null,null,null,null,null,null,null,null,null,null,null,{"$f":"Stückliste!U53","v":0},null,null,null,null,null,null,null," m2  ",null,null,null,"=",null,null,{"$f":"(AD51/O51)*O53","v":{"$error":"#DIV/0!"}},null,null,null,null,null," %  "]
[]
["Abfall / Verschnitt:",null,null,null,null,null,null,null,null,null,null,null,null,null,{"$f":"O51-O53","v":0},null,null,null,null,null,null,null," m2  ",null,null,null,"=",null,null,{"$f":"(AD51/O51)*O55","v":{"$error":"#DIV/0!"}},null,null,null,null,null," %  "]
[]
["Kantenschnitt:",null,null,null,null,null,null,null,null,null,null,null,null,null,{"$f":"Stückliste!AE53","v":0},null,null,null,null,null,null,null," ml",null,null,null,null,null,null,null,null,null,null,null,null,null,null,null,null,null,{"$f":"IF(AN26=8,15,23)","v":15}]
[]
["Anzahl Löcher:",null,null,null,null,null,null,null,null,null,null,null,null,null,{"$f":"Stückliste!AP53","v":0},null,null,null,null,null,null,null," Stk."]
[]
[]
[]
[]
[]
[]
[]
[]
[]
[]
[]
[]
["Arbeitsrapport"]
[]
[]
[]
[]
["Kunde:",null,null,null,null,null,null,null,null,null,null,null,null,null,{"$f":"O6","v":0}]
[]
["Ort:",null,null,null,null,null,null,null,null,null,null,null,null,null,{"$f":"O8","v":0}]
[]
["Baustelle:",null,null,null,null,null,null,null,null,null,null,null,null,null,{"$f":"O10","v":0}]
[]
["Vorgang:",null,null,null,null,null,null,null,null,null,null,null,null,null,{"$f":"O12","v":0},null,null,null,null,null,null,null,null,null,null,null,null,null,null,"Bohrung:",null,null,null,null,null,null,null,null,null,{"$f":"AN12","v":"5.5"},null,null,null,null,"mm"]
[]
[null,null,null,null,null,null,null,null,null,null,null,null,null,null,{"$f":"O14","v":0}]
[]
[]
["Material:",null,null,null,null,null,null,null,null,null,null,null,null,null,{"$f":"O26","v":0},null,null,null,null,null,null,null,null,null,null,null,null,null,null,null,null,null,null,"Dicke:",null,null,null,null,null,{"$f":"Stückliste!AQ22","v":8},null,null,null,null,"mm"]
[]
["Farbe:",null,null,null,null,null,null,null,null,null,null,null,null,null,{"$f":"O28","v":0}]
[]
[]
[null,null,null,null,"Zubehör:"]
[]
["Bemerkungen:",null,null,null,null,null,null,null,null,null,null,null,null,null,{"$f":"Stückliste!G47","v":0}]
[]
[]
[null,null,"Bearbeitung",null,null,null,null,null,null,null,null,null,null,null,null,null,null,null,null,null,null,null,null,null,null,null,null,null,null,"Termine"]
[]
[null,null,null,null,null,null,null,null,null,null,null,null,null,null,null,null,null,null,null,null,null,null,null,null,null,null,null,null,null,null,null,null,null,null,{"$f":"Stückliste!AF17","v":"00:00:00"}]
["Gewicht:",null,null,null,null,null,null,null,null,null,null,null,null,null,null,{"$f":"O51*(AN26*1.875)","v":0},null,null,null,null,null,null,"kg",null,null,null,null,"WT:"]
[]
[]
["Schnittmeter:",null,null,null,null,null,null,null,null,null,null,null,null,null,null,{"$f":"Stückliste!AE53","v":0},null,null,null,null,null,null,"m1",null,null,null,null,"AT:"]
[]
["Bohrungen:",null,null,null,null,null,null,null,null,null,null,null,null,null,null,{"$f":"Stückliste!AP53","v":0},null,null,null,null,null,null,"Stk",null,null,null,null,"WE:"]
[]
["Schnittzeit",null,null,null,null,null,null,null,null,null,null,null,null,null,null,null,null,null,null,null,null,null," Std.",null,null,null,null,"Info:"]
[]
[]
["Datum",null,null,null,null,null,"Arbeiter",null,null,null,null,null,null,null,"Arbeitsgang",null,null,null,null,null,null,null,null,null,"Beginn",null,null,null,null,null,"Ende",null,null,null,null,null,"TOTAL",null,null,null,null,null,"Bemerkungen"]
[null,null,null,null,null,null,null,null,null,null,null,null,null,null,"bestellen",null,null,null,null,null,null,null,null,null,null,null,null,null,null,null,null,null,null,null,null,null,{"$f":"AE112-Y112","v":0}]
[null,null,null,null,null,null,"Naim",null,null,null,null,null,null,null,"optimieren",null,null,null,null,null,null,null,null,null,null,null,null,null,null,null,null,null,null,null,null,null,0]
[null,null,null,null,null,null,null,null,null,null,null,null,null,null,"schneiden",null,null,null,null,null,null,null,null,null,null,null,null,null,null,null,null,null,null,null,null,null,0]
[null,null,null,null,null,null,null,null,null,null,null,null,null,null,"schneiden",null,null,null,null,null,null,null,null,null,null,null,null,null,null,null,null,null,null,null,null,null,0]
[null,null,null,null,null,null,null,null,null,null,null,null,null,null,"bohren",null,null,null,null,null,null,null,null,null,null,null,null,null,null,null,null,null,null,null,null,null,0]
[null,null,null,null,null,null,null,null,null,null,null,null,null,null,"bohren",null,null,null,null,null,null,null,null,null,null,null,null,null,null,null,null,null,null,null,null,null,0]
[]
[]
[]
[]
[]
[]
[]
[]
[]
[]
[]
[]
[]
[]
[]
[]
[]
[]
[]
[]
[]
[]
[]
[]
[]
["KOMMISSION"]
[]
[]
[]
[]
["Kunde:",null,null,null,null,null,null,null,null,null,null,null,null,null,{"$f":"O6","v":0}]
[]
["Ort:",null,null,null,null,null,null,null,null,null,null,null,null,null,{"$f":"O8","v":0}]
[]
["Baustelle:",null,null,null,null,null,null,null,null,null,null,null,null,null,{"$f":"O10","v":0}]
[]
["Vorgang Gasser:",null,null,null,null,null,null,null,null,null,null,null,null,null,{"$f":"O12","v":0}]
[]
[null,null,null,null,null,null,null,null,null,null,null,null,null,null,{"$f":"O14","v":0}]
[]
["Listen-Nr.:"]
[]
["Pos.-Nr.:"]
[]
["Gasser Baumaterialien AG, 7001 Chur        Tel: 081 / 354 11 11 "]

{"sheet":"Farben","index":5,"n_rows":140,"n_cols":19,"rows_kept":140,"cut":false,"hidden":true,"merged":[]}
[]
[]
[]
[]
["Schrauben","Beige N 811","SwisspearlFarben02","SwisspearlFarben07","Swisspearl Carat","Bauplatten","Duripanel","Plancolor","Fermacell","Knauf","Rockpanel","Dreischichtplatte","MDF","Swissfiber",null,"Plattenmaterial",null,"SB","Stärke"]
["Beige N 811","Beige N 811","Beige N 801","Beige N 811","Carat N 7020","Eterplan","Duripanel 1","Plancolor N 1015","Fermacell10","Knauf12.5","Rockpanel","Dreischichtplatte","MDF","Swissfiber",null,"Swisspearl Farben 02",null,"Naim",4]
["Beige N 813","Beige N 813","Beige N 802","Beige N 813","Carat N 7021","Eterplan Plus 10","Duripanel 2","Plancolor N 2010","Fermacell12.5","Knauf15",null,null,null,null,null,"Swisspearl Farben 07",null,"Patrick",5]
["Blaun N 411","Blaun N 411","Beige T 803","Blaun N 411","Carat N 7022","Eterplan Plus 12",null,"Plancolor N 4010","Fermacell15","Knauf18",null,null,null,null,null,"Swisspearl Carat",null,"René",6]
["Blau N 412","Blau N 412","Blau N 401","Blau N 412","Carat N 7030","Eterplan Plus 15",null,"Plancolor N 6505","Fermacell18","Knauf20",null,null,null,null,null,"Bauplatten",null,null,7]
["Braun N 915","Braun N 915","Blau N 402","Braun N 915","Carat N 7031","Eterplan Plus 20",null,"Plancolor N 6510",null,null,null,null,null,null,null,"Duripanel geschl",null,null,8]
["Gelb N 611","Gelb N 611","Blau T 403","Gelb N 611","Carat N 7032","Eterplan Plus 6",null,"Plancolor N 6520",null,null,null,null,null,null,null,"Duripanel ungeschl",null,null,9]
["Gelb N 612","Gelb N 612","Blau T 404","Gelb N 612","Carat N 7040","Eterplan Plus 8",null,null,null,null,null,null,null,null,null,"Gipskartonplatten",null,null,10]
["Grau N 211","Grau N 211","Blau T 405","Grau N 211","Carat N 7041",null,null,null,null,null,null,null,null,null,null,"Knauf",null,null,12]
["Grau N 212","Grau N 212","Blau T 405","Grau N 212","Carat N 7043",null,null,null,null,null,null,null,null,null,null,"Plancolor",null,null,14]
["Grau N 213","Grau N 213","Braun TN 901","Grau N 213","Carat N 7050",null,null,null,null,null,null,null,null,null,null,"Welleternit",null,null,15]
["Grau N 214","Grau N 214","Braun TN 902","Grau N 214","Carat N 7051",null,null,null,null,null,null,null,null,null,null,"Fermacell",null,null,16]
["Grau N 215","Grau N 215","Braun TN 903","Grau N 215","Carat N 7060",null,null,null,null,null,null,null,null,null,null,"Rockpanel",null,null,18]
["Grün N 511","Grün N 511","Braun TN 904","Grün N 511","Carat N 7061",null,null,null,null,null,null,null,null,null,null,"Dreischichtplatte",null,null,20]
["Grün N 512","Grün N 512","Gelb T 601","Grün N 512","Carat N 7070",null,null,null,null,null,null,null,null,null,null,"MDF",null,null,22]
["Grün N 513","Grün N 513","Gelb T 602","Grün N 513","Carat N 7071",null,null,null,null,null,null,null,null,null,null,"Swissfibre",null,null,24]
["Grün N 514","Grün N 514","Gelb T 603","Grün N 514","Carat N 7073",null,null,null,null,null,null,null,null,null,null,null,null,null,25]
["Grün N 515","Grün N 515","Grau N 201","Grün N 515","Carat N 7080",null,null,null,null,null,null,null,null,null,null,null,null,null,28]
["Orange N 711","Orange N 711","Grau N 202","Orange N 711","Carat N 7081",null,null,null,null,null,null,null,null,null,null,null,null,null,30]
["Rot N 312","Rot N 312","Grau N 203","Rot N 312","Carat N 7082",null,null,null,null,null,null,null,null,null,null,null,null,null,32]
["Schwarz N 012","Schwarz N 012","Grau N 204","Schwarz N 012","Carat N 7090",null,null,null,null,null,null,null,null,null,null,null,null,null,36]
["Weiss N 112","Weiss N 112","Grau T 205","Weiss N 112","Carat N 7091",null,null,null,null,null,null,null,null,null,null,null,null,null,37]
["Beige P 812","Beige P 812","Grau T 206","Beige P 812","Xpressiv 5747",null,null,null,null,null,null,null,null,null,null,null,null,null,40]
["Blau P 413","Blau P 413","Grau T 207","Blau P 413"]
["Blau P 414","Blau P 414","Grau T 208","Blau P 414"]
["Gelb P 613","Gelb P 613","Grün N 501","Gelb P 613"]
["Gelb P 614","Gelb P 614","Grün N 502","Gelb P 614"]
["Gelb P 615","Gelb P 615","Grün N 503","Gelb P 615"]
["Gelb P 616","Gelb P 616","Grün T 504","Gelb P 616"]
["Gelb P 617","Gelb P 617","Orange T 701","Gelb P 617"]
["Grau P 216","Grau P 216","Rot N 301","Grau P 216"]
["Grün P 516","Grün P 516","Rot N 302","Grün P 516"]
["Grün P 517","Grün P 517","Rot N 303","Grün P 517"]
["Grün P 518","Grün P 518","Rot T 304","Grün P 518"]
["Grün P 519","Grün P 519","Rot T 306","Grün P 519"]
["Orange P 712","Orange P 712","Rot T 307","Orange P 712"]
["Rot P 313","Rot P 313","Schwarz T 001","Rot P 313"]
["Rot P 314","Rot P 314","Schwarz T 002","Rot P 314"]
["Rot P 315","Rot P 315","Weiss N 101","Rot P 315"]
["Schwarz P 011","Schwarz P 011","Weiss T 102","Schwarz P 011"]
["Weiss P 111","Weiss P 111","Weiss T 103","Weiss P 111"]
["Weiss P 113","Weiss P 113",null,"Weiss P 113"]
["Braun TR 911","Braun TR 911",null,"Braun TR 911"]
["Braun TR 912","Braun TR 912",null,"Braun TR 912"]
["Braun TR 913","Braun TR 913",null,"Braun TR 913"]
["Braun TR 914","Braun TR 914",null,"Braun TR 914"]
["Rot TR 311","Rot TR 311",null,"Rot TR 311"]
["Carat N 7020","Carat N 7020"]
["Carat N 7021","Carat N 7021"]
["Carat N 7022","Carat N 7022"]
["Carat N 7030","Carat N 7030"]
["Carat N 7031","Carat N 7031"]
["Carat N 7032","Carat N 7032"]
["Carat N 7040","Carat N 7040"]
["Carat N 7041","Carat N 7041"]
["Carat N 7043","Carat N 7043"]
["Carat N 7050","Carat N 7050"]
["Carat N 7051","Carat N 7051"]
["Carat N 7060","Carat N 7060"]
["Carat N 7061","Carat N 7061"]
["Carat N 7070","Carat N 7070"]
["Carat N 7071","Carat N 7071"]
["Carat N 7073","Carat N 7073"]
["Carat N 7080","Carat N 7080"]
["Carat N 7081","Carat N 7081"]
["Carat N 7082","Carat N 7082"]
["Carat N 7090","Carat N 7090"]
["Carat N 7091","Carat N 7091"]
["Xpressiv 5747","Xpressiv 5747"]
["Beige N 801","Beige N 801"]
["Beige N 802","Beige N 802"]
["Beige T 803","Beige T 803"]
["Blau N 401","Blau N 401"]
["Blau N 402","Blau N 402"]
["Blau T 403","Blau T 403"]
["Blau T 404","Blau T 404"]
["Blau T 405","Blau T 405"]
["Blau T 405","Blau T 405"]
["Braun TN 901","Braun TN 901"]
["Braun TN 902","Braun TN 902"]
["Braun TN 903","Braun TN 903"]
["Braun TN 904","Braun TN 904"]
["Gelb T 601","Gelb T 601"]
["Gelb T 602","Gelb T 602"]
["Gelb T 603","Gelb T 603"]
["Grau N 201","Grau N 201"]
["Grau N 202","Grau N 202"]
["Grau N 203","Grau N 203"]
["Grau N 204","Grau N 204"]
["Grau T 205","Grau T 205"]
["Grau T 206","Grau T 206"]
["Grau T 207","Grau T 207"]
["Grau T 208","Grau T 208"]
["Grün N 501","Grün N 501"]
["Grün N 502","Grün N 502"]
["Grün N 503","Grün N 503"]
["Grün T 504","Grün T 504"]
["Orange T 701","Orange T 701"]
["Rot N 301","Rot N 301"]
["Rot N 302","Rot N 302"]
["Rot N 303","Rot N 303"]
["Rot T 304","Rot T 304"]
["Rot T 306","Rot T 306"]
["Rot T 307","Rot T 307"]
["Schwarz T 001","Schwarz T 001"]
["Schwarz T 002","Schwarz T 002"]
["Weiss N 101","Weiss N 101"]
["Weiss T 102","Weiss T 102"]
["Weiss T 103","Weiss T 103"]
[null,"Eterplan"]
[null,"Eterplan Plus 10"]
[null,"Eterplan Plus 12"]
[null,"Eterplan Plus 15"]
[null,"Eterplan Plus 20"]
[null,"Eterplan Plus 6"]
[null,"Eterplan Plus 8"]
[null,"Duripanel 1"]
[null,"Duripanel 2"]
[null,"Plancolor N 1015"]
[null,"Plancolor N 2010"]
[null,"Plancolor N 4010"]
[null,"Plancolor N 6505"]
[null,"Plancolor N 6510"]
[null,"Plancolor N 6520"]
[null,"Fermacell10"]
[null,"Fermacell12.5"]
[null,"Fermacell15"]
[null,"Fermacell18"]
[null,"Knauf12.5"]
[null,"Knauf15"]
[null,"Knauf18"]
[null,"Knauf20"]
[null,"Rockpanel"]
[null,"Dreischichtplatte"]
[null,"MDF"]
[null,"Swissfiber"]