{"text_format":"1","workbook":"xlsx","n_sheets":6,"sheets":["Eternit","Stückliste","Schelling","Alphacam","Originalbestellung","Farben"],"not_rendered":{"charts":0,"images":4,"macros":1,"external_links":2,"defined_names":50,"comments":1,"pivot_tables":0},"unopened":[],"bounds":{"document_bytes":16777216,"sheet_cells":100000,"rows_first":2000,"rows_last":500,"rows_between":2000,"halvings":0,"cell_chars":16384,"cell_head_chars":4096},"cells_cut":0,"cells_raw":0,"read":"whole","date_system":"1900"}

{"sheet":"Eternit","index":0,"n_rows":830,"n_cols":25,"rows_kept":830,"cut":false,"hidden":false,"merged":[[0,7,0,14],[0,15,0,22],[0,23,0,24],[0,0,1,0],[0,1,1,1],[0,2,1,2],[0,3,1,3],[0,4,1,4],[0,5,0,6]]}
["Palettierung ","Vermerk","Dicke","Pos.","Stück","Plattenformat",null,"Raster X",null,null,null,null,null,null,null,"Raster Y",null,null,null,null,null,null,null,"Anzahl Löcher"]
[null,null,null,null,null,"Länge X mm","Breite Y mm","XA","X1","X2","X3","X4","X5","X6","XB","YA","Y1","Y2","Y3","Y4","Y5","Y6","YB","XL","YL"]
[{"$f":"Stückliste!AN1","v":0},{"$f":"Stückliste!AV1","v":0},{"$f":"Stückliste!AQ22","v":8},{"$f":"Stückliste!A56","v":0},{"$f":"Stückliste!D56","v":0},{"$f":"Stückliste!H56","v":0},{"$f":"Stückliste!L56","v":0},{"$f":"Stückliste!P56","v":0},{"$f":"Stückliste!R56","v":0},{"$f":"Stückliste!T56","v":0},{"$f":"Stückliste!V56","v":0},{"$f":"Stückliste!X56","v":0},{"$f":"Stückliste!Z56","v":0},{"$f":"Stückliste!AB56","v":0},{"$f":"Stückliste!AD56","v":0},{"$f":"Stückliste!AH56","v":0},{"$f":"Stückliste!AJ56","v":0},{"$f":"Stückliste!AL56","v":0},{"$f":"Stückliste!AN56","v":0},{"$f":"Stückliste!AP56","v":0},{"$f":"Stückliste!AR56","v":0},{"$f":"Stückliste!AT56","v":0},{"$f":"Stückliste!AV56","v":0},{"$f":"Stückliste!AF56","v":0},{"$f":"Stückliste!AX56","v":0}]
[{"$f":"A3","v":0},0,{"$f":"C3","v":8},{"$f":"Stückliste!A57","v":0},{"$f":"Stückliste!D57","v":0},{"$f":"Stückliste!H57","v":0},{"$f":"Stückliste!L57","v":0},{"$f":"Stückliste!P57","v":0},{"$f":"Stückliste!R57","v":0},{"$f":"Stückliste!T57","v":0},{"$f":"Stückliste!V57","v":0},{"$f":"Stückliste!X57","v":0},{"$f":"Stückliste!Z57","v":0},{"$f":"Stückliste!AB57","v":0},{"$f":"Stückliste!AD57","v":0},{"$f":"Stückliste!AH57","v":0},{"$f":"Stückliste!AJ57","v":0},{"$f":"Stückliste!AL57","v":0},{"$f":"Stückliste!AN57","v":0},{"$f":"Stückliste!AP57","v":0},{"$f":"Stückliste!AR57","v":0},{"$f":"Stückliste!AT57","v":0},{"$f":"Stückliste!AV57","v":0},{"$f":"Stückliste!AF57","v":0},{"$f":"Stückliste!AX57","v":0}]
[0,0,8,{"$f":"Stückliste!A58","v":0},{"$f":"Stückliste!D58","v":0},{"$f":"Stückliste!H58","v":0},{"$f":"Stückliste!L58","v":0},{"$f":"Stückliste!P58","v":0},{"$f":"Stückliste!R58","v":0},{"$f":"Stückliste!T58","v":0},{"$f":"Stückliste!V58","v":0},{"$f":"Stückliste!X58","v":0},{"$f":"Stückliste!Z58","v":0},{"$f":"Stückliste!AB58","v":0},{"$f":"Stückliste!AD58","v":0},{"$f":"Stückliste!AH58","v":0},{"$f":"Stückliste!AJ58","v":0},{"$f":"Stückliste!AL58","v":0},{"$f":"Stückliste!AN58","v":0},{"$f":"Stückliste!AP58","v":0},{"$f":"Stückliste!AR58","v":0},{"$f":"Stückliste!AT58","v":0},{"$f":"Stückliste!AV58","v":0},{"$f":"Stückliste!AF58","v":0},{"$f":"Stückliste!AX58","v":0}]
[0,0,8,{"$f":"Stückliste!A59","v":0},{"$f":"Stückliste!D59","v":0},{"$f":"Stückliste!H59","v":0},{"$f":"Stückliste!L59","v":0},{"$f":"Stückliste!P59","v":0},{"$f":"Stückliste!R59","v":0},{"$f":"Stückliste!T59","v":0},{"$f":"Stückliste!V59","v":0},{"$f":"Stückliste!X59","v":0},{"$f":"Stückliste!Z59","v":0},{"$f":"Stückliste!AB59","v":0},{"$f":"Stückliste!AD59","v":0},{"$f":"Stückliste!AH59","v":0},{"$f":"Stückliste!AJ59","v":0},{"$f":"Stückliste!AL59","v":0},{"$f":"Stückliste!AN59","v":0},{"$f":"Stückliste!AP59","v":0},{"$f":"Stückliste!AR59","v":0},{"$f":"Stückliste!AT59","v":0},{"$f":"Stückliste!AV59","v":0},{"$f":"Stückliste!AF59","v":0},{"$f":"Stückliste!AX59","v":0}]
[0,0,8,{"$f":"Stückliste!A60","v":0},{"$f":"Stückliste!D60","v":0},{"$f":"Stückliste!H60","v":0},{"$f":"Stückliste!L60","v":0},{"$f":"Stückliste!P60","v":0},{"$f":"Stückliste!R60","v":0},{"$f":"Stückliste!T60","v":0},{"$f":"Stückliste!V60","v":0},{"$f":"Stückliste!X60","v":0},{"$f":"Stückliste!Z60","v":0},{"$f":"Stückliste!AB60","v":0},{"$f":"Stückliste!AD60","v":0},{"$f":"Stückliste!AH60","v":0},{"$f":"Stückliste!AJ60","v":0},{"$f":"Stückliste!AL60","v":0},{"$f":"Stückliste!AN60","v":0},{"$f":"Stückliste!AP60","v":0},{"$f":"Stückliste!AR60","v":0},{"$f":"Stückliste!AT60","v":0},{"$f":"Stückliste!AV60","v":0},{"$f":"Stückliste!AF60","v":0},{"$f":"Stückliste!AX60","v":0}]
[0,0,8,{"$f":"Stückliste!A61","v":0},{"$f":"Stückliste!D61","v":0},{"$f":"Stückliste!H61","v":0},{"$f":"Stückliste!L61","v":0},{"$f":"Stückliste!P61","v":0},{"$f":"Stückliste!R61","v":0},{"$f":"Stückliste!T61","v":0},{"$f":"Stückliste!V61","v":0},{"$f":"Stückliste!X61","v":0},{"$f":"Stückliste!Z61","v":0},{"$f":"Stückliste!AB61","v":0},{"$f":"Stückliste!AD61","v":0},{"$f":"Stückliste!AH61","v":0},{"$f":"Stückliste!AJ61","v":0},{"$f":"Stückliste!AL61","v":0},{"$f":"Stückliste!AN61","v":0},{"$f":"Stückliste!AP61","v":0},{"$f":"Stückliste!AR61","v":0},{"$f":"Stückliste!AT61","v":0},{"$f":"Stückliste!AV61","v":0},{"$f":"Stückliste!AF61","v":0},{"$f":"Stückliste!AX61","v":0}]
[0,0,8,{"$f":"Stückliste!A62","v":0},{"$f":"Stückliste!D62","v":0},{"$f":"Stückliste!H62","v":0},{"$f":"Stückliste!L62","v":0},{"$f":"Stückliste!P62","v":0},{"$f":"Stückliste!R62","v":0},{"$f":"Stückliste!T62","v":0},{"$f":"Stückliste!V62","v":0},{"$f":"Stückliste!X62","v":0},{"$f":"Stückliste!Z62","v":0},{"$f":"Stückliste!AB62","v":0},{"$f":"Stückliste!AD62","v":0},{"$f":"Stückliste!AH62","v":0},{"$f":"Stückliste!AJ62","v":0},{"$f":"Stückliste!AL62","v":0},{"$f":"Stückliste!AN62","v":0},{"$f":"Stückliste!AP62","v":0},{"$f":"Stückliste!AR62","v":0},{"$f":"Stückliste!AT62","v":0},{"$f":"Stückliste!AV62","v":0},{"$f":"Stückliste!AF62","v":0},{"$f":"Stückliste!AX62","v":0}]
[0,0,8,{"$f":"Stückliste!A63","v":0},{"$f":"Stückliste!D63","v":0},{"$f":"Stückliste!H63","v":0},{"$f":"Stückliste!L63","v":0},{"$f":"Stückliste!P63","v":0},{"$f":"Stückliste!R63","v":0},{"$f":"Stückliste!T63","v":0},{"$f":"Stückliste!V63","v":0},{"$f":"Stückliste!X63","v":0},{"$f":"Stückliste!Z63","v":0},{"$f":"Stückliste!AB63","v":0},{"$f":"Stückliste!AD63","v":0},{"$f":"Stückliste!AH63","v":0},{"$f":"Stückliste!AJ63","v":0},{"$f":"Stückliste!AL63","v":0},{"$f":"Stückliste!AN63","v":0},{"$f":"Stückliste!AP63","v":0},{"$f":"Stückliste!AR63","v":0},{"$f":"Stückliste!AT63","v":0},{"$f":"Stückliste!AV63","v":0},{"$f":"Stückliste!AF63","v":0},{"$f":"Stückliste!AX63","v":0}]
[0,0,8,{"$f":"Stückliste!A64","v":0},{"$f":"Stückliste!D64","v":0},{"$f":"Stückliste!H64","v":0},{"$f":"Stückliste!L64","v":0},{"$f":"Stückliste!P64","v":0},{"$f":"Stückliste!R64","v":0},{"$f":"Stückliste!T64","v":0},{"$f":"Stückliste!V64","v":0},{"$f":"Stückliste!X64","v":0},{"$f":"Stückliste!Z64","v":0},{"$f":"Stückliste!AB64","v":0},{"$f":"Stückliste!AD64","v":0},{"$f":"Stückliste!AH64","v":0},{"$f":"Stückliste!AJ64","v":0},{"$f":"Stückliste!AL64","v":0},{"$f":"Stückliste!AN64","v":0},{"$f":"Stückliste!AP64","v":0},{"$f":"Stückliste!AR64","v":0},{"$f":"Stückliste!AT64","v":0},{"$f":"Stückliste!AV64","v":0},{"$f":"Stückliste!AF64","v":0},{"$f":"Stückliste!AX64","v":0}]
[0,0,8,{"$f":"Stückliste!A65","v":0},{"$f":"Stückliste!D65","v":0},{"$f":"Stückliste!H65","v":0},{"$f":"Stückliste!L65","v":0},{"$f":"Stückliste!P65","v":0},{"$f":"Stückliste!R65","v":0},{"$f":"Stückliste!T65","v":0},{"$f":"Stückliste!V65","v":0},{"$f":"Stückliste!X65","v":0},{"$f":"Stückliste!Z65","v":0},{"$f":"Stückliste!AB65","v":0},{"$f":"Stückliste!AD65","v":0},{"$f":"Stückliste!AH65","v":0},{"$f":"Stückliste!AJ65","v":0},{"$f":"Stückliste!AL65","v":0},{"$f":"Stückliste!AN65","v":0},{"$f":"Stückliste!AP65","v":0},{"$f":"Stückliste!AR65","v":0},{"$f":"Stückliste!AT65","v":0},{"$f":"Stückliste!AV65","v":0},{"$f":"Stückliste!AF65","v":0},{"$f":"Stückliste!AX65","v":0}]
[0,0,8,{"$f":"Stückliste!A66","v":0},{"$f":"Stückliste!D66","v":0},{"$f":"Stückliste!H66","v":0},{"$f":"Stückliste!L66","v":0},{"$f":"Stückliste!P66","v":0},{"$f":"Stückliste!R66","v":0},{"$f":"Stückliste!T66","v":0},{"$f":"Stückliste!V66","v":0},{"$f":"Stückliste!X66","v":0},{"$f":"Stückliste!Z66","v":0},{"$f":"Stückliste!AB66","v":0},{"$f":"Stückliste!AD66","v":0},{"$f":"Stückliste!AH66","v":0},{"$f":"Stückliste!AJ66","v":0},{"$f":"Stückliste!AL66","v":0},{"$f":"Stückliste!AN66","v":0},{"$f":"Stückliste!AP66","v":0},{"$f":"Stückliste!AR66","v":0},{"$f":"Stückliste!AT66","v":0},{"$f":"Stückliste!AV66","v":0},{"$f":"Stückliste!AF66","v":0},{"$f":"Stückliste!AX66","v":0}]
[0,0,8,{"$f":"Stückliste!A67","v":0},{"$f":"Stückliste!D67","v":0},{"$f":"Stückliste!H67","v":0},{"$f":"Stückliste!L67","v":0},{"$f":"Stückliste!P67","v":0},{"$f":"Stückliste!R67","v":0},{"$f":"Stückliste!T67","v":0},{"$f":"Stückliste!V67","v":0},{"$f":"Stückliste!X67","v":0},{"$f":"Stückliste!Z67","v":0},{"$f":"Stückliste!AB67","v":0},{"$f":"Stückliste!AD67","v":0},{"$f":"Stückliste!AH67","v":0},{"$f":"Stückliste!AJ67","v":0},{"$f":"Stückliste!AL67","v":0},{"$f":"Stückliste!AN67","v":0},{"$f":"Stückliste!AP67","v":0},{"$f":"Stückliste!AR67","v":0},{"$f":"Stückliste!AT67","v":0},{"$f":"Stückliste!AV67","v":0},{"$f":"Stückliste!AF67","v":0},{"$f":"Stückliste!AX67","v":0}]
[0,0,8,{"$f":"Stückliste!A68","v":0},{"$f":"Stückliste!D68","v":0},{"$f":"Stückliste!H68","v":0},{"$f":"Stückliste!L68","v":0},{"$f":"Stückliste!P68","v":0},{"$f":"Stückliste!R68","v":0},{"$f":"Stückliste!T68","v":0},{"$f":"Stückliste!V68","v":0},{"$f":"Stückliste!X68","v":0},{"$f":"Stückliste!Z68","v":0},{"$f":"Stückliste!AB68","v":0},{"$f":"Stückliste!AD68","v":0},{"$f":"Stückliste!AH68","v":0},{"$f":"Stückliste!AJ68","v":0},{"$f":"Stückliste!AL68","v":0},{"$f":"Stückliste!AN68","v":0},{"$f":"Stückliste!AP68","v":0},{"$f":"Stückliste!AR68","v":0},{"$f":"Stückliste!AT68","v":0},{"$f":"Stückliste!AV68","v":0},{"$f":"Stückliste!AF68","v":0},{"$f":"Stückliste!AX68","v":0}]
[0,0,8,{"$f":"Stückliste!A69","v":0},{"$f":"Stückliste!D69","v":0},{"$f":"Stückliste!H69","v":0},{"$f":"Stückliste!L69","v":0},{"$f":"Stückliste!P69","v":0},{"$f":"Stückliste!R69","v":0},{"$f":"Stückliste!T69","v":0},{"$f":"Stückliste!V69","v":0},{"$f":"Stückliste!X69","v":0},{"$f":"Stückliste!Z69","v":0},{"$f":"Stückliste!AB69","v":0},{"$f":"Stückliste!AD69","v":0},{"$f":"Stückliste!AH69","v":0},{"$f":"Stückliste!AJ69","v":0},{"$f":"Stückliste!AL69","v":0},{"$f":"Stückliste!AN69","v":0},{"$f":"Stückliste!AP69","v":0},{"$f":"Stückliste!AR69","v":0},{"$f":"Stückliste!AT69","v":0},{"$f":"Stückliste!AV69","v":0},{"$f":"Stückliste!AF69","v":0},{"$f":"Stückliste!AX69","v":0}]
[0,0,8,{"$f":"Stückliste!A70","v":0},{"$f":"Stückliste!D70","v":0},{"$f":"Stückliste!H70","v":0},{"$f":"Stückliste!L70","v":0},{"$f":"Stückliste!P70","v":0},{"$f":"Stückliste!R70","v":0},{"$f":"Stückliste!T70","v":0},{"$f":"Stückliste!V70","v":0},{"$f":"Stückliste!X70","v":0},{"$f":"Stückliste!Z70","v":0},{"$f":"Stückliste!AB70","v":0},{"$f":"Stückliste!AD70","v":0},{"$f":"Stückliste!AH70","v":0},{"$f":"Stückliste!AJ70","v":0},{"$f":"Stückliste!AL70","v":0},{"$f":"Stückliste!AN70","v":0},{"$f":"Stückliste!AP70","v":0},{"$f":"Stückliste!AR70","v":0},{"$f":"Stückliste!AT70","v":0},{"$f":"Stückliste!AV70","v":0},{"$f":"Stückliste!AF70","v":0},{"$f":"Stückliste!AX70","v":0}]
[0,0,8,{"$f":"Stückliste!A71","v":0},{"$f":"Stückliste!D71","v":0},{"$f":"Stückliste!H71","v":0},{"$f":"Stückliste!L71","v":0},{"$f":"Stückliste!P71","v":0},{"$f":"Stückliste!R71","v":0},{"$f":"Stückliste!T71","v":0},{"$f":"Stückliste!V71","v":0},{"$f":"Stückliste!X71","v":0},{"$f":"Stückliste!Z71","v":0},{"$f":"Stückliste!AB71","v":0},{"$f":"Stückliste!AD71","v":0},{"$f":"Stückliste!AH71","v":0},{"$f":"Stückliste!AJ71","v":0},{"$f":"Stückliste!AL71","v":0},{"$f":"Stückliste!AN71","v":0},{"$f":"Stückliste!AP71","v":0},{"$f":"Stückliste!AR71","v":0},{"$f":"Stückliste!AT71","v":0},{"$f":"Stückliste!AV71","v":0},{"$f":"Stückliste!AF71","v":0},{"$f":"Stückliste!AX71","v":0}]
[0,0,8,{"$f":"Stückliste!A72","v":0},{"$f":"Stückliste!D72","v":0},{"$f":"Stückliste!H72","v":0},{"$f":"Stückliste!L72","v":0},{"$f":"Stückliste!P72","v":0},{"$f":"Stückliste!R72","v":0},{"$f":"Stückliste!T72","v":0},{"$f":"Stückliste!V72","v":0},{"$f":"Stückliste!X72","v":0},{"$f":"Stückliste!Z72","v":0},{"$f":"Stückliste!AB72","v":0},{"$f":"Stückliste!AD72","v":0},{"$f":"Stückliste!AH72","v":0},{"$f":"Stückliste!AJ72","v":0},{"$f":"Stückliste!AL72","v":0},{"$f":"Stückliste!AN72","v":0},{"$f":"Stückliste!AP72","v":0},{"$f":"Stückliste!AR72","v":0},{"$f":"Stückliste!AT72","v":0},{"$f":"Stückliste!AV72","v":0},{"$f":"Stückliste!AF72","v":0},{"$f":"Stückliste!AX72","v":0}]
[{"$f":"A19","v":0},0,8,{"$f":"Stückliste!A73","v":0},{"$f":"Stückliste!D73","v":0},{"$f":"Stückliste!H73","v":0},{"$f":"Stückliste!L73","v":0},{"$f":"Stückliste!P73","v":0},{"$f":"Stückliste!R73","v":0},{"$f":"Stückliste!T73","v":0},{"$f":"Stückliste!V73","v":0},{"$f":"Stückliste!X73","v":0},{"$f":"Stückliste!Z73","v":0},{"$f":"Stückliste!AB73","v":0},{"$f":"Stückliste!AD73","v":0},{"$f":"Stückliste!AH73","v":0},{"$f":"Stückliste!AJ73","v":0},{"$f":"Stückliste!AL73","v":0},{"$f":"Stückliste!AN73","v":0},{"$f":"Stückliste!AP73","v":0},{"$f":"Stückliste!AR73","v":0},{"$f":"Stückliste!AT73","v":0},{"$f":"Stückliste!AV73","v":0},{"$f":"Stückliste!AF73","v":0},{"$f":"Stückliste!AX73","v":0}]
[0,0,8,{"$f":"Stückliste!A74","v":0},{"$f":"Stückliste!D74","v":0},{"$f":"Stückliste!H74","v":0},{"$f":"Stückliste!L74","v":0},{"$f":"Stückliste!P74","v":0},{"$f":"Stückliste!R74","v":0},{"$f":"Stückliste!T74","v":0},{"$f":"Stückliste!V74","v":0},{"$f":"Stückliste!X74","v":0},{"$f":"Stückliste!Z74","v":0},{"$f":"Stückliste!AB74","v":0},{"$f":"Stückliste!AD74","v":0},{"$f":"Stückliste!AH74","v":0},{"$f":"Stückliste!AJ74","v":0},{"$f":"Stückliste!AL74","v":0},{"$f":"Stückliste!AN74","v":0},{"$f":"Stückliste!AP74","v":0},{"$f":"Stückliste!AR74","v":0},{"$f":"Stückliste!AT74","v":0},{"$f":"Stückliste!AV74","v":0},{"$f":"Stückliste!AF74","v":0},{"$f":"Stückliste!AX74","v":0}]
[0,0,8,{"$f":"Stückliste!A75","v":0},{"$f":"Stückliste!D75","v":0},{"$f":"Stückliste!H75","v":0},{"$f":"Stückliste!L75","v":0},{"$f":"Stückliste!P75","v":0},{"$f":"Stückliste!R75","v":0},{"$f":"Stückliste!T75","v":0},{"$f":"Stückliste!V75","v":0},{"$f":"Stückliste!X75","v":0},{"$f":"Stückliste!Z75","v":0},{"$f":"Stückliste!AB75","v":0},{"$f":"Stückliste!AD75","v":0},{"$f":"Stückliste!AH75","v":0},{"$f":"Stückliste!AJ75","v":0},{"$f":"Stückliste!AL75","v":0},{"$f":"Stückliste!AN75","v":0},{"$f":"Stückliste!AP75","v":0},{"$f":"Stückliste!AR75","v":0},{"$f":"Stückliste!AT75","v":0},{"$f":"Stückliste!AV75","v":0},{"$f":"Stückliste!AF75","v":0},{"$f":"Stückliste!AX75","v":0}]
[0,0,8,{"$f":"Stückliste!A76","v":0},{"$f":"Stückliste!D76","v":0},{"$f":"Stückliste!H76","v":0},{"$f":"Stückliste!L76","v":0},{"$f":"Stückliste!P76","v":0},{"$f":"Stückliste!R76","v":0},{"$f":"Stückliste!T76","v":0},{"$f":"Stückliste!V76","v":0},{"$f":"Stückliste!X76","v":0},{"$f":"Stückliste!Z76","v":0},{"$f":"Stückliste!AB76","v":0},{"$f":"Stückliste!AD76","v":0},{"$f":"Stückliste!AH76","v":0},{"$f":"Stückliste!AJ76","v":0},{"$f":"Stückliste!AL76","v":0},{"$f":"Stückliste!AN76","v":0},{"$f":"Stückliste!AP76","v":0},{"$f":"Stückliste!AR76","v":0},{"$f":"Stückliste!AT76","v":0},{"$f":"Stückliste!AV76","v":0},{"$f":"Stückliste!AF76","v":0},{"$f":"Stückliste!AX76","v":0}]
[0,0,8,{"$f":"Stückliste!A77","v":0},{"$f":"Stückliste!D77","v":0},{"$f":"Stückliste!H77","v":0},{"$f":"Stückliste!L77","v":0},{"$f":"Stückliste!P77","v":0},{"$f":"Stückliste!R77","v":0},{"$f":"Stückliste!T77","v":0},{"$f":"Stückliste!V77","v":0},{"$f":"Stückliste!X77","v":0},{"$f":"Stückliste!Z77","v":0},{"$f":"Stückliste!AB77","v":0},{"$f":"Stückliste!AD77","v":0},{"$f":"Stückliste!AH77","v":0},{"$f":"Stückliste!AJ77","v":0},{"$f":"Stückliste!AL77","v":0},{"$f":"Stückliste!AN77","v":0},{"$f":"Stückliste!AP77","v":0},{"$f":"Stückliste!AR77","v":0},{"$f":"Stückliste!AT77","v":0},{"$f":"Stückliste!AV77","v":0},{"$f":"Stückliste!AF77","v":0},{"$f":"Stückliste!AX77","v":0}]
[0,0,8,{"$f":"Stückliste!A78","v":0},{"$f":"Stückliste!D78","v":0},{"$f":"Stückliste!H78","v":0},{"$f":"Stückliste!L78","v":0},{"$f":"Stückliste!P78","v":0},{"$f":"Stückliste!R78","v":0},{"$f":"Stückliste!T78","v":0},{"$f":"Stückliste!V78","v":0},{"$f":"Stückliste!X78","v":0},{"$f":"Stückliste!Z78","v":0},{"$f":"Stückliste!AB78","v":0},{"$f":"Stückliste!AD78","v":0},{"$f":"Stückliste!AH78","v":0},{"$f":"Stückliste!AJ78","v":0},{"$f":"Stückliste!AL78","v":0},{"$f":"Stückliste!AN78","v":0},{"$f":"Stückliste!AP78","v":0},{"$f":"Stückliste!AR78","v":0},{"$f":"Stückliste!AT78","v":0},{"$f":"Stückliste!AV78","v":0},{"$f":"Stückliste!AF78","v":0},{"$f":"Stückliste!AX78","v":0}]
[0,0,8,{"$f":"Stückliste!A79","v":0},{"$f":"Stückliste!D79","v":0},{"$f":"Stückliste!H79","v":0},{"$f":"Stückliste!L79","v":0},{"$f":"Stückliste!P79","v":0},{"$f":"Stückliste!R79","v":0},{"$f":"Stückliste!T79","v":0},{"$f":"Stückliste!V79","v":0},{"$f":"Stückliste!X79","v":0},{"$f":"Stückliste!Z79","v":0},{"$f":"Stückliste!AB79","v":0},{"$f":"Stückliste!AD79","v":0},{"$f":"Stückliste!AH79","v":0},{"$f":"Stückliste!AJ79","v":0},{"$f":"Stückliste!AL79","v":0},{"$f":"Stückliste!AN79","v":0},{"$f":"Stückliste!AP79","v":0},{"$f":"Stückliste!AR79","v":0},{"$f":"Stückliste!AT79","v":0},{"$f":"Stückliste!AV79","v":0},{"$f":"Stückliste!AF79","v":0},{"$f":"Stückliste!AX79","v":0}]
[0,0,8,{"$f":"Stückliste!A80","v":0},{"$f":"Stückliste!D80","v":0},{"$f":"Stückliste!H80","v":0},{"$f":"Stückliste!L80","v":0},{"$f":"Stückliste!P80","v":0},{"$f":"Stückliste!R80","v":0},{"$f":"Stückliste!T80","v":0},{"$f":"Stückliste!V80","v":0},{"$f":"Stückliste!X80","v":0},{"$f":"Stückliste!Z80","v":0},{"$f":"Stückliste!AB80","v":0},{"$f":"Stückliste!AD80","v":0},{"$f":"Stückliste!AH80","v":0},{"$f":"Stückliste!AJ80","v":0},{"$f":"Stückliste!AL80","v":0},{"$f":"Stückliste!AN80","v":0},{"$f":"Stückliste!AP80","v":0},{"$f":"Stückliste!AR80","v":0},{"$f":"Stückliste!AT80","v":0},{"$f":"Stückliste!AV80","v":0},{"$f":"Stückliste!AF80","v":0},{"$f":"Stückliste!AX80","v":0}]
[0,0,8,{"$f":"Stückliste!A81","v":0},{"$f":"Stückliste!D81","v":0},{"$f":"Stückliste!H81","v":0},{"$f":"Stückliste!L81","v":0},{"$f":"Stückliste!P81","v":0},{"$f":"Stückliste!R81","v":0},{"$f":"Stückliste!T81","v":0},{"$f":"Stückliste!V81","v":0},{"$f":"Stückliste!X81","v":0},{"$f":"Stückliste!Z81","v":0},{"$f":"Stückliste!AB81","v":0},{"$f":"Stückliste!AD81","v":0},{"$f":"Stückliste!AH81","v":0},{"$f":"Stückliste!AJ81","v":0},{"$f":"Stückliste!AL81","v":0},{"$f":"Stückliste!AN81","v":0},{"$f":"Stückliste!AP81","v":0},{"$f":"Stückliste!AR81","v":0},{"$f":"Stückliste!AT81","v":0},{"$f":"Stückliste!AV81","v":0},{"$f":"Stückliste!AF81","v":0},{"$f":"Stückliste!AX81","v":0}]
[0,0,8,{"$f":"Stückliste!A82","v":0},{"$f":"Stückliste!D82","v":0},{"$f":"Stückliste!H82","v":0},{"$f":"Stückliste!L82","v":0},{"$f":"Stückliste!P82","v":0},{"$f":"Stückliste!R82","v":0},{"$f":"Stückliste!T82","v":0},{"$f":"Stückliste!V82","v":0},{"$f":"Stückliste!X82","v":0},{"$f":"Stückliste!Z82","v":0},{"$f":"Stückliste!AB82","v":0},{"$f":"Stückliste!AD82","v":0},{"$f":"Stückliste!AH82","v":0},{"$f":"Stückliste!AJ82","v":0},{"$f":"Stückliste!AL82","v":0},{"$f":"Stückliste!AN82","v":0},{"$f":"Stückliste!AP82","v":0},{"$f":"Stückliste!AR82","v":0},{"$f":"Stückliste!AT82","v":0},{"$f":"Stückliste!AV82","v":0},{"$f":"Stückliste!AF82","v":0},{"$f":"Stückliste!AX82","v":0}]
[0,0,8,{"$f":"Stückliste!A83","v":0},{"$f":"Stückliste!D83","v":0},{"$f":"Stückliste!H83","v":0},{"$f":"Stückliste!L83","v":0},{"$f":"Stückliste!P83","v":0},{"$f":"Stückliste!R83","v":0},{"$f":"Stückliste!T83","v":0},{"$f":"Stückliste!V83","v":0},{"$f":"Stückliste!X83","v":0},{"$f":"Stückliste!Z83","v":0},{"$f":"Stückliste!AB83","v":0},{"$f":"Stückliste!AD83","v":0},{"$f":"Stückliste!AH83","v":0},{"$f":"Stückliste!AJ83","v":0},{"$f":"Stückliste!AL83","v":0},{"$f":"Stückliste!AN83","v":0},{"$f":"Stückliste!AP83","v":0},{"$f":"Stückliste!AR83","v":0},{"$f":"Stückliste!AT83","v":0},{"$f":"Stückliste!AV83","v":0},{"$f":"Stückliste!AF83","v":0},{"$f":"Stückliste!AX83","v":0}]
[0,0,8,{"$f":"Stückliste!A84","v":0},{"$f":"Stückliste!D84","v":0},{"$f":"Stückliste!H84","v":0},{"$f":"Stückliste!L84","v":0},{"$f":"Stückliste!P84","v":0},{"$f":"Stückliste!R84","v":0},{"$f":"Stückliste!T84","v":0},{"$f":"Stückliste!V84","v":0},{"$f":"Stückliste!X84","v":0},{"$f":"Stückliste!Z84","v":0},{"$f":"Stückliste!AB84","v":0},{"$f":"Stückliste!AD84","v":0},{"$f":"Stückliste!AH84","v":0},{"$f":"Stückliste!AJ84","v":0},{"$f":"Stückliste!AL84","v":0},{"$f":"Stückliste!AN84","v":0},{"$f":"Stückliste!AP84","v":0},{"$f":"Stückliste!AR84","v":0},{"$f":"Stückliste!AT84","v":0},{"$f":"Stückliste!AV84","v":0},{"$f":"Stückliste!AF84","v":0},{"$f":"Stückliste!AX84","v":0}]
[0,0,8,{"$f":"Stückliste!A85","v":0},{"$f":"Stückliste!D85","v":0},{"$f":"Stückliste!H85","v":0},{"$f":"Stückliste!L85","v":0},{"$f":"Stückliste!P85","v":0},{"$f":"Stückliste!R85","v":0},{"$f":"Stückliste!T85","v":0},{"$f":"Stückliste!V85","v":0},{"$f":"Stückliste!X85","v":0},{"$f":"Stückliste!Z85","v":0},{"$f":"Stückliste!AB85","v":0},{"$f":"Stückliste!AD85","v":0},{"$f":"Stückliste!AH85","v":0},{"$f":"Stückliste!AJ85","v":0},{"$f":"Stückliste!AL85","v":0},{"$f":"Stückliste!AN85","v":0},{"$f":"Stückliste!AP85","v":0},{"$f":"Stückliste!AR85","v":0},{"$f":"Stückliste!AT85","v":0},{"$f":"Stückliste!AV85","v":0},{"$f":"Stückliste!AF85","v":0},{"$f":"Stückliste!AX85","v":0}]
[0,0,8,{"$f":"Stückliste!A86","v":0},{"$f":"Stückliste!D86","v":0},{"$f":"Stückliste!H86","v":0},{"$f":"Stückliste!L86","v":0},{"$f":"Stückliste!P86","v":0},{"$f":"Stückliste!R86","v":0},{"$f":"Stückliste!T86","v":0},{"$f":"Stückliste!V86","v":0},{"$f":"Stückliste!X86","v":0},{"$f":"Stückliste!Z86","v":0},{"$f":"Stückliste!AB86","v":0},{"$f":"Stückliste!AD86","v":0},{"$f":"Stückliste!AH86","v":0},{"$f":"Stückliste!AJ86","v":0},{"$f":"Stückliste!AL86","v":0},{"$f":"Stückliste!AN86","v":0},{"$f":"Stückliste!AP86","v":0},{"$f":"Stückliste!AR86","v":0},{"$f":"Stückliste!AT86","v":0},{"$f":"Stückliste!AV86","v":0},{"$f":"Stückliste!AF86","v":0},{"$f":"Stückliste!AX86","v":0}]
[0,0,8,{"$f":"Stückliste!A87","v":0},{"$f":"Stückliste!D87","v":0},{"$f":"Stückliste!H87","v":0},{"$f":"Stückliste!L87","v":0},{"$f":"Stückliste!P87","v":0},{"$f":"Stückliste!R87","v":0},{"$f":"Stückliste!T87","v":0},{"$f":"Stückliste!V87","v":0},{"$f":"Stückliste!X87","v":0},{"$f":"Stückliste!Z87","v":0},{"$f":"Stückliste!AB87","v":0},{"$f":"Stückliste!AD87","v":0},{"$f":"Stückliste!AH87","v":0},{"$f":"Stückliste!AJ87","v":0},{"$f":"Stückliste!AL87","v":0},{"$f":"Stückliste!AN87","v":0},{"$f":"Stückliste!AP87","v":0},{"$f":"Stückliste!AR87","v":0},{"$f":"Stückliste!AT87","v":0},{"$f":"Stückliste!AV87","v":0},{"$f":"Stückliste!AF87","v":0},{"$f":"Stückliste!AX87","v":0}]
[0,0,8,{"$f":"Stückliste!A88","v":0},{"$f":"Stückliste!D88","v":0},{"$f":"Stückliste!H88","v":0},{"$f":"Stückliste!L88","v":0},{"$f":"Stückliste!P88","v":0},{"$f":"Stückliste!R88","v":0},{"$f":"Stückliste!T88","v":0},{"$f":"Stückliste!V88","v":0},{"$f":"Stückliste!X88","v":0},{"$f":"Stückliste!Z88","v":0},{"$f":"Stückliste!AB88","v":0},{"$f":"Stückliste!AD88","v":0},{"$f":"Stückliste!AH88","v":0},{"$f":"Stückliste!AJ88","v":0},{"$f":"Stückliste!AL88","v":0},{"$f":"Stückliste!AN88","v":0},{"$f":"Stückliste!AP88","v":0},{"$f":"Stückliste!AR88","v":0},{"$f":"Stückliste!AT88","v":0},{"$f":"Stückliste!AV88","v":0},{"$f":"Stückliste!AF88","v":0},{"$f":"Stückliste!AX88","v":0}]
[{"$f":"A35","v":0},0,8,{"$f":"Stückliste!A89","v":0},{"$f":"Stückliste!D89","v":0},{"$f":"Stückliste!H89","v":0},{"$f":"Stückliste!L89","v":0},{"$f":"Stückliste!P89","v":0},{"$f":"Stückliste!R89","v":0},{"$f":"Stückliste!T89","v":0},{"$f":"Stückliste!V89","v":0},{"$f":"Stückliste!X89","v":0},{"$f":"Stückliste!Z89","v":0},{"$f":"Stückliste!AB89","v":0},{"$f":"Stückliste!AD89","v":0},{"$f":"Stückliste!AH89","v":0},{"$f":"Stückliste!AJ89","v":0},{"$f":"Stückliste!AL89","v":0},{"$f":"Stückliste!AN89","v":0},{"$f":"Stückliste!AP89","v":0},{"$f":"Stückliste!AR89","v":0},{"$f":"Stückliste!AT89","v":0},{"$f":"Stückliste!AV89","v":0},{"$f":"Stückliste!AF89","v":0},{"$f":"Stückliste!AX89","v":0}]
[{"$f":"A36","v":0},0,8,{"$f":"Stückliste!A90","v":0},{"$f":"Stückliste!D90","v":0},{"$f":"Stückliste!H90","v":0},{"$f":"Stückliste!L90","v":0},{"$f":"Stückliste!P90","v":0},{"$f":"Stückliste!R90","v":0},{"$f":"Stückliste!T90","v":0},{"$f":"Stückliste!V90","v":0},{"$f":"Stückliste!X90","v":0},{"$f":"Stückliste!Z90","v":0},{"$f":"Stückliste!AB90","v":0},{"$f":"Stückliste!AD90","v":0},{"$f":"Stückliste!AH90","v":0},{"$f":"Stückliste!AJ90","v":0},{"$f":"Stückliste!AL90","v":0},{"$f":"Stückliste!AN90","v":0},{"$f":"Stückliste!AP90","v":0},{"$f":"Stückliste!AR90","v":0},{"$f":"Stückliste!AT90","v":0},{"$f":"Stückliste!AV90","v":0},{"$f":"Stückliste!AF90","v":0},{"$f":"Stückliste!AX90","v":0}]
[{"$f":"A37","v":0},0,8,{"$f":"Stückliste!A91","v":0},{"$f":"Stückliste!D91","v":0},{"$f":"Stückliste!H91","v":0},{"$f":"Stückliste!L91","v":0},{"$f":"Stückliste!P91","v":0},{"$f":"Stückliste!R91","v":0},{"$f":"Stückliste!T91","v":0},{"$f":"Stückliste!V91","v":0},{"$f":"Stückliste!X91","v":0},{"$f":"Stückliste!Z91","v":0},{"$f":"Stückliste!AB91","v":0},{"$f":"Stückliste!AD91","v":0},{"$f":"Stückliste!AH91","v":0},{"$f":"Stückliste!AJ91","v":0},{"$f":"Stückliste!AL91","v":0},{"$f":"Stückliste!AN91","v":0},{"$f":"Stückliste!AP91","v":0},{"$f":"Stückliste!AR91","v":0},{"$f":"Stückliste!AT91","v":0},{"$f":"Stückliste!AV91","v":0},{"$f":"Stückliste!AF91","v":0},{"$f":"Stückliste!AX91","v":0}]
[{"$f":"A38","v":0},0,8,{"$f":"Stückliste!A92","v":0},{"$f":"Stückliste!D92","v":0},{"$f":"Stückliste!H92","v":0},{"$f":"Stückliste!L92","v":0},{"$f":"Stückliste!P92","v":0},{"$f":"Stückliste!R92","v":0},{"$f":"Stückliste!T92","v":0},{"$f":"Stückliste!V92","v":0},{"$f":"Stückliste!X92","v":0},{"$f":"Stückliste!Z92","v":0},{"$f":"Stückliste!AB92","v":0},{"$f":"Stückliste!AD92","v":0},{"$f":"Stückliste!AH92","v":0},{"$f":"Stückliste!AJ92","v":0},{"$f":"Stückliste!AL92","v":0},{"$f":"Stückliste!AN92","v":0},{"$f":"Stückliste!AP92","v":0},{"$f":"Stückliste!AR92","v":0},{"$f":"Stückliste!AT92","v":0},{"$f":"Stückliste!AV92","v":0},{"$f":"Stückliste!AF92","v":0},{"$f":"Stückliste!AX92","v":0}]
[{"$f":"A39","v":0},0,8,{"$f":"Stückliste!A93","v":0},{"$f":"Stückliste!D93","v":0},{"$f":"Stückliste!H93","v":0},{"$f":"Stückliste!L93","v":0},{"$f":"Stückliste!P93","v":0},{"$f":"Stückliste!R93","v":0},{"$f":"Stückliste!T93","v":0},{"$f":"Stückliste!V93","v":0},{"$f":"Stückliste!X93","v":0},{"$f":"Stückliste!Z93","v":0},{"$f":"Stückliste!AB93","v":0},{"$f":"Stückliste!AD93","v":0},{"$f":"Stückliste!AH93","v":0},{"$f":"Stückliste!AJ93","v":0},{"$f":"Stückliste!AL93","v":0},{"$f":"Stückliste!AN93","v":0},{"$f":"Stückliste!AP93","v":0},{"$f":"Stückliste!AR93","v":0},{"$f":"Stückliste!AT93","v":0},{"$f":"Stückliste!AV93","v":0},{"$f":"Stückliste!AF93","v":0},{"$f":"Stückliste!AX93","v":0}]
[{"$f":"A40","v":0},0,8,{"$f":"Stückliste!A94","v":0},{"$f":"Stückliste!D94","v":0},{"$f":"Stückliste!H94","v":0},{"$f":"Stückliste!L94","v":0},{"$f":"Stückliste!P94","v":0},{"$f":"Stückliste!R94","v":0},{"$f":"Stückliste!T94","v":0},{"$f":"Stückliste!V94","v":0},{"$f":"Stückliste!X94","v":0},{"$f":"Stückliste!Z94","v":0},{"$f":"Stückliste!AB94","v":0},{"$f":"Stückliste!AD94","v":0},{"$f":"Stückliste!AH94","v":0},{"$f":"Stückliste!AJ94","v":0},{"$f":"Stückliste!AL94","v":0},{"$f":"Stückliste!AN94","v":0},{"$f":"Stückliste!AP94","v":0},{"$f":"Stückliste!AR94","v":0},{"$f":"Stückliste!AT94","v":0},{"$f":"Stückliste!AV94","v":0},{"$f":"Stückliste!AF94","v":0},{"$f":"Stückliste!AX94","v":0}]
[{"$f":"A41","v":0},0,8,{"$f":"Stückliste!A95","v":0},{"$f":"Stückliste!D95","v":0},{"$f":"Stückliste!H95","v":0},{"$f":"Stückliste!L95","v":0},{"$f":"Stückliste!P95","v":0},{"$f":"Stückliste!R95","v":0},{"$f":"Stückliste!T95","v":0},{"$f":"Stückliste!V95","v":0},{"$f":"Stückliste!X95","v":0},{"$f":"Stückliste!Z95","v":0},{"$f":"Stückliste!AB95","v":0},{"$f":"Stückliste!AD95","v":0},{"$f":"Stückliste!AH95","v":0},{"$f":"Stückliste!AJ95","v":0},{"$f":"Stückliste!AL95","v":0},{"$f":"Stückliste!AN95","v":0},{"$f":"Stückliste!AP95","v":0},{"$f":"Stückliste!AR95","v":0},{"$f":"Stückliste!AT95","v":0},{"$f":"Stückliste!AV95","v":0},{"$f":"Stückliste!AF95","v":0},{"$f":"Stückliste!AX95","v":0}]
[{"$f":"A42","v":0},0,8,{"$f":"Stückliste!A96","v":0},{"$f":"Stückliste!D96","v":0},{"$f":"Stückliste!H96","v":0},{"$f":"Stückliste!L96","v":0},{"$f":"Stückliste!P96","v":0},{"$f":"Stückliste!R96","v":0},{"$f":"Stückliste!T96","v":0},{"$f":"Stückliste!V96","v":0},{"$f":"Stückliste!X96","v":0},{"$f":"Stückliste!Z96","v":0},{"$f":"Stückliste!AB96","v":0},{"$f":"Stückliste!AD96","v":0},{"$f":"Stückliste!AH96","v":0},{"$f":"Stückliste!AJ96","v":0},{"$f":"Stückliste!AL96","v":0},{"$f":"Stückliste!AN96","v":0},{"$f":"Stückliste!AP96","v":0},{"$f":"Stückliste!AR96","v":0},{"$f":"Stückliste!AT96","v":0},{"$f":"Stückliste!AV96","v":0},{"$f":"Stückliste!AF96","v":0},{"$f":"Stückliste!AX96","v":0}]
[{"$f":"A43","v":0},0,8,{"$f":"Stückliste!A97","v":0},{"$f":"Stückliste!D97","v":0},{"$f":"Stückliste!H97","v":0},{"$f":"Stückliste!L97","v":0},{"$f":"Stückliste!P97","v":0},{"$f":"Stückliste!R97","v":0},{"$f":"Stückliste!T97","v":0},{"$f":"Stückliste!V97","v":0},{"$f":"Stückliste!X97","v":0},{"$f":"Stückliste!Z97","v":0},{"$f":"Stückliste!AB97","v":0},{"$f":"Stückliste!AD97","v":0},{"$f":"Stückliste!AH97","v":0},{"$f":"Stückliste!AJ97","v":0},{"$f":"Stückliste!AL97","v":0},{"$f":"Stückliste!AN97","v":0},{"$f":"Stückliste!AP97","v":0},{"$f":"Stückliste!AR97","v":0},{"$f":"Stückliste!AT97","v":0},{"$f":"Stückliste!AV97","v":0},{"$f":"Stückliste!AF97","v":0},{"$f":"Stückliste!AX97","v":0}]
[{"$f":"A44","v":0},0,8,{"$f":"Stückliste!A98","v":0},{"$f":"Stückliste!D98","v":0},{"$f":"Stückliste!H98","v":0},{"$f":"Stückliste!L98","v":0},{"$f":"Stückliste!P98","v":0},{"$f":"Stückliste!R98","v":0},{"$f":"Stückliste!T98","v":0},{"$f":"Stückliste!V98","v":0},{"$f":"Stückliste!X98","v":0},{"$f":"Stückliste!Z98","v":0},{"$f":"Stückliste!AB98","v":0},{"$f":"Stückliste!AD98","v":0},{"$f":"Stückliste!AH98","v":0},{"$f":"Stückliste!AJ98","v":0},{"$f":"Stückliste!AL98","v":0},{"$f":"Stückliste!AN98","v":0},{"$f":"Stückliste!AP98","v":0},{"$f":"Stückliste!AR98","v":0},{"$f":"Stückliste!AT98","v":0},{"$f":"Stückliste!AV98","v":0},{"$f":"Stückliste!AF98","v":0},{"$f":"Stückliste!AX98","v":0}]
[{"$f":"A45","v":0},0,8,{"$f":"Stückliste!A99","v":0},{"$f":"Stückliste!D99","v":0},{"$f":"Stückliste!H99","v":0},{"$f":"Stückliste!L99","v":0},{"$f":"Stückliste!P99","v":0},{"$f":"Stückliste!R99","v":0},{"$f":"Stückliste!T99","v":0},{"$f":"Stückliste!V99","v":0},{"$f":"Stückliste!X99","v":0},{"$f":"Stückliste!Z99","v":0},{"$f":"Stückliste!AB99","v":0},{"$f":"Stückliste!AD99","v":0},{"$f":"Stückliste!AH99","v":0},{"$f":"Stückliste!AJ99","v":0},{"$f":"Stückliste!AL99","v":0},{"$f":"Stückliste!AN99","v":0},{"$f":"Stückliste!AP99","v":0},{"$f":"Stückliste!AR99","v":0},{"$f":"Stückliste!AT99","v":0},{"$f":"Stückliste!AV99","v":0},{"$f":"Stückliste!AF99","v":0},{"$f":"Stückliste!AX99","v":0}]
[{"$f":"A46","v":0},0,8,{"$f":"Stückliste!A100","v":0},{"$f":"Stückliste!D100","v":0},{"$f":"Stückliste!H100","v":0},{"$f":"Stückliste!L100","v":0},{"$f":"Stückliste!P100","v":0},{"$f":"Stückliste!R100","v":0},{"$f":"Stückliste!T100","v":0},{"$f":"Stückliste!V100","v":0},{"$f":"Stückliste!X100","v":0},{"$f":"Stückliste!Z100","v":0},{"$f":"Stückliste!AB100","v":0},{"$f":"Stückliste!AD100","v":0},{"$f":"Stückliste!AH100","v":0},{"$f":"Stückliste!AJ100","v":0},{"$f":"Stückliste!AL100","v":0},{"$f":"Stückliste!AN100","v":0},{"$f":"Stückliste!AP100","v":0},{"$f":"Stückliste!AR100","v":0},{"$f":"Stückliste!AT100","v":0},{"$f":"Stückliste!AV100","v":0},{"$f":"Stückliste!AF100","v":0},{"$f":"Stückliste!AX100","v":0}]
[{"$f":"A47","v":0},0,8,{"$f":"Stückliste!A101","v":0},{"$f":"Stückliste!D101","v":0},{"$f":"Stückliste!H101","v":0},{"$f":"Stückliste!L101","v":0},{"$f":"Stückliste!P101","v":0},{"$f":"Stückliste!R101","v":0},{"$f":"Stückliste!T101","v":0},{"$f":"Stückliste!V101","v":0},{"$f":"Stückliste!X101","v":0},{"$f":"Stückliste!Z101","v":0},{"$f":"Stückliste!AB101","v":0},{"$f":"Stückliste!AD101","v":0},{"$f":"Stückliste!AH101","v":0},{"$f":"Stückliste!AJ101","v":0},{"$f":"Stückliste!AL101","v":0},{"$f":"Stückliste!AN101","v":0},{"$f":"Stückliste!AP101","v":0},{"$f":"Stückliste!AR101","v":0},{"$f":"Stückliste!AT101","v":0},{"$f":"Stückliste!AV101","v":0},{"$f":"Stückliste!AF101","v":0},{"$f":"Stückliste!AX101","v":0}]
[{"$f":"A48","v":0},0,8,{"$f":"Stückliste!A102","v":0},{"$f":"Stückliste!D102","v":0},{"$f":"Stückliste!H102","v":0},{"$f":"Stückliste!L102","v":0},{"$f":"Stückliste!P102","v":0},{"$f":"Stückliste!R102","v":0},{"$f":"Stückliste!T102","v":0},{"$f":"Stückliste!V102","v":0},{"$f":"Stückliste!X102","v":0},{"$f":"Stückliste!Z102","v":0},{"$f":"Stückliste!AB102","v":0},{"$f":"Stückliste!AD102","v":0},{"$f":"Stückliste!AH102","v":0},{"$f":"Stückliste!AJ102","v":0},{"$f":"Stückliste!AL102","v":0},{"$f":"Stückliste!AN102","v":0},{"$f":"Stückliste!AP102","v":0},{"$f":"Stückliste!AR102","v":0},{"$f":"Stückliste!AT102","v":0},{"$f":"Stückliste!AV102","v":0},{"$f":"Stückliste!AF102","v":0},{"$f":"Stückliste!AX102","v":0}]
[{"$f":"A49","v":0},0,8,{"$f":"Stückliste!A103","v":0},{"$f":"Stückliste!D103","v":0},{"$f":"Stückliste!H103","v":0},{"$f":"Stückliste!L103","v":0},{"$f":"Stückliste!P103","v":0},{"$f":"Stückliste!R103","v":0},{"$f":"Stückliste!T103","v":0},{"$f":"Stückliste!V103","v":0},{"$f":"Stückliste!X103","v":0},{"$f":"Stückliste!Z103","v":0},{"$f":"Stückliste!AB103","v":0},{"$f":"Stückliste!AD103","v":0},{"$f":"Stückliste!AH103","v":0},{"$f":"Stückliste!AJ103","v":0},{"$f":"Stückliste!AL103","v":0},{"$f":"Stückliste!AN103","v":0},{"$f":"Stückliste!AP103","v":0},{"$f":"Stückliste!AR103","v":0},{"$f":"Stückliste!AT103","v":0},{"$f":"Stückliste!AV103","v":0},{"$f":"Stückliste!AF103","v":0},{"$f":"Stückliste!AX103","v":0}]
[{"$f":"A50","v":0},0,8,{"$f":"Stückliste!A104","v":0},{"$f":"Stückliste!D104","v":0},{"$f":"Stückliste!H104","v":0},{"$f":"Stückliste!L104","v":0},{"$f":"Stückliste!P104","v":0},{"$f":"Stückliste!R104","v":0},{"$f":"Stückliste!T104","v":0},{"$f":"Stückliste!V104","v":0},{"$f":"Stückliste!X104","v":0},{"$f":"Stückliste!Z104","v":0},{"$f":"Stückliste!AB104","v":0},{"$f":"Stückliste!AD104","v":0},{"$f":"Stückliste!AH104","v":0},{"$f":"Stückliste!AJ104","v":0},{"$f":"Stückliste!AL104","v":0},{"$f":"Stückliste!AN104","v":0},{"$f":"Stückliste!AP104","v":0},{"$f":"Stückliste!AR104","v":0},{"$f":"Stückliste!AT104","v":0},{"$f":"Stückliste!AV104","v":0},{"$f":"Stückliste!AF104","v":0},{"$f":"Stückliste!AX104","v":0}]
[{"$f":"A51","v":0},0,8,{"$f":"Stückliste!A105","v":0},{"$f":"Stückliste!D105","v":0},{"$f":"Stückliste!H105","v":0},{"$f":"Stückliste!L105","v":0},{"$f":"Stückliste!P105","v":0},{"$f":"Stückliste!R105","v":0},{"$f":"Stückliste!T105","v":0},{"$f":"Stückliste!V105","v":0},{"$f":"Stückliste!X105","v":0},{"$f":"Stückliste!Z105","v":0},{"$f":"Stückliste!AB105","v":0},{"$f":"Stückliste!AD105","v":0},{"$f":"Stückliste!AH105","v":0},{"$f":"Stückliste!AJ105","v":0},{"$f":"Stückliste!AL105","v":0},{"$f":"Stückliste!AN105","v":0},{"$f":"Stückliste!AP105","v":0},{"$f":"Stückliste!AR105","v":0},{"$f":"Stückliste!AT105","v":0},{"$f":"Stückliste!AV105","v":0},{"$f":"Stückliste!AF105","v":0},{"$f":"Stückliste!AX105","v":0}]
[{"$f":"A52","v":0},0,8,{"$f":"Stückliste!A106","v":0},{"$f":"Stückliste!D106","v":0},{"$f":"Stückliste!H106","v":0},{"$f":"Stückliste!L106","v":0},{"$f":"Stückliste!P106","v":0},{"$f":"Stückliste!R106","v":0},{"$f":"Stückliste!T106","v":0},{"$f":"Stückliste!V106","v":0},{"$f":"Stückliste!X106","v":0},{"$f":"Stückliste!Z106","v":0},{"$f":"Stückliste!AB106","v":0},{"$f":"Stückliste!AD106","v":0},{"$f":"Stückliste!AH106","v":0},{"$f":"Stückliste!AJ106","v":0},{"$f":"Stückliste!AL106","v":0},{"$f":"Stückliste!AN106","v":0},{"$f":"Stückliste!AP106","v":0},{"$f":"Stückliste!AR106","v":0},{"$f":"Stückliste!AT106","v":0},{"$f":"Stückliste!AV106","v":0},{"$f":"Stückliste!AF106","v":0},{"$f":"Stückliste!AX106","v":0}]
[{"$f":"A53","v":0},0,8,{"$f":"Stückliste!A107","v":0},{"$f":"Stückliste!D107","v":0},{"$f":"Stückliste!H107","v":0},{"$f":"Stückliste!L107","v":0},{"$f":"Stückliste!P107","v":0},{"$f":"Stückliste!R107","v":0},{"$f":"Stückliste!T107","v":0},{"$f":"Stückliste!V107","v":0},{"$f":"Stückliste!X107","v":0},{"$f":"Stückliste!Z107","v":0},{"$f":"Stückliste!AB107","v":0},{"$f":"Stückliste!AD107","v":0},{"$f":"Stückliste!AH107","v":0},{"$f":"Stückliste!AJ107","v":0},{"$f":"Stückliste!AL107","v":0},{"$f":"Stückliste!AN107","v":0},{"$f":"Stückliste!AP107","v":0},{"$f":"Stückliste!AR107","v":0},{"$f":"Stückliste!AT107","v":0},{"$f":"Stückliste!AV107","v":0},{"$f":"Stückliste!AF107","v":0},{"$f":"Stückliste!AX107","v":0}]
[{"$f":"A54","v":0},0,8,{"$f":"Stückliste!A108","v":0},{"$f":"Stückliste!D108","v":0},{"$f":"Stückliste!H108","v":0},{"$f":"Stückliste!L108","v":0},{"$f":"Stückliste!P108","v":0},{"$f":"Stückliste!R108","v":0},{"$f":"Stückliste!T108","v":0},{"$f":"Stückliste!V108","v":0},{"$f":"Stückliste!X108","v":0},{"$f":"Stückliste!Z108","v":0},{"$f":"Stückliste!AB108","v":0},{"$f":"Stückliste!AD108","v":0},{"$f":"Stückliste!AH108","v":0},{"$f":"Stückliste!AJ108","v":0},{"$f":"Stückliste!AL108","v":0},{"$f":"Stückliste!AN108","v":0},{"$f":"Stückliste!AP108","v":0},{"$f":"Stückliste!AR108","v":0},{"$f":"Stückliste!AT108","v":0},{"$f":"Stückliste!AV108","v":0},{"$f":"Stückliste!AF108","v":0},{"$f":"Stückliste!AX108","v":0}]
[{"$f":"A55","v":0},0,8,{"$f":"Stückliste!A109","v":0},{"$f":"Stückliste!D109","v":0},{"$f":"Stückliste!H109","v":0},{"$f":"Stückliste!L109","v":0},{"$f":"Stückliste!P109","v":0},{"$f":"Stückliste!R109","v":0},{"$f":"Stückliste!T109","v":0},{"$f":"Stückliste!V109","v":0},{"$f":"Stückliste!X109","v":0},{"$f":"Stückliste!Z109","v":0},{"$f":"Stückliste!AB109","v":0},{"$f":"Stückliste!AD109","v":0},{"$f":"Stückliste!AH109","v":0},{"$f":"Stückliste!AJ109","v":0},{"$f":"Stückliste!AL109","v":0},{"$f":"Stückliste!AN109","v":0},{"$f":"Stückliste!AP109","v":0},{"$f":"Stückliste!AR109","v":0},{"$f":"Stückliste!AT109","v":0},{"$f":"Stückliste!AV109","v":0},{"$f":"Stückliste!AF109","v":0},{"$f":"Stückliste!AX109","v":0}]
[{"$f":"A56","v":0},0,8,{"$f":"Stückliste!A110","v":0},{"$f":"Stückliste!D110","v":0},{"$f":"Stückliste!H110","v":0},{"$f":"Stückliste!L110","v":0},{"$f":"Stückliste!P110","v":0},{"$f":"Stückliste!R110","v":0},{"$f":"Stückliste!T110","v":0},{"$f":"Stückliste!V110","v":0},{"$f":"Stückliste!X110","v":0},{"$f":"Stückliste!Z110","v":0},{"$f":"Stückliste!AB110","v":0},{"$f":"Stückliste!AD110","v":0},{"$f":"Stückliste!AH110","v":0},{"$f":"Stückliste!AJ110","v":0},{"$f":"Stückliste!AL110","v":0},{"$f":"Stückliste!AN110","v":0},{"$f":"Stückliste!AP110","v":0},{"$f":"Stückliste!AR110","v":0},{"$f":"Stückliste!AT110","v":0},{"$f":"Stückliste!AV110","v":0},{"$f":"Stückliste!AF110","v":0},{"$f":"Stückliste!AX110","v":0}]
[{"$f":"A57","v":0},0,8,{"$f":"Stückliste!A111","v":0},{"$f":"Stückliste!D111","v":0},{"$f":"Stückliste!H111","v":0},{"$f":"Stückliste!L111","v":0},{"$f":"Stückliste!P111","v":0},{"$f":"Stückliste!R111","v":0},{"$f":"Stückliste!T111","v":0},{"$f":"Stückliste!V111","v":0},{"$f":"Stückliste!X111","v":0},{"$f":"Stückliste!Z111","v":0},{"$f":"Stückliste!AB111","v":0},{"$f":"Stückliste!AD111","v":0},{"$f":"Stückliste!AH111","v":0},{"$f":"Stückliste!AJ111","v":0},{"$f":"Stückliste!AL111","v":0},{"$f":"Stückliste!AN111","v":0},{"$f":"Stückliste!AP111","v":0},{"$f":"Stückliste!AR111","v":0},{"$f":"Stückliste!AT111","v":0},{"$f":"Stückliste!AV111","v":0},{"$f":"Stückliste!AF111","v":0},{"$f":"Stückliste!AX111","v":0}]
[{"$f":"A58","v":0},0,8,{"$f":"Stückliste!A112","v":0},{"$f":"Stückliste!D112","v":0},{"$f":"Stückliste!H112","v":0},{"$f":"Stückliste!L112","v":0},{"$f":"Stückliste!P112","v":0},{"$f":"Stückliste!R112","v":0},{"$f":"Stückliste!T112","v":0},{"$f":"Stückliste!V112","v":0},{"$f":"Stückliste!X112","v":0},{"$f":"Stückliste!Z112","v":0},{"$f":"Stückliste!AB112","v":0},{"$f":"Stückliste!AD112","v":0},{"$f":"Stückliste!AH112","v":0},{"$f":"Stückliste!AJ112","v":0},{"$f":"Stückliste!AL112","v":0},{"$f":"Stückliste!AN112","v":0},{"$f":"Stückliste!AP112","v":0},{"$f":"Stückliste!AR112","v":0},{"$f":"Stückliste!AT112","v":0},{"$f":"Stückliste!AV112","v":0},{"$f":"Stückliste!AF112","v":0},{"$f":"Stückliste!AX112","v":0}]
[{"$f":"A59","v":0},0,8,{"$f":"Stückliste!A113","v":0},{"$f":"Stückliste!D113","v":0},{"$f":"Stückliste!H113","v":0},{"$f":"Stückliste!L113","v":0},{"$f":"Stückliste!P113","v":0},{"$f":"Stückliste!R113","v":0},{"$f":"Stückliste!T113","v":0},{"$f":"Stückliste!V113","v":0},{"$f":"Stückliste!X113","v":0},{"$f":"Stückliste!Z113","v":0},{"$f":"Stückliste!AB113","v":0},{"$f":"Stückliste!AD113","v":0},{"$f":"Stückliste!AH113","v":0},{"$f":"Stückliste!AJ113","v":0},{"$f":"Stückliste!AL113","v":0},{"$f":"Stückliste!AN113","v":0},{"$f":"Stückliste!AP113","v":0},{"$f":"Stückliste!AR113","v":0},{"$f":"Stückliste!AT113","v":0},{"$f":"Stückliste!AV113","v":0},{"$f":"Stückliste!AF113","v":0},{"$f":"Stückliste!AX113","v":0}]
[{"$f":"A60","v":0},0,8,{"$f":"Stückliste!A114","v":0},{"$f":"Stückliste!D114","v":0},{"$f":"Stückliste!H114","v":0},{"$f":"Stückliste!L114","v":0},{"$f":"Stückliste!P114","v":0},{"$f":"Stückliste!R114","v":0},{"$f":"Stückliste!T114","v":0},{"$f":"Stückliste!V114","v":0},{"$f":"Stückliste!X114","v":0},{"$f":"Stückliste!Z114","v":0},{"$f":"Stückliste!AB114","v":0},{"$f":"Stückliste!AD114","v":0},{"$f":"Stückliste!AH114","v":0},{"$f":"Stückliste!AJ114","v":0},{"$f":"Stückliste!AL114","v":0},{"$f":"Stückliste!AN114","v":0},{"$f":"Stückliste!AP114","v":0},{"$f":"Stückliste!AR114","v":0},{"$f":"Stückliste!AT114","v":0},{"$f":"Stückliste!AV114","v":0},{"$f":"Stückliste!AF114","v":0},{"$f":"Stückliste!AX114","v":0}]
[{"$f":"A61","v":0},0,8,{"$f":"Stückliste!A115","v":0},{"$f":"Stückliste!D115","v":0},{"$f":"Stückliste!H115","v":0},{"$f":"Stückliste!L115","v":0},{"$f":"Stückliste!P115","v":0},{"$f":"Stückliste!R115","v":0},{"$f":"Stückliste!T115","v":0},{"$f":"Stückliste!V115","v":0},{"$f":"Stückliste!X115","v":0},{"$f":"Stückliste!Z115","v":0},{"$f":"Stückliste!AB115","v":0},{"$f":"Stückliste!AD115","v":0},{"$f":"Stückliste!AH115","v":0},{"$f":"Stückliste!AJ115","v":0},{"$f":"Stückliste!AL115","v":0},{"$f":"Stückliste!AN115","v":0},{"$f":"Stückliste!AP115","v":0},{"$f":"Stückliste!AR115","v":0},{"$f":"Stückliste!AT115","v":0},{"$f":"Stückliste!AV115","v":0},{"$f":"Stückliste!AF115","v":0},{"$f":"Stückliste!AX115","v":0}]
[{"$f":"A62","v":0},0,8,{"$f":"Stückliste!A116","v":0},{"$f":"Stückliste!D116","v":0},{"$f":"Stückliste!H116","v":0},{"$f":"Stückliste!L116","v":0},{"$f":"Stückliste!P116","v":0},{"$f":"Stückliste!R116","v":0},{"$f":"Stückliste!T116","v":0},{"$f":"Stückliste!V116","v":0},{"$f":"Stückliste!X116","v":0},{"$f":"Stückliste!Z116","v":0},{"$f":"Stückliste!AB116","v":0},{"$f":"Stückliste!AD116","v":0},{"$f":"Stückliste!AH116","v":0},{"$f":"Stückliste!AJ116","v":0},{"$f":"Stückliste!AL116","v":0},{"$f":"Stückliste!AN116","v":0},{"$f":"Stückliste!AP116","v":0},{"$f":"Stückliste!AR116","v":0},{"$f":"Stückliste!AT116","v":0},{"$f":"Stückliste!AV116","v":0},{"$f":"Stückliste!AF116","v":0},{"$f":"Stückliste!AX116","v":0}]
[{"$f":"A63","v":0},0,8,{"$f":"Stückliste!A117","v":0},{"$f":"Stückliste!D117","v":0},{"$f":"Stückliste!H117","v":0},{"$f":"Stückliste!L117","v":0},{"$f":"Stückliste!P117","v":0},{"$f":"Stückliste!R117","v":0},{"$f":"Stückliste!T117","v":0},{"$f":"Stückliste!V117","v":0},{"$f":"Stückliste!X117","v":0},{"$f":"Stückliste!Z117","v":0},{"$f":"Stückliste!AB117","v":0},{"$f":"Stückliste!AD117","v":0},{"$f":"Stückliste!AH117","v":0},{"$f":"Stückliste!AJ117","v":0},{"$f":"Stückliste!AL117","v":0},{"$f":"Stückliste!AN117","v":0},{"$f":"Stückliste!AP117","v":0},{"$f":"Stückliste!AR117","v":0},{"$f":"Stückliste!AT117","v":0},{"$f":"Stückliste!AV117","v":0},{"$f":"Stückliste!AF117","v":0},{"$f":"Stückliste!AX117","v":0}]
[{"$f":"A64","v":0},0,8,{"$f":"Stückliste!A118","v":0},{"$f":"Stückliste!D118","v":0},{"$f":"Stückliste!H118","v":0},{"$f":"Stückliste!L118","v":0},{"$f":"Stückliste!P118","v":0},{"$f":"Stückliste!R118","v":0},{"$f":"Stückliste!T118","v":0},{"$f":"Stückliste!V118","v":0},{"$f":"Stückliste!X118","v":0},{"$f":"Stückliste!Z118","v":0},{"$f":"Stückliste!AB118","v":0},{"$f":"Stückliste!AD118","v":0},{"$f":"Stückliste!AH118","v":0},{"$f":"Stückliste!AJ118","v":0},{"$f":"Stückliste!AL118","v":0},{"$f":"Stückliste!AN118","v":0},{"$f":"Stückliste!AP118","v":0},{"$f":"Stückliste!AR118","v":0},{"$f":"Stückliste!AT118","v":0},{"$f":"Stückliste!AV118","v":0},{"$f":"Stückliste!AF118","v":0},{"$f":"Stückliste!AX118","v":0}]
[{"$f":"A65","v":0},0,8,{"$f":"Stückliste!A119","v":0},{"$f":"Stückliste!D119","v":0},{"$f":"Stückliste!H119","v":0},{"$f":"Stückliste!L119","v":0},{"$f":"Stückliste!P119","v":0},{"$f":"Stückliste!R119","v":0},{"$f":"Stückliste!T119","v":0},{"$f":"Stückliste!V119","v":0},{"$f":"Stückliste!X119","v":0},{"$f":"Stückliste!Z119","v":0},{"$f":"Stückliste!AB119","v":0},{"$f":"Stückliste!AD119","v":0},{"$f":"Stückliste!AH119","v":0},{"$f":"Stückliste!AJ119","v":0},{"$f":"Stückliste!AL119","v":0},{"$f":"Stückliste!AN119","v":0},{"$f":"Stückliste!AP119","v":0},{"$f":"Stückliste!AR119","v":0},{"$f":"Stückliste!AT119","v":0},{"$f":"Stückliste!AV119","v":0},{"$f":"Stückliste!AF119","v":0},{"$f":"Stückliste!AX119","v":0}]
[{"$f":"A66","v":0},0,8,{"$f":"Stückliste!A120","v":0},{"$f":"Stückliste!D120","v":0},{"$f":"Stückliste!H120","v":0},{"$f":"Stückliste!L120","v":0},{"$f":"Stückliste!P120","v":0},{"$f":"Stückliste!R120","v":0},{"$f":"Stückliste!T120","v":0},{"$f":"Stückliste!V120","v":0},{"$f":"Stückliste!X120","v":0},{"$f":"Stückliste!Z120","v":0},{"$f":"Stückliste!AB120","v":0},{"$f":"Stückliste!AD120","v":0},{"$f":"Stückliste!AH120","v":0},{"$f":"Stückliste!AJ120","v":0},{"$f":"Stückliste!AL120","v":0},{"$f":"Stückliste!AN120","v":0},{"$f":"Stückliste!AP120","v":0},{"$f":"Stückliste!AR120","v":0},{"$f":"Stückliste!AT120","v":0},{"$f":"Stückliste!AV120","v":0},{"$f":"Stückliste!AF120","v":0},{"$f":"Stückliste!AX120","v":0}]
[{"$f":"A67","v":0},0,8,{"$f":"Stückliste!A121","v":0},{"$f":"Stückliste!D121","v":0},{"$f":"Stückliste!H121","v":0},{"$f":"Stückliste!L121","v":0},{"$f":"Stückliste!P121","v":0},{"$f":"Stückliste!R121","v":0},{"$f":"Stückliste!T121","v":0},{"$f":"Stückliste!V121","v":0},{"$f":"Stückliste!X121","v":0},{"$f":"Stückliste!Z121","v":0},{"$f":"Stückliste!AB121","v":0},{"$f":"Stückliste!AD121","v":0},{"$f":"Stückliste!AH121","v":0},{"$f":"Stückliste!AJ121","v":0},{"$f":"Stückliste!AL121","v":0},{"$f":"Stückliste!AN121","v":0},{"$f":"Stückliste!AP121","v":0},{"$f":"Stückliste!AR121","v":0},{"$f":"Stückliste!AT121","v":0},{"$f":"Stückliste!AV121","v":0},{"$f":"Stückliste!AF121","v":0},{"$f":"Stückliste!AX121","v":0}]
[{"$f":"A68","v":0},0,8,{"$f":"Stückliste!A122","v":0},{"$f":"Stückliste!D122","v":0},{"$f":"Stückliste!H122","v":0},{"$f":"Stückliste!L122","v":0},{"$f":"Stückliste!P122","v":0},{"$f":"Stückliste!R122","v":0},{"$f":"Stückliste!T122","v":0},{"$f":"Stückliste!V122","v":0},{"$f":"Stückliste!X122","v":0},{"$f":"Stückliste!Z122","v":0},{"$f":"Stückliste!AB122","v":0},{"$f":"Stückliste!AD122","v":0},{"$f":"Stückliste!AH122","v":0},{"$f":"Stückliste!AJ122","v":0},{"$f":"Stückliste!AL122","v":0},{"$f":"Stückliste!AN122","v":0},{"$f":"Stückliste!AP122","v":0},{"$f":"Stückliste!AR122","v":0},{"$f":"Stückliste!AT122","v":0},{"$f":"Stückliste!AV122","v":0},{"$f":"Stückliste!AF122","v":0},{"$f":"Stückliste!AX122","v":0}]
[{"$f":"A69","v":0},0,8,{"$f":"Stückliste!A123","v":0},{"$f":"Stückliste!D123","v":0},{"$f":"Stückliste!H123","v":0},{"$f":"Stückliste!L123","v":0},{"$f":"Stückliste!P123","v":0},{"$f":"Stückliste!R123","v":0},{"$f":"Stückliste!T123","v":0},{"$f":"Stückliste!V123","v":0},{"$f":"Stückliste!X123","v":0},{"$f":"Stückliste!Z123","v":0},{"$f":"Stückliste!AB123","v":0},{"$f":"Stückliste!AD123","v":0},{"$f":"Stückliste!AH123","v":0},{"$f":"Stückliste!AJ123","v":0},{"$f":"Stückliste!AL123","v":0},{"$f":"Stückliste!AN123","v":0},{"$f":"Stückliste!AP123","v":0},{"$f":"Stückliste!AR123","v":0},{"$f":"Stückliste!AT123","v":0},{"$f":"Stückliste!AV123","v":0},{"$f":"Stückliste!AF123","v":0},{"$f":"Stückliste!AX123","v":0}]
[{"$f":"A70","v":0},0,8,{"$f":"Stückliste!A124","v":0},{"$f":"Stückliste!D124","v":0},{"$f":"Stückliste!H124","v":0},{"$f":"Stückliste!L124","v":0},{"$f":"Stückliste!P124","v":0},{"$f":"Stückliste!R124","v":0},{"$f":"Stückliste!T124","v":0},{"$f":"Stückliste!V124","v":0},{"$f":"Stückliste!X124","v":0},{"$f":"Stückliste!Z124","v":0},{"$f":"Stückliste!AB124","v":0},{"$f":"Stückliste!AD124","v":0},{"$f":"Stückliste!AH124","v":0},{"$f":"Stückliste!AJ124","v":0},{"$f":"Stückliste!AL124","v":0},{"$f":"Stückliste!AN124","v":0},{"$f":"Stückliste!AP124","v":0},{"$f":"Stückliste!AR124","v":0},{"$f":"Stückliste!AT124","v":0},{"$f":"Stückliste!AV124","v":0},{"$f":"Stückliste!AF124","v":0},{"$f":"Stückliste!AX124","v":0}]
[{"$f":"A71","v":0},0,8,{"$f":"Stückliste!A125","v":0},{"$f":"Stückliste!D125","v":0},{"$f":"Stückliste!H125","v":0},{"$f":"Stückliste!L125","v":0},{"$f":"Stückliste!P125","v":0},{"$f":"Stückliste!R125","v":0},{"$f":"Stückliste!T125","v":0},{"$f":"Stückliste!V125","v":0},{"$f":"Stückliste!X125","v":0},{"$f":"Stückliste!Z125","v":0},{"$f":"Stückliste!AB125","v":0},{"$f":"Stückliste!AD125","v":0},{"$f":"Stückliste!AH125","v":0},{"$f":"Stückliste!AJ125","v":0},{"$f":"Stückliste!AL125","v":0},{"$f":"Stückliste!AN125","v":0},{"$f":"Stückliste!AP125","v":0},{"$f":"Stückliste!AR125","v":0},{"$f":"Stückliste!AT125","v":0},{"$f":"Stückliste!AV125","v":0},{"$f":"Stückliste!AF125","v":0},{"$f":"Stückliste!AX125","v":0}]
[{"$f":"A72","v":0},0,8,{"$f":"Stückliste!A126","v":0},{"$f":"Stückliste!D126","v":0},{"$f":"Stückliste!H126","v":0},{"$f":"Stückliste!L126","v":0},{"$f":"Stückliste!P126","v":0},{"$f":"Stückliste!R126","v":0},{"$f":"Stückliste!T126","v":0},{"$f":"Stückliste!V126","v":0},{"$f":"Stückliste!X126","v":0},{"$f":"Stückliste!Z126","v":0},{"$f":"Stückliste!AB126","v":0},{"$f":"Stückliste!AD126","v":0},{"$f":"Stückliste!AH126","v":0},{"$f":"Stückliste!AJ126","v":0},{"$f":"Stückliste!AL126","v":0},{"$f":"Stückliste!AN126","v":0},{"$f":"Stückliste!AP126","v":0},{"$f":"Stückliste!AR126","v":0},{"$f":"Stückliste!AT126","v":0},{"$f":"Stückliste!AV126","v":0},{"$f":"Stückliste!AF126","v":0},{"$f":"Stückliste!AX126","v":0}]
[{"$f":"A73","v":0},0,8,{"$f":"Stückliste!A127","v":0},{"$f":"Stückliste!D127","v":0},{"$f":"Stückliste!H127","v":0},{"$f":"Stückliste!L127","v":0},{"$f":"Stückliste!P127","v":0},{"$f":"Stückliste!R127","v":0},{"$f":"Stückliste!T127","v":0},{"$f":"Stückliste!V127","v":0},{"$f":"Stückliste!X127","v":0},{"$f":"Stückliste!Z127","v":0},{"$f":"Stückliste!AB127","v":0},{"$f":"Stückliste!AD127","v":0},{"$f":"Stückliste!AH127","v":0},{"$f":"Stückliste!AJ127","v":0},{"$f":"Stückliste!AL127","v":0},{"$f":"Stückliste!AN127","v":0},{"$f":"Stückliste!AP127","v":0},{"$f":"Stückliste!AR127","v":0},{"$f":"Stückliste!AT127","v":0},{"$f":"Stückliste!AV127","v":0},{"$f":"Stückliste!AF127","v":0},{"$f":"Stückliste!AX127","v":0}]
[{"$f":"A74","v":0},0,8,{"$f":"Stückliste!A128","v":0},{"$f":"Stückliste!D128","v":0},{"$f":"Stückliste!H128","v":0},{"$f":"Stückliste!L128","v":0},{"$f":"Stückliste!P128","v":0},{"$f":"Stückliste!R128","v":0},{"$f":"Stückliste!T128","v":0},{"$f":"Stückliste!V128","v":0},{"$f":"Stückliste!X128","v":0},{"$f":"Stückliste!Z128","v":0},{"$f":"Stückliste!AB128","v":0},{"$f":"Stückliste!AD128","v":0},{"$f":"Stückliste!AH128","v":0},{"$f":"Stückliste!AJ128","v":0},{"$f":"Stückliste!AL128","v":0},{"$f":"Stückliste!AN128","v":0},{"$f":"Stückliste!AP128","v":0},{"$f":"Stückliste!AR128","v":0},{"$f":"Stückliste!AT128","v":0},{"$f":"Stückliste!AV128","v":0},{"$f":"Stückliste!AF128","v":0},{"$f":"Stückliste!AX128","v":0}]
[{"$f":"A75","v":0},0,8,{"$f":"Stückliste!A129","v":0},{"$f":"Stückliste!D129","v":0},{"$f":"Stückliste!H129","v":0},{"$f":"Stückliste!L129","v":0},{"$f":"Stückliste!P129","v":0},{"$f":"Stückliste!R129","v":0},{"$f":"Stückliste!T129","v":0},{"$f":"Stückliste!V129","v":0},{"$f":"Stückliste!X129","v":0},{"$f":"Stückliste!Z129","v":0},{"$f":"Stückliste!AB129","v":0},{"$f":"Stückliste!AD129","v":0},{"$f":"Stückliste!AH129","v":0},{"$f":"Stückliste!AJ129","v":0},{"$f":"Stückliste!AL129","v":0},{"$f":"Stückliste!AN129","v":0},{"$f":"Stückliste!AP129","v":0},{"$f":"Stückliste!AR129","v":0},{"$f":"Stückliste!AT129","v":0},{"$f":"Stückliste!AV129","v":0},{"$f":"Stückliste!AF129","v":0},{"$f":"Stückliste!AX129","v":0}]
[{"$f":"A76","v":0},0,8,{"$f":"Stückliste!A130","v":0},{"$f":"Stückliste!D130","v":0},{"$f":"Stückliste!H130","v":0},{"$f":"Stückliste!L130","v":0},{"$f":"Stückliste!P130","v":0},{"$f":"Stückliste!R130","v":0},{"$f":"Stückliste!T130","v":0},{"$f":"Stückliste!V130","v":0},{"$f":"Stückliste!X130","v":0},{"$f":"Stückliste!Z130","v":0},{"$f":"Stückliste!AB130","v":0},{"$f":"Stückliste!AD130","v":0},{"$f":"Stückliste!AH130","v":0},{"$f":"Stückliste!AJ130","v":0},{"$f":"Stückliste!AL130","v":0},{"$f":"Stückliste!AN130","v":0},{"$f":"Stückliste!AP130","v":0},{"$f":"Stückliste!AR130","v":0},{"$f":"Stückliste!AT130","v":0},{"$f":"Stückliste!AV130","v":0},{"$f":"Stückliste!AF130","v":0},{"$f":"Stückliste!AX130","v":0}]
[{"$f":"A77","v":0},0,8,{"$f":"Stückliste!A131","v":0},{"$f":"Stückliste!D131","v":0},{"$f":"Stückliste!H131","v":0},{"$f":"Stückliste!L131","v":0},{"$f":"Stückliste!P131","v":0},{"$f":"Stückliste!R131","v":0},{"$f":"Stückliste!T131","v":0},{"$f":"Stückliste!V131","v":0},{"$f":"Stückliste!X131","v":0},{"$f":"Stückliste!Z131","v":0},{"$f":"Stückliste!AB131","v":0},{"$f":"Stückliste!AD131","v":0},{"$f":"Stückliste!AH131","v":0},{"$f":"Stückliste!AJ131","v":0},{"$f":"Stückliste!AL131","v":0},{"$f":"Stückliste!AN131","v":0},{"$f":"Stückliste!AP131","v":0},{"$f":"Stückliste!AR131","v":0},{"$f":"Stückliste!AT131","v":0},{"$f":"Stückliste!AV131","v":0},{"$f":"Stückliste!AF131","v":0},{"$f":"Stückliste!AX131","v":0}]
[{"$f":"A78","v":0},0,8,{"$f":"Stückliste!A132","v":0},{"$f":"Stückliste!D132","v":0},{"$f":"Stückliste!H132","v":0},{"$f":"Stückliste!L132","v":0},{"$f":"Stückliste!P132","v":0},{"$f":"Stückliste!R132","v":0},{"$f":"Stückliste!T132","v":0},{"$f":"Stückliste!V132","v":0},{"$f":"Stückliste!X132","v":0},{"$f":"Stückliste!Z132","v":0},{"$f":"Stückliste!AB132","v":0},{"$f":"Stückliste!AD132","v":0},{"$f":"Stückliste!AH132","v":0},{"$f":"Stückliste!AJ132","v":0},{"$f":"Stückliste!AL132","v":0},{"$f":"Stückliste!AN132","v":0},{"$f":"Stückliste!AP132","v":0},{"$f":"Stückliste!AR132","v":0},{"$f":"Stückliste!AT132","v":0},{"$f":"Stückliste!AV132","v":0},{"$f":"Stückliste!AF132","v":0},{"$f":"Stückliste!AX132","v":0}]
[{"$f":"A79","v":0},0,8,{"$f":"Stückliste!A133","v":0},{"$f":"Stückliste!D133","v":0},{"$f":"Stückliste!H133","v":0},{"$f":"Stückliste!L133","v":0},{"$f":"Stückliste!P133","v":0},{"$f":"Stückliste!R133","v":0},{"$f":"Stückliste!T133","v":0},{"$f":"Stückliste!V133","v":0},{"$f":"Stückliste!X133","v":0},{"$f":"Stückliste!Z133","v":0},{"$f":"Stückliste!AB133","v":0},{"$f":"Stückliste!AD133","v":0},{"$f":"Stückliste!AH133","v":0},{"$f":"Stückliste!AJ133","v":0},{"$f":"Stückliste!AL133","v":0},{"$f":"Stückliste!AN133","v":0},{"$f":"Stückliste!AP133","v":0},{"$f":"Stückliste!AR133","v":0},{"$f":"Stückliste!AT133","v":0},{"$f":"Stückliste!AV133","v":0},{"$f":"Stückliste!AF133","v":0},{"$f":"Stückliste!AX133","v":0}]
[{"$f":"A80","v":0},0,8,{"$f":"Stückliste!A134","v":0},{"$f":"Stückliste!D134","v":0},{"$f":"Stückliste!H134","v":0},{"$f":"Stückliste!L134","v":0},{"$f":"Stückliste!P134","v":0},{"$f":"Stückliste!R134","v":0},{"$f":"Stückliste!T134","v":0},{"$f":"Stückliste!V134","v":0},{"$f":"Stückliste!X134","v":0},{"$f":"Stückliste!Z134","v":0},{"$f":"Stückliste!AB134","v":0},{"$f":"Stückliste!AD134","v":0},{"$f":"Stückliste!AH134","v":0},{"$f":"Stückliste!AJ134","v":0},{"$f":"Stückliste!AL134","v":0},{"$f":"Stückliste!AN134","v":0},{"$f":"Stückliste!AP134","v":0},{"$f":"Stückliste!AR134","v":0},{"$f":"Stückliste!AT134","v":0},{"$f":"Stückliste!AV134","v":0},{"$f":"Stückliste!AF134","v":0},{"$f":"Stückliste!AX134","v":0}]
[{"$f":"A81","v":0},0,8,{"$f":"Stückliste!A135","v":0},{"$f":"Stückliste!D135","v":0},{"$f":"Stückliste!H135","v":0},{"$f":"Stückliste!L135","v":0},{"$f":"Stückliste!P135","v":0},{"$f":"Stückliste!R135","v":0},{"$f":"Stückliste!T135","v":0},{"$f":"Stückliste!V135","v":0},{"$f":"Stückliste!X135","v":0},{"$f":"Stückliste!Z135","v":0},{"$f":"Stückliste!AB135","v":0},{"$f":"Stückliste!AD135","v":0},{"$f":"Stückliste!AH135","v":0},{"$f":"Stückliste!AJ135","v":0},{"$f":"Stückliste!AL135","v":0},{"$f":"Stückliste!AN135","v":0},{"$f":"Stückliste!AP135","v":0},{"$f":"Stückliste!AR135","v":0},{"$f":"Stückliste!AT135","v":0},{"$f":"Stückliste!AV135","v":0},{"$f":"Stückliste!AF135","v":0},{"$f":"Stückliste!AX135","v":0}]
[{"$f":"A82","v":0},0,8,{"$f":"Stückliste!A136","v":0},{"$f":"Stückliste!D136","v":0},{"$f":"Stückliste!H136","v":0},{"$f":"Stückliste!L136","v":0},{"$f":"Stückliste!P136","v":0},{"$f":"Stückliste!R136","v":0},{"$f":"Stückliste!T136","v":0},{"$f":"Stückliste!V136","v":0},{"$f":"Stückliste!X136","v":0},{"$f":"Stückliste!Z136","v":0},{"$f":"Stückliste!AB136","v":0},{"$f":"Stückliste!AD136","v":0},{"$f":"Stückliste!AH136","v":0},{"$f":"Stückliste!AJ136","v":0},{"$f":"Stückliste!AL136","v":0},{"$f":"Stückliste!AN136","v":0},{"$f":"Stückliste!AP136","v":0},{"$f":"Stückliste!AR136","v":0},{"$f":"Stückliste!AT136","v":0},{"$f":"Stückliste!AV136","v":0},{"$f":"Stückliste!AF136","v":0},{"$f":"Stückliste!AX136","v":0}]
[{"$f":"A83","v":0},0,8,{"$f":"Stückliste!A137","v":0},{"$f":"Stückliste!D137","v":0},{"$f":"Stückliste!H137","v":0},{"$f":"Stückliste!L137","v":0},{"$f":"Stückliste!P137","v":0},{"$f":"Stückliste!R137","v":0},{"$f":"Stückliste!T137","v":0},{"$f":"Stückliste!V137","v":0},{"$f":"Stückliste!X137","v":0},{"$f":"Stückliste!Z137","v":0},{"$f":"Stückliste!AB137","v":0},{"$f":"Stückliste!AD137","v":0},{"$f":"Stückliste!AH137","v":0},{"$f":"Stückliste!AJ137","v":0},{"$f":"Stückliste!AL137","v":0},{"$f":"Stückliste!AN137","v":0},{"$f":"Stückliste!AP137","v":0},{"$f":"Stückliste!AR137","v":0},{"$f":"Stückliste!AT137","v":0},{"$f":"Stückliste!AV137","v":0},{"$f":"Stückliste!AF137","v":0},{"$f":"Stückliste!AX137","v":0}]
[{"$f":"A84","v":0},0,8,{"$f":"Stückliste!A138","v":0},{"$f":"Stückliste!D138","v":0},{"$f":"Stückliste!H138","v":0},{"$f":"Stückliste!L138","v":0},{"$f":"Stückliste!P138","v":0},{"$f":"Stückliste!R138","v":0},{"$f":"Stückliste!T138","v":0},{"$f":"Stückliste!V138","v":0},{"$f":"Stückliste!X138","v":0},{"$f":"Stückliste!Z138","v":0},{"$f":"Stückliste!AB138","v":0},{"$f":"Stückliste!AD138","v":0},{"$f":"Stückliste!AH138","v":0},{"$f":"Stückliste!AJ138","v":0},{"$f":"Stückliste!AL138","v":0},{"$f":"Stückliste!AN138","v":0},{"$f":"Stückliste!AP138","v":0},{"$f":"Stückliste!AR138","v":0},{"$f":"Stückliste!AT138","v":0},{"$f":"Stückliste!AV138","v":0},{"$f":"Stückliste!AF138","v":0},{"$f":"Stückliste!AX138","v":0}]
[{"$f":"A85","v":0},0,8,{"$f":"Stückliste!A139","v":0},{"$f":"Stückliste!D139","v":0},{"$f":"Stückliste!H139","v":0},{"$f":"Stückliste!L139","v":0},{"$f":"Stückliste!P139","v":0},{"$f":"Stückliste!R139","v":0},{"$f":"Stückliste!T139","v":0},{"$f":"Stückliste!V139","v":0},{"$f":"Stückliste!X139","v":0},{"$f":"Stückliste!Z139","v":0},{"$f":"Stückliste!AB139","v":0},{"$f":"Stückliste!AD139","v":0},{"$f":"Stückliste!AH139","v":0},{"$f":"Stückliste!AJ139","v":0},{"$f":"Stückliste!AL139","v":0},{"$f":"Stückliste!AN139","v":0},{"$f":"Stückliste!AP139","v":0},{"$f":"Stückliste!AR139","v":0},{"$f":"Stückliste!AT139","v":0},{"$f":"Stückliste!AV139","v":0},{"$f":"Stückliste!AF139","v":0},{"$f":"Stückliste!AX139","v":0}]
[{"$f":"A86","v":0},0,8,{"$f":"Stückliste!A140","v":0},{"$f":"Stückliste!D140","v":0},{"$f":"Stückliste!H140","v":0},{"$f":"Stückliste!L140","v":0},{"$f":"Stückliste!P140","v":0},{"$f":"Stückliste!R140","v":0},{"$f":"Stückliste!T140","v":0},{"$f":"Stückliste!V140","v":0},{"$f":"Stückliste!X140","v":0},{"$f":"Stückliste!Z140","v":0},{"$f":"Stückliste!AB140","v":0},{"$f":"Stückliste!AD140","v":0},{"$f":"Stückliste!AH140","v":0},{"$f":"Stückliste!AJ140","v":0},{"$f":"Stückliste!AL140","v":0},{"$f":"Stückliste!AN140","v":0},{"$f":"Stückliste!AP140","v":0},{"$f":"Stückliste!AR140","v":0},{"$f":"Stückliste!AT140","v":0},{"$f":"Stückliste!AV140","v":0},{"$f":"Stückliste!AF140","v":0},{"$f":"Stückliste!AX140","v":0}]
[{"$f":"A87","v":0},0,8,{"$f":"Stückliste!A141","v":0},{"$f":"Stückliste!D141","v":0},{"$f":"Stückliste!H141","v":0},{"$f":"Stückliste!L141","v":0},{"$f":"Stückliste!P141","v":0},{"$f":"Stückliste!R141","v":0},{"$f":"Stückliste!T141","v":0},{"$f":"Stückliste!V141","v":0},{"$f":"Stückliste!X141","v":0},{"$f":"Stückliste!Z141","v":0},{"$f":"Stückliste!AB141","v":0},{"$f":"Stückliste!AD141","v":0},{"$f":"Stückliste!AH141","v":0},{"$f":"Stückliste!AJ141","v":0},{"$f":"Stückliste!AL141","v":0},{"$f":"Stückliste!AN141","v":0},{"$f":"Stückliste!AP141","v":0},{"$f":"Stückliste!AR141","v":0},{"$f":"Stückliste!AT141","v":0},{"$f":"Stückliste!AV141","v":0},{"$f":"Stückliste!AF141","v":0},{"$f":"Stückliste!AX141","v":0}]
[{"$f":"A88","v":0},0,8,{"$f":"Stückliste!A142","v":0},{"$f":"Stückliste!D142","v":0},{"$f":"Stückliste!H142","v":0},{"$f":"Stückliste!L142","v":0},{"$f":"Stückliste!P142","v":0},{"$f":"Stückliste!R142","v":0},{"$f":"Stückliste!T142","v":0},{"$f":"Stückliste!V142","v":0},{"$f":"Stückliste!X142","v":0},{"$f":"Stückliste!Z142","v":0},{"$f":"Stückliste!AB142","v":0},{"$f":"Stückliste!AD142","v":0},{"$f":"Stückliste!AH142","v":0},{"$f":"Stückliste!AJ142","v":0},{"$f":"Stückliste!AL142","v":0},{"$f":"Stückliste!AN142","v":0},{"$f":"Stückliste!AP142","v":0},{"$f":"Stückliste!AR142","v":0},{"$f":"Stückliste!AT142","v":0},{"$f":"Stückliste!AV142","v":0},{"$f":"Stückliste!AF142","v":0},{"$f":"Stückliste!AX142","v":0}]
[{"$f":"A89","v":0},0,8,{"$f":"Stückliste!A143","v":0},{"$f":"Stückliste!D143","v":0},{"$f":"Stückliste!H143","v":0},{"$f":"Stückliste!L143","v":0},{"$f":"Stückliste!P143","v":0},{"$f":"Stückliste!R143","v":0},{"$f":"Stückliste!T143","v":0},{"$f":"Stückliste!V143","v":0},{"$f":"Stückliste!X143","v":0},{"$f":"Stückliste!Z143","v":0},{"$f":"Stückliste!AB143","v":0},{"$f":"Stückliste!AD143","v":0},{"$f":"Stückliste!AH143","v":0},{"$f":"Stückliste!AJ143","v":0},{"$f":"Stückliste!AL143","v":0},{"$f":"Stückliste!AN143","v":0},{"$f":"Stückliste!AP143","v":0},{"$f":"Stückliste!AR143","v":0},{"$f":"Stückliste!AT143","v":0},{"$f":"Stückliste!AV143","v":0},{"$f":"Stückliste!AF143","v":0},{"$f":"Stückliste!AX143","v":0}]
[{"$f":"A90","v":0},0,8,{"$f":"Stückliste!A144","v":0},{"$f":"Stückliste!D144","v":0},{"$f":"Stückliste!H144","v":0},{"$f":"Stückliste!L144","v":0},{"$f":"Stückliste!P144","v":0},{"$f":"Stückliste!R144","v":0},{"$f":"Stückliste!T144","v":0},{"$f":"Stückliste!V144","v":0},{"$f":"Stückliste!X144","v":0},{"$f":"Stückliste!Z144","v":0},{"$f":"Stückliste!AB144","v":0},{"$f":"Stückliste!AD144","v":0},{"$f":"Stückliste!AH144","v":0},{"$f":"Stückliste!AJ144","v":0},{"$f":"Stückliste!AL144","v":0},{"$f":"Stückliste!AN144","v":0},{"$f":"Stückliste!AP144","v":0},{"$f":"Stückliste!AR144","v":0},{"$f":"Stückliste!AT144","v":0},{"$f":"Stückliste!AV144","v":0},{"$f":"Stückliste!AF144","v":0},{"$f":"Stückliste!AX144","v":0}]
[{"$f":"A91","v":0},0,8,{"$f":"Stückliste!A145","v":0},{"$f":"Stückliste!D145","v":0},{"$f":"Stückliste!H145","v":0},{"$f":"Stückliste!L145","v":0},{"$f":"Stückliste!P145","v":0},{"$f":"Stückliste!R145","v":0},{"$f":"Stückliste!T145","v":0},{"$f":"Stückliste!V145","v":0},{"$f":"Stückliste!X145","v":0},{"$f":"Stückliste!Z145","v":0},{"$f":"Stückliste!AB145","v":0},{"$f":"Stückliste!AD145","v":0},{"$f":"Stückliste!AH145","v":0},{"$f":"Stückliste!AJ145","v":0},{"$f":"Stückliste!AL145","v":0},{"$f":"Stückliste!AN145","v":0},{"$f":"Stückliste!AP145","v":0},{"$f":"Stückliste!AR145","v":0},{"$f":"Stückliste!AT145","v":0},{"$f":"Stückliste!AV145","v":0},{"$f":"Stückliste!AF145","v":0},{"$f":"Stückliste!AX145","v":0}]
[{"$f":"A92","v":0},0,8,{"$f":"Stückliste!A146","v":0},{"$f":"Stückliste!D146","v":0},{"$f":"Stückliste!H146","v":0},{"$f":"Stückliste!L146","v":0},{"$f":"Stückliste!P146","v":0},{"$f":"Stückliste!R146","v":0},{"$f":"Stückliste!T146","v":0},{"$f":"Stückliste!V146","v":0},{"$f":"Stückliste!X146","v":0},{"$f":"Stückliste!Z146","v":0},{"$f":"Stückliste!AB146","v":0},{"$f":"Stückliste!AD146","v":0},{"$f":"Stückliste!AH146","v":0},{"$f":"Stückliste!AJ146","v":0},{"$f":"Stückliste!AL146","v":0},{"$f":"Stückliste!AN146","v":0},{"$f":"Stückliste!AP146","v":0},{"$f":"Stückliste!AR146","v":0},{"$f":"Stückliste!AT146","v":0},{"$f":"Stückliste!AV146","v":0},{"$f":"Stückliste!AF146","v":0},{"$f":"Stückliste!AX146","v":0}]
[{"$f":"A93","v":0},0,8,{"$f":"Stückliste!A147","v":0},{"$f":"Stückliste!D147","v":0},{"$f":"Stückliste!H147","v":0},{"$f":"Stückliste!L147","v":0},{"$f":"Stückliste!P147","v":0},{"$f":"Stückliste!R147","v":0},{"$f":"Stückliste!T147","v":0},{"$f":"Stückliste!V147","v":0},{"$f":"Stückliste!X147","v":0},{"$f":"Stückliste!Z147","v":0},{"$f":"Stückliste!AB147","v":0},{"$f":"Stückliste!AD147","v":0},{"$f":"Stückliste!AH147","v":0},{"$f":"Stückliste!AJ147","v":0},{"$f":"Stückliste!AL147","v":0},{"$f":"Stückliste!AN147","v":0},{"$f":"Stückliste!AP147","v":0},{"$f":"Stückliste!AR147","v":0},{"$f":"Stückliste!AT147","v":0},{"$f":"Stückliste!AV147","v":0},{"$f":"Stückliste!AF147","v":0},{"$f":"Stückliste!AX147","v":0}]
[{"$f":"A94","v":0},0,8,{"$f":"Stückliste!A148","v":0},{"$f":"Stückliste!D148","v":0},{"$f":"Stückliste!H148","v":0},{"$f":"Stückliste!L148","v":0},{"$f":"Stückliste!P148","v":0},{"$f":"Stückliste!R148","v":0},{"$f":"Stückliste!T148","v":0},{"$f":"Stückliste!V148","v":0},{"$f":"Stückliste!X148","v":0},{"$f":"Stückliste!Z148","v":0},{"$f":"Stückliste!AB148","v":0},{"$f":"Stückliste!AD148","v":0},{"$f":"Stückliste!AH148","v":0},{"$f":"Stückliste!AJ148","v":0},{"$f":"Stückliste!AL148","v":0},{"$f":"Stückliste!AN148","v":0},{"$f":"Stückliste!AP148","v":0},{"$f":"Stückliste!AR148","v":0},{"$f":"Stückliste!AT148","v":0},{"$f":"Stückliste!AV148","v":0},{"$f":"Stückliste!AF148","v":0},{"$f":"Stückliste!AX148","v":0}]
[{"$f":"A95","v":0},0,8,{"$f":"Stückliste!A149","v":0},{"$f":"Stückliste!D149","v":0},{"$f":"Stückliste!H149","v":0},{"$f":"Stückliste!L149","v":0},{"$f":"Stückliste!P149","v":0},{"$f":"Stückliste!R149","v":0},{"$f":"Stückliste!T149","v":0},{"$f":"Stückliste!V149","v":0},{"$f":"Stückliste!X149","v":0},{"$f":"Stückliste!Z149","v":0},{"$f":"Stückliste!AB149","v":0},{"$f":"Stückliste!AD149","v":0},{"$f":"Stückliste!AH149","v":0},{"$f":"Stückliste!AJ149","v":0},{"$f":"Stückliste!AL149","v":0},{"$f":"Stückliste!AN149","v":0},{"$f":"Stückliste!AP149","v":0},{"$f":"Stückliste!AR149","v":0},{"$f":"Stückliste!AT149","v":0},{"$f":"Stückliste!AV149","v":0},{"$f":"Stückliste!AF149","v":0},{"$f":"Stückliste!AX149","v":0}]
[{"$f":"A96","v":0},0,8,{"$f":"Stückliste!A150","v":0},{"$f":"Stückliste!D150","v":0},{"$f":"Stückliste!H150","v":0},{"$f":"Stückliste!L150","v":0},{"$f":"Stückliste!P150","v":0},{"$f":"Stückliste!R150","v":0},{"$f":"Stückliste!T150","v":0},{"$f":"Stückliste!V150","v":0},{"$f":"Stückliste!X150","v":0},{"$f":"Stückliste!Z150","v":0},{"$f":"Stückliste!AB150","v":0},{"$f":"Stückliste!AD150","v":0},{"$f":"Stückliste!AH150","v":0},{"$f":"Stückliste!AJ150","v":0},{"$f":"Stückliste!AL150","v":0},{"$f":"Stückliste!AN150","v":0},{"$f":"Stückliste!AP150","v":0},{"$f":"Stückliste!AR150","v":0},{"$f":"Stückliste!AT150","v":0},{"$f":"Stückliste!AV150","v":0},{"$f":"Stückliste!AF150","v":0},{"$f":"Stückliste!AX150","v":0}]
[{"$f":"A97","v":0},0,8,{"$f":"Stückliste!A151","v":0},{"$f":"Stückliste!D151","v":0},{"$f":"Stückliste!H151","v":0},{"$f":"Stückliste!L151","v":0},{"$f":"Stückliste!P151","v":0},{"$f":"Stückliste!R151","v":0},{"$f":"Stückliste!T151","v":0},{"$f":"Stückliste!V151","v":0},{"$f":"Stückliste!X151","v":0},{"$f":"Stückliste!Z151","v":0},{"$f":"Stückliste!AB151","v":0},{"$f":"Stückliste!AD151","v":0},{"$f":"Stückliste!AH151","v":0},{"$f":"Stückliste!AJ151","v":0},{"$f":"Stückliste!AL151","v":0},{"$f":"Stückliste!AN151","v":0},{"$f":"Stückliste!AP151","v":0},{"$f":"Stückliste!AR151","v":0},{"$f":"Stückliste!AT151","v":0},{"$f":"Stückliste!AV151","v":0},{"$f":"Stückliste!AF151","v":0},{"$f":"Stückliste!AX151","v":0}]
[{"$f":"A98","v":0},0,8,{"$f":"Stückliste!A152","v":0},{"$f":"Stückliste!D152","v":0},{"$f":"Stückliste!H152","v":0},{"$f":"Stückliste!L152","v":0},{"$f":"Stückliste!P152","v":0},{"$f":"Stückliste!R152","v":0},{"$f":"Stückliste!T152","v":0},{"$f":"Stückliste!V152","v":0},{"$f":"Stückliste!X152","v":0},{"$f":"Stückliste!Z152","v":0},{"$f":"Stückliste!AB152","v":0},{"$f":"Stückliste!AD152","v":0},{"$f":"Stückliste!AH152","v":0},{"$f":"Stückliste!AJ152","v":0},{"$f":"Stückliste!AL152","v":0},{"$f":"Stückliste!AN152","v":0},{"$f":"Stückliste!AP152","v":0},{"$f":"Stückliste!AR152","v":0},{"$f":"Stückliste!AT152","v":0},{"$f":"Stückliste!AV152","v":0},{"$f":"Stückliste!AF152","v":0},{"$f":"Stückliste!AX152","v":0}]
[{"$f":"A99","v":0},0,8,{"$f":"Stückliste!A153","v":0},{"$f":"Stückliste!D153","v":0},{"$f":"Stückliste!H153","v":0},{"$f":"Stückliste!L153","v":0},{"$f":"Stückliste!P153","v":0},{"$f":"Stückliste!R153","v":0},{"$f":"Stückliste!T153","v":0},{"$f":"Stückliste!V153","v":0},{"$f":"Stückliste!X153","v":0},{"$f":"Stückliste!Z153","v":0},{"$f":"Stückliste!AB153","v":0},{"$f":"Stückliste!AD153","v":0},{"$f":"Stückliste!AH153","v":0},{"$f":"Stückliste!AJ153","v":0},{"$f":"Stückliste!AL153","v":0},{"$f":"Stückliste!AN153","v":0},{"$f":"Stückliste!AP153","v":0},{"$f":"Stückliste!AR153","v":0},{"$f":"Stückliste!AT153","v":0},{"$f":"Stückliste!AV153","v":0},{"$f":"Stückliste!AF153","v":0},{"$f":"Stückliste!AX153","v":0}]
[{"$f":"A100","v":0},0,8,{"$f":"Stückliste!A154","v":0},{"$f":"Stückliste!D154","v":0},{"$f":"Stückliste!H154","v":0},{"$f":"Stückliste!L154","v":0},{"$f":"Stückliste!P154","v":0},{"$f":"Stückliste!R154","v":0},{"$f":"Stückliste!T154","v":0},{"$f":"Stückliste!V154","v":0},{"$f":"Stückliste!X154","v":0},{"$f":"Stückliste!Z154","v":0},{"$f":"Stückliste!AB154","v":0},{"$f":"Stückliste!AD154","v":0},{"$f":"Stückliste!AH154","v":0},{"$f":"Stückliste!AJ154","v":0},{"$f":"Stückliste!AL154","v":0},{"$f":"Stückliste!AN154","v":0},{"$f":"Stückliste!AP154","v":0},{"$f":"Stückliste!AR154","v":0},{"$f":"Stückliste!AT154","v":0},{"$f":"Stückliste!AV154","v":0},{"$f":"Stückliste!AF154","v":0},{"$f":"Stückliste!AX154","v":0}]
[{"$f":"A101","v":0},0,8,{"$f":"Stückliste!A155","v":0},{"$f":"Stückliste!D155","v":0},{"$f":"Stückliste!H155","v":0},{"$f":"Stückliste!L155","v":0},{"$f":"Stückliste!P155","v":0},{"$f":"Stückliste!R155","v":0},{"$f":"Stückliste!T155","v":0},{"$f":"Stückliste!V155","v":0},{"$f":"Stückliste!X155","v":0},{"$f":"Stückliste!Z155","v":0},{"$f":"Stückliste!AB155","v":0},{"$f":"Stückliste!AD155","v":0},{"$f":"Stückliste!AH155","v":0},{"$f":"Stückliste!AJ155","v":0},{"$f":"Stückliste!AL155","v":0},{"$f":"Stückliste!AN155","v":0},{"$f":"Stückliste!AP155","v":0},{"$f":"Stückliste!AR155","v":0},{"$f":"Stückliste!AT155","v":0},{"$f":"Stückliste!AV155","v":0},{"$f":"Stückliste!AF155","v":0},{"$f":"Stückliste!AX155","v":0}]
[{"$f":"A102","v":0},0,8,{"$f":"Stückliste!A156","v":0},{"$f":"Stückliste!D156","v":0},{"$f":"Stückliste!H156","v":0},{"$f":"Stückliste!L156","v":0},{"$f":"Stückliste!P156","v":0},{"$f":"Stückliste!R156","v":0},{"$f":"Stückliste!T156","v":0},{"$f":"Stückliste!V156","v":0},{"$f":"Stückliste!X156","v":0},{"$f":"Stückliste!Z156","v":0},{"$f":"Stückliste!AB156","v":0},{"$f":"Stückliste!AD156","v":0},{"$f":"Stückliste!AH156","v":0},{"$f":"Stückliste!AJ156","v":0},{"$f":"Stückliste!AL156","v":0},{"$f":"Stückliste!AN156","v":0},{"$f":"Stückliste!AP156","v":0},{"$f":"Stückliste!AR156","v":0},{"$f":"Stückliste!AT156","v":0},{"$f":"Stückliste!AV156","v":0},{"$f":"Stückliste!AF156","v":0},{"$f":"Stückliste!AX156","v":0}]
[{"$f":"A103","v":0},0,8,{"$f":"Stückliste!A157","v":0},{"$f":"Stückliste!D157","v":0},{"$f":"Stückliste!H157","v":0},{"$f":"Stückliste!L157","v":0},{"$f":"Stückliste!P157","v":0},{"$f":"Stückliste!R157","v":0},{"$f":"Stückliste!T157","v":0},{"$f":"Stückliste!V157","v":0},{"$f":"Stückliste!X157","v":0},{"$f":"Stückliste!Z157","v":0},{"$f":"Stückliste!AB157","v":0},{"$f":"Stückliste!AD157","v":0},{"$f":"Stückliste!AH157","v":0},{"$f":"Stückliste!AJ157","v":0},{"$f":"Stückliste!AL157","v":0},{"$f":"Stückliste!AN157","v":0},{"$f":"Stückliste!AP157","v":0},{"$f":"Stückliste!AR157","v":0},{"$f":"Stückliste!AT157","v":0},{"$f":"Stückliste!AV157","v":0},{"$f":"Stückliste!AF157","v":0},{"$f":"Stückliste!AX157","v":0}]
[{"$f":"A104","v":0},0,8,{"$f":"Stückliste!A158","v":0},{"$f":"Stückliste!D158","v":0},{"$f":"Stückliste!H158","v":0},{"$f":"Stückliste!L158","v":0},{"$f":"Stückliste!P158","v":0},{"$f":"Stückliste!R158","v":0},{"$f":"Stückliste!T158","v":0},{"$f":"Stückliste!V158","v":0},{"$f":"Stückliste!X158","v":0},{"$f":"Stückliste!Z158","v":0},{"$f":"Stückliste!AB158","v":0},{"$f":"Stückliste!AD158","v":0},{"$f":"Stückliste!AH158","v":0},{"$f":"Stückliste!AJ158","v":0},{"$f":"Stückliste!AL158","v":0},{"$f":"Stückliste!AN158","v":0},{"$f":"Stückliste!AP158","v":0},{"$f":"Stückliste!AR158","v":0},{"$f":"Stückliste!AT158","v":0},{"$f":"Stückliste!AV158","v":0},{"$f":"Stückliste!AF158","v":0},{"$f":"Stückliste!AX158","v":0}]
[{"$f":"A105","v":0},0,8,{"$f":"Stückliste!A159","v":0},{"$f":"Stückliste!D159","v":0},{"$f":"Stückliste!H159","v":0},{"$f":"Stückliste!L159","v":0},{"$f":"Stückliste!P159","v":0},{"$f":"Stückliste!R159","v":0},{"$f":"Stückliste!T159","v":0},{"$f":"Stückliste!V159","v":0},{"$f":"Stückliste!X159","v":0},{"$f":"Stückliste!Z159","v":0},{"$f":"Stückliste!AB159","v":0},{"$f":"Stückliste!AD159","v":0},{"$f":"Stückliste!AH159","v":0},{"$f":"Stückliste!AJ159","v":0},{"$f":"Stückliste!AL159","v":0},{"$f":"Stückliste!AN159","v":0},{"$f":"Stückliste!AP159","v":0},{"$f":"Stückliste!AR159","v":0},{"$f":"Stückliste!AT159","v":0},{"$f":"Stückliste!AV159","v":0},{"$f":"Stückliste!AF159","v":0},{"$f":"Stückliste!AX159","v":0}]
[{"$f":"A106","v":0},0,8,{"$f":"Stückliste!A160","v":0},{"$f":"Stückliste!D160","v":0},{"$f":"Stückliste!H160","v":0},{"$f":"Stückliste!L160","v":0},{"$f":"Stückliste!P160","v":0},{"$f":"Stückliste!R160","v":0},{"$f":"Stückliste!T160","v":0},{"$f":"Stückliste!V160","v":0},{"$f":"Stückliste!X160","v":0},{"$f":"Stückliste!Z160","v":0},{"$f":"Stückliste!AB160","v":0},{"$f":"Stückliste!AD160","v":0},{"$f":"Stückliste!AH160","v":0},{"$f":"Stückliste!AJ160","v":0},{"$f":"Stückliste!AL160","v":0},{"$f":"Stückliste!AN160","v":0},{"$f":"Stückliste!AP160","v":0},{"$f":"Stückliste!AR160","v":0},{"$f":"Stückliste!AT160","v":0},{"$f":"Stückliste!AV160","v":0},{"$f":"Stückliste!AF160","v":0},{"$f":"Stückliste!AX160","v":0}]
[{"$f":"A107","v":0},0,8,{"$f":"Stückliste!A161","v":0},{"$f":"Stückliste!D161","v":0},{"$f":"Stückliste!H161","v":0},{"$f":"Stückliste!L161","v":0},{"$f":"Stückliste!P161","v":0},{"$f":"Stückliste!R161","v":0},{"$f":"Stückliste!T161","v":0},{"$f":"Stückliste!V161","v":0},{"$f":"Stückliste!X161","v":0},{"$f":"Stückliste!Z161","v":0},{"$f":"Stückliste!AB161","v":0},{"$f":"Stückliste!AD161","v":0},{"$f":"Stückliste!AH161","v":0},{"$f":"Stückliste!AJ161","v":0},{"$f":"Stückliste!AL161","v":0},{"$f":"Stückliste!AN161","v":0},{"$f":"Stückliste!AP161","v":0},{"$f":"Stückliste!AR161","v":0},{"$f":"Stückliste!AT161","v":0},{"$f":"Stückliste!AV161","v":0},{"$f":"Stückliste!AF161","v":0},{"$f":"Stückliste!AX161","v":0}]
[{"$f":"A108","v":0},0,8,{"$f":"Stückliste!A162","v":0},{"$f":"Stückliste!D162","v":0},{"$f":"Stückliste!H162","v":0},{"$f":"Stückliste!L162","v":0},{"$f":"Stückliste!P162","v":0},{"$f":"Stückliste!R162","v":0},{"$f":"Stückliste!T162","v":0},{"$f":"Stückliste!V162","v":0},{"$f":"Stückliste!X162","v":0},{"$f":"Stückliste!Z162","v":0},{"$f":"Stückliste!AB162","v":0},{"$f":"Stückliste!AD162","v":0},{"$f":"Stückliste!AH162","v":0},{"$f":"Stückliste!AJ162","v":0},{"$f":"Stückliste!AL162","v":0},{"$f":"Stückliste!AN162","v":0},{"$f":"Stückliste!AP162","v":0},{"$f":"Stückliste!AR162","v":0},{"$f":"Stückliste!AT162","v":0},{"$f":"Stückliste!AV162","v":0},{"$f":"Stückliste!AF162","v":0},{"$f":"Stückliste!AX162","v":0}]
[{"$f":"A109","v":0},0,8,{"$f":"Stückliste!A163","v":0},{"$f":"Stückliste!D163","v":0},{"$f":"Stückliste!H163","v":0},{"$f":"Stückliste!L163","v":0},{"$f":"Stückliste!P163","v":0},{"$f":"Stückliste!R163","v":0},{"$f":"Stückliste!T163","v":0},{"$f":"Stückliste!V163","v":0},{"$f":"Stückliste!X163","v":0},{"$f":"Stückliste!Z163","v":0},{"$f":"Stückliste!AB163","v":0},{"$f":"Stückliste!AD163","v":0},{"$f":"Stückliste!AH163","v":0},{"$f":"Stückliste!AJ163","v":0},{"$f":"Stückliste!AL163","v":0},{"$f":"Stückliste!AN163","v":0},{"$f":"Stückliste!AP163","v":0},{"$f":"Stückliste!AR163","v":0},{"$f":"Stückliste!AT163","v":0},{"$f":"Stückliste!AV163","v":0},{"$f":"Stückliste!AF163","v":0},{"$f":"Stückliste!AX163","v":0}]
[{"$f":"A110","v":0},0,8,{"$f":"Stückliste!A164","v":0},{"$f":"Stückliste!D164","v":0},{"$f":"Stückliste!H164","v":0},{"$f":"Stückliste!L164","v":0},{"$f":"Stückliste!P164","v":0},{"$f":"Stückliste!R164","v":0},{"$f":"Stückliste!T164","v":0},{"$f":"Stückliste!V164","v":0},{"$f":"Stückliste!X164","v":0},{"$f":"Stückliste!Z164","v":0},{"$f":"Stückliste!AB164","v":0},{"$f":"Stückliste!AD164","v":0},{"$f":"Stückliste!AH164","v":0},{"$f":"Stückliste!AJ164","v":0},{"$f":"Stückliste!AL164","v":0},{"$f":"Stückliste!AN164","v":0},{"$f":"Stückliste!AP164","v":0},{"$f":"Stückliste!AR164","v":0},{"$f":"Stückliste!AT164","v":0},{"$f":"Stückliste!AV164","v":0},{"$f":"Stückliste!AF164","v":0},{"$f":"Stückliste!AX164","v":0}]
[{"$f":"A111","v":0},0,8,{"$f":"Stückliste!A165","v":0},{"$f":"Stückliste!D165","v":0},{"$f":"Stückliste!H165","v":0},{"$f":"Stückliste!L165","v":0},{"$f":"Stückliste!P165","v":0},{"$f":"Stückliste!R165","v":0},{"$f":"Stückliste!T165","v":0},{"$f":"Stückliste!V165","v":0},{"$f":"Stückliste!X165","v":0},{"$f":"Stückliste!Z165","v":0},{"$f":"Stückliste!AB165","v":0},{"$f":"Stückliste!AD165","v":0},{"$f":"Stückliste!AH165","v":0},{"$f":"Stückliste!AJ165","v":0},{"$f":"Stückliste!AL165","v":0},{"$f":"Stückliste!AN165","v":0},{"$f":"Stückliste!AP165","v":0},{"$f":"Stückliste!AR165","v":0},{"$f":"Stückliste!AT165","v":0},{"$f":"Stückliste!AV165","v":0},{"$f":"Stückliste!AF165","v":0},{"$f":"Stückliste!AX165","v":0}]
[{"$f":"A112","v":0},0,8,{"$f":"Stückliste!A166","v":0},{"$f":"Stückliste!D166","v":0},{"$f":"Stückliste!H166","v":0},{"$f":"Stückliste!L166","v":0},{"$f":"Stückliste!P166","v":0},{"$f":"Stückliste!R166","v":0},{"$f":"Stückliste!T166","v":0},{"$f":"Stückliste!V166","v":0},{"$f":"Stückliste!X166","v":0},{"$f":"Stückliste!Z166","v":0},{"$f":"Stückliste!AB166","v":0},{"$f":"Stückliste!AD166","v":0},{"$f":"Stückliste!AH166","v":0},{"$f":"Stückliste!AJ166","v":0},{"$f":"Stückliste!AL166","v":0},{"$f":"Stückliste!AN166","v":0},{"$f":"Stückliste!AP166","v":0},{"$f":"Stückliste!AR166","v":0},{"$f":"Stückliste!AT166","v":0},{"$f":"Stückliste!AV166","v":0},{"$f":"Stückliste!AF166","v":0},{"$f":"Stückliste!AX166","v":0}]
[{"$f":"A113","v":0},0,8,{"$f":"Stückliste!A167","v":0},{"$f":"Stückliste!D167","v":0},{"$f":"Stückliste!H167","v":0},{"$f":"Stückliste!L167","v":0},{"$f":"Stückliste!P167","v":0},{"$f":"Stückliste!R167","v":0},{"$f":"Stückliste!T167","v":0},{"$f":"Stückliste!V167","v":0},{"$f":"Stückliste!X167","v":0},{"$f":"Stückliste!Z167","v":0},{"$f":"Stückliste!AB167","v":0},{"$f":"Stückliste!AD167","v":0},{"$f":"Stückliste!AH167","v":0},{"$f":"Stückliste!AJ167","v":0},{"$f":"Stückliste!AL167","v":0},{"$f":"Stückliste!AN167","v":0},{"$f":"Stückliste!AP167","v":0},{"$f":"Stückliste!AR167","v":0},{"$f":"Stückliste!AT167","v":0},{"$f":"Stückliste!AV167","v":0},{"$f":"Stückliste!AF167","v":0},{"$f":"Stückliste!AX167","v":0}]
[{"$f":"A114","v":0},0,8,{"$f":"Stückliste!A168","v":0},{"$f":"Stückliste!D168","v":0},{"$f":"Stückliste!H168","v":0},{"$f":"Stückliste!L168","v":0},{"$f":"Stückliste!P168","v":0},{"$f":"Stückliste!R168","v":0},{"$f":"Stückliste!T168","v":0},{"$f":"Stückliste!V168","v":0},{"$f":"Stückliste!X168","v":0},{"$f":"Stückliste!Z168","v":0},{"$f":"Stückliste!AB168","v":0},{"$f":"Stückliste!AD168","v":0},{"$f":"Stückliste!AH168","v":0},{"$f":"Stückliste!AJ168","v":0},{"$f":"Stückliste!AL168","v":0},{"$f":"Stückliste!AN168","v":0},{"$f":"Stückliste!AP168","v":0},{"$f":"Stückliste!AR168","v":0},{"$f":"Stückliste!AT168","v":0},{"$f":"Stückliste!AV168","v":0},{"$f":"Stückliste!AF168","v":0},{"$f":"Stückliste!AX168","v":0}]
[{"$f":"A115","v":0},0,8,{"$f":"Stückliste!A169","v":0},{"$f":"Stückliste!D169","v":0},{"$f":"Stückliste!H169","v":0},{"$f":"Stückliste!L169","v":0},{"$f":"Stückliste!P169","v":0},{"$f":"Stückliste!R169","v":0},{"$f":"Stückliste!T169","v":0},{"$f":"Stückliste!V169","v":0},{"$f":"Stückliste!X169","v":0},{"$f":"Stückliste!Z169","v":0},{"$f":"Stückliste!AB169","v":0},{"$f":"Stückliste!AD169","v":0},{"$f":"Stückliste!AH169","v":0},{"$f":"Stückliste!AJ169","v":0},{"$f":"Stückliste!AL169","v":0},{"$f":"Stückliste!AN169","v":0},{"$f":"Stückliste!AP169","v":0},{"$f":"Stückliste!AR169","v":0},{"$f":"Stückliste!AT169","v":0},{"$f":"Stückliste!AV169","v":0},{"$f":"Stückliste!AF169","v":0},{"$f":"Stückliste!AX169","v":0}]
[{"$f":"A116","v":0},0,8,{"$f":"Stückliste!A170","v":0},{"$f":"Stückliste!D170","v":0},{"$f":"Stückliste!H170","v":0},{"$f":"Stückliste!L170","v":0},{"$f":"Stückliste!P170","v":0},{"$f":"Stückliste!R170","v":0},{"$f":"Stückliste!T170","v":0},{"$f":"Stückliste!V170","v":0},{"$f":"Stückliste!X170","v":0},{"$f":"Stückliste!Z170","v":0},{"$f":"Stückliste!AB170","v":0},{"$f":"Stückliste!AD170","v":0},{"$f":"Stückliste!AH170","v":0},{"$f":"Stückliste!AJ170","v":0},{"$f":"Stückliste!AL170","v":0},{"$f":"Stückliste!AN170","v":0},{"$f":"Stückliste!AP170","v":0},{"$f":"Stückliste!AR170","v":0},{"$f":"Stückliste!AT170","v":0},{"$f":"Stückliste!AV170","v":0},{"$f":"Stückliste!AF170","v":0},{"$f":"Stückliste!AX170","v":0}]
[{"$f":"A117","v":0},0,8,{"$f":"Stückliste!A171","v":0},{"$f":"Stückliste!D171","v":0},{"$f":"Stückliste!H171","v":0},{"$f":"Stückliste!L171","v":0},{"$f":"Stückliste!P171","v":0},{"$f":"Stückliste!R171","v":0},{"$f":"Stückliste!T171","v":0},{"$f":"Stückliste!V171","v":0},{"$f":"Stückliste!X171","v":0},{"$f":"Stückliste!Z171","v":0},{"$f":"Stückliste!AB171","v":0},{"$f":"Stückliste!AD171","v":0},{"$f":"Stückliste!AH171","v":0},{"$f":"Stückliste!AJ171","v":0},{"$f":"Stückliste!AL171","v":0},{"$f":"Stückliste!AN171","v":0},{"$f":"Stückliste!AP171","v":0},{"$f":"Stückliste!AR171","v":0},{"$f":"Stückliste!AT171","v":0},{"$f":"Stückliste!AV171","v":0},{"$f":"Stückliste!AF171","v":0},{"$f":"Stückliste!AX171","v":0}]
[{"$f":"A118","v":0},0,8,{"$f":"Stückliste!A172","v":0},{"$f":"Stückliste!D172","v":0},{"$f":"Stückliste!H172","v":0},{"$f":"Stückliste!L172","v":0},{"$f":"Stückliste!P172","v":0},{"$f":"Stückliste!R172","v":0},{"$f":"Stückliste!T172","v":0},{"$f":"Stückliste!V172","v":0},{"$f":"Stückliste!X172","v":0},{"$f":"Stückliste!Z172","v":0},{"$f":"Stückliste!AB172","v":0},{"$f":"Stückliste!AD172","v":0},{"$f":"Stückliste!AH172","v":0},{"$f":"Stückliste!AJ172","v":0},{"$f":"Stückliste!AL172","v":0},{"$f":"Stückliste!AN172","v":0},{"$f":"Stückliste!AP172","v":0},{"$f":"Stückliste!AR172","v":0},{"$f":"Stückliste!AT172","v":0},{"$f":"Stückliste!AV172","v":0},{"$f":"Stückliste!AF172","v":0},{"$f":"Stückliste!AX172","v":0}]
[{"$f":"A119","v":0},0,8,{"$f":"Stückliste!A173","v":0},{"$f":"Stückliste!D173","v":0},{"$f":"Stückliste!H173","v":0},{"$f":"Stückliste!L173","v":0},{"$f":"Stückliste!P173","v":0},{"$f":"Stückliste!R173","v":0},{"$f":"Stückliste!T173","v":0},{"$f":"Stückliste!V173","v":0},{"$f":"Stückliste!X173","v":0},{"$f":"Stückliste!Z173","v":0},{"$f":"Stückliste!AB173","v":0},{"$f":"Stückliste!AD173","v":0},{"$f":"Stückliste!AH173","v":0},{"$f":"Stückliste!AJ173","v":0},{"$f":"Stückliste!AL173","v":0},{"$f":"Stückliste!AN173","v":0},{"$f":"Stückliste!AP173","v":0},{"$f":"Stückliste!AR173","v":0},{"$f":"Stückliste!AT173","v":0},{"$f":"Stückliste!AV173","v":0},{"$f":"Stückliste!AF173","v":0},{"$f":"Stückliste!AX173","v":0}]
[{"$f":"A120","v":0},0,8,{"$f":"Stückliste!A174","v":0},{"$f":"Stückliste!D174","v":0},{"$f":"Stückliste!H174","v":0},{"$f":"Stückliste!L174","v":0},{"$f":"Stückliste!P174","v":0},{"$f":"Stückliste!R174","v":0},{"$f":"Stückliste!T174","v":0},{"$f":"Stückliste!V174","v":0},{"$f":"Stückliste!X174","v":0},{"$f":"Stückliste!Z174","v":0},{"$f":"Stückliste!AB174","v":0},{"$f":"Stückliste!AD174","v":0},{"$f":"Stückliste!AH174","v":0},{"$f":"Stückliste!AJ174","v":0},{"$f":"Stückliste!AL174","v":0},{"$f":"Stückliste!AN174","v":0},{"$f":"Stückliste!AP174","v":0},{"$f":"Stückliste!AR174","v":0},{"$f":"Stückliste!AT174","v":0},{"$f":"Stückliste!AV174","v":0},{"$f":"Stückliste!AF174","v":0},{"$f":"Stückliste!AX174","v":0}]
[{"$f":"A121","v":0},0,8,{"$f":"Stückliste!A175","v":0},{"$f":"Stückliste!D175","v":0},{"$f":"Stückliste!H175","v":0},{"$f":"Stückliste!L175","v":0},{"$f":"Stückliste!P175","v":0},{"$f":"Stückliste!R175","v":0},{"$f":"Stückliste!T175","v":0},{"$f":"Stückliste!V175","v":0},{"$f":"Stückliste!X175","v":0},{"$f":"Stückliste!Z175","v":0},{"$f":"Stückliste!AB175","v":0},{"$f":"Stückliste!AD175","v":0},{"$f":"Stückliste!AH175","v":0},{"$f":"Stückliste!AJ175","v":0},{"$f":"Stückliste!AL175","v":0},{"$f":"Stückliste!AN175","v":0},{"$f":"Stückliste!AP175","v":0},{"$f":"Stückliste!AR175","v":0},{"$f":"Stückliste!AT175","v":0},{"$f":"Stückliste!AV175","v":0},{"$f":"Stückliste!AF175","v":0},{"$f":"Stückliste!AX175","v":0}]
[{"$f":"A122","v":0},0,8,{"$f":"Stückliste!A176","v":0},{"$f":"Stückliste!D176","v":0},{"$f":"Stückliste!H176","v":0},{"$f":"Stückliste!L176","v":0},{"$f":"Stückliste!P176","v":0},{"$f":"Stückliste!R176","v":0},{"$f":"Stückliste!T176","v":0},{"$f":"Stückliste!V176","v":0},{"$f":"Stückliste!X176","v":0},{"$f":"Stückliste!Z176","v":0},{"$f":"Stückliste!AB176","v":0},{"$f":"Stückliste!AD176","v":0},{"$f":"Stückliste!AH176","v":0},{"$f":"Stückliste!AJ176","v":0},{"$f":"Stückliste!AL176","v":0},{"$f":"Stückliste!AN176","v":0},{"$f":"Stückliste!AP176","v":0},{"$f":"Stückliste!AR176","v":0},{"$f":"Stückliste!AT176","v":0},{"$f":"Stückliste!AV176","v":0},{"$f":"Stückliste!AF176","v":0},{"$f":"Stückliste!AX176","v":0}]
[{"$f":"A123","v":0},0,8,{"$f":"Stückliste!A177","v":0},{"$f":"Stückliste!D177","v":0},{"$f":"Stückliste!H177","v":0},{"$f":"Stückliste!L177","v":0},{"$f":"Stückliste!P177","v":0},{"$f":"Stückliste!R177","v":0},{"$f":"Stückliste!T177","v":0},{"$f":"Stückliste!V177","v":0},{"$f":"Stückliste!X177","v":0},{"$f":"Stückliste!Z177","v":0},{"$f":"Stückliste!AB177","v":0},{"$f":"Stückliste!AD177","v":0},{"$f":"Stückliste!AH177","v":0},{"$f":"Stückliste!AJ177","v":0},{"$f":"Stückliste!AL177","v":0},{"$f":"Stückliste!AN177","v":0},{"$f":"Stückliste!AP177","v":0},{"$f":"Stückliste!AR177","v":0},{"$f":"Stückliste!AT177","v":0},{"$f":"Stückliste!AV177","v":0},{"$f":"Stückliste!AF177","v":0},{"$f":"Stückliste!AX177","v":0}]
[{"$f":"A124","v":0},0,8,{"$f":"Stückliste!A178","v":0},{"$f":"Stückliste!D178","v":0},{"$f":"Stückliste!H178","v":0},{"$f":"Stückliste!L178","v":0},{"$f":"Stückliste!P178","v":0},{"$f":"Stückliste!R178","v":0},{"$f":"Stückliste!T178","v":0},{"$f":"Stückliste!V178","v":0},{"$f":"Stückliste!X178","v":0},{"$f":"Stückliste!Z178","v":0},{"$f":"Stückliste!AB178","v":0},{"$f":"Stückliste!AD178","v":0},{"$f":"Stückliste!AH178","v":0},{"$f":"Stückliste!AJ178","v":0},{"$f":"Stückliste!AL178","v":0},{"$f":"Stückliste!AN178","v":0},{"$f":"Stückliste!AP178","v":0},{"$f":"Stückliste!AR178","v":0},{"$f":"Stückliste!AT178","v":0},{"$f":"Stückliste!AV178","v":0},{"$f":"Stückliste!AF178","v":0},{"$f":"Stückliste!AX178","v":0}]
[{"$f":"A125","v":0},0,8,{"$f":"Stückliste!A179","v":0},{"$f":"Stückliste!D179","v":0},{"$f":"Stückliste!H179","v":0},{"$f":"Stückliste!L179","v":0},{"$f":"Stückliste!P179","v":0},{"$f":"Stückliste!R179","v":0},{"$f":"Stückliste!T179","v":0},{"$f":"Stückliste!V179","v":0},{"$f":"Stückliste!X179","v":0},{"$f":"Stückliste!Z179","v":0},{"$f":"Stückliste!AB179","v":0},{"$f":"Stückliste!AD179","v":0},{"$f":"Stückliste!AH179","v":0},{"$f":"Stückliste!AJ179","v":0},{"$f":"Stückliste!AL179","v":0},{"$f":"Stückliste!AN179","v":0},{"$f":"Stückliste!AP179","v":0},{"$f":"Stückliste!AR179","v":0},{"$f":"Stückliste!AT179","v":0},{"$f":"Stückliste!AV179","v":0},{"$f":"Stückliste!AF179","v":0},{"$f":"Stückliste!AX179","v":0}]
[{"$f":"A126","v":0},0,8,{"$f":"Stückliste!A180","v":0},{"$f":"Stückliste!D180","v":0},{"$f":"Stückliste!H180","v":0},{"$f":"Stückliste!L180","v":0},{"$f":"Stückliste!P180","v":0},{"$f":"Stückliste!R180","v":0},{"$f":"Stückliste!T180","v":0},{"$f":"Stückliste!V180","v":0},{"$f":"Stückliste!X180","v":0},{"$f":"Stückliste!Z180","v":0},{"$f":"Stückliste!AB180","v":0},{"$f":"Stückliste!AD180","v":0},{"$f":"Stückliste!AH180","v":0},{"$f":"Stückliste!AJ180","v":0},{"$f":"Stückliste!AL180","v":0},{"$f":"Stückliste!AN180","v":0},{"$f":"Stückliste!AP180","v":0},{"$f":"Stückliste!AR180","v":0},{"$f":"Stückliste!AT180","v":0},{"$f":"Stückliste!AV180","v":0},{"$f":"Stückliste!AF180","v":0},{"$f":"Stückliste!AX180","v":0}]
[{"$f":"A127","v":0},0,8,{"$f":"Stückliste!A181","v":0},{"$f":"Stückliste!D181","v":0},{"$f":"Stückliste!H181","v":0},{"$f":"Stückliste!L181","v":0},{"$f":"Stückliste!P181","v":0},{"$f":"Stückliste!R181","v":0},{"$f":"Stückliste!T181","v":0},{"$f":"Stückliste!V181","v":0},{"$f":"Stückliste!X181","v":0},{"$f":"Stückliste!Z181","v":0},{"$f":"Stückliste!AB181","v":0},{"$f":"Stückliste!AD181","v":0},{"$f":"Stückliste!AH181","v":0},{"$f":"Stückliste!AJ181","v":0},{"$f":"Stückliste!AL181","v":0},{"$f":"Stückliste!AN181","v":0},{"$f":"Stückliste!AP181","v":0},{"$f":"Stückliste!AR181","v":0},{"$f":"Stückliste!AT181","v":0},{"$f":"Stückliste!AV181","v":0},{"$f":"Stückliste!AF181","v":0},{"$f":"Stückliste!AX181","v":0}]
[{"$f":"A128","v":0},0,8,{"$f":"Stückliste!A182","v":0},{"$f":"Stückliste!D182","v":0},{"$f":"Stückliste!H182","v":0},{"$f":"Stückliste!L182","v":0},{"$f":"Stückliste!P182","v":0},{"$f":"Stückliste!R182","v":0},{"$f":"Stückliste!T182","v":0},{"$f":"Stückliste!V182","v":0},{"$f":"Stückliste!X182","v":0},{"$f":"Stückliste!Z182","v":0},{"$f":"Stückliste!AB182","v":0},{"$f":"Stückliste!AD182","v":0},{"$f":"Stückliste!AH182","v":0},{"$f":"Stückliste!AJ182","v":0},{"$f":"Stückliste!AL182","v":0},{"$f":"Stückliste!AN182","v":0},{"$f":"Stückliste!AP182","v":0},{"$f":"Stückliste!AR182","v":0},{"$f":"Stückliste!AT182","v":0},{"$f":"Stückliste!AV182","v":0},{"$f":"Stückliste!AF182","v":0},{"$f":"Stückliste!AX182","v":0}]
[{"$f":"A129","v":0},0,8,{"$f":"Stückliste!A183","v":0},{"$f":"Stückliste!D183","v":0},{"$f":"Stückliste!H183","v":0},{"$f":"Stückliste!L183","v":0},{"$f":"Stückliste!P183","v":0},{"$f":"Stückliste!R183","v":0},{"$f":"Stückliste!T183","v":0},{"$f":"Stückliste!V183","v":0},{"$f":"Stückliste!X183","v":0},{"$f":"Stückliste!Z183","v":0},{"$f":"Stückliste!AB183","v":0},{"$f":"Stückliste!AD183","v":0},{"$f":"Stückliste!AH183","v":0},{"$f":"Stückliste!AJ183","v":0},{"$f":"Stückliste!AL183","v":0},{"$f":"Stückliste!AN183","v":0},{"$f":"Stückliste!AP183","v":0},{"$f":"Stückliste!AR183","v":0},{"$f":"Stückliste!AT183","v":0},{"$f":"Stückliste!AV183","v":0},{"$f":"Stückliste!AF183","v":0},{"$f":"Stückliste!AX183","v":0}]
[{"$f":"A130","v":0},0,8,{"$f":"Stückliste!A184","v":0},{"$f":"Stückliste!D184","v":0},{"$f":"Stückliste!H184","v":0},{"$f":"Stückliste!L184","v":0},{"$f":"Stückliste!P184","v":0},{"$f":"Stückliste!R184","v":0},{"$f":"Stückliste!T184","v":0},{"$f":"Stückliste!V184","v":0},{"$f":"Stückliste!X184","v":0},{"$f":"Stückliste!Z184","v":0},{"$f":"Stückliste!AB184","v":0},{"$f":"Stückliste!AD184","v":0},{"$f":"Stückliste!AH184","v":0},{"$f":"Stückliste!AJ184","v":0},{"$f":"Stückliste!AL184","v":0},{"$f":"Stückliste!AN184","v":0},{"$f":"Stückliste!AP184","v":0},{"$f":"Stückliste!AR184","v":0},{"$f":"Stückliste!AT184","v":0},{"$f":"Stückliste!AV184","v":0},{"$f":"Stückliste!AF184","v":0},{"$f":"Stückliste!AX184","v":0}]
[{"$f":"A131","v":0},0,8,{"$f":"Stückliste!A185","v":0},{"$f":"Stückliste!D185","v":0},{"$f":"Stückliste!H185","v":0},{"$f":"Stückliste!L185","v":0},{"$f":"Stückliste!P185","v":0},{"$f":"Stückliste!R185","v":0},{"$f":"Stückliste!T185","v":0},{"$f":"Stückliste!V185","v":0},{"$f":"Stückliste!X185","v":0},{"$f":"Stückliste!Z185","v":0},{"$f":"Stückliste!AB185","v":0},{"$f":"Stückliste!AD185","v":0},{"$f":"Stückliste!AH185","v":0},{"$f":"Stückliste!AJ185","v":0},{"$f":"Stückliste!AL185","v":0},{"$f":"Stückliste!AN185","v":0},{"$f":"Stückliste!AP185","v":0},{"$f":"Stückliste!AR185","v":0},{"$f":"Stückliste!AT185","v":0},{"$f":"Stückliste!AV185","v":0},{"$f":"Stückliste!AF185","v":0},{"$f":"Stückliste!AX185","v":0}]
[{"$f":"A132","v":0},0,8,{"$f":"Stückliste!A186","v":0},{"$f":"Stückliste!D186","v":0},{"$f":"Stückliste!H186","v":0},{"$f":"Stückliste!L186","v":0},{"$f":"Stückliste!P186","v":0},{"$f":"Stückliste!R186","v":0},{"$f":"Stückliste!T186","v":0},{"$f":"Stückliste!V186","v":0},{"$f":"Stückliste!X186","v":0},{"$f":"Stückliste!Z186","v":0},{"$f":"Stückliste!AB186","v":0},{"$f":"Stückliste!AD186","v":0},{"$f":"Stückliste!AH186","v":0},{"$f":"Stückliste!AJ186","v":0},{"$f":"Stückliste!AL186","v":0},{"$f":"Stückliste!AN186","v":0},{"$f":"Stückliste!AP186","v":0},{"$f":"Stückliste!AR186","v":0},{"$f":"Stückliste!AT186","v":0},{"$f":"Stückliste!AV186","v":0},{"$f":"Stückliste!AF186","v":0},{"$f":"Stückliste!AX186","v":0}]
[{"$f":"A133","v":0},0,8,{"$f":"Stückliste!A187","v":0},{"$f":"Stückliste!D187","v":0},{"$f":"Stückliste!H187","v":0},{"$f":"Stückliste!L187","v":0},{"$f":"Stückliste!P187","v":0},{"$f":"Stückliste!R187","v":0},{"$f":"Stückliste!T187","v":0},{"$f":"Stückliste!V187","v":0},{"$f":"Stückliste!X187","v":0},{"$f":"Stückliste!Z187","v":0},{"$f":"Stückliste!AB187","v":0},{"$f":"Stückliste!AD187","v":0},{"$f":"Stückliste!AH187","v":0},{"$f":"Stückliste!AJ187","v":0},{"$f":"Stückliste!AL187","v":0},{"$f":"Stückliste!AN187","v":0},{"$f":"Stückliste!AP187","v":0},{"$f":"Stückliste!AR187","v":0},{"$f":"Stückliste!AT187","v":0},{"$f":"Stückliste!AV187","v":0},{"$f":"Stückliste!AF187","v":0},{"$f":"Stückliste!AX187","v":0}]
[{"$f":"A134","v":0},0,8,{"$f":"Stückliste!A188","v":0},{"$f":"Stückliste!D188","v":0},{"$f":"Stückliste!H188","v":0},{"$f":"Stückliste!L188","v":0},{"$f":"Stückliste!P188","v":0},{"$f":"Stückliste!R188","v":0},{"$f":"Stückliste!T188","v":0},{"$f":"Stückliste!V188","v":0},{"$f":"Stückliste!X188","v":0},{"$f":"Stückliste!Z188","v":0},{"$f":"Stückliste!AB188","v":0},{"$f":"Stückliste!AD188","v":0},{"$f":"Stückliste!AH188","v":0},{"$f":"Stückliste!AJ188","v":0},{"$f":"Stückliste!AL188","v":0},{"$f":"Stückliste!AN188","v":0},{"$f":"Stückliste!AP188","v":0},{"$f":"Stückliste!AR188","v":0},{"$f":"Stückliste!AT188","v":0},{"$f":"Stückliste!AV188","v":0},{"$f":"Stückliste!AF188","v":0},{"$f":"Stückliste!AX188","v":0}]
[{"$f":"A135","v":0},0,8,{"$f":"Stückliste!A189","v":0},{"$f":"Stückliste!D189","v":0},{"$f":"Stückliste!H189","v":0},{"$f":"Stückliste!L189","v":0},{"$f":"Stückliste!P189","v":0},{"$f":"Stückliste!R189","v":0},{"$f":"Stückliste!T189","v":0},{"$f":"Stückliste!V189","v":0},{"$f":"Stückliste!X189","v":0},{"$f":"Stückliste!Z189","v":0},{"$f":"Stückliste!AB189","v":0},{"$f":"Stückliste!AD189","v":0},{"$f":"Stückliste!AH189","v":0},{"$f":"Stückliste!AJ189","v":0},{"$f":"Stückliste!AL189","v":0},{"$f":"Stückliste!AN189","v":0},{"$f":"Stückliste!AP189","v":0},{"$f":"Stückliste!AR189","v":0},{"$f":"Stückliste!AT189","v":0},{"$f":"Stückliste!AV189","v":0},{"$f":"Stückliste!AF189","v":0},{"$f":"Stückliste!AX189","v":0}]
[{"$f":"A136","v":0},0,8,{"$f":"Stückliste!A190","v":0},{"$f":"Stückliste!D190","v":0},{"$f":"Stückliste!H190","v":0},{"$f":"Stückliste!L190","v":0},{"$f":"Stückliste!P190","v":0},{"$f":"Stückliste!R190","v":0},{"$f":"Stückliste!T190","v":0},{"$f":"Stückliste!V190","v":0},{"$f":"Stückliste!X190","v":0},{"$f":"Stückliste!Z190","v":0},{"$f":"Stückliste!AB190","v":0},{"$f":"Stückliste!AD190","v":0},{"$f":"Stückliste!AH190","v":0},{"$f":"Stückliste!AJ190","v":0},{"$f":"Stückliste!AL190","v":0},{"$f":"Stückliste!AN190","v":0},{"$f":"Stückliste!AP190","v":0},{"$f":"Stückliste!AR190","v":0},{"$f":"Stückliste!AT190","v":0},{"$f":"Stückliste!AV190","v":0},{"$f":"Stückliste!AF190","v":0},{"$f":"Stückliste!AX190","v":0}]
[{"$f":"A137","v":0},0,8,{"$f":"Stückliste!A191","v":0},{"$f":"Stückliste!D191","v":0},{"$f":"Stückliste!H191","v":0},{"$f":"Stückliste!L191","v":0},{"$f":"Stückliste!P191","v":0},{"$f":"Stückliste!R191","v":0},{"$f":"Stückliste!T191","v":0},{"$f":"Stückliste!V191","v":0},{"$f":"Stückliste!X191","v":0},{"$f":"Stückliste!Z191","v":0},{"$f":"Stückliste!AB191","v":0},{"$f":"Stückliste!AD191","v":0},{"$f":"Stückliste!AH191","v":0},{"$f":"Stückliste!AJ191","v":0},{"$f":"Stückliste!AL191","v":0},{"$f":"Stückliste!AN191","v":0},{"$f":"Stückliste!AP191","v":0},{"$f":"Stückliste!AR191","v":0},{"$f":"Stückliste!AT191","v":0},{"$f":"Stückliste!AV191","v":0},{"$f":"Stückliste!AF191","v":0},{"$f":"Stückliste!AX191","v":0}]
[{"$f":"A138","v":0},0,8,{"$f":"Stückliste!A192","v":0},{"$f":"Stückliste!D192","v":0},{"$f":"Stückliste!H192","v":0},{"$f":"Stückliste!L192","v":0},{"$f":"Stückliste!P192","v":0},{"$f":"Stückliste!R192","v":0},{"$f":"Stückliste!T192","v":0},{"$f":"Stückliste!V192","v":0},{"$f":"Stückliste!X192","v":0},{"$f":"Stückliste!Z192","v":0},{"$f":"Stückliste!AB192","v":0},{"$f":"Stückliste!AD192","v":0},{"$f":"Stückliste!AH192","v":0},{"$f":"Stückliste!AJ192","v":0},{"$f":"Stückliste!AL192","v":0},{"$f":"Stückliste!AN192","v":0},{"$f":"Stückliste!AP192","v":0},{"$f":"Stückliste!AR192","v":0},{"$f":"Stückliste!AT192","v":0},{"$f":"Stückliste!AV192","v":0},{"$f":"Stückliste!AF192","v":0},{"$f":"Stückliste!AX192","v":0}]
[{"$f":"A139","v":0},0,8,{"$f":"Stückliste!A193","v":0},{"$f":"Stückliste!D193","v":0},{"$f":"Stückliste!H193","v":0},{"$f":"Stückliste!L193","v":0},{"$f":"Stückliste!P193","v":0},{"$f":"Stückliste!R193","v":0},{"$f":"Stückliste!T193","v":0},{"$f":"Stückliste!V193","v":0},{"$f":"Stückliste!X193","v":0},{"$f":"Stückliste!Z193","v":0},{"$f":"Stückliste!AB193","v":0},{"$f":"Stückliste!AD193","v":0},{"$f":"Stückliste!AH193","v":0},{"$f":"Stückliste!AJ193","v":0},{"$f":"Stückliste!AL193","v":0},{"$f":"Stückliste!AN193","v":0},{"$f":"Stückliste!AP193","v":0},{"$f":"Stückliste!AR193","v":0},{"$f":"Stückliste!AT193","v":0},{"$f":"Stückliste!AV193","v":0},{"$f":"Stückliste!AF193","v":0},{"$f":"Stückliste!AX193","v":0}]
[{"$f":"A140","v":0},0,8,{"$f":"Stückliste!A194","v":0},{"$f":"Stückliste!D194","v":0},{"$f":"Stückliste!H194","v":0},{"$f":"Stückliste!L194","v":0},{"$f":"Stückliste!P194","v":0},{"$f":"Stückliste!R194","v":0},{"$f":"Stückliste!T194","v":0},{"$f":"Stückliste!V194","v":0},{"$f":"Stückliste!X194","v":0},{"$f":"Stückliste!Z194","v":0},{"$f":"Stückliste!AB194","v":0},{"$f":"Stückliste!AD194","v":0},{"$f":"Stückliste!AH194","v":0},{"$f":"Stückliste!AJ194","v":0},{"$f":"Stückliste!AL194","v":0},{"$f":"Stückliste!AN194","v":0},{"$f":"Stückliste!AP194","v":0},{"$f":"Stückliste!AR194","v":0},{"$f":"Stückliste!AT194","v":0},{"$f":"Stückliste!AV194","v":0},{"$f":"Stückliste!AF194","v":0},{"$f":"Stückliste!AX194","v":0}]
[{"$f":"A141","v":0},0,8,{"$f":"Stückliste!A195","v":0},{"$f":"Stückliste!D195","v":0},{"$f":"Stückliste!H195","v":0},{"$f":"Stückliste!L195","v":0},{"$f":"Stückliste!P195","v":0},{"$f":"Stückliste!R195","v":0},{"$f":"Stückliste!T195","v":0},{"$f":"Stückliste!V195","v":0},{"$f":"Stückliste!X195","v":0},{"$f":"Stückliste!Z195","v":0},{"$f":"Stückliste!AB195","v":0},{"$f":"Stückliste!AD195","v":0},{"$f":"Stückliste!AH195","v":0},{"$f":"Stückliste!AJ195","v":0},{"$f":"Stückliste!AL195","v":0},{"$f":"Stückliste!AN195","v":0},{"$f":"Stückliste!AP195","v":0},{"$f":"Stückliste!AR195","v":0},{"$f":"Stückliste!AT195","v":0},{"$f":"Stückliste!AV195","v":0},{"$f":"Stückliste!AF195","v":0},{"$f":"Stückliste!AX195","v":0}]
[{"$f":"A142","v":0},0,8,{"$f":"Stückliste!A196","v":0},{"$f":"Stückliste!D196","v":0},{"$f":"Stückliste!H196","v":0},{"$f":"Stückliste!L196","v":0},{"$f":"Stückliste!P196","v":0},{"$f":"Stückliste!R196","v":0},{"$f":"Stückliste!T196","v":0},{"$f":"Stückliste!V196","v":0},{"$f":"Stückliste!X196","v":0},{"$f":"Stückliste!Z196","v":0},{"$f":"Stückliste!AB196","v":0},{"$f":"Stückliste!AD196","v":0},{"$f":"Stückliste!AH196","v":0},{"$f":"Stückliste!AJ196","v":0},{"$f":"Stückliste!AL196","v":0},{"$f":"Stückliste!AN196","v":0},{"$f":"Stückliste!AP196","v":0},{"$f":"Stückliste!AR196","v":0},{"$f":"Stückliste!AT196","v":0},{"$f":"Stückliste!AV196","v":0},{"$f":"Stückliste!AF196","v":0},{"$f":"Stückliste!AX196","v":0}]
[{"$f":"A143","v":0},0,8,{"$f":"Stückliste!A197","v":0},{"$f":"Stückliste!D197","v":0},{"$f":"Stückliste!H197","v":0},{"$f":"Stückliste!L197","v":0},{"$f":"Stückliste!P197","v":0},{"$f":"Stückliste!R197","v":0},{"$f":"Stückliste!T197","v":0},{"$f":"Stückliste!V197","v":0},{"$f":"Stückliste!X197","v":0},{"$f":"Stückliste!Z197","v":0},{"$f":"Stückliste!AB197","v":0},{"$f":"Stückliste!AD197","v":0},{"$f":"Stückliste!AH197","v":0},{"$f":"Stückliste!AJ197","v":0},{"$f":"Stückliste!AL197","v":0},{"$f":"Stückliste!AN197","v":0},{"$f":"Stückliste!AP197","v":0},{"$f":"Stückliste!AR197","v":0},{"$f":"Stückliste!AT197","v":0},{"$f":"Stückliste!AV197","v":0},{"$f":"Stückliste!AF197","v":0},{"$f":"Stückliste!AX197","v":0}]
[{"$f":"A144","v":0},0,8,{"$f":"Stückliste!A198","v":0},{"$f":"Stückliste!D198","v":0},{"$f":"Stückliste!H198","v":0},{"$f":"Stückliste!L198","v":0},{"$f":"Stückliste!P198","v":0},{"$f":"Stückliste!R198","v":0},{"$f":"Stückliste!T198","v":0},{"$f":"Stückliste!V198","v":0},{"$f":"Stückliste!X198","v":0},{"$f":"Stückliste!Z198","v":0},{"$f":"Stückliste!AB198","v":0},{"$f":"Stückliste!AD198","v":0},{"$f":"Stückliste!AH198","v":0},{"$f":"Stückliste!AJ198","v":0},{"$f":"Stückliste!AL198","v":0},{"$f":"Stückliste!AN198","v":0},{"$f":"Stückliste!AP198","v":0},{"$f":"Stückliste!AR198","v":0},{"$f":"Stückliste!AT198","v":0},{"$f":"Stückliste!AV198","v":0},{"$f":"Stückliste!AF198","v":0},{"$f":"Stückliste!AX198","v":0}]
[{"$f":"A145","v":0},0,8,{"$f":"Stückliste!A199","v":0},{"$f":"Stückliste!D199","v":0},{"$f":"Stückliste!H199","v":0},{"$f":"Stückliste!L199","v":0},{"$f":"Stückliste!P199","v":0},{"$f":"Stückliste!R199","v":0},{"$f":"Stückliste!T199","v":0},{"$f":"Stückliste!V199","v":0},{"$f":"Stückliste!X199","v":0},{"$f":"Stückliste!Z199","v":0},{"$f":"Stückliste!AB199","v":0},{"$f":"Stückliste!AD199","v":0},{"$f":"Stückliste!AH199","v":0},{"$f":"Stückliste!AJ199","v":0},{"$f":"Stückliste!AL199","v":0},{"$f":"Stückliste!AN199","v":0},{"$f":"Stückliste!AP199","v":0},{"$f":"Stückliste!AR199","v":0},{"$f":"Stückliste!AT199","v":0},{"$f":"Stückliste!AV199","v":0},{"$f":"Stückliste!AF199","v":0},{"$f":"Stückliste!AX199","v":0}]
[{"$f":"A146","v":0},0,8,{"$f":"Stückliste!A200","v":0},{"$f":"Stückliste!D200","v":0},{"$f":"Stückliste!H200","v":0},{"$f":"Stückliste!L200","v":0},{"$f":"Stückliste!P200","v":0},{"$f":"Stückliste!R200","v":0},{"$f":"Stückliste!T200","v":0},{"$f":"Stückliste!V200","v":0},{"$f":"Stückliste!X200","v":0},{"$f":"Stückliste!Z200","v":0},{"$f":"Stückliste!AB200","v":0},{"$f":"Stückliste!AD200","v":0},{"$f":"Stückliste!AH200","v":0},{"$f":"Stückliste!AJ200","v":0},{"$f":"Stückliste!AL200","v":0},{"$f":"Stückliste!AN200","v":0},{"$f":"Stückliste!AP200","v":0},{"$f":"Stückliste!AR200","v":0},{"$f":"Stückliste!AT200","v":0},{"$f":"Stückliste!AV200","v":0},{"$f":"Stückliste!AF200","v":0},{"$f":"Stückliste!AX200","v":0}]
[{"$f":"A147","v":0},0,8,{"$f":"Stückliste!A201","v":0},{"$f":"Stückliste!D201","v":0},{"$f":"Stückliste!H201","v":0},{"$f":"Stückliste!L201","v":0},{"$f":"Stückliste!P201","v":0},{"$f":"Stückliste!R201","v":0},{"$f":"Stückliste!T201","v":0},{"$f":"Stückliste!V201","v":0},{"$f":"Stückliste!X201","v":0},{"$f":"Stückliste!Z201","v":0},{"$f":"Stückliste!AB201","v":0},{"$f":"Stückliste!AD201","v":0},{"$f":"Stückliste!AH201","v":0},{"$f":"Stückliste!AJ201","v":0},{"$f":"Stückliste!AL201","v":0},{"$f":"Stückliste!AN201","v":0},{"$f":"Stückliste!AP201","v":0},{"$f":"Stückliste!AR201","v":0},{"$f":"Stückliste!AT201","v":0},{"$f":"Stückliste!AV201","v":0},{"$f":"Stückliste!AF201","v":0},{"$f":"Stückliste!AX201","v":0}]
[{"$f":"A148","v":0},0,8,{"$f":"Stückliste!A202","v":0},{"$f":"Stückliste!D202","v":0},{"$f":"Stückliste!H202","v":0},{"$f":"Stückliste!L202","v":0},{"$f":"Stückliste!P202","v":0},{"$f":"Stückliste!R202","v":0},{"$f":"Stückliste!T202","v":0},{"$f":"Stückliste!V202","v":0},{"$f":"Stückliste!X202","v":0},{"$f":"Stückliste!Z202","v":0},{"$f":"Stückliste!AB202","v":0},{"$f":"Stückliste!AD202","v":0},{"$f":"Stückliste!AH202","v":0},{"$f":"Stückliste!AJ202","v":0},{"$f":"Stückliste!AL202","v":0},{"$f":"Stückliste!AN202","v":0},{"$f":"Stückliste!AP202","v":0},{"$f":"Stückliste!AR202","v":0},{"$f":"Stückliste!AT202","v":0},{"$f":"Stückliste!AV202","v":0},{"$f":"Stückliste!AF202","v":0},{"$f":"Stückliste!AX202","v":0}]
[{"$f":"A149","v":0},0,8,{"$f":"Stückliste!A203","v":0},{"$f":"Stückliste!D203","v":0},{"$f":"Stückliste!H203","v":0},{"$f":"Stückliste!L203","v":0},{"$f":"Stückliste!P203","v":0},{"$f":"Stückliste!R203","v":0},{"$f":"Stückliste!T203","v":0},{"$f":"Stückliste!V203","v":0},{"$f":"Stückliste!X203","v":0},{"$f":"Stückliste!Z203","v":0},{"$f":"Stückliste!AB203","v":0},{"$f":"Stückliste!AD203","v":0},{"$f":"Stückliste!AH203","v":0},{"$f":"Stückliste!AJ203","v":0},{"$f":"Stückliste!AL203","v":0},{"$f":"Stückliste!AN203","v":0},{"$f":"Stückliste!AP203","v":0},{"$f":"Stückliste!AR203","v":0},{"$f":"Stückliste!AT203","v":0},{"$f":"Stückliste!AV203","v":0},{"$f":"Stückliste!AF203","v":0},{"$f":"Stückliste!AX203","v":0}]
[{"$f":"A150","v":0},0,8,{"$f":"Stückliste!A204","v":0},{"$f":"Stückliste!D204","v":0},{"$f":"Stückliste!H204","v":0},{"$f":"Stückliste!L204","v":0},{"$f":"Stückliste!P204","v":0},{"$f":"Stückliste!R204","v":0},{"$f":"Stückliste!T204","v":0},{"$f":"Stückliste!V204","v":0},{"$f":"Stückliste!X204","v":0},{"$f":"Stückliste!Z204","v":0},{"$f":"Stückliste!AB204","v":0},{"$f":"Stückliste!AD204","v":0},{"$f":"Stückliste!AH204","v":0},{"$f":"Stückliste!AJ204","v":0},{"$f":"Stückliste!AL204","v":0},{"$f":"Stückliste!AN204","v":0},{"$f":"Stückliste!AP204","v":0},{"$f":"Stückliste!AR204","v":0},{"$f":"Stückliste!AT204","v":0},{"$f":"Stückliste!AV204","v":0},{"$f":"Stückliste!AF204","v":0},{"$f":"Stückliste!AX204","v":0}]
[{"$f":"A151","v":0},0,8,{"$f":"Stückliste!A205","v":0},{"$f":"Stückliste!D205","v":0},{"$f":"Stückliste!H205","v":0},{"$f":"Stückliste!L205","v":0},{"$f":"Stückliste!P205","v":0},{"$f":"Stückliste!R205","v":0},{"$f":"Stückliste!T205","v":0},{"$f":"Stückliste!V205","v":0},{"$f":"Stückliste!X205","v":0},{"$f":"Stückliste!Z205","v":0},{"$f":"Stückliste!AB205","v":0},{"$f":"Stückliste!AD205","v":0},{"$f":"Stückliste!AH205","v":0},{"$f":"Stückliste!AJ205","v":0},{"$f":"Stückliste!AL205","v":0},{"$f":"Stückliste!AN205","v":0},{"$f":"Stückliste!AP205","v":0},{"$f":"Stückliste!AR205","v":0},{"$f":"Stückliste!AT205","v":0},{"$f":"Stückliste!AV205","v":0},{"$f":"Stückliste!AF205","v":0},{"$f":"Stückliste!AX205","v":0}]
[{"$f":"A152","v":0},0,8,{"$f":"Stückliste!A206","v":0},{"$f":"Stückliste!D206","v":0},{"$f":"Stückliste!H206","v":0},{"$f":"Stückliste!L206","v":0},{"$f":"Stückliste!P206","v":0},{"$f":"Stückliste!R206","v":0},{"$f":"Stückliste!T206","v":0},{"$f":"Stückliste!V206","v":0},{"$f":"Stückliste!X206","v":0},{"$f":"Stückliste!Z206","v":0},{"$f":"Stückliste!AB206","v":0},{"$f":"Stückliste!AD206","v":0},{"$f":"Stückliste!AH206","v":0},{"$f":"Stückliste!AJ206","v":0},{"$f":"Stückliste!AL206","v":0},{"$f":"Stückliste!AN206","v":0},{"$f":"Stückliste!AP206","v":0},{"$f":"Stückliste!AR206","v":0},{"$f":"Stückliste!AT206","v":0},{"$f":"Stückliste!AV206","v":0},{"$f":"Stückliste!AF206","v":0},{"$f":"Stückliste!AX206","v":0}]
[{"$f":"A153","v":0},0,8,{"$f":"Stückliste!A207","v":0},{"$f":"Stückliste!D207","v":0},{"$f":"Stückliste!H207","v":0},{"$f":"Stückliste!L207","v":0},{"$f":"Stückliste!P207","v":0},{"$f":"Stückliste!R207","v":0},{"$f":"Stückliste!T207","v":0},{"$f":"Stückliste!V207","v":0},{"$f":"Stückliste!X207","v":0},{"$f":"Stückliste!Z207","v":0},{"$f":"Stückliste!AB207","v":0},{"$f":"Stückliste!AD207","v":0},{"$f":"Stückliste!AH207","v":0},{"$f":"Stückliste!AJ207","v":0},{"$f":"Stückliste!AL207","v":0},{"$f":"Stückliste!AN207","v":0},{"$f":"Stückliste!AP207","v":0},{"$f":"Stückliste!AR207","v":0},{"$f":"Stückliste!AT207","v":0},{"$f":"Stückliste!AV207","v":0},{"$f":"Stückliste!AF207","v":0},{"$f":"Stückliste!AX207","v":0}]
[{"$f":"A154","v":0},0,8,{"$f":"Stückliste!A208","v":0},{"$f":"Stückliste!D208","v":0},{"$f":"Stückliste!H208","v":0},{"$f":"Stückliste!L208","v":0},{"$f":"Stückliste!P208","v":0},{"$f":"Stückliste!R208","v":0},{"$f":"Stückliste!T208","v":0},{"$f":"Stückliste!V208","v":0},{"$f":"Stückliste!X208","v":0},{"$f":"Stückliste!Z208","v":0},{"$f":"Stückliste!AB208","v":0},{"$f":"Stückliste!AD208","v":0},{"$f":"Stückliste!AH208","v":0},{"$f":"Stückliste!AJ208","v":0},{"$f":"Stückliste!AL208","v":0},{"$f":"Stückliste!AN208","v":0},{"$f":"Stückliste!AP208","v":0},{"$f":"Stückliste!AR208","v":0},{"$f":"Stückliste!AT208","v":0},{"$f":"Stückliste!AV208","v":0},{"$f":"Stückliste!AF208","v":0},{"$f":"Stückliste!AX208","v":0}]
[{"$f":"A155","v":0},0,8,{"$f":"Stückliste!A209","v":0},{"$f":"Stückliste!D209","v":0},{"$f":"Stückliste!H209","v":0},{"$f":"Stückliste!L209","v":0},{"$f":"Stückliste!P209","v":0},{"$f":"Stückliste!R209","v":0},{"$f":"Stückliste!T209","v":0},{"$f":"Stückliste!V209","v":0},{"$f":"Stückliste!X209","v":0},{"$f":"Stückliste!Z209","v":0},{"$f":"Stückliste!AB209","v":0},{"$f":"Stückliste!AD209","v":0},{"$f":"Stückliste!AH209","v":0},{"$f":"Stückliste!AJ209","v":0},{"$f":"Stückliste!AL209","v":0},{"$f":"Stückliste!AN209","v":0},{"$f":"Stückliste!AP209","v":0},{"$f":"Stückliste!AR209","v":0},{"$f":"Stückliste!AT209","v":0},{"$f":"Stückliste!AV209","v":0},{"$f":"Stückliste!AF209","v":0},{"$f":"Stückliste!AX209","v":0}]
[{"$f":"A156","v":0},0,8,{"$f":"Stückliste!A210","v":0},{"$f":"Stückliste!D210","v":0},{"$f":"Stückliste!H210","v":0},{"$f":"Stückliste!L210","v":0},{"$f":"Stückliste!P210","v":0},{"$f":"Stückliste!R210","v":0},{"$f":"Stückliste!T210","v":0},{"$f":"Stückliste!V210","v":0},{"$f":"Stückliste!X210","v":0},{"$f":"Stückliste!Z210","v":0},{"$f":"Stückliste!AB210","v":0},{"$f":"Stückliste!AD210","v":0},{"$f":"Stückliste!AH210","v":0},{"$f":"Stückliste!AJ210","v":0},{"$f":"Stückliste!AL210","v":0},{"$f":"Stückliste!AN210","v":0},{"$f":"Stückliste!AP210","v":0},{"$f":"Stückliste!AR210","v":0},{"$f":"Stückliste!AT210","v":0},{"$f":"Stückliste!AV210","v":0},{"$f":"Stückliste!AF210","v":0},{"$f":"Stückliste!AX210","v":0}]
[{"$f":"A157","v":0},0,8,{"$f":"Stückliste!A211","v":0},{"$f":"Stückliste!D211","v":0},{"$f":"Stückliste!H211","v":0},{"$f":"Stückliste!L211","v":0},{"$f":"Stückliste!P211","v":0},{"$f":"Stückliste!R211","v":0},{"$f":"Stückliste!T211","v":0},{"$f":"Stückliste!V211","v":0},{"$f":"Stückliste!X211","v":0},{"$f":"Stückliste!Z211","v":0},{"$f":"Stückliste!AB211","v":0},{"$f":"Stückliste!AD211","v":0},{"$f":"Stückliste!AH211","v":0},{"$f":"Stückliste!AJ211","v":0},{"$f":"Stückliste!AL211","v":0},{"$f":"Stückliste!AN211","v":0},{"$f":"Stückliste!AP211","v":0},{"$f":"Stückliste!AR211","v":0},{"$f":"Stückliste!AT211","v":0},{"$f":"Stückliste!AV211","v":0},{"$f":"Stückliste!AF211","v":0},{"$f":"Stückliste!AX211","v":0}]
[{"$f":"A158","v":0},0,8,{"$f":"Stückliste!A212","v":0},{"$f":"Stückliste!D212","v":0},{"$f":"Stückliste!H212","v":0},{"$f":"Stückliste!L212","v":0},{"$f":"Stückliste!P212","v":0},{"$f":"Stückliste!R212","v":0},{"$f":"Stückliste!T212","v":0},{"$f":"Stückliste!V212","v":0},{"$f":"Stückliste!X212","v":0},{"$f":"Stückliste!Z212","v":0},{"$f":"Stückliste!AB212","v":0},{"$f":"Stückliste!AD212","v":0},{"$f":"Stückliste!AH212","v":0},{"$f":"Stückliste!AJ212","v":0},{"$f":"Stückliste!AL212","v":0},{"$f":"Stückliste!AN212","v":0},{"$f":"Stückliste!AP212","v":0},{"$f":"Stückliste!AR212","v":0},{"$f":"Stückliste!AT212","v":0},{"$f":"Stückliste!AV212","v":0},{"$f":"Stückliste!AF212","v":0},{"$f":"Stückliste!AX212","v":0}]
[{"$f":"A159","v":0},0,8,{"$f":"Stückliste!A213","v":0},{"$f":"Stückliste!D213","v":0},{"$f":"Stückliste!H213","v":0},{"$f":"Stückliste!L213","v":0},{"$f":"Stückliste!P213","v":0},{"$f":"Stückliste!R213","v":0},{"$f":"Stückliste!T213","v":0},{"$f":"Stückliste!V213","v":0},{"$f":"Stückliste!X213","v":0},{"$f":"Stückliste!Z213","v":0},{"$f":"Stückliste!AB213","v":0},{"$f":"Stückliste!AD213","v":0},{"$f":"Stückliste!AH213","v":0},{"$f":"Stückliste!AJ213","v":0},{"$f":"Stückliste!AL213","v":0},{"$f":"Stückliste!AN213","v":0},{"$f":"Stückliste!AP213","v":0},{"$f":"Stückliste!AR213","v":0},{"$f":"Stückliste!AT213","v":0},{"$f":"Stückliste!AV213","v":0},{"$f":"Stückliste!AF213","v":0},{"$f":"Stückliste!AX213","v":0}]
[{"$f":"A160","v":0},0,8,{"$f":"Stückliste!A214","v":0},{"$f":"Stückliste!D214","v":0},{"$f":"Stückliste!H214","v":0},{"$f":"Stückliste!L214","v":0},{"$f":"Stückliste!P214","v":0},{"$f":"Stückliste!R214","v":0},{"$f":"Stückliste!T214","v":0},{"$f":"Stückliste!V214","v":0},{"$f":"Stückliste!X214","v":0},{"$f":"Stückliste!Z214","v":0},{"$f":"Stückliste!AB214","v":0},{"$f":"Stückliste!AD214","v":0},{"$f":"Stückliste!AH214","v":0},{"$f":"Stückliste!AJ214","v":0},{"$f":"Stückliste!AL214","v":0},{"$f":"Stückliste!AN214","v":0},{"$f":"Stückliste!AP214","v":0},{"$f":"Stückliste!AR214","v":0},{"$f":"Stückliste!AT214","v":0},{"$f":"Stückliste!AV214","v":0},{"$f":"Stückliste!AF214","v":0},{"$f":"Stückliste!AX214","v":0}]
[{"$f":"A161","v":0},0,8,{"$f":"Stückliste!A215","v":0},{"$f":"Stückliste!D215","v":0},{"$f":"Stückliste!H215","v":0},{"$f":"Stückliste!L215","v":0},{"$f":"Stückliste!P215","v":0},{"$f":"Stückliste!R215","v":0},{"$f":"Stückliste!T215","v":0},{"$f":"Stückliste!V215","v":0},{"$f":"Stückliste!X215","v":0},{"$f":"Stückliste!Z215","v":0},{"$f":"Stückliste!AB215","v":0},{"$f":"Stückliste!AD215","v":0},{"$f":"Stückliste!AH215","v":0},{"$f":"Stückliste!AJ215","v":0},{"$f":"Stückliste!AL215","v":0},{"$f":"Stückliste!AN215","v":0},{"$f":"Stückliste!AP215","v":0},{"$f":"Stückliste!AR215","v":0},{"$f":"Stückliste!AT215","v":0},{"$f":"Stückliste!AV215","v":0},{"$f":"Stückliste!AF215","v":0},{"$f":"Stückliste!AX215","v":0}]
[{"$f":"A162","v":0},0,8,{"$f":"Stückliste!A216","v":0},{"$f":"Stückliste!D216","v":0},{"$f":"Stückliste!H216","v":0},{"$f":"Stückliste!L216","v":0},{"$f":"Stückliste!P216","v":0},{"$f":"Stückliste!R216","v":0},{"$f":"Stückliste!T216","v":0},{"$f":"Stückliste!V216","v":0},{"$f":"Stückliste!X216","v":0},{"$f":"Stückliste!Z216","v":0},{"$f":"Stückliste!AB216","v":0},{"$f":"Stückliste!AD216","v":0},{"$f":"Stückliste!AH216","v":0},{"$f":"Stückliste!AJ216","v":0},{"$f":"Stückliste!AL216","v":0},{"$f":"Stückliste!AN216","v":0},{"$f":"Stückliste!AP216","v":0},{"$f":"Stückliste!AR216","v":0},{"$f":"Stückliste!AT216","v":0},{"$f":"Stückliste!AV216","v":0},{"$f":"Stückliste!AF216","v":0},{"$f":"Stückliste!AX216","v":0}]
[{"$f":"A163","v":0},0,8,{"$f":"Stückliste!A217","v":0},{"$f":"Stückliste!D217","v":0},{"$f":"Stückliste!H217","v":0},{"$f":"Stückliste!L217","v":0},{"$f":"Stückliste!P217","v":0},{"$f":"Stückliste!R217","v":0},{"$f":"Stückliste!T217","v":0},{"$f":"Stückliste!V217","v":0},{"$f":"Stückliste!X217","v":0},{"$f":"Stückliste!Z217","v":0},{"$f":"Stückliste!AB217","v":0},{"$f":"Stückliste!AD217","v":0},{"$f":"Stückliste!AH217","v":0},{"$f":"Stückliste!AJ217","v":0},{"$f":"Stückliste!AL217","v":0},{"$f":"Stückliste!AN217","v":0},{"$f":"Stückliste!AP217","v":0},{"$f":"Stückliste!AR217","v":0},{"$f":"Stückliste!AT217","v":0},{"$f":"Stückliste!AV217","v":0},{"$f":"Stückliste!AF217","v":0},{"$f":"Stückliste!AX217","v":0}]
[{"$f":"A164","v":0},0,8,{"$f":"Stückliste!A218","v":0},{"$f":"Stückliste!D218","v":0},{"$f":"Stückliste!H218","v":0},{"$f":"Stückliste!L218","v":0},{"$f":"Stückliste!P218","v":0},{"$f":"Stückliste!R218","v":0},{"$f":"Stückliste!T218","v":0},{"$f":"Stückliste!V218","v":0},{"$f":"Stückliste!X218","v":0},{"$f":"Stückliste!Z218","v":0},{"$f":"Stückliste!AB218","v":0},{"$f":"Stückliste!AD218","v":0},{"$f":"Stückliste!AH218","v":0},{"$f":"Stückliste!AJ218","v":0},{"$f":"Stückliste!AL218","v":0},{"$f":"Stückliste!AN218","v":0},{"$f":"Stückliste!AP218","v":0},{"$f":"Stückliste!AR218","v":0},{"$f":"Stückliste!AT218","v":0},{"$f":"Stückliste!AV218","v":0},{"$f":"Stückliste!AF218","v":0},{"$f":"Stückliste!AX218","v":0}]
[{"$f":"A165","v":0},0,8,{"$f":"Stückliste!A219","v":0},{"$f":"Stückliste!D219","v":0},{"$f":"Stückliste!H219","v":0},{"$f":"Stückliste!L219","v":0},{"$f":"Stückliste!P219","v":0},{"$f":"Stückliste!R219","v":0},{"$f":"Stückliste!T219","v":0},{"$f":"Stückliste!V219","v":0},{"$f":"Stückliste!X219","v":0},{"$f":"Stückliste!Z219","v":0},{"$f":"Stückliste!AB219","v":0},{"$f":"Stückliste!AD219","v":0},{"$f":"Stückliste!AH219","v":0},{"$f":"Stückliste!AJ219","v":0},{"$f":"Stückliste!AL219","v":0},{"$f":"Stückliste!AN219","v":0},{"$f":"Stückliste!AP219","v":0},{"$f":"Stückliste!AR219","v":0},{"$f":"Stückliste!AT219","v":0},{"$f":"Stückliste!AV219","v":0},{"$f":"Stückliste!AF219","v":0},{"$f":"Stückliste!AX219","v":0}]
[{"$f":"A166","v":0},0,8,{"$f":"Stückliste!A220","v":0},{"$f":"Stückliste!D220","v":0},{"$f":"Stückliste!H220","v":0},{"$f":"Stückliste!L220","v":0},{"$f":"Stückliste!P220","v":0},{"$f":"Stückliste!R220","v":0},{"$f":"Stückliste!T220","v":0},{"$f":"Stückliste!V220","v":0},{"$f":"Stückliste!X220","v":0},{"$f":"Stückliste!Z220","v":0},{"$f":"Stückliste!AB220","v":0},{"$f":"Stückliste!AD220","v":0},{"$f":"Stückliste!AH220","v":0},{"$f":"Stückliste!AJ220","v":0},{"$f":"Stückliste!AL220","v":0},{"$f":"Stückliste!AN220","v":0},{"$f":"Stückliste!AP220","v":0},{"$f":"Stückliste!AR220","v":0},{"$f":"Stückliste!AT220","v":0},{"$f":"Stückliste!AV220","v":0},{"$f":"Stückliste!AF220","v":0},{"$f":"Stückliste!AX220","v":0}]
[{"$f":"A167","v":0},0,8,{"$f":"Stückliste!A221","v":0},{"$f":"Stückliste!D221","v":0},{"$f":"Stückliste!H221","v":0},{"$f":"Stückliste!L221","v":0},{"$f":"Stückliste!P221","v":0},{"$f":"Stückliste!R221","v":0},{"$f":"Stückliste!T221","v":0},{"$f":"Stückliste!V221","v":0},{"$f":"Stückliste!X221","v":0},{"$f":"Stückliste!Z221","v":0},{"$f":"Stückliste!AB221","v":0},{"$f":"Stückliste!AD221","v":0},{"$f":"Stückliste!AH221","v":0},{"$f":"Stückliste!AJ221","v":0},{"$f":"Stückliste!AL221","v":0},{"$f":"Stückliste!AN221","v":0},{"$f":"Stückliste!AP221","v":0},{"$f":"Stückliste!AR221","v":0},{"$f":"Stückliste!AT221","v":0},{"$f":"Stückliste!AV221","v":0},{"$f":"Stückliste!AF221","v":0},{"$f":"Stückliste!AX221","v":0}]
[{"$f":"A168","v":0},0,8,{"$f":"Stückliste!A222","v":0},{"$f":"Stückliste!D222","v":0},{"$f":"Stückliste!H222","v":0},{"$f":"Stückliste!L222","v":0},{"$f":"Stückliste!P222","v":0},{"$f":"Stückliste!R222","v":0},{"$f":"Stückliste!T222","v":0},{"$f":"Stückliste!V222","v":0},{"$f":"Stückliste!X222","v":0},{"$f":"Stückliste!Z222","v":0},{"$f":"Stückliste!AB222","v":0},{"$f":"Stückliste!AD222","v":0},{"$f":"Stückliste!AH222","v":0},{"$f":"Stückliste!AJ222","v":0},{"$f":"Stückliste!AL222","v":0},{"$f":"Stückliste!AN222","v":0},{"$f":"Stückliste!AP222","v":0},{"$f":"Stückliste!AR222","v":0},{"$f":"Stückliste!AT222","v":0},{"$f":"Stückliste!AV222","v":0},{"$f":"Stückliste!AF222","v":0},{"$f":"Stückliste!AX222","v":0}]
[{"$f":"A169","v":0},0,8,{"$f":"Stückliste!A223","v":0},{"$f":"Stückliste!D223","v":0},{"$f":"Stückliste!H223","v":0},{"$f":"Stückliste!L223","v":0},{"$f":"Stückliste!P223","v":0},{"$f":"Stückliste!R223","v":0},{"$f":"Stückliste!T223","v":0},{"$f":"Stückliste!V223","v":0},{"$f":"Stückliste!X223","v":0},{"$f":"Stückliste!Z223","v":0},{"$f":"Stückliste!AB223","v":0},{"$f":"Stückliste!AD223","v":0},{"$f":"Stückliste!AH223","v":0},{"$f":"Stückliste!AJ223","v":0},{"$f":"Stückliste!AL223","v":0},{"$f":"Stückliste!AN223","v":0},{"$f":"Stückliste!AP223","v":0},{"$f":"Stückliste!AR223","v":0},{"$f":"Stückliste!AT223","v":0},{"$f":"Stückliste!AV223","v":0},{"$f":"Stückliste!AF223","v":0},{"$f":"Stückliste!AX223","v":0}]
[{"$f":"A170","v":0},0,8,{"$f":"Stückliste!A224","v":0},{"$f":"Stückliste!D224","v":0},{"$f":"Stückliste!H224","v":0},{"$f":"Stückliste!L224","v":0},{"$f":"Stückliste!P224","v":0},{"$f":"Stückliste!R224","v":0},{"$f":"Stückliste!T224","v":0},{"$f":"Stückliste!V224","v":0},{"$f":"Stückliste!X224","v":0},{"$f":"Stückliste!Z224","v":0},{"$f":"Stückliste!AB224","v":0},{"$f":"Stückliste!AD224","v":0},{"$f":"Stückliste!AH224","v":0},{"$f":"Stückliste!AJ224","v":0},{"$f":"Stückliste!AL224","v":0},{"$f":"Stückliste!AN224","v":0},{"$f":"Stückliste!AP224","v":0},{"$f":"Stückliste!AR224","v":0},{"$f":"Stückliste!AT224","v":0},{"$f":"Stückliste!AV224","v":0},{"$f":"Stückliste!AF224","v":0},{"$f":"Stückliste!AX224","v":0}]
[{"$f":"A171","v":0},0,8,{"$f":"Stückliste!A225","v":0},{"$f":"Stückliste!D225","v":0},{"$f":"Stückliste!H225","v":0},{"$f":"Stückliste!L225","v":0},{"$f":"Stückliste!P225","v":0},{"$f":"Stückliste!R225","v":0},{"$f":"Stückliste!T225","v":0},{"$f":"Stückliste!V225","v":0},{"$f":"Stückliste!X225","v":0},{"$f":"Stückliste!Z225","v":0},{"$f":"Stückliste!AB225","v":0},{"$f":"Stückliste!AD225","v":0},{"$f":"Stückliste!AH225","v":0},{"$f":"Stückliste!AJ225","v":0},{"$f":"Stückliste!AL225","v":0},{"$f":"Stückliste!AN225","v":0},{"$f":"Stückliste!AP225","v":0},{"$f":"Stückliste!AR225","v":0},{"$f":"Stückliste!AT225","v":0},{"$f":"Stückliste!AV225","v":0},{"$f":"Stückliste!AF225","v":0},{"$f":"Stückliste!AX225","v":0}]
[{"$f":"A172","v":0},0,8,{"$f":"Stückliste!A226","v":0},{"$f":"Stückliste!D226","v":0},{"$f":"Stückliste!H226","v":0},{"$f":"Stückliste!L226","v":0},{"$f":"Stückliste!P226","v":0},{"$f":"Stückliste!R226","v":0},{"$f":"Stückliste!T226","v":0},{"$f":"Stückliste!V226","v":0},{"$f":"Stückliste!X226","v":0},{"$f":"Stückliste!Z226","v":0},{"$f":"Stückliste!AB226","v":0},{"$f":"Stückliste!AD226","v":0},{"$f":"Stückliste!AH226","v":0},{"$f":"Stückliste!AJ226","v":0},{"$f":"Stückliste!AL226","v":0},{"$f":"Stückliste!AN226","v":0},{"$f":"Stückliste!AP226","v":0},{"$f":"Stückliste!AR226","v":0},{"$f":"Stückliste!AT226","v":0},{"$f":"Stückliste!AV226","v":0},{"$f":"Stückliste!AF226","v":0},{"$f":"Stückliste!AX226","v":0}]
[{"$f":"A173","v":0},0,8,{"$f":"Stückliste!A227","v":0},{"$f":"Stückliste!D227","v":0},{"$f":"Stückliste!H227","v":0},{"$f":"Stückliste!L227","v":0},{"$f":"Stückliste!P227","v":0},{"$f":"Stückliste!R227","v":0},{"$f":"Stückliste!T227","v":0},{"$f":"Stückliste!V227","v":0},{"$f":"Stückliste!X227","v":0},{"$f":"Stückliste!Z227","v":0},{"$f":"Stückliste!AB227","v":0},{"$f":"Stückliste!AD227","v":0},{"$f":"Stückliste!AH227","v":0},{"$f":"Stückliste!AJ227","v":0},{"$f":"Stückliste!AL227","v":0},{"$f":"Stückliste!AN227","v":0},{"$f":"Stückliste!AP227","v":0},{"$f":"Stückliste!AR227","v":0},{"$f":"Stückliste!AT227","v":0},{"$f":"Stückliste!AV227","v":0},{"$f":"Stückliste!AF227","v":0},{"$f":"Stückliste!AX227","v":0}]
[{"$f":"A174","v":0},0,8,{"$f":"Stückliste!A228","v":0},{"$f":"Stückliste!D228","v":0},{"$f":"Stückliste!H228","v":0},{"$f":"Stückliste!L228","v":0},{"$f":"Stückliste!P228","v":0},{"$f":"Stückliste!R228","v":0},{"$f":"Stückliste!T228","v":0},{"$f":"Stückliste!V228","v":0},{"$f":"Stückliste!X228","v":0},{"$f":"Stückliste!Z228","v":0},{"$f":"Stückliste!AB228","v":0},{"$f":"Stückliste!AD228","v":0},{"$f":"Stückliste!AH228","v":0},{"$f":"Stückliste!AJ228","v":0},{"$f":"Stückliste!AL228","v":0},{"$f":"Stückliste!AN228","v":0},{"$f":"Stückliste!AP228","v":0},{"$f":"Stückliste!AR228","v":0},{"$f":"Stückliste!AT228","v":0},{"$f":"Stückliste!AV228","v":0},{"$f":"Stückliste!AF228","v":0},{"$f":"Stückliste!AX228","v":0}]
[{"$f":"A175","v":0},0,8,{"$f":"Stückliste!A229","v":0},{"$f":"Stückliste!D229","v":0},{"$f":"Stückliste!H229","v":0},{"$f":"Stückliste!L229","v":0},{"$f":"Stückliste!P229","v":0},{"$f":"Stückliste!R229","v":0},{"$f":"Stückliste!T229","v":0},{"$f":"Stückliste!V229","v":0},{"$f":"Stückliste!X229","v":0},{"$f":"Stückliste!Z229","v":0},{"$f":"Stückliste!AB229","v":0},{"$f":"Stückliste!AD229","v":0},{"$f":"Stückliste!AH229","v":0},{"$f":"Stückliste!AJ229","v":0},{"$f":"Stückliste!AL229","v":0},{"$f":"Stückliste!AN229","v":0},{"$f":"Stückliste!AP229","v":0},{"$f":"Stückliste!AR229","v":0},{"$f":"Stückliste!AT229","v":0},{"$f":"Stückliste!AV229","v":0},{"$f":"Stückliste!AF229","v":0},{"$f":"Stückliste!AX229","v":0}]
[{"$f":"A176","v":0},0,8,{"$f":"Stückliste!A230","v":0},{"$f":"Stückliste!D230","v":0},{"$f":"Stückliste!H230","v":0},{"$f":"Stückliste!L230","v":0},{"$f":"Stückliste!P230","v":0},{"$f":"Stückliste!R230","v":0},{"$f":"Stückliste!T230","v":0},{"$f":"Stückliste!V230","v":0},{"$f":"Stückliste!X230","v":0},{"$f":"Stückliste!Z230","v":0},{"$f":"Stückliste!AB230","v":0},{"$f":"Stückliste!AD230","v":0},{"$f":"Stückliste!AH230","v":0},{"$f":"Stückliste!AJ230","v":0},{"$f":"Stückliste!AL230","v":0},{"$f":"Stückliste!AN230","v":0},{"$f":"Stückliste!AP230","v":0},{"$f":"Stückliste!AR230","v":0},{"$f":"Stückliste!AT230","v":0},{"$f":"Stückliste!AV230","v":0},{"$f":"Stückliste!AF230","v":0},{"$f":"Stückliste!AX230","v":0}]
[{"$f":"A177","v":0},0,8,{"$f":"Stückliste!A231","v":0},{"$f":"Stückliste!D231","v":0},{"$f":"Stückliste!H231","v":0},{"$f":"Stückliste!L231","v":0},{"$f":"Stückliste!P231","v":0},{"$f":"Stückliste!R231","v":0},{"$f":"Stückliste!T231","v":0},{"$f":"Stückliste!V231","v":0},{"$f":"Stückliste!X231","v":0},{"$f":"Stückliste!Z231","v":0},{"$f":"Stückliste!AB231","v":0},{"$f":"Stückliste!AD231","v":0},{"$f":"Stückliste!AH231","v":0},{"$f":"Stückliste!AJ231","v":0},{"$f":"Stückliste!AL231","v":0},{"$f":"Stückliste!AN231","v":0},{"$f":"Stückliste!AP231","v":0},{"$f":"Stückliste!AR231","v":0},{"$f":"Stückliste!AT231","v":0},{"$f":"Stückliste!AV231","v":0},{"$f":"Stückliste!AF231","v":0},{"$f":"Stückliste!AX231","v":0}]
[{"$f":"A178","v":0},0,8,{"$f":"Stückliste!A232","v":0},{"$f":"Stückliste!D232","v":0},{"$f":"Stückliste!H232","v":0},{"$f":"Stückliste!L232","v":0},{"$f":"Stückliste!P232","v":0},{"$f":"Stückliste!R232","v":0},{"$f":"Stückliste!T232","v":0},{"$f":"Stückliste!V232","v":0},{"$f":"Stückliste!X232","v":0},{"$f":"Stückliste!Z232","v":0},{"$f":"Stückliste!AB232","v":0},{"$f":"Stückliste!AD232","v":0},{"$f":"Stückliste!AH232","v":0},{"$f":"Stückliste!AJ232","v":0},{"$f":"Stückliste!AL232","v":0},{"$f":"Stückliste!AN232","v":0},{"$f":"Stückliste!AP232","v":0},{"$f":"Stückliste!AR232","v":0},{"$f":"Stückliste!AT232","v":0},{"$f":"Stückliste!AV232","v":0},{"$f":"Stückliste!AF232","v":0},{"$f":"Stückliste!AX232","v":0}]
[{"$f":"A179","v":0},0,8,{"$f":"Stückliste!A233","v":0},{"$f":"Stückliste!D233","v":0},{"$f":"Stückliste!H233","v":0},{"$f":"Stückliste!L233","v":0},{"$f":"Stückliste!P233","v":0},{"$f":"Stückliste!R233","v":0},{"$f":"Stückliste!T233","v":0},{"$f":"Stückliste!V233","v":0},{"$f":"Stückliste!X233","v":0},{"$f":"Stückliste!Z233","v":0},{"$f":"Stückliste!AB233","v":0},{"$f":"Stückliste!AD233","v":0},{"$f":"Stückliste!AH233","v":0},{"$f":"Stückliste!AJ233","v":0},{"$f":"Stückliste!AL233","v":0},{"$f":"Stückliste!AN233","v":0},{"$f":"Stückliste!AP233","v":0},{"$f":"Stückliste!AR233","v":0},{"$f":"Stückliste!AT233","v":0},{"$f":"Stückliste!AV233","v":0},{"$f":"Stückliste!AF233","v":0},{"$f":"Stückliste!AX233","v":0}]
[{"$f":"A180","v":0},0,8,{"$f":"Stückliste!A234","v":0},{"$f":"Stückliste!D234","v":0},{"$f":"Stückliste!H234","v":0},{"$f":"Stückliste!L234","v":0},{"$f":"Stückliste!P234","v":0},{"$f":"Stückliste!R234","v":0},{"$f":"Stückliste!T234","v":0},{"$f":"Stückliste!V234","v":0},{"$f":"Stückliste!X234","v":0},{"$f":"Stückliste!Z234","v":0},{"$f":"Stückliste!AB234","v":0},{"$f":"Stückliste!AD234","v":0},{"$f":"Stückliste!AH234","v":0},{"$f":"Stückliste!AJ234","v":0},{"$f":"Stückliste!AL234","v":0},{"$f":"Stückliste!AN234","v":0},{"$f":"Stückliste!AP234","v":0},{"$f":"Stückliste!AR234","v":0},{"$f":"Stückliste!AT234","v":0},{"$f":"Stückliste!AV234","v":0},{"$f":"Stückliste!AF234","v":0},{"$f":"Stückliste!AX234","v":0}]
[{"$f":"A181","v":0},0,8,{"$f":"Stückliste!A235","v":0},{"$f":"Stückliste!D235","v":0},{"$f":"Stückliste!H235","v":0},{"$f":"Stückliste!L235","v":0},{"$f":"Stückliste!P235","v":0},{"$f":"Stückliste!R235","v":0},{"$f":"Stückliste!T235","v":0},{"$f":"Stückliste!V235","v":0},{"$f":"Stückliste!X235","v":0},{"$f":"Stückliste!Z235","v":0},{"$f":"Stückliste!AB235","v":0},{"$f":"Stückliste!AD235","v":0},{"$f":"Stückliste!AH235","v":0},{"$f":"Stückliste!AJ235","v":0},{"$f":"Stückliste!AL235","v":0},{"$f":"Stückliste!AN235","v":0},{"$f":"Stückliste!AP235","v":0},{"$f":"Stückliste!AR235","v":0},{"$f":"Stückliste!AT235","v":0},{"$f":"Stückliste!AV235","v":0},{"$f":"Stückliste!AF235","v":0},{"$f":"Stückliste!AX235","v":0}]
[{"$f":"A182","v":0},0,8,{"$f":"Stückliste!A236","v":0},{"$f":"Stückliste!D236","v":0},{"$f":"Stückliste!H236","v":0},{"$f":"Stückliste!L236","v":0},{"$f":"Stückliste!P236","v":0},{"$f":"Stückliste!R236","v":0},{"$f":"Stückliste!T236","v":0},{"$f":"Stückliste!V236","v":0},{"$f":"Stückliste!X236","v":0},{"$f":"Stückliste!Z236","v":0},{"$f":"Stückliste!AB236","v":0},{"$f":"Stückliste!AD236","v":0},{"$f":"Stückliste!AH236","v":0},{"$f":"Stückliste!AJ236","v":0},{"$f":"Stückliste!AL236","v":0},{"$f":"Stückliste!AN236","v":0},{"$f":"Stückliste!AP236","v":0},{"$f":"Stückliste!AR236","v":0},{"$f":"Stückliste!AT236","v":0},{"$f":"Stückliste!AV236","v":0},{"$f":"Stückliste!AF236","v":0},{"$f":"Stückliste!AX236","v":0}]
[{"$f":"A183","v":0},0,8,{"$f":"Stückliste!A237","v":0},{"$f":"Stückliste!D237","v":0},{"$f":"Stückliste!H237","v":0},{"$f":"Stückliste!L237","v":0},{"$f":"Stückliste!P237","v":0},{"$f":"Stückliste!R237","v":0},{"$f":"Stückliste!T237","v":0},{"$f":"Stückliste!V237","v":0},{"$f":"Stückliste!X237","v":0},{"$f":"Stückliste!Z237","v":0},{"$f":"Stückliste!AB237","v":0},{"$f":"Stückliste!AD237","v":0},{"$f":"Stückliste!AH237","v":0},{"$f":"Stückliste!AJ237","v":0},{"$f":"Stückliste!AL237","v":0},{"$f":"Stückliste!AN237","v":0},{"$f":"Stückliste!AP237","v":0},{"$f":"Stückliste!AR237","v":0},{"$f":"Stückliste!AT237","v":0},{"$f":"Stückliste!AV237","v":0},{"$f":"Stückliste!AF237","v":0},{"$f":"Stückliste!AX237","v":0}]
[{"$f":"A184","v":0},0,8,{"$f":"Stückliste!A238","v":0},{"$f":"Stückliste!D238","v":0},{"$f":"Stückliste!H238","v":0},{"$f":"Stückliste!L238","v":0},{"$f":"Stückliste!P238","v":0},{"$f":"Stückliste!R238","v":0},{"$f":"Stückliste!T238","v":0},{"$f":"Stückliste!V238","v":0},{"$f":"Stückliste!X238","v":0},{"$f":"Stückliste!Z238","v":0},{"$f":"Stückliste!AB238","v":0},{"$f":"Stückliste!AD238","v":0},{"$f":"Stückliste!AH238","v":0},{"$f":"Stückliste!AJ238","v":0},{"$f":"Stückliste!AL238","v":0},{"$f":"Stückliste!AN238","v":0},{"$f":"Stückliste!AP238","v":0},{"$f":"Stückliste!AR238","v":0},{"$f":"Stückliste!AT238","v":0},{"$f":"Stückliste!AV238","v":0},{"$f":"Stückliste!AF238","v":0},{"$f":"Stückliste!AX238","v":0}]
[{"$f":"A185","v":0},0,8,{"$f":"Stückliste!A239","v":0},{"$f":"Stückliste!D239","v":0},{"$f":"Stückliste!H239","v":0},{"$f":"Stückliste!L239","v":0},{"$f":"Stückliste!P239","v":0},{"$f":"Stückliste!R239","v":0},{"$f":"Stückliste!T239","v":0},{"$f":"Stückliste!V239","v":0},{"$f":"Stückliste!X239","v":0},{"$f":"Stückliste!Z239","v":0},{"$f":"Stückliste!AB239","v":0},{"$f":"Stückliste!AD239","v":0},{"$f":"Stückliste!AH239","v":0},{"$f":"Stückliste!AJ239","v":0},{"$f":"Stückliste!AL239","v":0},{"$f":"Stückliste!AN239","v":0},{"$f":"Stückliste!AP239","v":0},{"$f":"Stückliste!AR239","v":0},{"$f":"Stückliste!AT239","v":0},{"$f":"Stückliste!AV239","v":0},{"$f":"Stückliste!AF239","v":0},{"$f":"Stückliste!AX239","v":0}]
[{"$f":"A186","v":0},0,8,{"$f":"Stückliste!A240","v":0},{"$f":"Stückliste!D240","v":0},{"$f":"Stückliste!H240","v":0},{"$f":"Stückliste!L240","v":0},{"$f":"Stückliste!P240","v":0},{"$f":"Stückliste!R240","v":0},{"$f":"Stückliste!T240","v":0},{"$f":"Stückliste!V240","v":0},{"$f":"Stückliste!X240","v":0},{"$f":"Stückliste!Z240","v":0},{"$f":"Stückliste!AB240","v":0},{"$f":"Stückliste!AD240","v":0},{"$f":"Stückliste!AH240","v":0},{"$f":"Stückliste!AJ240","v":0},{"$f":"Stückliste!AL240","v":0},{"$f":"Stückliste!AN240","v":0},{"$f":"Stückliste!AP240","v":0},{"$f":"Stückliste!AR240","v":0},{"$f":"Stückliste!AT240","v":0},{"$f":"Stückliste!AV240","v":0},{"$f":"Stückliste!AF240","v":0},{"$f":"Stückliste!AX240","v":0}]
[{"$f":"A187","v":0},0,8,{"$f":"Stückliste!A241","v":0},{"$f":"Stückliste!D241","v":0},{"$f":"Stückliste!H241","v":0},{"$f":"Stückliste!L241","v":0},{"$f":"Stückliste!P241","v":0},{"$f":"Stückliste!R241","v":0},{"$f":"Stückliste!T241","v":0},{"$f":"Stückliste!V241","v":0},{"$f":"Stückliste!X241","v":0},{"$f":"Stückliste!Z241","v":0},{"$f":"Stückliste!AB241","v":0},{"$f":"Stückliste!AD241","v":0},{"$f":"Stückliste!AH241","v":0},{"$f":"Stückliste!AJ241","v":0},{"$f":"Stückliste!AL241","v":0},{"$f":"Stückliste!AN241","v":0},{"$f":"Stückliste!AP241","v":0},{"$f":"Stückliste!AR241","v":0},{"$f":"Stückliste!AT241","v":0},{"$f":"Stückliste!AV241","v":0},{"$f":"Stückliste!AF241","v":0},{"$f":"Stückliste!AX241","v":0}]
[{"$f":"A188","v":0},0,8,{"$f":"Stückliste!A242","v":0},{"$f":"Stückliste!D242","v":0},{"$f":"Stückliste!H242","v":0},{"$f":"Stückliste!L242","v":0},{"$f":"Stückliste!P242","v":0},{"$f":"Stückliste!R242","v":0},{"$f":"Stückliste!T242","v":0},{"$f":"Stückliste!V242","v":0},{"$f":"Stückliste!X242","v":0},{"$f":"Stückliste!Z242","v":0},{"$f":"Stückliste!AB242","v":0},{"$f":"Stückliste!AD242","v":0},{"$f":"Stückliste!AH242","v":0},{"$f":"Stückliste!AJ242","v":0},{"$f":"Stückliste!AL242","v":0},{"$f":"Stückliste!AN242","v":0},{"$f":"Stückliste!AP242","v":0},{"$f":"Stückliste!AR242","v":0},{"$f":"Stückliste!AT242","v":0},{"$f":"Stückliste!AV242","v":0},{"$f":"Stückliste!AF242","v":0},{"$f":"Stückliste!AX242","v":0}]
[{"$f":"A189","v":0},0,8,{"$f":"Stückliste!A243","v":0},{"$f":"Stückliste!D243","v":0},{"$f":"Stückliste!H243","v":0},{"$f":"Stückliste!L243","v":0},{"$f":"Stückliste!P243","v":0},{"$f":"Stückliste!R243","v":0},{"$f":"Stückliste!T243","v":0},{"$f":"Stückliste!V243","v":0},{"$f":"Stückliste!X243","v":0},{"$f":"Stückliste!Z243","v":0},{"$f":"Stückliste!AB243","v":0},{"$f":"Stückliste!AD243","v":0},{"$f":"Stückliste!AH243","v":0},{"$f":"Stückliste!AJ243","v":0},{"$f":"Stückliste!AL243","v":0},{"$f":"Stückliste!AN243","v":0},{"$f":"Stückliste!AP243","v":0},{"$f":"Stückliste!AR243","v":0},{"$f":"Stückliste!AT243","v":0},{"$f":"Stückliste!AV243","v":0},{"$f":"Stückliste!AF243","v":0},{"$f":"Stückliste!AX243","v":0}]
[{"$f":"A190","v":0},0,8,{"$f":"Stückliste!A244","v":0},{"$f":"Stückliste!D244","v":0},{"$f":"Stückliste!H244","v":0},{"$f":"Stückliste!L244","v":0},{"$f":"Stückliste!P244","v":0},{"$f":"Stückliste!R244","v":0},{"$f":"Stückliste!T244","v":0},{"$f":"Stückliste!V244","v":0},{"$f":"Stückliste!X244","v":0},{"$f":"Stückliste!Z244","v":0},{"$f":"Stückliste!AB244","v":0},{"$f":"Stückliste!AD244","v":0},{"$f":"Stückliste!AH244","v":0},{"$f":"Stückliste!AJ244","v":0},{"$f":"Stückliste!AL244","v":0},{"$f":"Stückliste!AN244","v":0},{"$f":"Stückliste!AP244","v":0},{"$f":"Stückliste!AR244","v":0},{"$f":"Stückliste!AT244","v":0},{"$f":"Stückliste!AV244","v":0},{"$f":"Stückliste!AF244","v":0},{"$f":"Stückliste!AX244","v":0}]
[{"$f":"A191","v":0},0,8,{"$f":"Stückliste!A245","v":0},{"$f":"Stückliste!D245","v":0},{"$f":"Stückliste!H245","v":0},{"$f":"Stückliste!L245","v":0},{"$f":"Stückliste!P245","v":0},{"$f":"Stückliste!R245","v":0},{"$f":"Stückliste!T245","v":0},{"$f":"Stückliste!V245","v":0},{"$f":"Stückliste!X245","v":0},{"$f":"Stückliste!Z245","v":0},{"$f":"Stückliste!AB245","v":0},{"$f":"Stückliste!AD245","v":0},{"$f":"Stückliste!AH245","v":0},{"$f":"Stückliste!AJ245","v":0},{"$f":"Stückliste!AL245","v":0},{"$f":"Stückliste!AN245","v":0},{"$f":"Stückliste!AP245","v":0},{"$f":"Stückliste!AR245","v":0},{"$f":"Stückliste!AT245","v":0},{"$f":"Stückliste!AV245","v":0},{"$f":"Stückliste!AF245","v":0},{"$f":"Stückliste!AX245","v":0}]
[{"$f":"A192","v":0},0,8,{"$f":"Stückliste!A246","v":0},{"$f":"Stückliste!D246","v":0},{"$f":"Stückliste!H246","v":0},{"$f":"Stückliste!L246","v":0},{"$f":"Stückliste!P246","v":0},{"$f":"Stückliste!R246","v":0},{"$f":"Stückliste!T246","v":0},{"$f":"Stückliste!V246","v":0},{"$f":"Stückliste!X246","v":0},{"$f":"Stückliste!Z246","v":0},{"$f":"Stückliste!AB246","v":0},{"$f":"Stückliste!AD246","v":0},{"$f":"Stückliste!AH246","v":0},{"$f":"Stückliste!AJ246","v":0},{"$f":"Stückliste!AL246","v":0},{"$f":"Stückliste!AN246","v":0},{"$f":"Stückliste!AP246","v":0},{"$f":"Stückliste!AR246","v":0},{"$f":"Stückliste!AT246","v":0},{"$f":"Stückliste!AV246","v":0},{"$f":"Stückliste!AF246","v":0},{"$f":"Stückliste!AX246","v":0}]
[{"$f":"A193","v":0},0,8,{"$f":"Stückliste!A247","v":0},{"$f":"Stückliste!D247","v":0},{"$f":"Stückliste!H247","v":0},{"$f":"Stückliste!L247","v":0},{"$f":"Stückliste!P247","v":0},{"$f":"Stückliste!R247","v":0},{"$f":"Stückliste!T247","v":0},{"$f":"Stückliste!V247","v":0},{"$f":"Stückliste!X247","v":0},{"$f":"Stückliste!Z247","v":0},{"$f":"Stückliste!AB247","v":0},{"$f":"Stückliste!AD247","v":0},{"$f":"Stückliste!AH247","v":0},{"$f":"Stückliste!AJ247","v":0},{"$f":"Stückliste!AL247","v":0},{"$f":"Stückliste!AN247","v":0},{"$f":"Stückliste!AP247","v":0},{"$f":"Stückliste!AR247","v":0},{"$f":"Stückliste!AT247","v":0},{"$f":"Stückliste!AV247","v":0},{"$f":"Stückliste!AF247","v":0},{"$f":"Stückliste!AX247","v":0}]
[{"$f":"A194","v":0},0,8,{"$f":"Stückliste!A248","v":0},{"$f":"Stückliste!D248","v":0},{"$f":"Stückliste!H248","v":0},{"$f":"Stückliste!L248","v":0},{"$f":"Stückliste!P248","v":0},{"$f":"Stückliste!R248","v":0},{"$f":"Stückliste!T248","v":0},{"$f":"Stückliste!V248","v":0},{"$f":"Stückliste!X248","v":0},{"$f":"Stückliste!Z248","v":0},{"$f":"Stückliste!AB248","v":0},{"$f":"Stückliste!AD248","v":0},{"$f":"Stückliste!AH248","v":0},{"$f":"Stückliste!AJ248","v":0},{"$f":"Stückliste!AL248","v":0},{"$f":"Stückliste!AN248","v":0},{"$f":"Stückliste!AP248","v":0},{"$f":"Stückliste!AR248","v":0},{"$f":"Stückliste!AT248","v":0},{"$f":"Stückliste!AV248","v":0},{"$f":"Stückliste!AF248","v":0},{"$f":"Stückliste!AX248","v":0}]
[{"$f":"A195","v":0},0,8,{"$f":"Stückliste!A249","v":0},{"$f":"Stückliste!D249","v":0},{"$f":"Stückliste!H249","v":0},{"$f":"Stückliste!L249","v":0},{"$f":"Stückliste!P249","v":0},{"$f":"Stückliste!R249","v":0},{"$f":"Stückliste!T249","v":0},{"$f":"Stückliste!V249","v":0},{"$f":"Stückliste!X249","v":0},{"$f":"Stückliste!Z249","v":0},{"$f":"Stückliste!AB249","v":0},{"$f":"Stückliste!AD249","v":0},{"$f":"Stückliste!AH249","v":0},{"$f":"Stückliste!AJ249","v":0},{"$f":"Stückliste!AL249","v":0},{"$f":"Stückliste!AN249","v":0},{"$f":"Stückliste!AP249","v":0},{"$f":"Stückliste!AR249","v":0},{"$f":"Stückliste!AT249","v":0},{"$f":"Stückliste!AV249","v":0},{"$f":"Stückliste!AF249","v":0},{"$f":"Stückliste!AX249","v":0}]
[{"$f":"A196","v":0},0,8,{"$f":"Stückliste!A250","v":0},{"$f":"Stückliste!D250","v":0},{"$f":"Stückliste!H250","v":0},{"$f":"Stückliste!L250","v":0},{"$f":"Stückliste!P250","v":0},{"$f":"Stückliste!R250","v":0},{"$f":"Stückliste!T250","v":0},{"$f":"Stückliste!V250","v":0},{"$f":"Stückliste!X250","v":0},{"$f":"Stückliste!Z250","v":0},{"$f":"Stückliste!AB250","v":0},{"$f":"Stückliste!AD250","v":0},{"$f":"Stückliste!AH250","v":0},{"$f":"Stückliste!AJ250","v":0},{"$f":"Stückliste!AL250","v":0},{"$f":"Stückliste!AN250","v":0},{"$f":"Stückliste!AP250","v":0},{"$f":"Stückliste!AR250","v":0},{"$f":"Stückliste!AT250","v":0},{"$f":"Stückliste!AV250","v":0},{"$f":"Stückliste!AF250","v":0},{"$f":"Stückliste!AX250","v":0}]
[{"$f":"A197","v":0},0,8,{"$f":"Stückliste!A251","v":0},{"$f":"Stückliste!D251","v":0},{"$f":"Stückliste!H251","v":0},{"$f":"Stückliste!L251","v":0},{"$f":"Stückliste!P251","v":0},{"$f":"Stückliste!R251","v":0},{"$f":"Stückliste!T251","v":0},{"$f":"Stückliste!V251","v":0},{"$f":"Stückliste!X251","v":0},{"$f":"Stückliste!Z251","v":0},{"$f":"Stückliste!AB251","v":0},{"$f":"Stückliste!AD251","v":0},{"$f":"Stückliste!AH251","v":0},{"$f":"Stückliste!AJ251","v":0},{"$f":"Stückliste!AL251","v":0},{"$f":"Stückliste!AN251","v":0},{"$f":"Stückliste!AP251","v":0},{"$f":"Stückliste!AR251","v":0},{"$f":"Stückliste!AT251","v":0},{"$f":"Stückliste!AV251","v":0},{"$f":"Stückliste!AF251","v":0},{"$f":"Stückliste!AX251","v":0}]
[{"$f":"A198","v":0},0,8,{"$f":"Stückliste!A252","v":0},{"$f":"Stückliste!D252","v":0},{"$f":"Stückliste!H252","v":0},{"$f":"Stückliste!L252","v":0},{"$f":"Stückliste!P252","v":0},{"$f":"Stückliste!R252","v":0},{"$f":"Stückliste!T252","v":0},{"$f":"Stückliste!V252","v":0},{"$f":"Stückliste!X252","v":0},{"$f":"Stückliste!Z252","v":0},{"$f":"Stückliste!AB252","v":0},{"$f":"Stückliste!AD252","v":0},{"$f":"Stückliste!AH252","v":0},{"$f":"Stückliste!AJ252","v":0},{"$f":"Stückliste!AL252","v":0},{"$f":"Stückliste!AN252","v":0},{"$f":"Stückliste!AP252","v":0},{"$f":"Stückliste!AR252","v":0},{"$f":"Stückliste!AT252","v":0},{"$f":"Stückliste!AV252","v":0},{"$f":"Stückliste!AF252","v":0},{"$f":"Stückliste!AX252","v":0}]
[{"$f":"A199","v":0},0,8,{"$f":"Stückliste!A253","v":0},{"$f":"Stückliste!D253","v":0},{"$f":"Stückliste!H253","v":0},{"$f":"Stückliste!L253","v":0},{"$f":"Stückliste!P253","v":0},{"$f":"Stückliste!R253","v":0},{"$f":"Stückliste!T253","v":0},{"$f":"Stückliste!V253","v":0},{"$f":"Stückliste!X253","v":0},{"$f":"Stückliste!Z253","v":0},{"$f":"Stückliste!AB253","v":0},{"$f":"Stückliste!AD253","v":0},{"$f":"Stückliste!AH253","v":0},{"$f":"Stückliste!AJ253","v":0},{"$f":"Stückliste!AL253","v":0},{"$f":"Stückliste!AN253","v":0},{"$f":"Stückliste!AP253","v":0},{"$f":"Stückliste!AR253","v":0},{"$f":"Stückliste!AT253","v":0},{"$f":"Stückliste!AV253","v":0},{"$f":"Stückliste!AF253","v":0},{"$f":"Stückliste!AX253","v":0}]
[{"$f":"A200","v":0},0,8,{"$f":"Stückliste!A254","v":0},{"$f":"Stückliste!D254","v":0},{"$f":"Stückliste!H254","v":0},{"$f":"Stückliste!L254","v":0},{"$f":"Stückliste!P254","v":0},{"$f":"Stückliste!R254","v":0},{"$f":"Stückliste!T254","v":0},{"$f":"Stückliste!V254","v":0},{"$f":"Stückliste!X254","v":0},{"$f":"Stückliste!Z254","v":0},{"$f":"Stückliste!AB254","v":0},{"$f":"Stückliste!AD254","v":0},{"$f":"Stückliste!AH254","v":0},{"$f":"Stückliste!AJ254","v":0},{"$f":"Stückliste!AL254","v":0},{"$f":"Stückliste!AN254","v":0},{"$f":"Stückliste!AP254","v":0},{"$f":"Stückliste!AR254","v":0},{"$f":"Stückliste!AT254","v":0},{"$f":"Stückliste!AV254","v":0},{"$f":"Stückliste!AF254","v":0},{"$f":"Stückliste!AX254","v":0}]
[{"$f":"A201","v":0},0,8,{"$f":"Stückliste!A255","v":0},{"$f":"Stückliste!D255","v":0},{"$f":"Stückliste!H255","v":0},{"$f":"Stückliste!L255","v":0},{"$f":"Stückliste!P255","v":0},{"$f":"Stückliste!R255","v":0},{"$f":"Stückliste!T255","v":0},{"$f":"Stückliste!V255","v":0},{"$f":"Stückliste!X255","v":0},{"$f":"Stückliste!Z255","v":0},{"$f":"Stückliste!AB255","v":0},{"$f":"Stückliste!AD255","v":0},{"$f":"Stückliste!AH255","v":0},{"$f":"Stückliste!AJ255","v":0},{"$f":"Stückliste!AL255","v":0},{"$f":"Stückliste!AN255","v":0},{"$f":"Stückliste!AP255","v":0},{"$f":"Stückliste!AR255","v":0},{"$f":"Stückliste!AT255","v":0},{"$f":"Stückliste!AV255","v":0},{"$f":"Stückliste!AF255","v":0},{"$f":"Stückliste!AX255","v":0}]
[{"$f":"A202","v":0},0,8,{"$f":"Stückliste!A256","v":0},{"$f":"Stückliste!D256","v":0},{"$f":"Stückliste!H256","v":0},{"$f":"Stückliste!L256","v":0},{"$f":"Stückliste!P256","v":0},{"$f":"Stückliste!R256","v":0},{"$f":"Stückliste!T256","v":0},{"$f":"Stückliste!V256","v":0},{"$f":"Stückliste!X256","v":0},{"$f":"Stückliste!Z256","v":0},{"$f":"Stückliste!AB256","v":0},{"$f":"Stückliste!AD256","v":0},{"$f":"Stückliste!AH256","v":0},{"$f":"Stückliste!AJ256","v":0},{"$f":"Stückliste!AL256","v":0},{"$f":"Stückliste!AN256","v":0},{"$f":"Stückliste!AP256","v":0},{"$f":"Stückliste!AR256","v":0},{"$f":"Stückliste!AT256","v":0},{"$f":"Stückliste!AV256","v":0},{"$f":"Stückliste!AF256","v":0},{"$f":"Stückliste!AX256","v":0}]
[{"$f":"A203","v":0},0,8,{"$f":"Stückliste!A257","v":0},{"$f":"Stückliste!D257","v":0},{"$f":"Stückliste!H257","v":0},{"$f":"Stückliste!L257","v":0},{"$f":"Stückliste!P257","v":0},{"$f":"Stückliste!R257","v":0},{"$f":"Stückliste!T257","v":0},{"$f":"Stückliste!V257","v":0},{"$f":"Stückliste!X257","v":0},{"$f":"Stückliste!Z257","v":0},{"$f":"Stückliste!AB257","v":0},{"$f":"Stückliste!AD257","v":0},{"$f":"Stückliste!AH257","v":0},{"$f":"Stückliste!AJ257","v":0},{"$f":"Stückliste!AL257","v":0},{"$f":"Stückliste!AN257","v":0},{"$f":"Stückliste!AP257","v":0},{"$f":"Stückliste!AR257","v":0},{"$f":"Stückliste!AT257","v":0},{"$f":"Stückliste!AV257","v":0},{"$f":"Stückliste!AF257","v":0},{"$f":"Stückliste!AX257","v":0}]
[{"$f":"A204","v":0},0,8,{"$f":"Stückliste!A258","v":0},{"$f":"Stückliste!D258","v":0},{"$f":"Stückliste!H258","v":0},{"$f":"Stückliste!L258","v":0},{"$f":"Stückliste!P258","v":0},{"$f":"Stückliste!R258","v":0},{"$f":"Stückliste!T258","v":0},{"$f":"Stückliste!V258","v":0},{"$f":"Stückliste!X258","v":0},{"$f":"Stückliste!Z258","v":0},{"$f":"Stückliste!AB258","v":0},{"$f":"Stückliste!AD258","v":0},{"$f":"Stückliste!AH258","v":0},{"$f":"Stückliste!AJ258","v":0},{"$f":"Stückliste!AL258","v":0},{"$f":"Stückliste!AN258","v":0},{"$f":"Stückliste!AP258","v":0},{"$f":"Stückliste!AR258","v":0},{"$f":"Stückliste!AT258","v":0},{"$f":"Stückliste!AV258","v":0},{"$f":"Stückliste!AF258","v":0},{"$f":"Stückliste!AX258","v":0}]
[{"$f":"A205","v":0},0,8,{"$f":"Stückliste!A259","v":0},{"$f":"Stückliste!D259","v":0},{"$f":"Stückliste!H259","v":0},{"$f":"Stückliste!L259","v":0},{"$f":"Stückliste!P259","v":0},{"$f":"Stückliste!R259","v":0},{"$f":"Stückliste!T259","v":0},{"$f":"Stückliste!V259","v":0},{"$f":"Stückliste!X259","v":0},{"$f":"Stückliste!Z259","v":0},{"$f":"Stückliste!AB259","v":0},{"$f":"Stückliste!AD259","v":0},{"$f":"Stückliste!AH259","v":0},{"$f":"Stückliste!AJ259","v":0},{"$f":"Stückliste!AL259","v":0},{"$f":"Stückliste!AN259","v":0},{"$f":"Stückliste!AP259","v":0},{"$f":"Stückliste!AR259","v":0},{"$f":"Stückliste!AT259","v":0},{"$f":"Stückliste!AV259","v":0},{"$f":"Stückliste!AF259","v":0},{"$f":"Stückliste!AX259","v":0}]
[{"$f":"A206","v":0},0,8,{"$f":"Stückliste!A260","v":0},{"$f":"Stückliste!D260","v":0},{"$f":"Stückliste!H260","v":0},{"$f":"Stückliste!L260","v":0},{"$f":"Stückliste!P260","v":0},{"$f":"Stückliste!R260","v":0},{"$f":"Stückliste!T260","v":0},{"$f":"Stückliste!V260","v":0},{"$f":"Stückliste!X260","v":0},{"$f":"Stückliste!Z260","v":0},{"$f":"Stückliste!AB260","v":0},{"$f":"Stückliste!AD260","v":0},{"$f":"Stückliste!AH260","v":0},{"$f":"Stückliste!AJ260","v":0},{"$f":"Stückliste!AL260","v":0},{"$f":"Stückliste!AN260","v":0},{"$f":"Stückliste!AP260","v":0},{"$f":"Stückliste!AR260","v":0},{"$f":"Stückliste!AT260","v":0},{"$f":"Stückliste!AV260","v":0},{"$f":"Stückliste!AF260","v":0},{"$f":"Stückliste!AX260","v":0}]
[{"$f":"A207","v":0},0,8,{"$f":"Stückliste!A261","v":0},{"$f":"Stückliste!D261","v":0},{"$f":"Stückliste!H261","v":0},{"$f":"Stückliste!L261","v":0},{"$f":"Stückliste!P261","v":0},{"$f":"Stückliste!R261","v":0},{"$f":"Stückliste!T261","v":0},{"$f":"Stückliste!V261","v":0},{"$f":"Stückliste!X261","v":0},{"$f":"Stückliste!Z261","v":0},{"$f":"Stückliste!AB261","v":0},{"$f":"Stückliste!AD261","v":0},{"$f":"Stückliste!AH261","v":0},{"$f":"Stückliste!AJ261","v":0},{"$f":"Stückliste!AL261","v":0},{"$f":"Stückliste!AN261","v":0},{"$f":"Stückliste!AP261","v":0},{"$f":"Stückliste!AR261","v":0},{"$f":"Stückliste!AT261","v":0},{"$f":"Stückliste!AV261","v":0},{"$f":"Stückliste!AF261","v":0},{"$f":"Stückliste!AX261","v":0}]
[{"$f":"A208","v":0},0,8,{"$f":"Stückliste!A262","v":0},{"$f":"Stückliste!D262","v":0},{"$f":"Stückliste!H262","v":0},{"$f":"Stückliste!L262","v":0},{"$f":"Stückliste!P262","v":0},{"$f":"Stückliste!R262","v":0},{"$f":"Stückliste!T262","v":0},{"$f":"Stückliste!V262","v":0},{"$f":"Stückliste!X262","v":0},{"$f":"Stückliste!Z262","v":0},{"$f":"Stückliste!AB262","v":0},{"$f":"Stückliste!AD262","v":0},{"$f":"Stückliste!AH262","v":0},{"$f":"Stückliste!AJ262","v":0},{"$f":"Stückliste!AL262","v":0},{"$f":"Stückliste!AN262","v":0},{"$f":"Stückliste!AP262","v":0},{"$f":"Stückliste!AR262","v":0},{"$f":"Stückliste!AT262","v":0},{"$f":"Stückliste!AV262","v":0},{"$f":"Stückliste!AF262","v":0},{"$f":"Stückliste!AX262","v":0}]
[{"$f":"A209","v":0},0,8,{"$f":"Stückliste!A263","v":0},{"$f":"Stückliste!D263","v":0},{"$f":"Stückliste!H263","v":0},{"$f":"Stückliste!L263","v":0},{"$f":"Stückliste!P263","v":0},{"$f":"Stückliste!R263","v":0},{"$f":"Stückliste!T263","v":0},{"$f":"Stückliste!V263","v":0},{"$f":"Stückliste!X263","v":0},{"$f":"Stückliste!Z263","v":0},{"$f":"Stückliste!AB263","v":0},{"$f":"Stückliste!AD263","v":0},{"$f":"Stückliste!AH263","v":0},{"$f":"Stückliste!AJ263","v":0},{"$f":"Stückliste!AL263","v":0},{"$f":"Stückliste!AN263","v":0},{"$f":"Stückliste!AP263","v":0},{"$f":"Stückliste!AR263","v":0},{"$f":"Stückliste!AT263","v":0},{"$f":"Stückliste!AV263","v":0},{"$f":"Stückliste!AF263","v":0},{"$f":"Stückliste!AX263","v":0}]
[{"$f":"A210","v":0},0,8,{"$f":"Stückliste!A264","v":0},{"$f":"Stückliste!D264","v":0},{"$f":"Stückliste!H264","v":0},{"$f":"Stückliste!L264","v":0},{"$f":"Stückliste!P264","v":0},{"$f":"Stückliste!R264","v":0},{"$f":"Stückliste!T264","v":0},{"$f":"Stückliste!V264","v":0},{"$f":"Stückliste!X264","v":0},{"$f":"Stückliste!Z264","v":0},{"$f":"Stückliste!AB264","v":0},{"$f":"Stückliste!AD264","v":0},{"$f":"Stückliste!AH264","v":0},{"$f":"Stückliste!AJ264","v":0},{"$f":"Stückliste!AL264","v":0},{"$f":"Stückliste!AN264","v":0},{"$f":"Stückliste!AP264","v":0},{"$f":"Stückliste!AR264","v":0},{"$f":"Stückliste!AT264","v":0},{"$f":"Stückliste!AV264","v":0},{"$f":"Stückliste!AF264","v":0},{"$f":"Stückliste!AX264","v":0}]
[{"$f":"A211","v":0},0,8,{"$f":"Stückliste!A265","v":0},{"$f":"Stückliste!D265","v":0},{"$f":"Stückliste!H265","v":0},{"$f":"Stückliste!L265","v":0},{"$f":"Stückliste!P265","v":0},{"$f":"Stückliste!R265","v":0},{"$f":"Stückliste!T265","v":0},{"$f":"Stückliste!V265","v":0},{"$f":"Stückliste!X265","v":0},{"$f":"Stückliste!Z265","v":0},{"$f":"Stückliste!AB265","v":0},{"$f":"Stückliste!AD265","v":0},{"$f":"Stückliste!AH265","v":0},{"$f":"Stückliste!AJ265","v":0},{"$f":"Stückliste!AL265","v":0},{"$f":"Stückliste!AN265","v":0},{"$f":"Stückliste!AP265","v":0},{"$f":"Stückliste!AR265","v":0},{"$f":"Stückliste!AT265","v":0},{"$f":"Stückliste!AV265","v":0},{"$f":"Stückliste!AF265","v":0},{"$f":"Stückliste!AX265","v":0}]
[{"$f":"A212","v":0},0,8,{"$f":"Stückliste!A266","v":0},{"$f":"Stückliste!D266","v":0},{"$f":"Stückliste!H266","v":0},{"$f":"Stückliste!L266","v":0},{"$f":"Stückliste!P266","v":0},{"$f":"Stückliste!R266","v":0},{"$f":"Stückliste!T266","v":0},{"$f":"Stückliste!V266","v":0},{"$f":"Stückliste!X266","v":0},{"$f":"Stückliste!Z266","v":0},{"$f":"Stückliste!AB266","v":0},{"$f":"Stückliste!AD266","v":0},{"$f":"Stückliste!AH266","v":0},{"$f":"Stückliste!AJ266","v":0},{"$f":"Stückliste!AL266","v":0},{"$f":"Stückliste!AN266","v":0},{"$f":"Stückliste!AP266","v":0},{"$f":"Stückliste!AR266","v":0},{"$f":"Stückliste!AT266","v":0},{"$f":"Stückliste!AV266","v":0},{"$f":"Stückliste!AF266","v":0},{"$f":"Stückliste!AX266","v":0}]
[{"$f":"A213","v":0},0,8,{"$f":"Stückliste!A267","v":0},{"$f":"Stückliste!D267","v":0},{"$f":"Stückliste!H267","v":0},{"$f":"Stückliste!L267","v":0},{"$f":"Stückliste!P267","v":0},{"$f":"Stückliste!R267","v":0},{"$f":"Stückliste!T267","v":0},{"$f":"Stückliste!V267","v":0},{"$f":"Stückliste!X267","v":0},{"$f":"Stückliste!Z267","v":0},{"$f":"Stückliste!AB267","v":0},{"$f":"Stückliste!AD267","v":0},{"$f":"Stückliste!AH267","v":0},{"$f":"Stückliste!AJ267","v":0},{"$f":"Stückliste!AL267","v":0},{"$f":"Stückliste!AN267","v":0},{"$f":"Stückliste!AP267","v":0},{"$f":"Stückliste!AR267","v":0},{"$f":"Stückliste!AT267","v":0},{"$f":"Stückliste!AV267","v":0},{"$f":"Stückliste!AF267","v":0},{"$f":"Stückliste!AX267","v":0}]
[{"$f":"A214","v":0},0,8,{"$f":"Stückliste!A268","v":0},{"$f":"Stückliste!D268","v":0},{"$f":"Stückliste!H268","v":0},{"$f":"Stückliste!L268","v":0},{"$f":"Stückliste!P268","v":0},{"$f":"Stückliste!R268","v":0},{"$f":"Stückliste!T268","v":0},{"$f":"Stückliste!V268","v":0},{"$f":"Stückliste!X268","v":0},{"$f":"Stückliste!Z268","v":0},{"$f":"Stückliste!AB268","v":0},{"$f":"Stückliste!AD268","v":0},{"$f":"Stückliste!AH268","v":0},{"$f":"Stückliste!AJ268","v":0},{"$f":"Stückliste!AL268","v":0},{"$f":"Stückliste!AN268","v":0},{"$f":"Stückliste!AP268","v":0},{"$f":"Stückliste!AR268","v":0},{"$f":"Stückliste!AT268","v":0},{"$f":"Stückliste!AV268","v":0},{"$f":"Stückliste!AF268","v":0},{"$f":"Stückliste!AX268","v":0}]
[{"$f":"A215","v":0},0,8,{"$f":"Stückliste!A269","v":0},{"$f":"Stückliste!D269","v":0},{"$f":"Stückliste!H269","v":0},{"$f":"Stückliste!L269","v":0},{"$f":"Stückliste!P269","v":0},{"$f":"Stückliste!R269","v":0},{"$f":"Stückliste!T269","v":0},{"$f":"Stückliste!V269","v":0},{"$f":"Stückliste!X269","v":0},{"$f":"Stückliste!Z269","v":0},{"$f":"Stückliste!AB269","v":0},{"$f":"Stückliste!AD269","v":0},{"$f":"Stückliste!AH269","v":0},{"$f":"Stückliste!AJ269","v":0},{"$f":"Stückliste!AL269","v":0},{"$f":"Stückliste!AN269","v":0},{"$f":"Stückliste!AP269","v":0},{"$f":"Stückliste!AR269","v":0},{"$f":"Stückliste!AT269","v":0},{"$f":"Stückliste!AV269","v":0},{"$f":"Stückliste!AF269","v":0},{"$f":"Stückliste!AX269","v":0}]
[{"$f":"A216","v":0},0,8,{"$f":"Stückliste!A270","v":0},{"$f":"Stückliste!D270","v":0},{"$f":"Stückliste!H270","v":0},{"$f":"Stückliste!L270","v":0},{"$f":"Stückliste!P270","v":0},{"$f":"Stückliste!R270","v":0},{"$f":"Stückliste!T270","v":0},{"$f":"Stückliste!V270","v":0},{"$f":"Stückliste!X270","v":0},{"$f":"Stückliste!Z270","v":0},{"$f":"Stückliste!AB270","v":0},{"$f":"Stückliste!AD270","v":0},{"$f":"Stückliste!AH270","v":0},{"$f":"Stückliste!AJ270","v":0},{"$f":"Stückliste!AL270","v":0},{"$f":"Stückliste!AN270","v":0},{"$f":"Stückliste!AP270","v":0},{"$f":"Stückliste!AR270","v":0},{"$f":"Stückliste!AT270","v":0},{"$f":"Stückliste!AV270","v":0},{"$f":"Stückliste!AF270","v":0},{"$f":"Stückliste!AX270","v":0}]
[{"$f":"A217","v":0},0,8,{"$f":"Stückliste!A271","v":0},{"$f":"Stückliste!D271","v":0},{"$f":"Stückliste!H271","v":0},{"$f":"Stückliste!L271","v":0},{"$f":"Stückliste!P271","v":0},{"$f":"Stückliste!R271","v":0},{"$f":"Stückliste!T271","v":0},{"$f":"Stückliste!V271","v":0},{"$f":"Stückliste!X271","v":0},{"$f":"Stückliste!Z271","v":0},{"$f":"Stückliste!AB271","v":0},{"$f":"Stückliste!AD271","v":0},{"$f":"Stückliste!AH271","v":0},{"$f":"Stückliste!AJ271","v":0},{"$f":"Stückliste!AL271","v":0},{"$f":"Stückliste!AN271","v":0},{"$f":"Stückliste!AP271","v":0},{"$f":"Stückliste!AR271","v":0},{"$f":"Stückliste!AT271","v":0},{"$f":"Stückliste!AV271","v":0},{"$f":"Stückliste!AF271","v":0},{"$f":"Stückliste!AX271","v":0}]
[{"$f":"A218","v":0},0,8,{"$f":"Stückliste!A272","v":0},{"$f":"Stückliste!D272","v":0},{"$f":"Stückliste!H272","v":0},{"$f":"Stückliste!L272","v":0},{"$f":"Stückliste!P272","v":0},{"$f":"Stückliste!R272","v":0},{"$f":"Stückliste!T272","v":0},{"$f":"Stückliste!V272","v":0},{"$f":"Stückliste!X272","v":0},{"$f":"Stückliste!Z272","v":0},{"$f":"Stückliste!AB272","v":0},{"$f":"Stückliste!AD272","v":0},{"$f":"Stückliste!AH272","v":0},{"$f":"Stückliste!AJ272","v":0},{"$f":"Stückliste!AL272","v":0},{"$f":"Stückliste!AN272","v":0},{"$f":"Stückliste!AP272","v":0},{"$f":"Stückliste!AR272","v":0},{"$f":"Stückliste!AT272","v":0},{"$f":"Stückliste!AV272","v":0},{"$f":"Stückliste!AF272","v":0},{"$f":"Stückliste!AX272","v":0}]
[{"$f":"A219","v":0},0,8,{"$f":"Stückliste!A273","v":0},{"$f":"Stückliste!D273","v":0},{"$f":"Stückliste!H273","v":0},{"$f":"Stückliste!L273","v":0},{"$f":"Stückliste!P273","v":0},{"$f":"Stückliste!R273","v":0},{"$f":"Stückliste!T273","v":0},{"$f":"Stückliste!V273","v":0},{"$f":"Stückliste!X273","v":0},{"$f":"Stückliste!Z273","v":0},{"$f":"Stückliste!AB273","v":0},{"$f":"Stückliste!AD273","v":0},{"$f":"Stückliste!AH273","v":0},{"$f":"Stückliste!AJ273","v":0},{"$f":"Stückliste!AL273","v":0},{"$f":"Stückliste!AN273","v":0},{"$f":"Stückliste!AP273","v":0},{"$f":"Stückliste!AR273","v":0},{"$f":"Stückliste!AT273","v":0},{"$f":"Stückliste!AV273","v":0},{"$f":"Stückliste!AF273","v":0},{"$f":"Stückliste!AX273","v":0}]
[{"$f":"A220","v":0},0,8,{"$f":"Stückliste!A274","v":0},{"$f":"Stückliste!D274","v":0},{"$f":"Stückliste!H274","v":0},{"$f":"Stückliste!L274","v":0},{"$f":"Stückliste!P274","v":0},{"$f":"Stückliste!R274","v":0},{"$f":"Stückliste!T274","v":0},{"$f":"Stückliste!V274","v":0},{"$f":"Stückliste!X274","v":0},{"$f":"Stückliste!Z274","v":0},{"$f":"Stückliste!AB274","v":0},{"$f":"Stückliste!AD274","v":0},{"$f":"Stückliste!AH274","v":0},{"$f":"Stückliste!AJ274","v":0},{"$f":"Stückliste!AL274","v":0},{"$f":"Stückliste!AN274","v":0},{"$f":"Stückliste!AP274","v":0},{"$f":"Stückliste!AR274","v":0},{"$f":"Stückliste!AT274","v":0},{"$f":"Stückliste!AV274","v":0},{"$f":"Stückliste!AF274","v":0},{"$f":"Stückliste!AX274","v":0}]
[{"$f":"A221","v":0},0,8,{"$f":"Stückliste!A275","v":0},{"$f":"Stückliste!D275","v":0},{"$f":"Stückliste!H275","v":0},{"$f":"Stückliste!L275","v":0},{"$f":"Stückliste!P275","v":0},{"$f":"Stückliste!R275","v":0},{"$f":"Stückliste!T275","v":0},{"$f":"Stückliste!V275","v":0},{"$f":"Stückliste!X275","v":0},{"$f":"Stückliste!Z275","v":0},{"$f":"Stückliste!AB275","v":0},{"$f":"Stückliste!AD275","v":0},{"$f":"Stückliste!AH275","v":0},{"$f":"Stückliste!AJ275","v":0},{"$f":"Stückliste!AL275","v":0},{"$f":"Stückliste!AN275","v":0},{"$f":"Stückliste!AP275","v":0},{"$f":"Stückliste!AR275","v":0},{"$f":"Stückliste!AT275","v":0},{"$f":"Stückliste!AV275","v":0},{"$f":"Stückliste!AF275","v":0},{"$f":"Stückliste!AX275","v":0}]
[{"$f":"A222","v":0},0,8,{"$f":"Stückliste!A276","v":0},{"$f":"Stückliste!D276","v":0},{"$f":"Stückliste!H276","v":0},{"$f":"Stückliste!L276","v":0},{"$f":"Stückliste!P276","v":0},{"$f":"Stückliste!R276","v":0},{"$f":"Stückliste!T276","v":0},{"$f":"Stückliste!V276","v":0},{"$f":"Stückliste!X276","v":0},{"$f":"Stückliste!Z276","v":0},{"$f":"Stückliste!AB276","v":0},{"$f":"Stückliste!AD276","v":0},{"$f":"Stückliste!AH276","v":0},{"$f":"Stückliste!AJ276","v":0},{"$f":"Stückliste!AL276","v":0},{"$f":"Stückliste!AN276","v":0},{"$f":"Stückliste!AP276","v":0},{"$f":"Stückliste!AR276","v":0},{"$f":"Stückliste!AT276","v":0},{"$f":"Stückliste!AV276","v":0},{"$f":"Stückliste!AF276","v":0},{"$f":"Stückliste!AX276","v":0}]
[{"$f":"A223","v":0},0,8,{"$f":"Stückliste!A277","v":0},{"$f":"Stückliste!D277","v":0},{"$f":"Stückliste!H277","v":0},{"$f":"Stückliste!L277","v":0},{"$f":"Stückliste!P277","v":0},{"$f":"Stückliste!R277","v":0},{"$f":"Stückliste!T277","v":0},{"$f":"Stückliste!V277","v":0},{"$f":"Stückliste!X277","v":0},{"$f":"Stückliste!Z277","v":0},{"$f":"Stückliste!AB277","v":0},{"$f":"Stückliste!AD277","v":0},{"$f":"Stückliste!AH277","v":0},{"$f":"Stückliste!AJ277","v":0},{"$f":"Stückliste!AL277","v":0},{"$f":"Stückliste!AN277","v":0},{"$f":"Stückliste!AP277","v":0},{"$f":"Stückliste!AR277","v":0},{"$f":"Stückliste!AT277","v":0},{"$f":"Stückliste!AV277","v":0},{"$f":"Stückliste!AF277","v":0},{"$f":"Stückliste!AX277","v":0}]
[{"$f":"A224","v":0},0,8,{"$f":"Stückliste!A278","v":0},{"$f":"Stückliste!D278","v":0},{"$f":"Stückliste!H278","v":0},{"$f":"Stückliste!L278","v":0},{"$f":"Stückliste!P278","v":0},{"$f":"Stückliste!R278","v":0},{"$f":"Stückliste!T278","v":0},{"$f":"Stückliste!V278","v":0},{"$f":"Stückliste!X278","v":0},{"$f":"Stückliste!Z278","v":0},{"$f":"Stückliste!AB278","v":0},{"$f":"Stückliste!AD278","v":0},{"$f":"Stückliste!AH278","v":0},{"$f":"Stückliste!AJ278","v":0},{"$f":"Stückliste!AL278","v":0},{"$f":"Stückliste!AN278","v":0},{"$f":"Stückliste!AP278","v":0},{"$f":"Stückliste!AR278","v":0},{"$f":"Stückliste!AT278","v":0},{"$f":"Stückliste!AV278","v":0},{"$f":"Stückliste!AF278","v":0},{"$f":"Stückliste!AX278","v":0}]
[{"$f":"A225","v":0},0,8,{"$f":"Stückliste!A279","v":0},{"$f":"Stückliste!D279","v":0},{"$f":"Stückliste!H279","v":0},{"$f":"Stückliste!L279","v":0},{"$f":"Stückliste!P279","v":0},{"$f":"Stückliste!R279","v":0},{"$f":"Stückliste!T279","v":0},{"$f":"Stückliste!V279","v":0},{"$f":"Stückliste!X279","v":0},{"$f":"Stückliste!Z279","v":0},{"$f":"Stückliste!AB279","v":0},{"$f":"Stückliste!AD279","v":0},{"$f":"Stückliste!AH279","v":0},{"$f":"Stückliste!AJ279","v":0},{"$f":"Stückliste!AL279","v":0},{"$f":"Stückliste!AN279","v":0},{"$f":"Stückliste!AP279","v":0},{"$f":"Stückliste!AR279","v":0},{"$f":"Stückliste!AT279","v":0},{"$f":"Stückliste!AV279","v":0},{"$f":"Stückliste!AF279","v":0},{"$f":"Stückliste!AX279","v":0}]
[{"$f":"A226","v":0},0,8,{"$f":"Stückliste!A280","v":0},{"$f":"Stückliste!D280","v":0},{"$f":"Stückliste!H280","v":0},{"$f":"Stückliste!L280","v":0},{"$f":"Stückliste!P280","v":0},{"$f":"Stückliste!R280","v":0},{"$f":"Stückliste!T280","v":0},{"$f":"Stückliste!V280","v":0},{"$f":"Stückliste!X280","v":0},{"$f":"Stückliste!Z280","v":0},{"$f":"Stückliste!AB280","v":0},{"$f":"Stückliste!AD280","v":0},{"$f":"Stückliste!AH280","v":0},{"$f":"Stückliste!AJ280","v":0},{"$f":"Stückliste!AL280","v":0},{"$f":"Stückliste!AN280","v":0},{"$f":"Stückliste!AP280","v":0},{"$f":"Stückliste!AR280","v":0},{"$f":"Stückliste!AT280","v":0},{"$f":"Stückliste!AV280","v":0},{"$f":"Stückliste!AF280","v":0},{"$f":"Stückliste!AX280","v":0}]
[{"$f":"A227","v":0},0,8,{"$f":"Stückliste!A281","v":0},{"$f":"Stückliste!D281","v":0},{"$f":"Stückliste!H281","v":0},{"$f":"Stückliste!L281","v":0},{"$f":"Stückliste!P281","v":0},{"$f":"Stückliste!R281","v":0},{"$f":"Stückliste!T281","v":0},{"$f":"Stückliste!V281","v":0},{"$f":"Stückliste!X281","v":0},{"$f":"Stückliste!Z281","v":0},{"$f":"Stückliste!AB281","v":0},{"$f":"Stückliste!AD281","v":0},{"$f":"Stückliste!AH281","v":0},{"$f":"Stückliste!AJ281","v":0},{"$f":"Stückliste!AL281","v":0},{"$f":"Stückliste!AN281","v":0},{"$f":"Stückliste!AP281","v":0},{"$f":"Stückliste!AR281","v":0},{"$f":"Stückliste!AT281","v":0},{"$f":"Stückliste!AV281","v":0},{"$f":"Stückliste!AF281","v":0},{"$f":"Stückliste!AX281","v":0}]
[{"$f":"A228","v":0},0,8,{"$f":"Stückliste!A282","v":0},{"$f":"Stückliste!D282","v":0},{"$f":"Stückliste!H282","v":0},{"$f":"Stückliste!L282","v":0},{"$f":"Stückliste!P282","v":0},{"$f":"Stückliste!R282","v":0},{"$f":"Stückliste!T282","v":0},{"$f":"Stückliste!V282","v":0},{"$f":"Stückliste!X282","v":0},{"$f":"Stückliste!Z282","v":0},{"$f":"Stückliste!AB282","v":0},{"$f":"Stückliste!AD282","v":0},{"$f":"Stückliste!AH282","v":0},{"$f":"Stückliste!AJ282","v":0},{"$f":"Stückliste!AL282","v":0},{"$f":"Stückliste!AN282","v":0},{"$f":"Stückliste!AP282","v":0},{"$f":"Stückliste!AR282","v":0},{"$f":"Stückliste!AT282","v":0},{"$f":"Stückliste!AV282","v":0},{"$f":"Stückliste!AF282","v":0},{"$f":"Stückliste!AX282","v":0}]
[{"$f":"A229","v":0},0,8,{"$f":"Stückliste!A283","v":0},{"$f":"Stückliste!D283","v":0},{"$f":"Stückliste!H283","v":0},{"$f":"Stückliste!L283","v":0},{"$f":"Stückliste!P283","v":0},{"$f":"Stückliste!R283","v":0},{"$f":"Stückliste!T283","v":0},{"$f":"Stückliste!V283","v":0},{"$f":"Stückliste!X283","v":0},{"$f":"Stückliste!Z283","v":0},{"$f":"Stückliste!AB283","v":0},{"$f":"Stückliste!AD283","v":0},{"$f":"Stückliste!AH283","v":0},{"$f":"Stückliste!AJ283","v":0},{"$f":"Stückliste!AL283","v":0},{"$f":"Stückliste!AN283","v":0},{"$f":"Stückliste!AP283","v":0},{"$f":"Stückliste!AR283","v":0},{"$f":"Stückliste!AT283","v":0},{"$f":"Stückliste!AV283","v":0},{"$f":"Stückliste!AF283","v":0},{"$f":"Stückliste!AX283","v":0}]
[{"$f":"A230","v":0},0,8,{"$f":"Stückliste!A284","v":0},{"$f":"Stückliste!D284","v":0},{"$f":"Stückliste!H284","v":0},{"$f":"Stückliste!L284","v":0},{"$f":"Stückliste!P284","v":0},{"$f":"Stückliste!R284","v":0},{"$f":"Stückliste!T284","v":0},{"$f":"Stückliste!V284","v":0},{"$f":"Stückliste!X284","v":0},{"$f":"Stückliste!Z284","v":0},{"$f":"Stückliste!AB284","v":0},{"$f":"Stückliste!AD284","v":0},{"$f":"Stückliste!AH284","v":0},{"$f":"Stückliste!AJ284","v":0},{"$f":"Stückliste!AL284","v":0},{"$f":"Stückliste!AN284","v":0},{"$f":"Stückliste!AP284","v":0},{"$f":"Stückliste!AR284","v":0},{"$f":"Stückliste!AT284","v":0},{"$f":"Stückliste!AV284","v":0},{"$f":"Stückliste!AF284","v":0},{"$f":"Stückliste!AX284","v":0}]
[{"$f":"A231","v":0},0,8,{"$f":"Stückliste!A285","v":0},{"$f":"Stückliste!D285","v":0},{"$f":"Stückliste!H285","v":0},{"$f":"Stückliste!L285","v":0},{"$f":"Stückliste!P285","v":0},{"$f":"Stückliste!R285","v":0},{"$f":"Stückliste!T285","v":0},{"$f":"Stückliste!V285","v":0},{"$f":"Stückliste!X285","v":0},{"$f":"Stückliste!Z285","v":0},{"$f":"Stückliste!AB285","v":0},{"$f":"Stückliste!AD285","v":0},{"$f":"Stückliste!AH285","v":0},{"$f":"Stückliste!AJ285","v":0},{"$f":"Stückliste!AL285","v":0},{"$f":"Stückliste!AN285","v":0},{"$f":"Stückliste!AP285","v":0},{"$f":"Stückliste!AR285","v":0},{"$f":"Stückliste!AT285","v":0},{"$f":"Stückliste!AV285","v":0},{"$f":"Stückliste!AF285","v":0},{"$f":"Stückliste!AX285","v":0}]
[{"$f":"A232","v":0},0,8,{"$f":"Stückliste!A286","v":0},{"$f":"Stückliste!D286","v":0},{"$f":"Stückliste!H286","v":0},{"$f":"Stückliste!L286","v":0},{"$f":"Stückliste!P286","v":0},{"$f":"Stückliste!R286","v":0},{"$f":"Stückliste!T286","v":0},{"$f":"Stückliste!V286","v":0},{"$f":"Stückliste!X286","v":0},{"$f":"Stückliste!Z286","v":0},{"$f":"Stückliste!AB286","v":0},{"$f":"Stückliste!AD286","v":0},{"$f":"Stückliste!AH286","v":0},{"$f":"Stückliste!AJ286","v":0},{"$f":"Stückliste!AL286","v":0},{"$f":"Stückliste!AN286","v":0},{"$f":"Stückliste!AP286","v":0},{"$f":"Stückliste!AR286","v":0},{"$f":"Stückliste!AT286","v":0},{"$f":"Stückliste!AV286","v":0},{"$f":"Stückliste!AF286","v":0},{"$f":"Stückliste!AX286","v":0}]
[{"$f":"A233","v":0},0,8,{"$f":"Stückliste!A287","v":0},{"$f":"Stückliste!D287","v":0},{"$f":"Stückliste!H287","v":0},{"$f":"Stückliste!L287","v":0},{"$f":"Stückliste!P287","v":0},{"$f":"Stückliste!R287","v":0},{"$f":"Stückliste!T287","v":0},{"$f":"Stückliste!V287","v":0},{"$f":"Stückliste!X287","v":0},{"$f":"Stückliste!Z287","v":0},{"$f":"Stückliste!AB287","v":0},{"$f":"Stückliste!AD287","v":0},{"$f":"Stückliste!AH287","v":0},{"$f":"Stückliste!AJ287","v":0},{"$f":"Stückliste!AL287","v":0},{"$f":"Stückliste!AN287","v":0},{"$f":"Stückliste!AP287","v":0},{"$f":"Stückliste!AR287","v":0},{"$f":"Stückliste!AT287","v":0},{"$f":"Stückliste!AV287","v":0},{"$f":"Stückliste!AF287","v":0},{"$f":"Stückliste!AX287","v":0}]
[{"$f":"A234","v":0},0,8,{"$f":"Stückliste!A288","v":0},{"$f":"Stückliste!D288","v":0},{"$f":"Stückliste!H288","v":0},{"$f":"Stückliste!L288","v":0},{"$f":"Stückliste!P288","v":0},{"$f":"Stückliste!R288","v":0},{"$f":"Stückliste!T288","v":0},{"$f":"Stückliste!V288","v":0},{"$f":"Stückliste!X288","v":0},{"$f":"Stückliste!Z288","v":0},{"$f":"Stückliste!AB288","v":0},{"$f":"Stückliste!AD288","v":0},{"$f":"Stückliste!AH288","v":0},{"$f":"Stückliste!AJ288","v":0},{"$f":"Stückliste!AL288","v":0},{"$f":"Stückliste!AN288","v":0},{"$f":"Stückliste!AP288","v":0},{"$f":"Stückliste!AR288","v":0},{"$f":"Stückliste!AT288","v":0},{"$f":"Stückliste!AV288","v":0},{"$f":"Stückliste!AF288","v":0},{"$f":"Stückliste!AX288","v":0}]
[{"$f":"A235","v":0},0,8,{"$f":"Stückliste!A289","v":0},{"$f":"Stückliste!D289","v":0},{"$f":"Stückliste!H289","v":0},{"$f":"Stückliste!L289","v":0},{"$f":"Stückliste!P289","v":0},{"$f":"Stückliste!R289","v":0},{"$f":"Stückliste!T289","v":0},{"$f":"Stückliste!V289","v":0},{"$f":"Stückliste!X289","v":0},{"$f":"Stückliste!Z289","v":0},{"$f":"Stückliste!AB289","v":0},{"$f":"Stückliste!AD289","v":0},{"$f":"Stückliste!AH289","v":0},{"$f":"Stückliste!AJ289","v":0},{"$f":"Stückliste!AL289","v":0},{"$f":"Stückliste!AN289","v":0},{"$f":"Stückliste!AP289","v":0},{"$f":"Stückliste!AR289","v":0},{"$f":"Stückliste!AT289","v":0},{"$f":"Stückliste!AV289","v":0},{"$f":"Stückliste!AF289","v":0},{"$f":"Stückliste!AX289","v":0}]
[{"$f":"A236","v":0},0,8,{"$f":"Stückliste!A290","v":0},{"$f":"Stückliste!D290","v":0},{"$f":"Stückliste!H290","v":0},{"$f":"Stückliste!L290","v":0},{"$f":"Stückliste!P290","v":0},{"$f":"Stückliste!R290","v":0},{"$f":"Stückliste!T290","v":0},{"$f":"Stückliste!V290","v":0},{"$f":"Stückliste!X290","v":0},{"$f":"Stückliste!Z290","v":0},{"$f":"Stückliste!AB290","v":0},{"$f":"Stückliste!AD290","v":0},{"$f":"Stückliste!AH290","v":0},{"$f":"Stückliste!AJ290","v":0},{"$f":"Stückliste!AL290","v":0},{"$f":"Stückliste!AN290","v":0},{"$f":"Stückliste!AP290","v":0},{"$f":"Stückliste!AR290","v":0},{"$f":"Stückliste!AT290","v":0},{"$f":"Stückliste!AV290","v":0},{"$f":"Stückliste!AF290","v":0},{"$f":"Stückliste!AX290","v":0}]
[{"$f":"A237","v":0},0,8,{"$f":"Stückliste!A291","v":0},{"$f":"Stückliste!D291","v":0},{"$f":"Stückliste!H291","v":0},{"$f":"Stückliste!L291","v":0},{"$f":"Stückliste!P291","v":0},{"$f":"Stückliste!R291","v":0},{"$f":"Stückliste!T291","v":0},{"$f":"Stückliste!V291","v":0},{"$f":"Stückliste!X291","v":0},{"$f":"Stückliste!Z291","v":0},{"$f":"Stückliste!AB291","v":0},{"$f":"Stückliste!AD291","v":0},{"$f":"Stückliste!AH291","v":0},{"$f":"Stückliste!AJ291","v":0},{"$f":"Stückliste!AL291","v":0},{"$f":"Stückliste!AN291","v":0},{"$f":"Stückliste!AP291","v":0},{"$f":"Stückliste!AR291","v":0},{"$f":"Stückliste!AT291","v":0},{"$f":"Stückliste!AV291","v":0},{"$f":"Stückliste!AF291","v":0},{"$f":"Stückliste!AX291","v":0}]
[{"$f":"A238","v":0},0,8,{"$f":"Stückliste!A292","v":0},{"$f":"Stückliste!D292","v":0},{"$f":"Stückliste!H292","v":0},{"$f":"Stückliste!L292","v":0},{"$f":"Stückliste!P292","v":0},{"$f":"Stückliste!R292","v":0},{"$f":"Stückliste!T292","v":0},{"$f":"Stückliste!V292","v":0},{"$f":"Stückliste!X292","v":0},{"$f":"Stückliste!Z292","v":0},{"$f":"Stückliste!AB292","v":0},{"$f":"Stückliste!AD292","v":0},{"$f":"Stückliste!AH292","v":0},{"$f":"Stückliste!AJ292","v":0},{"$f":"Stückliste!AL292","v":0},{"$f":"Stückliste!AN292","v":0},{"$f":"Stückliste!AP292","v":0},{"$f":"Stückliste!AR292","v":0},{"$f":"Stückliste!AT292","v":0},{"$f":"Stückliste!AV292","v":0},{"$f":"Stückliste!AF292","v":0},{"$f":"Stückliste!AX292","v":0}]
[{"$f":"A239","v":0},0,8,{"$f":"Stückliste!A293","v":0},{"$f":"Stückliste!D293","v":0},{"$f":"Stückliste!H293","v":0},{"$f":"Stückliste!L293","v":0},{"$f":"Stückliste!P293","v":0},{"$f":"Stückliste!R293","v":0},{"$f":"Stückliste!T293","v":0},{"$f":"Stückliste!V293","v":0},{"$f":"Stückliste!X293","v":0},{"$f":"Stückliste!Z293","v":0},{"$f":"Stückliste!AB293","v":0},{"$f":"Stückliste!AD293","v":0},{"$f":"Stückliste!AH293","v":0},{"$f":"Stückliste!AJ293","v":0},{"$f":"Stückliste!AL293","v":0},{"$f":"Stückliste!AN293","v":0},{"$f":"Stückliste!AP293","v":0},{"$f":"Stückliste!AR293","v":0},{"$f":"Stückliste!AT293","v":0},{"$f":"Stückliste!AV293","v":0},{"$f":"Stückliste!AF293","v":0},{"$f":"Stückliste!AX293","v":0}]
[{"$f":"A240","v":0},0,8,{"$f":"Stückliste!A294","v":0},{"$f":"Stückliste!D294","v":0},{"$f":"Stückliste!H294","v":0},{"$f":"Stückliste!L294","v":0},{"$f":"Stückliste!P294","v":0},{"$f":"Stückliste!R294","v":0},{"$f":"Stückliste!T294","v":0},{"$f":"Stückliste!V294","v":0},{"$f":"Stückliste!X294","v":0},{"$f":"Stückliste!Z294","v":0},{"$f":"Stückliste!AB294","v":0},{"$f":"Stückliste!AD294","v":0},{"$f":"Stückliste!AH294","v":0},{"$f":"Stückliste!AJ294","v":0},{"$f":"Stückliste!AL294","v":0},{"$f":"Stückliste!AN294","v":0},{"$f":"Stückliste!AP294","v":0},{"$f":"Stückliste!AR294","v":0},{"$f":"Stückliste!AT294","v":0},{"$f":"Stückliste!AV294","v":0},{"$f":"Stückliste!AF294","v":0},{"$f":"Stückliste!AX294","v":0}]
[{"$f":"A241","v":0},0,8,{"$f":"Stückliste!A295","v":0},{"$f":"Stückliste!D295","v":0},{"$f":"Stückliste!H295","v":0},{"$f":"Stückliste!L295","v":0},{"$f":"Stückliste!P295","v":0},{"$f":"Stückliste!R295","v":0},{"$f":"Stückliste!T295","v":0},{"$f":"Stückliste!V295","v":0},{"$f":"Stückliste!X295","v":0},{"$f":"Stückliste!Z295","v":0},{"$f":"Stückliste!AB295","v":0},{"$f":"Stückliste!AD295","v":0},{"$f":"Stückliste!AH295","v":0},{"$f":"Stückliste!AJ295","v":0},{"$f":"Stückliste!AL295","v":0},{"$f":"Stückliste!AN295","v":0},{"$f":"Stückliste!AP295","v":0},{"$f":"Stückliste!AR295","v":0},{"$f":"Stückliste!AT295","v":0},{"$f":"Stückliste!AV295","v":0},{"$f":"Stückliste!AF295","v":0},{"$f":"Stückliste!AX295","v":0}]
[{"$f":"A242","v":0},0,8,{"$f":"Stückliste!A296","v":0},{"$f":"Stückliste!D296","v":0},{"$f":"Stückliste!H296","v":0},{"$f":"Stückliste!L296","v":0},{"$f":"Stückliste!P296","v":0},{"$f":"Stückliste!R296","v":0},{"$f":"Stückliste!T296","v":0},{"$f":"Stückliste!V296","v":0},{"$f":"Stückliste!X296","v":0},{"$f":"Stückliste!Z296","v":0},{"$f":"Stückliste!AB296","v":0},{"$f":"Stückliste!AD296","v":0},{"$f":"Stückliste!AH296","v":0},{"$f":"Stückliste!AJ296","v":0},{"$f":"Stückliste!AL296","v":0},{"$f":"Stückliste!AN296","v":0},{"$f":"Stückliste!AP296","v":0},{"$f":"Stückliste!AR296","v":0},{"$f":"Stückliste!AT296","v":0},{"$f":"Stückliste!AV296","v":0},{"$f":"Stückliste!AF296","v":0},{"$f":"Stückliste!AX296","v":0}]
[{"$f":"A243","v":0},0,8,{"$f":"Stückliste!A297","v":0},{"$f":"Stückliste!D297","v":0},{"$f":"Stückliste!H297","v":0},{"$f":"Stückliste!L297","v":0},{"$f":"Stückliste!P297","v":0},{"$f":"Stückliste!R297","v":0},{"$f":"Stückliste!T297","v":0},{"$f":"Stückliste!V297","v":0},{"$f":"Stückliste!X297","v":0},{"$f":"Stückliste!Z297","v":0},{"$f":"Stückliste!AB297","v":0},{"$f":"Stückliste!AD297","v":0},{"$f":"Stückliste!AH297","v":0},{"$f":"Stückliste!AJ297","v":0},{"$f":"Stückliste!AL297","v":0},{"$f":"Stückliste!AN297","v":0},{"$f":"Stückliste!AP297","v":0},{"$f":"Stückliste!AR297","v":0},{"$f":"Stückliste!AT297","v":0},{"$f":"Stückliste!AV297","v":0},{"$f":"Stückliste!AF297","v":0},{"$f":"Stückliste!AX297","v":0}]
[{"$f":"A244","v":0},0,8,{"$f":"Stückliste!A298","v":0},{"$f":"Stückliste!D298","v":0},{"$f":"Stückliste!H298","v":0},{"$f":"Stückliste!L298","v":0},{"$f":"Stückliste!P298","v":0},{"$f":"Stückliste!R298","v":0},{"$f":"Stückliste!T298","v":0},{"$f":"Stückliste!V298","v":0},{"$f":"Stückliste!X298","v":0},{"$f":"Stückliste!Z298","v":0},{"$f":"Stückliste!AB298","v":0},{"$f":"Stückliste!AD298","v":0},{"$f":"Stückliste!AH298","v":0},{"$f":"Stückliste!AJ298","v":0},{"$f":"Stückliste!AL298","v":0},{"$f":"Stückliste!AN298","v":0},{"$f":"Stückliste!AP298","v":0},{"$f":"Stückliste!AR298","v":0},{"$f":"Stückliste!AT298","v":0},{"$f":"Stückliste!AV298","v":0},{"$f":"Stückliste!AF298","v":0},{"$f":"Stückliste!AX298","v":0}]
[{"$f":"A245","v":0},0,8,{"$f":"Stückliste!A299","v":0},{"$f":"Stückliste!D299","v":0},{"$f":"Stückliste!H299","v":0},{"$f":"Stückliste!L299","v":0},{"$f":"Stückliste!P299","v":0},{"$f":"Stückliste!R299","v":0},{"$f":"Stückliste!T299","v":0},{"$f":"Stückliste!V299","v":0},{"$f":"Stückliste!X299","v":0},{"$f":"Stückliste!Z299","v":0},{"$f":"Stückliste!AB299","v":0},{"$f":"Stückliste!AD299","v":0},{"$f":"Stückliste!AH299","v":0},{"$f":"Stückliste!AJ299","v":0},{"$f":"Stückliste!AL299","v":0},{"$f":"Stückliste!AN299","v":0},{"$f":"Stückliste!AP299","v":0},{"$f":"Stückliste!AR299","v":0},{"$f":"Stückliste!AT299","v":0},{"$f":"Stückliste!AV299","v":0},{"$f":"Stückliste!AF299","v":0},{"$f":"Stückliste!AX299","v":0}]
[{"$f":"A246","v":0},0,8,{"$f":"Stückliste!A300","v":0},{"$f":"Stückliste!D300","v":0},{"$f":"Stückliste!H300","v":0},{"$f":"Stückliste!L300","v":0},{"$f":"Stückliste!P300","v":0},{"$f":"Stückliste!R300","v":0},{"$f":"Stückliste!T300","v":0},{"$f":"Stückliste!V300","v":0},{"$f":"Stückliste!X300","v":0},{"$f":"Stückliste!Z300","v":0},{"$f":"Stückliste!AB300","v":0},{"$f":"Stückliste!AD300","v":0},{"$f":"Stückliste!AH300","v":0},{"$f":"Stückliste!AJ300","v":0},{"$f":"Stückliste!AL300","v":0},{"$f":"Stückliste!AN300","v":0},{"$f":"Stückliste!AP300","v":0},{"$f":"Stückliste!AR300","v":0},{"$f":"Stückliste!AT300","v":0},{"$f":"Stückliste!AV300","v":0},{"$f":"Stückliste!AF300","v":0},{"$f":"Stückliste!AX300","v":0}]
[{"$f":"A247","v":0},0,8,{"$f":"Stückliste!A301","v":0},{"$f":"Stückliste!D301","v":0},{"$f":"Stückliste!H301","v":0},{"$f":"Stückliste!L301","v":0},{"$f":"Stückliste!P301","v":0},{"$f":"Stückliste!R301","v":0},{"$f":"Stückliste!T301","v":0},{"$f":"Stückliste!V301","v":0},{"$f":"Stückliste!X301","v":0},{"$f":"Stückliste!Z301","v":0},{"$f":"Stückliste!AB301","v":0},{"$f":"Stückliste!AD301","v":0},{"$f":"Stückliste!AH301","v":0},{"$f":"Stückliste!AJ301","v":0},{"$f":"Stückliste!AL301","v":0},{"$f":"Stückliste!AN301","v":0},{"$f":"Stückliste!AP301","v":0},{"$f":"Stückliste!AR301","v":0},{"$f":"Stückliste!AT301","v":0},{"$f":"Stückliste!AV301","v":0},{"$f":"Stückliste!AF301","v":0},{"$f":"Stückliste!AX301","v":0}]
[{"$f":"A248","v":0},0,8,{"$f":"Stückliste!A302","v":0},{"$f":"Stückliste!D302","v":0},{"$f":"Stückliste!H302","v":0},{"$f":"Stückliste!L302","v":0},{"$f":"Stückliste!P302","v":0},{"$f":"Stückliste!R302","v":0},{"$f":"Stückliste!T302","v":0},{"$f":"Stückliste!V302","v":0},{"$f":"Stückliste!X302","v":0},{"$f":"Stückliste!Z302","v":0},{"$f":"Stückliste!AB302","v":0},{"$f":"Stückliste!AD302","v":0},{"$f":"Stückliste!AH302","v":0},{"$f":"Stückliste!AJ302","v":0},{"$f":"Stückliste!AL302","v":0},{"$f":"Stückliste!AN302","v":0},{"$f":"Stückliste!AP302","v":0},{"$f":"Stückliste!AR302","v":0},{"$f":"Stückliste!AT302","v":0},{"$f":"Stückliste!AV302","v":0},{"$f":"Stückliste!AF302","v":0},{"$f":"Stückliste!AX302","v":0}]
[{"$f":"A249","v":0},0,8,{"$f":"Stückliste!A303","v":0},{"$f":"Stückliste!D303","v":0},{"$f":"Stückliste!H303","v":0},{"$f":"Stückliste!L303","v":0},{"$f":"Stückliste!P303","v":0},{"$f":"Stückliste!R303","v":0},{"$f":"Stückliste!T303","v":0},{"$f":"Stückliste!V303","v":0},{"$f":"Stückliste!X303","v":0},{"$f":"Stückliste!Z303","v":0},{"$f":"Stückliste!AB303","v":0},{"$f":"Stückliste!AD303","v":0},{"$f":"Stückliste!AH303","v":0},{"$f":"Stückliste!AJ303","v":0},{"$f":"Stückliste!AL303","v":0},{"$f":"Stückliste!AN303","v":0},{"$f":"Stückliste!AP303","v":0},{"$f":"Stückliste!AR303","v":0},{"$f":"Stückliste!AT303","v":0},{"$f":"Stückliste!AV303","v":0},{"$f":"Stückliste!AF303","v":0},{"$f":"Stückliste!AX303","v":0}]
[{"$f":"A250","v":0},0,8,{"$f":"Stückliste!A304","v":0},{"$f":"Stückliste!D304","v":0},{"$f":"Stückliste!H304","v":0},{"$f":"Stückliste!L304","v":0},{"$f":"Stückliste!P304","v":0},{"$f":"Stückliste!R304","v":0},{"$f":"Stückliste!T304","v":0},{"$f":"Stückliste!V304","v":0},{"$f":"Stückliste!X304","v":0},{"$f":"Stückliste!Z304","v":0},{"$f":"Stückliste!AB304","v":0},{"$f":"Stückliste!AD304","v":0},{"$f":"Stückliste!AH304","v":0},{"$f":"Stückliste!AJ304","v":0},{"$f":"Stückliste!AL304","v":0},{"$f":"Stückliste!AN304","v":0},{"$f":"Stückliste!AP304","v":0},{"$f":"Stückliste!AR304","v":0},{"$f":"Stückliste!AT304","v":0},{"$f":"Stückliste!AV304","v":0},{"$f":"Stückliste!AF304","v":0},{"$f":"Stückliste!AX304","v":0}]
[{"$f":"A251","v":0},0,8,{"$f":"Stückliste!A305","v":0},{"$f":"Stückliste!D305","v":0},{"$f":"Stückliste!H305","v":0},{"$f":"Stückliste!L305","v":0},{"$f":"Stückliste!P305","v":0},{"$f":"Stückliste!R305","v":0},{"$f":"Stückliste!T305","v":0},{"$f":"Stückliste!V305","v":0},{"$f":"Stückliste!X305","v":0},{"$f":"Stückliste!Z305","v":0},{"$f":"Stückliste!AB305","v":0},{"$f":"Stückliste!AD305","v":0},{"$f":"Stückliste!AH305","v":0},{"$f":"Stückliste!AJ305","v":0},{"$f":"Stückliste!AL305","v":0},{"$f":"Stückliste!AN305","v":0},{"$f":"Stückliste!AP305","v":0},{"$f":"Stückliste!AR305","v":0},{"$f":"Stückliste!AT305","v":0},{"$f":"Stückliste!AV305","v":0},{"$f":"Stückliste!AF305","v":0},{"$f":"Stückliste!AX305","v":0}]
[{"$f":"A252","v":0},0,8,{"$f":"Stückliste!A306","v":0},{"$f":"Stückliste!D306","v":0},{"$f":"Stückliste!H306","v":0},{"$f":"Stückliste!L306","v":0},{"$f":"Stückliste!P306","v":0},{"$f":"Stückliste!R306","v":0},{"$f":"Stückliste!T306","v":0},{"$f":"Stückliste!V306","v":0},{"$f":"Stückliste!X306","v":0},{"$f":"Stückliste!Z306","v":0},{"$f":"Stückliste!AB306","v":0},{"$f":"Stückliste!AD306","v":0},{"$f":"Stückliste!AH306","v":0},{"$f":"Stückliste!AJ306","v":0},{"$f":"Stückliste!AL306","v":0},{"$f":"Stückliste!AN306","v":0},{"$f":"Stückliste!AP306","v":0},{"$f":"Stückliste!AR306","v":0},{"$f":"Stückliste!AT306","v":0},{"$f":"Stückliste!AV306","v":0},{"$f":"Stückliste!AF306","v":0},{"$f":"Stückliste!AX306","v":0}]
[{"$f":"A253","v":0},0,8,{"$f":"Stückliste!A307","v":0},{"$f":"Stückliste!D307","v":0},{"$f":"Stückliste!H307","v":0},{"$f":"Stückliste!L307","v":0},{"$f":"Stückliste!P307","v":0},{"$f":"Stückliste!R307","v":0},{"$f":"Stückliste!T307","v":0},{"$f":"Stückliste!V307","v":0},{"$f":"Stückliste!X307","v":0},{"$f":"Stückliste!Z307","v":0},{"$f":"Stückliste!AB307","v":0},{"$f":"Stückliste!AD307","v":0},{"$f":"Stückliste!AH307","v":0},{"$f":"Stückliste!AJ307","v":0},{"$f":"Stückliste!AL307","v":0},{"$f":"Stückliste!AN307","v":0},{"$f":"Stückliste!AP307","v":0},{"$f":"Stückliste!AR307","v":0},{"$f":"Stückliste!AT307","v":0},{"$f":"Stückliste!AV307","v":0},{"$f":"Stückliste!AF307","v":0},{"$f":"Stückliste!AX307","v":0}]
[{"$f":"A254","v":0},0,8,{"$f":"Stückliste!A308","v":0},{"$f":"Stückliste!D308","v":0},{"$f":"Stückliste!H308","v":0},{"$f":"Stückliste!L308","v":0},{"$f":"Stückliste!P308","v":0},{"$f":"Stückliste!R308","v":0},{"$f":"Stückliste!T308","v":0},{"$f":"Stückliste!V308","v":0},{"$f":"Stückliste!X308","v":0},{"$f":"Stückliste!Z308","v":0},{"$f":"Stückliste!AB308","v":0},{"$f":"Stückliste!AD308","v":0},{"$f":"Stückliste!AH308","v":0},{"$f":"Stückliste!AJ308","v":0},{"$f":"Stückliste!AL308","v":0},{"$f":"Stückliste!AN308","v":0},{"$f":"Stückliste!AP308","v":0},{"$f":"Stückliste!AR308","v":0},{"$f":"Stückliste!AT308","v":0},{"$f":"Stückliste!AV308","v":0},{"$f":"Stückliste!AF308","v":0},{"$f":"Stückliste!AX308","v":0}]
[{"$f":"A255","v":0},0,8,{"$f":"Stückliste!A309","v":0},{"$f":"Stückliste!D309","v":0},{"$f":"Stückliste!H309","v":0},{"$f":"Stückliste!L309","v":0},{"$f":"Stückliste!P309","v":0},{"$f":"Stückliste!R309","v":0},{"$f":"Stückliste!T309","v":0},{"$f":"Stückliste!V309","v":0},{"$f":"Stückliste!X309","v":0},{"$f":"Stückliste!Z309","v":0},{"$f":"Stückliste!AB309","v":0},{"$f":"Stückliste!AD309","v":0},{"$f":"Stückliste!AH309","v":0},{"$f":"Stückliste!AJ309","v":0},{"$f":"Stückliste!AL309","v":0},{"$f":"Stückliste!AN309","v":0},{"$f":"Stückliste!AP309","v":0},{"$f":"Stückliste!AR309","v":0},{"$f":"Stückliste!AT309","v":0},{"$f":"Stückliste!AV309","v":0},{"$f":"Stückliste!AF309","v":0},{"$f":"Stückliste!AX309","v":0}]
[{"$f":"A256","v":0},0,8,{"$f":"Stückliste!A310","v":0},{"$f":"Stückliste!D310","v":0},{"$f":"Stückliste!H310","v":0},{"$f":"Stückliste!L310","v":0},{"$f":"Stückliste!P310","v":0},{"$f":"Stückliste!R310","v":0},{"$f":"Stückliste!T310","v":0},{"$f":"Stückliste!V310","v":0},{"$f":"Stückliste!X310","v":0},{"$f":"Stückliste!Z310","v":0},{"$f":"Stückliste!AB310","v":0},{"$f":"Stückliste!AD310","v":0},{"$f":"Stückliste!AH310","v":0},{"$f":"Stückliste!AJ310","v":0},{"$f":"Stückliste!AL310","v":0},{"$f":"Stückliste!AN310","v":0},{"$f":"Stückliste!AP310","v":0},{"$f":"Stückliste!AR310","v":0},{"$f":"Stückliste!AT310","v":0},{"$f":"Stückliste!AV310","v":0},{"$f":"Stückliste!AF310","v":0},{"$f":"Stückliste!AX310","v":0}]
[{"$f":"A257","v":0},0,8,{"$f":"Stückliste!A311","v":0},{"$f":"Stückliste!D311","v":0},{"$f":"Stückliste!H311","v":0},{"$f":"Stückliste!L311","v":0},{"$f":"Stückliste!P311","v":0},{"$f":"Stückliste!R311","v":0},{"$f":"Stückliste!T311","v":0},{"$f":"Stückliste!V311","v":0},{"$f":"Stückliste!X311","v":0},{"$f":"Stückliste!Z311","v":0},{"$f":"Stückliste!AB311","v":0},{"$f":"Stückliste!AD311","v":0},{"$f":"Stückliste!AH311","v":0},{"$f":"Stückliste!AJ311","v":0},{"$f":"Stückliste!AL311","v":0},{"$f":"Stückliste!AN311","v":0},{"$f":"Stückliste!AP311","v":0},{"$f":"Stückliste!AR311","v":0},{"$f":"Stückliste!AT311","v":0},{"$f":"Stückliste!AV311","v":0},{"$f":"Stückliste!AF311","v":0},{"$f":"Stückliste!AX311","v":0}]
[{"$f":"A258","v":0},0,8,{"$f":"Stückliste!A312","v":0},{"$f":"Stückliste!D312","v":0},{"$f":"Stückliste!H312","v":0},{"$f":"Stückliste!L312","v":0},{"$f":"Stückliste!P312","v":0},{"$f":"Stückliste!R312","v":0},{"$f":"Stückliste!T312","v":0},{"$f":"Stückliste!V312","v":0},{"$f":"Stückliste!X312","v":0},{"$f":"Stückliste!Z312","v":0},{"$f":"Stückliste!AB312","v":0},{"$f":"Stückliste!AD312","v":0},{"$f":"Stückliste!AH312","v":0},{"$f":"Stückliste!AJ312","v":0},{"$f":"Stückliste!AL312","v":0},{"$f":"Stückliste!AN312","v":0},{"$f":"Stückliste!AP312","v":0},{"$f":"Stückliste!AR312","v":0},{"$f":"Stückliste!AT312","v":0},{"$f":"Stückliste!AV312","v":0},{"$f":"Stückliste!AF312","v":0},{"$f":"Stückliste!AX312","v":0}]
[{"$f":"A259","v":0},0,8,{"$f":"Stückliste!A313","v":0},{"$f":"Stückliste!D313","v":0},{"$f":"Stückliste!H313","v":0},{"$f":"Stückliste!L313","v":0},{"$f":"Stückliste!P313","v":0},{"$f":"Stückliste!R313","v":0},{"$f":"Stückliste!T313","v":0},{"$f":"Stückliste!V313","v":0},{"$f":"Stückliste!X313","v":0},{"$f":"Stückliste!Z313","v":0},{"$f":"Stückliste!AB313","v":0},{"$f":"Stückliste!AD313","v":0},{"$f":"Stückliste!AH313","v":0},{"$f":"Stückliste!AJ313","v":0},{"$f":"Stückliste!AL313","v":0},{"$f":"Stückliste!AN313","v":0},{"$f":"Stückliste!AP313","v":0},{"$f":"Stückliste!AR313","v":0},{"$f":"Stückliste!AT313","v":0},{"$f":"Stückliste!AV313","v":0},{"$f":"Stückliste!AF313","v":0},{"$f":"Stückliste!AX313","v":0}]
[{"$f":"A260","v":0},0,8,{"$f":"Stückliste!A314","v":0},{"$f":"Stückliste!D314","v":0},{"$f":"Stückliste!H314","v":0},{"$f":"Stückliste!L314","v":0},{"$f":"Stückliste!P314","v":0},{"$f":"Stückliste!R314","v":0},{"$f":"Stückliste!T314","v":0},{"$f":"Stückliste!V314","v":0},{"$f":"Stückliste!X314","v":0},{"$f":"Stückliste!Z314","v":0},{"$f":"Stückliste!AB314","v":0},{"$f":"Stückliste!AD314","v":0},{"$f":"Stückliste!AH314","v":0},{"$f":"Stückliste!AJ314","v":0},{"$f":"Stückliste!AL314","v":0},{"$f":"Stückliste!AN314","v":0},{"$f":"Stückliste!AP314","v":0},{"$f":"Stückliste!AR314","v":0},{"$f":"Stückliste!AT314","v":0},{"$f":"Stückliste!AV314","v":0},{"$f":"Stückliste!AF314","v":0},{"$f":"Stückliste!AX314","v":0}]
[{"$f":"A261","v":0},0,8,{"$f":"Stückliste!A315","v":0},{"$f":"Stückliste!D315","v":0},{"$f":"Stückliste!H315","v":0},{"$f":"Stückliste!L315","v":0},{"$f":"Stückliste!P315","v":0},{"$f":"Stückliste!R315","v":0},{"$f":"Stückliste!T315","v":0},{"$f":"Stückliste!V315","v":0},{"$f":"Stückliste!X315","v":0},{"$f":"Stückliste!Z315","v":0},{"$f":"Stückliste!AB315","v":0},{"$f":"Stückliste!AD315","v":0},{"$f":"Stückliste!AH315","v":0},{"$f":"Stückliste!AJ315","v":0},{"$f":"Stückliste!AL315","v":0},{"$f":"Stückliste!AN315","v":0},{"$f":"Stückliste!AP315","v":0},{"$f":"Stückliste!AR315","v":0},{"$f":"Stückliste!AT315","v":0},{"$f":"Stückliste!AV315","v":0},{"$f":"Stückliste!AF315","v":0},{"$f":"Stückliste!AX315","v":0}]
[{"$f":"A262","v":0},0,8,{"$f":"Stückliste!A316","v":0},{"$f":"Stückliste!D316","v":0},{"$f":"Stückliste!H316","v":0},{"$f":"Stückliste!L316","v":0},{"$f":"Stückliste!P316","v":0},{"$f":"Stückliste!R316","v":0},{"$f":"Stückliste!T316","v":0},{"$f":"Stückliste!V316","v":0},{"$f":"Stückliste!X316","v":0},{"$f":"Stückliste!Z316","v":0},{"$f":"Stückliste!AB316","v":0},{"$f":"Stückliste!AD316","v":0},{"$f":"Stückliste!AH316","v":0},{"$f":"Stückliste!AJ316","v":0},{"$f":"Stückliste!AL316","v":0},{"$f":"Stückliste!AN316","v":0},{"$f":"Stückliste!AP316","v":0},{"$f":"Stückliste!AR316","v":0},{"$f":"Stückliste!AT316","v":0},{"$f":"Stückliste!AV316","v":0},{"$f":"Stückliste!AF316","v":0},{"$f":"Stückliste!AX316","v":0}]
[{"$f":"A263","v":0},0,8,{"$f":"Stückliste!A317","v":0},{"$f":"Stückliste!D317","v":0},{"$f":"Stückliste!H317","v":0},{"$f":"Stückliste!L317","v":0},{"$f":"Stückliste!P317","v":0},{"$f":"Stückliste!R317","v":0},{"$f":"Stückliste!T317","v":0},{"$f":"Stückliste!V317","v":0},{"$f":"Stückliste!X317","v":0},{"$f":"Stückliste!Z317","v":0},{"$f":"Stückliste!AB317","v":0},{"$f":"Stückliste!AD317","v":0},{"$f":"Stückliste!AH317","v":0},{"$f":"Stückliste!AJ317","v":0},{"$f":"Stückliste!AL317","v":0},{"$f":"Stückliste!AN317","v":0},{"$f":"Stückliste!AP317","v":0},{"$f":"Stückliste!AR317","v":0},{"$f":"Stückliste!AT317","v":0},{"$f":"Stückliste!AV317","v":0},{"$f":"Stückliste!AF317","v":0},{"$f":"Stückliste!AX317","v":0}]
[{"$f":"A264","v":0},0,8,{"$f":"Stückliste!A318","v":0},{"$f":"Stückliste!D318","v":0},{"$f":"Stückliste!H318","v":0},{"$f":"Stückliste!L318","v":0},{"$f":"Stückliste!P318","v":0},{"$f":"Stückliste!R318","v":0},{"$f":"Stückliste!T318","v":0},{"$f":"Stückliste!V318","v":0},{"$f":"Stückliste!X318","v":0},{"$f":"Stückliste!Z318","v":0},{"$f":"Stückliste!AB318","v":0},{"$f":"Stückliste!AD318","v":0},{"$f":"Stückliste!AH318","v":0},{"$f":"Stückliste!AJ318","v":0},{"$f":"Stückliste!AL318","v":0},{"$f":"Stückliste!AN318","v":0},{"$f":"Stückliste!AP318","v":0},{"$f":"Stückliste!AR318","v":0},{"$f":"Stückliste!AT318","v":0},{"$f":"Stückliste!AV318","v":0},{"$f":"Stückliste!AF318","v":0},{"$f":"Stückliste!AX318","v":0}]
[{"$f":"A265","v":0},0,8,{"$f":"Stückliste!A319","v":0},{"$f":"Stückliste!D319","v":0},{"$f":"Stückliste!H319","v":0},{"$f":"Stückliste!L319","v":0},{"$f":"Stückliste!P319","v":0},{"$f":"Stückliste!R319","v":0},{"$f":"Stückliste!T319","v":0},{"$f":"Stückliste!V319","v":0},{"$f":"Stückliste!X319","v":0},{"$f":"Stückliste!Z319","v":0},{"$f":"Stückliste!AB319","v":0},{"$f":"Stückliste!AD319","v":0},{"$f":"Stückliste!AH319","v":0},{"$f":"Stückliste!AJ319","v":0},{"$f":"Stückliste!AL319","v":0},{"$f":"Stückliste!AN319","v":0},{"$f":"Stückliste!AP319","v":0},{"$f":"Stückliste!AR319","v":0},{"$f":"Stückliste!AT319","v":0},{"$f":"Stückliste!AV319","v":0},{"$f":"Stückliste!AF319","v":0},{"$f":"Stückliste!AX319","v":0}]
[{"$f":"A266","v":0},0,8,{"$f":"Stückliste!A320","v":0},{"$f":"Stückliste!D320","v":0},{"$f":"Stückliste!H320","v":0},{"$f":"Stückliste!L320","v":0},{"$f":"Stückliste!P320","v":0},{"$f":"Stückliste!R320","v":0},{"$f":"Stückliste!T320","v":0},{"$f":"Stückliste!V320","v":0},{"$f":"Stückliste!X320","v":0},{"$f":"Stückliste!Z320","v":0},{"$f":"Stückliste!AB320","v":0},{"$f":"Stückliste!AD320","v":0},{"$f":"Stückliste!AH320","v":0},{"$f":"Stückliste!AJ320","v":0},{"$f":"Stückliste!AL320","v":0},{"$f":"Stückliste!AN320","v":0},{"$f":"Stückliste!AP320","v":0},{"$f":"Stückliste!AR320","v":0},{"$f":"Stückliste!AT320","v":0},{"$f":"Stückliste!AV320","v":0},{"$f":"Stückliste!AF320","v":0},{"$f":"Stückliste!AX320","v":0}]
[{"$f":"A267","v":0},0,8,{"$f":"Stückliste!A321","v":0},{"$f":"Stückliste!D321","v":0},{"$f":"Stückliste!H321","v":0},{"$f":"Stückliste!L321","v":0},{"$f":"Stückliste!P321","v":0},{"$f":"Stückliste!R321","v":0},{"$f":"Stückliste!T321","v":0},{"$f":"Stückliste!V321","v":0},{"$f":"Stückliste!X321","v":0},{"$f":"Stückliste!Z321","v":0},{"$f":"Stückliste!AB321","v":0},{"$f":"Stückliste!AD321","v":0},{"$f":"Stückliste!AH321","v":0},{"$f":"Stückliste!AJ321","v":0},{"$f":"Stückliste!AL321","v":0},{"$f":"Stückliste!AN321","v":0},{"$f":"Stückliste!AP321","v":0},{"$f":"Stückliste!AR321","v":0},{"$f":"Stückliste!AT321","v":0},{"$f":"Stückliste!AV321","v":0},{"$f":"Stückliste!AF321","v":0},{"$f":"Stückliste!AX321","v":0}]
[{"$f":"A268","v":0},0,8,{"$f":"Stückliste!A322","v":0},{"$f":"Stückliste!D322","v":0},{"$f":"Stückliste!H322","v":0},{"$f":"Stückliste!L322","v":0},{"$f":"Stückliste!P322","v":0},{"$f":"Stückliste!R322","v":0},{"$f":"Stückliste!T322","v":0},{"$f":"Stückliste!V322","v":0},{"$f":"Stückliste!X322","v":0},{"$f":"Stückliste!Z322","v":0},{"$f":"Stückliste!AB322","v":0},{"$f":"Stückliste!AD322","v":0},{"$f":"Stückliste!AH322","v":0},{"$f":"Stückliste!AJ322","v":0},{"$f":"Stückliste!AL322","v":0},{"$f":"Stückliste!AN322","v":0},{"$f":"Stückliste!AP322","v":0},{"$f":"Stückliste!AR322","v":0},{"$f":"Stückliste!AT322","v":0},{"$f":"Stückliste!AV322","v":0},{"$f":"Stückliste!AF322","v":0},{"$f":"Stückliste!AX322","v":0}]
[{"$f":"A269","v":0},0,8,{"$f":"Stückliste!A323","v":0},{"$f":"Stückliste!D323","v":0},{"$f":"Stückliste!H323","v":0},{"$f":"Stückliste!L323","v":0},{"$f":"Stückliste!P323","v":0},{"$f":"Stückliste!R323","v":0},{"$f":"Stückliste!T323","v":0},{"$f":"Stückliste!V323","v":0},{"$f":"Stückliste!X323","v":0},{"$f":"Stückliste!Z323","v":0},{"$f":"Stückliste!AB323","v":0},{"$f":"Stückliste!AD323","v":0},{"$f":"Stückliste!AH323","v":0},{"$f":"Stückliste!AJ323","v":0},{"$f":"Stückliste!AL323","v":0},{"$f":"Stückliste!AN323","v":0},{"$f":"Stückliste!AP323","v":0},{"$f":"Stückliste!AR323","v":0},{"$f":"Stückliste!AT323","v":0},{"$f":"Stückliste!AV323","v":0},{"$f":"Stückliste!AF323","v":0},{"$f":"Stückliste!AX323","v":0}]
[{"$f":"A270","v":0},0,8,{"$f":"Stückliste!A324","v":0},{"$f":"Stückliste!D324","v":0},{"$f":"Stückliste!H324","v":0},{"$f":"Stückliste!L324","v":0},{"$f":"Stückliste!P324","v":0},{"$f":"Stückliste!R324","v":0},{"$f":"Stückliste!T324","v":0},{"$f":"Stückliste!V324","v":0},{"$f":"Stückliste!X324","v":0},{"$f":"Stückliste!Z324","v":0},{"$f":"Stückliste!AB324","v":0},{"$f":"Stückliste!AD324","v":0},{"$f":"Stückliste!AH324","v":0},{"$f":"Stückliste!AJ324","v":0},{"$f":"Stückliste!AL324","v":0},{"$f":"Stückliste!AN324","v":0},{"$f":"Stückliste!AP324","v":0},{"$f":"Stückliste!AR324","v":0},{"$f":"Stückliste!AT324","v":0},{"$f":"Stückliste!AV324","v":0},{"$f":"Stückliste!AF324","v":0},{"$f":"Stückliste!AX324","v":0}]
[{"$f":"A271","v":0},0,8,{"$f":"Stückliste!A325","v":0},{"$f":"Stückliste!D325","v":0},{"$f":"Stückliste!H325","v":0},{"$f":"Stückliste!L325","v":0},{"$f":"Stückliste!P325","v":0},{"$f":"Stückliste!R325","v":0},{"$f":"Stückliste!T325","v":0},{"$f":"Stückliste!V325","v":0},{"$f":"Stückliste!X325","v":0},{"$f":"Stückliste!Z325","v":0},{"$f":"Stückliste!AB325","v":0},{"$f":"Stückliste!AD325","v":0},{"$f":"Stückliste!AH325","v":0},{"$f":"Stückliste!AJ325","v":0},{"$f":"Stückliste!AL325","v":0},{"$f":"Stückliste!AN325","v":0},{"$f":"Stückliste!AP325","v":0},{"$f":"Stückliste!AR325","v":0},{"$f":"Stückliste!AT325","v":0},{"$f":"Stückliste!AV325","v":0},{"$f":"Stückliste!AF325","v":0},{"$f":"Stückliste!AX325","v":0}]
[{"$f":"A272","v":0},0,8,{"$f":"Stückliste!A326","v":0},{"$f":"Stückliste!D326","v":0},{"$f":"Stückliste!H326","v":0},{"$f":"Stückliste!L326","v":0},{"$f":"Stückliste!P326","v":0},{"$f":"Stückliste!R326","v":0},{"$f":"Stückliste!T326","v":0},{"$f":"Stückliste!V326","v":0},{"$f":"Stückliste!X326","v":0},{"$f":"Stückliste!Z326","v":0},{"$f":"Stückliste!AB326","v":0},{"$f":"Stückliste!AD326","v":0},{"$f":"Stückliste!AH326","v":0},{"$f":"Stückliste!AJ326","v":0},{"$f":"Stückliste!AL326","v":0},{"$f":"Stückliste!AN326","v":0},{"$f":"Stückliste!AP326","v":0},{"$f":"Stückliste!AR326","v":0},{"$f":"Stückliste!AT326","v":0},{"$f":"Stückliste!AV326","v":0},{"$f":"Stückliste!AF326","v":0},{"$f":"Stückliste!AX326","v":0}]
[{"$f":"A273","v":0},0,8,{"$f":"Stückliste!A327","v":0},{"$f":"Stückliste!D327","v":0},{"$f":"Stückliste!H327","v":0},{"$f":"Stückliste!L327","v":0},{"$f":"Stückliste!P327","v":0},{"$f":"Stückliste!R327","v":0},{"$f":"Stückliste!T327","v":0},{"$f":"Stückliste!V327","v":0},{"$f":"Stückliste!X327","v":0},{"$f":"Stückliste!Z327","v":0},{"$f":"Stückliste!AB327","v":0},{"$f":"Stückliste!AD327","v":0},{"$f":"Stückliste!AH327","v":0},{"$f":"Stückliste!AJ327","v":0},{"$f":"Stückliste!AL327","v":0},{"$f":"Stückliste!AN327","v":0},{"$f":"Stückliste!AP327","v":0},{"$f":"Stückliste!AR327","v":0},{"$f":"Stückliste!AT327","v":0},{"$f":"Stückliste!AV327","v":0},{"$f":"Stückliste!AF327","v":0},{"$f":"Stückliste!AX327","v":0}]
[{"$f":"A274","v":0},0,8,{"$f":"Stückliste!A328","v":0},{"$f":"Stückliste!D328","v":0},{"$f":"Stückliste!H328","v":0},{"$f":"Stückliste!L328","v":0},{"$f":"Stückliste!P328","v":0},{"$f":"Stückliste!R328","v":0},{"$f":"Stückliste!T328","v":0},{"$f":"Stückliste!V328","v":0},{"$f":"Stückliste!X328","v":0},{"$f":"Stückliste!Z328","v":0},{"$f":"Stückliste!AB328","v":0},{"$f":"Stückliste!AD328","v":0},{"$f":"Stückliste!AH328","v":0},{"$f":"Stückliste!AJ328","v":0},{"$f":"Stückliste!AL328","v":0},{"$f":"Stückliste!AN328","v":0},{"$f":"Stückliste!AP328","v":0},{"$f":"Stückliste!AR328","v":0},{"$f":"Stückliste!AT328","v":0},{"$f":"Stückliste!AV328","v":0},{"$f":"Stückliste!AF328","v":0},{"$f":"Stückliste!AX328","v":0}]
[{"$f":"A275","v":0},0,8,{"$f":"Stückliste!A329","v":0},{"$f":"Stückliste!D329","v":0},{"$f":"Stückliste!H329","v":0},{"$f":"Stückliste!L329","v":0},{"$f":"Stückliste!P329","v":0},{"$f":"Stückliste!R329","v":0},{"$f":"Stückliste!T329","v":0},{"$f":"Stückliste!V329","v":0},{"$f":"Stückliste!X329","v":0},{"$f":"Stückliste!Z329","v":0},{"$f":"Stückliste!AB329","v":0},{"$f":"Stückliste!AD329","v":0},{"$f":"Stückliste!AH329","v":0},{"$f":"Stückliste!AJ329","v":0},{"$f":"Stückliste!AL329","v":0},{"$f":"Stückliste!AN329","v":0},{"$f":"Stückliste!AP329","v":0},{"$f":"Stückliste!AR329","v":0},{"$f":"Stückliste!AT329","v":0},{"$f":"Stückliste!AV329","v":0},{"$f":"Stückliste!AF329","v":0},{"$f":"Stückliste!AX329","v":0}]
[{"$f":"A276","v":0},0,8,{"$f":"Stückliste!A330","v":0},{"$f":"Stückliste!D330","v":0},{"$f":"Stückliste!H330","v":0},{"$f":"Stückliste!L330","v":0},{"$f":"Stückliste!P330","v":0},{"$f":"Stückliste!R330","v":0},{"$f":"Stückliste!T330","v":0},{"$f":"Stückliste!V330","v":0},{"$f":"Stückliste!X330","v":0},{"$f":"Stückliste!Z330","v":0},{"$f":"Stückliste!AB330","v":0},{"$f":"Stückliste!AD330","v":0},{"$f":"Stückliste!AH330","v":0},{"$f":"Stückliste!AJ330","v":0},{"$f":"Stückliste!AL330","v":0},{"$f":"Stückliste!AN330","v":0},{"$f":"Stückliste!AP330","v":0},{"$f":"Stückliste!AR330","v":0},{"$f":"Stückliste!AT330","v":0},{"$f":"Stückliste!AV330","v":0},{"$f":"Stückliste!AF330","v":0},{"$f":"Stückliste!AX330","v":0}]
[{"$f":"A277","v":0},0,8,{"$f":"Stückliste!A331","v":0},{"$f":"Stückliste!D331","v":0},{"$f":"Stückliste!H331","v":0},{"$f":"Stückliste!L331","v":0},{"$f":"Stückliste!P331","v":0},{"$f":"Stückliste!R331","v":0},{"$f":"Stückliste!T331","v":0},{"$f":"Stückliste!V331","v":0},{"$f":"Stückliste!X331","v":0},{"$f":"Stückliste!Z331","v":0},{"$f":"Stückliste!AB331","v":0},{"$f":"Stückliste!AD331","v":0},{"$f":"Stückliste!AH331","v":0},{"$f":"Stückliste!AJ331","v":0},{"$f":"Stückliste!AL331","v":0},{"$f":"Stückliste!AN331","v":0},{"$f":"Stückliste!AP331","v":0},{"$f":"Stückliste!AR331","v":0},{"$f":"Stückliste!AT331","v":0},{"$f":"Stückliste!AV331","v":0},{"$f":"Stückliste!AF331","v":0},{"$f":"Stückliste!AX331","v":0}]
[{"$f":"A278","v":0},0,8,{"$f":"Stückliste!A332","v":0},{"$f":"Stückliste!D332","v":0},{"$f":"Stückliste!H332","v":0},{"$f":"Stückliste!L332","v":0},{"$f":"Stückliste!P332","v":0},{"$f":"Stückliste!R332","v":0},{"$f":"Stückliste!T332","v":0},{"$f":"Stückliste!V332","v":0},{"$f":"Stückliste!X332","v":0},{"$f":"Stückliste!Z332","v":0},{"$f":"Stückliste!AB332","v":0},{"$f":"Stückliste!AD332","v":0},{"$f":"Stückliste!AH332","v":0},{"$f":"Stückliste!AJ332","v":0},{"$f":"Stückliste!AL332","v":0},{"$f":"Stückliste!AN332","v":0},{"$f":"Stückliste!AP332","v":0},{"$f":"Stückliste!AR332","v":0},{"$f":"Stückliste!AT332","v":0},{"$f":"Stückliste!AV332","v":0},{"$f":"Stückliste!AF332","v":0},{"$f":"Stückliste!AX332","v":0}]
[{"$f":"A279","v":0},0,8,{"$f":"Stückliste!A333","v":0},{"$f":"Stückliste!D333","v":0},{"$f":"Stückliste!H333","v":0},{"$f":"Stückliste!L333","v":0},{"$f":"Stückliste!P333","v":0},{"$f":"Stückliste!R333","v":0},{"$f":"Stückliste!T333","v":0},{"$f":"Stückliste!V333","v":0},{"$f":"Stückliste!X333","v":0},{"$f":"Stückliste!Z333","v":0},{"$f":"Stückliste!AB333","v":0},{"$f":"Stückliste!AD333","v":0},{"$f":"Stückliste!AH333","v":0},{"$f":"Stückliste!AJ333","v":0},{"$f":"Stückliste!AL333","v":0},{"$f":"Stückliste!AN333","v":0},{"$f":"Stückliste!AP333","v":0},{"$f":"Stückliste!AR333","v":0},{"$f":"Stückliste!AT333","v":0},{"$f":"Stückliste!AV333","v":0},{"$f":"Stückliste!AF333","v":0},{"$f":"Stückliste!AX333","v":0}]
[{"$f":"A280","v":0},0,8,{"$f":"Stückliste!A334","v":0},{"$f":"Stückliste!D334","v":0},{"$f":"Stückliste!H334","v":0},{"$f":"Stückliste!L334","v":0},{"$f":"Stückliste!P334","v":0},{"$f":"Stückliste!R334","v":0},{"$f":"Stückliste!T334","v":0},{"$f":"Stückliste!V334","v":0},{"$f":"Stückliste!X334","v":0},{"$f":"Stückliste!Z334","v":0},{"$f":"Stückliste!AB334","v":0},{"$f":"Stückliste!AD334","v":0},{"$f":"Stückliste!AH334","v":0},{"$f":"Stückliste!AJ334","v":0},{"$f":"Stückliste!AL334","v":0},{"$f":"Stückliste!AN334","v":0},{"$f":"Stückliste!AP334","v":0},{"$f":"Stückliste!AR334","v":0},{"$f":"Stückliste!AT334","v":0},{"$f":"Stückliste!AV334","v":0},{"$f":"Stückliste!AF334","v":0},{"$f":"Stückliste!AX334","v":0}]
[{"$f":"A281","v":0},0,8,{"$f":"Stückliste!A335","v":0},{"$f":"Stückliste!D335","v":0},{"$f":"Stückliste!H335","v":0},{"$f":"Stückliste!L335","v":0},{"$f":"Stückliste!P335","v":0},{"$f":"Stückliste!R335","v":0},{"$f":"Stückliste!T335","v":0},{"$f":"Stückliste!V335","v":0},{"$f":"Stückliste!X335","v":0},{"$f":"Stückliste!Z335","v":0},{"$f":"Stückliste!AB335","v":0},{"$f":"Stückliste!AD335","v":0},{"$f":"Stückliste!AH335","v":0},{"$f":"Stückliste!AJ335","v":0},{"$f":"Stückliste!AL335","v":0},{"$f":"Stückliste!AN335","v":0},{"$f":"Stückliste!AP335","v":0},{"$f":"Stückliste!AR335","v":0},{"$f":"Stückliste!AT335","v":0},{"$f":"Stückliste!AV335","v":0},{"$f":"Stückliste!AF335","v":0},{"$f":"Stückliste!AX335","v":0}]
[{"$f":"A282","v":0},0,8,{"$f":"Stückliste!A336","v":0},{"$f":"Stückliste!D336","v":0},{"$f":"Stückliste!H336","v":0},{"$f":"Stückliste!L336","v":0},{"$f":"Stückliste!P336","v":0},{"$f":"Stückliste!R336","v":0},{"$f":"Stückliste!T336","v":0},{"$f":"Stückliste!V336","v":0},{"$f":"Stückliste!X336","v":0},{"$f":"Stückliste!Z336","v":0},{"$f":"Stückliste!AB336","v":0},{"$f":"Stückliste!AD336","v":0},{"$f":"Stückliste!AH336","v":0},{"$f":"Stückliste!AJ336","v":0},{"$f":"Stückliste!AL336","v":0},{"$f":"Stückliste!AN336","v":0},{"$f":"Stückliste!AP336","v":0},{"$f":"Stückliste!AR336","v":0},{"$f":"Stückliste!AT336","v":0},{"$f":"Stückliste!AV336","v":0},{"$f":"Stückliste!AF336","v":0},{"$f":"Stückliste!AX336","v":0}]
[{"$f":"A283","v":0},0,8,{"$f":"Stückliste!A337","v":0},{"$f":"Stückliste!D337","v":0},{"$f":"Stückliste!H337","v":0},{"$f":"Stückliste!L337","v":0},{"$f":"Stückliste!P337","v":0},{"$f":"Stückliste!R337","v":0},{"$f":"Stückliste!T337","v":0},{"$f":"Stückliste!V337","v":0},{"$f":"Stückliste!X337","v":0},{"$f":"Stückliste!Z337","v":0},{"$f":"Stückliste!AB337","v":0},{"$f":"Stückliste!AD337","v":0},{"$f":"Stückliste!AH337","v":0},{"$f":"Stückliste!AJ337","v":0},{"$f":"Stückliste!AL337","v":0},{"$f":"Stückliste!AN337","v":0},{"$f":"Stückliste!AP337","v":0},{"$f":"Stückliste!AR337","v":0},{"$f":"Stückliste!AT337","v":0},{"$f":"Stückliste!AV337","v":0},{"$f":"Stückliste!AF337","v":0},{"$f":"Stückliste!AX337","v":0}]
[{"$f":"A284","v":0},0,8,{"$f":"Stückliste!A338","v":0},{"$f":"Stückliste!D338","v":0},{"$f":"Stückliste!H338","v":0},{"$f":"Stückliste!L338","v":0},{"$f":"Stückliste!P338","v":0},{"$f":"Stückliste!R338","v":0},{"$f":"Stückliste!T338","v":0},{"$f":"Stückliste!V338","v":0},{"$f":"Stückliste!X338","v":0},{"$f":"Stückliste!Z338","v":0},{"$f":"Stückliste!AB338","v":0},{"$f":"Stückliste!AD338","v":0},{"$f":"Stückliste!AH338","v":0},{"$f":"Stückliste!AJ338","v":0},{"$f":"Stückliste!AL338","v":0},{"$f":"Stückliste!AN338","v":0},{"$f":"Stückliste!AP338","v":0},{"$f":"Stückliste!AR338","v":0},{"$f":"Stückliste!AT338","v":0},{"$f":"Stückliste!AV338","v":0},{"$f":"Stückliste!AF338","v":0},{"$f":"Stückliste!AX338","v":0}]
[{"$f":"A285","v":0},0,8,{"$f":"Stückliste!A339","v":0},{"$f":"Stückliste!D339","v":0},{"$f":"Stückliste!H339","v":0},{"$f":"Stückliste!L339","v":0},{"$f":"Stückliste!P339","v":0},{"$f":"Stückliste!R339","v":0},{"$f":"Stückliste!T339","v":0},{"$f":"Stückliste!V339","v":0},{"$f":"Stückliste!X339","v":0},{"$f":"Stückliste!Z339","v":0},{"$f":"Stückliste!AB339","v":0},{"$f":"Stückliste!AD339","v":0},{"$f":"Stückliste!AH339","v":0},{"$f":"Stückliste!AJ339","v":0},{"$f":"Stückliste!AL339","v":0},{"$f":"Stückliste!AN339","v":0},{"$f":"Stückliste!AP339","v":0},{"$f":"Stückliste!AR339","v":0},{"$f":"Stückliste!AT339","v":0},{"$f":"Stückliste!AV339","v":0},{"$f":"Stückliste!AF339","v":0},{"$f":"Stückliste!AX339","v":0}]
[{"$f":"A286","v":0},0,8,{"$f":"Stückliste!A340","v":0},{"$f":"Stückliste!D340","v":0},{"$f":"Stückliste!H340","v":0},{"$f":"Stückliste!L340","v":0},{"$f":"Stückliste!P340","v":0},{"$f":"Stückliste!R340","v":0},{"$f":"Stückliste!T340","v":0},{"$f":"Stückliste!V340","v":0},{"$f":"Stückliste!X340","v":0},{"$f":"Stückliste!Z340","v":0},{"$f":"Stückliste!AB340","v":0},{"$f":"Stückliste!AD340","v":0},{"$f":"Stückliste!AH340","v":0},{"$f":"Stückliste!AJ340","v":0},{"$f":"Stückliste!AL340","v":0},{"$f":"Stückliste!AN340","v":0},{"$f":"Stückliste!AP340","v":0},{"$f":"Stückliste!AR340","v":0},{"$f":"Stückliste!AT340","v":0},{"$f":"Stückliste!AV340","v":0},{"$f":"Stückliste!AF340","v":0},{"$f":"Stückliste!AX340","v":0}]
[{"$f":"A287","v":0},0,8,{"$f":"Stückliste!A341","v":0},{"$f":"Stückliste!D341","v":0},{"$f":"Stückliste!H341","v":0},{"$f":"Stückliste!L341","v":0},{"$f":"Stückliste!P341","v":0},{"$f":"Stückliste!R341","v":0},{"$f":"Stückliste!T341","v":0},{"$f":"Stückliste!V341","v":0},{"$f":"Stückliste!X341","v":0},{"$f":"Stückliste!Z341","v":0},{"$f":"Stückliste!AB341","v":0},{"$f":"Stückliste!AD341","v":0},{"$f":"Stückliste!AH341","v":0},{"$f":"Stückliste!AJ341","v":0},{"$f":"Stückliste!AL341","v":0},{"$f":"Stückliste!AN341","v":0},{"$f":"Stückliste!AP341","v":0},{"$f":"Stückliste!AR341","v":0},{"$f":"Stückliste!AT341","v":0},{"$f":"Stückliste!AV341","v":0},{"$f":"Stückliste!AF341","v":0},{"$f":"Stückliste!AX341","v":0}]
[{"$f":"A288","v":0},0,8,{"$f":"Stückliste!A342","v":0},{"$f":"Stückliste!D342","v":0},{"$f":"Stückliste!H342","v":0},{"$f":"Stückliste!L342","v":0},{"$f":"Stückliste!P342","v":0},{"$f":"Stückliste!R342","v":0},{"$f":"Stückliste!T342","v":0},{"$f":"Stückliste!V342","v":0},{"$f":"Stückliste!X342","v":0},{"$f":"Stückliste!Z342","v":0},{"$f":"Stückliste!AB342","v":0},{"$f":"Stückliste!AD342","v":0},{"$f":"Stückliste!AH342","v":0},{"$f":"Stückliste!AJ342","v":0},{"$f":"Stückliste!AL342","v":0},{"$f":"Stückliste!AN342","v":0},{"$f":"Stückliste!AP342","v":0},{"$f":"Stückliste!AR342","v":0},{"$f":"Stückliste!AT342","v":0},{"$f":"Stückliste!AV342","v":0},{"$f":"Stückliste!AF342","v":0},{"$f":"Stückliste!AX342","v":0}]
[{"$f":"A289","v":0},0,8,{"$f":"Stückliste!A343","v":0},{"$f":"Stückliste!D343","v":0},{"$f":"Stückliste!H343","v":0},{"$f":"Stückliste!L343","v":0},{"$f":"Stückliste!P343","v":0},{"$f":"Stückliste!R343","v":0},{"$f":"Stückliste!T343","v":0},{"$f":"Stückliste!V343","v":0},{"$f":"Stückliste!X343","v":0},{"$f":"Stückliste!Z343","v":0},{"$f":"Stückliste!AB343","v":0},{"$f":"Stückliste!AD343","v":0},{"$f":"Stückliste!AH343","v":0},{"$f":"Stückliste!AJ343","v":0},{"$f":"Stückliste!AL343","v":0},{"$f":"Stückliste!AN343","v":0},{"$f":"Stückliste!AP343","v":0},{"$f":"Stückliste!AR343","v":0},{"$f":"Stückliste!AT343","v":0},{"$f":"Stückliste!AV343","v":0},{"$f":"Stückliste!AF343","v":0},{"$f":"Stückliste!AX343","v":0}]
[{"$f":"A290","v":0},0,8,{"$f":"Stückliste!A344","v":0},{"$f":"Stückliste!D344","v":0},{"$f":"Stückliste!H344","v":0},{"$f":"Stückliste!L344","v":0},{"$f":"Stückliste!P344","v":0},{"$f":"Stückliste!R344","v":0},{"$f":"Stückliste!T344","v":0},{"$f":"Stückliste!V344","v":0},{"$f":"Stückliste!X344","v":0},{"$f":"Stückliste!Z344","v":0},{"$f":"Stückliste!AB344","v":0},{"$f":"Stückliste!AD344","v":0},{"$f":"Stückliste!AH344","v":0},{"$f":"Stückliste!AJ344","v":0},{"$f":"Stückliste!AL344","v":0},{"$f":"Stückliste!AN344","v":0},{"$f":"Stückliste!AP344","v":0},{"$f":"Stückliste!AR344","v":0},{"$f":"Stückliste!AT344","v":0},{"$f":"Stückliste!AV344","v":0},{"$f":"Stückliste!AF344","v":0},{"$f":"Stückliste!AX344","v":0}]
[{"$f":"A291","v":0},0,8,{"$f":"Stückliste!A345","v":0},{"$f":"Stückliste!D345","v":0},{"$f":"Stückliste!H345","v":0},{"$f":"Stückliste!L345","v":0},{"$f":"Stückliste!P345","v":0},{"$f":"Stückliste!R345","v":0},{"$f":"Stückliste!T345","v":0},{"$f":"Stückliste!V345","v":0},{"$f":"Stückliste!X345","v":0},{"$f":"Stückliste!Z345","v":0},{"$f":"Stückliste!AB345","v":0},{"$f":"Stückliste!AD345","v":0},{"$f":"Stückliste!AH345","v":0},{"$f":"Stückliste!AJ345","v":0},{"$f":"Stückliste!AL345","v":0},{"$f":"Stückliste!AN345","v":0},{"$f":"Stückliste!AP345","v":0},{"$f":"Stückliste!AR345","v":0},{"$f":"Stückliste!AT345","v":0},{"$f":"Stückliste!AV345","v":0},{"$f":"Stückliste!AF345","v":0},{"$f":"Stückliste!AX345","v":0}]
[{"$f":"A292","v":0},0,8,{"$f":"Stückliste!A346","v":0},{"$f":"Stückliste!D346","v":0},{"$f":"Stückliste!H346","v":0},{"$f":"Stückliste!L346","v":0},{"$f":"Stückliste!P346","v":0},{"$f":"Stückliste!R346","v":0},{"$f":"Stückliste!T346","v":0},{"$f":"Stückliste!V346","v":0},{"$f":"Stückliste!X346","v":0},{"$f":"Stückliste!Z346","v":0},{"$f":"Stückliste!AB346","v":0},{"$f":"Stückliste!AD346","v":0},{"$f":"Stückliste!AH346","v":0},{"$f":"Stückliste!AJ346","v":0},{"$f":"Stückliste!AL346","v":0},{"$f":"Stückliste!AN346","v":0},{"$f":"Stückliste!AP346","v":0},{"$f":"Stückliste!AR346","v":0},{"$f":"Stückliste!AT346","v":0},{"$f":"Stückliste!AV346","v":0},{"$f":"Stückliste!AF346","v":0},{"$f":"Stückliste!AX346","v":0}]
[{"$f":"A293","v":0},0,8,{"$f":"Stückliste!A347","v":0},{"$f":"Stückliste!D347","v":0},{"$f":"Stückliste!H347","v":0},{"$f":"Stückliste!L347","v":0},{"$f":"Stückliste!P347","v":0},{"$f":"Stückliste!R347","v":0},{"$f":"Stückliste!T347","v":0},{"$f":"Stückliste!V347","v":0},{"$f":"Stückliste!X347","v":0},{"$f":"Stückliste!Z347","v":0},{"$f":"Stückliste!AB347","v":0},{"$f":"Stückliste!AD347","v":0},{"$f":"Stückliste!AH347","v":0},{"$f":"Stückliste!AJ347","v":0},{"$f":"Stückliste!AL347","v":0},{"$f":"Stückliste!AN347","v":0},{"$f":"Stückliste!AP347","v":0},{"$f":"Stückliste!AR347","v":0},{"$f":"Stückliste!AT347","v":0},{"$f":"Stückliste!AV347","v":0},{"$f":"Stückliste!AF347","v":0},{"$f":"Stückliste!AX347","v":0}]
[{"$f":"A294","v":0},0,8,{"$f":"Stückliste!A348","v":0},{"$f":"Stückliste!D348","v":0},{"$f":"Stückliste!H348","v":0},{"$f":"Stückliste!L348","v":0},{"$f":"Stückliste!P348","v":0},{"$f":"Stückliste!R348","v":0},{"$f":"Stückliste!T348","v":0},{"$f":"Stückliste!V348","v":0},{"$f":"Stückliste!X348","v":0},{"$f":"Stückliste!Z348","v":0},{"$f":"Stückliste!AB348","v":0},{"$f":"Stückliste!AD348","v":0},{"$f":"Stückliste!AH348","v":0},{"$f":"Stückliste!AJ348","v":0},{"$f":"Stückliste!AL348","v":0},{"$f":"Stückliste!AN348","v":0},{"$f":"Stückliste!AP348","v":0},{"$f":"Stückliste!AR348","v":0},{"$f":"Stückliste!AT348","v":0},{"$f":"Stückliste!AV348","v":0},{"$f":"Stückliste!AF348","v":0},{"$f":"Stückliste!AX348","v":0}]
[{"$f":"A295","v":0},0,8,{"$f":"Stückliste!A349","v":0},{"$f":"Stückliste!D349","v":0},{"$f":"Stückliste!H349","v":0},{"$f":"Stückliste!L349","v":0},{"$f":"Stückliste!P349","v":0},{"$f":"Stückliste!R349","v":0},{"$f":"Stückliste!T349","v":0},{"$f":"Stückliste!V349","v":0},{"$f":"Stückliste!X349","v":0},{"$f":"Stückliste!Z349","v":0},{"$f":"Stückliste!AB349","v":0},{"$f":"Stückliste!AD349","v":0},{"$f":"Stückliste!AH349","v":0},{"$f":"Stückliste!AJ349","v":0},{"$f":"Stückliste!AL349","v":0},{"$f":"Stückliste!AN349","v":0},{"$f":"Stückliste!AP349","v":0},{"$f":"Stückliste!AR349","v":0},{"$f":"Stückliste!AT349","v":0},{"$f":"Stückliste!AV349","v":0},{"$f":"Stückliste!AF349","v":0},{"$f":"Stückliste!AX349","v":0}]
[{"$f":"A296","v":0},0,8,{"$f":"Stückliste!A350","v":0},{"$f":"Stückliste!D350","v":0},{"$f":"Stückliste!H350","v":0},{"$f":"Stückliste!L350","v":0},{"$f":"Stückliste!P350","v":0},{"$f":"Stückliste!R350","v":0},{"$f":"Stückliste!T350","v":0},{"$f":"Stückliste!V350","v":0},{"$f":"Stückliste!X350","v":0},{"$f":"Stückliste!Z350","v":0},{"$f":"Stückliste!AB350","v":0},{"$f":"Stückliste!AD350","v":0},{"$f":"Stückliste!AH350","v":0},{"$f":"Stückliste!AJ350","v":0},{"$f":"Stückliste!AL350","v":0},{"$f":"Stückliste!AN350","v":0},{"$f":"Stückliste!AP350","v":0},{"$f":"Stückliste!AR350","v":0},{"$f":"Stückliste!AT350","v":0},{"$f":"Stückliste!AV350","v":0},{"$f":"Stückliste!AF350","v":0},{"$f":"Stückliste!AX350","v":0}]
[{"$f":"A297","v":0},0,8,{"$f":"Stückliste!A351","v":0},{"$f":"Stückliste!D351","v":0},{"$f":"Stückliste!H351","v":0},{"$f":"Stückliste!L351","v":0},{"$f":"Stückliste!P351","v":0},{"$f":"Stückliste!R351","v":0},{"$f":"Stückliste!T351","v":0},{"$f":"Stückliste!V351","v":0},{"$f":"Stückliste!X351","v":0},{"$f":"Stückliste!Z351","v":0},{"$f":"Stückliste!AB351","v":0},{"$f":"Stückliste!AD351","v":0},{"$f":"Stückliste!AH351","v":0},{"$f":"Stückliste!AJ351","v":0},{"$f":"Stückliste!AL351","v":0},{"$f":"Stückliste!AN351","v":0},{"$f":"Stückliste!AP351","v":0},{"$f":"Stückliste!AR351","v":0},{"$f":"Stückliste!AT351","v":0},{"$f":"Stückliste!AV351","v":0},{"$f":"Stückliste!AF351","v":0},{"$f":"Stückliste!AX351","v":0}]
[{"$f":"A298","v":0},0,8,{"$f":"Stückliste!A352","v":0},{"$f":"Stückliste!D352","v":0},{"$f":"Stückliste!H352","v":0},{"$f":"Stückliste!L352","v":0},{"$f":"Stückliste!P352","v":0},{"$f":"Stückliste!R352","v":0},{"$f":"Stückliste!T352","v":0},{"$f":"Stückliste!V352","v":0},{"$f":"Stückliste!X352","v":0},{"$f":"Stückliste!Z352","v":0},{"$f":"Stückliste!AB352","v":0},{"$f":"Stückliste!AD352","v":0},{"$f":"Stückliste!AH352","v":0},{"$f":"Stückliste!AJ352","v":0},{"$f":"Stückliste!AL352","v":0},{"$f":"Stückliste!AN352","v":0},{"$f":"Stückliste!AP352","v":0},{"$f":"Stückliste!AR352","v":0},{"$f":"Stückliste!AT352","v":0},{"$f":"Stückliste!AV352","v":0},{"$f":"Stückliste!AF352","v":0},{"$f":"Stückliste!AX352","v":0}]
[{"$f":"A299","v":0},0,8,{"$f":"Stückliste!A353","v":0},{"$f":"Stückliste!D353","v":0},{"$f":"Stückliste!H353","v":0},{"$f":"Stückliste!L353","v":0},{"$f":"Stückliste!P353","v":0},{"$f":"Stückliste!R353","v":0},{"$f":"Stückliste!T353","v":0},{"$f":"Stückliste!V353","v":0},{"$f":"Stückliste!X353","v":0},{"$f":"Stückliste!Z353","v":0},{"$f":"Stückliste!AB353","v":0},{"$f":"Stückliste!AD353","v":0},{"$f":"Stückliste!AH353","v":0},{"$f":"Stückliste!AJ353","v":0},{"$f":"Stückliste!AL353","v":0},{"$f":"Stückliste!AN353","v":0},{"$f":"Stückliste!AP353","v":0},{"$f":"Stückliste!AR353","v":0},{"$f":"Stückliste!AT353","v":0},{"$f":"Stückliste!AV353","v":0},{"$f":"Stückliste!AF353","v":0},{"$f":"Stückliste!AX353","v":0}]
[{"$f":"A300","v":0},0,8,{"$f":"Stückliste!A354","v":0},{"$f":"Stückliste!D354","v":0},{"$f":"Stückliste!H354","v":0},{"$f":"Stückliste!L354","v":0},{"$f":"Stückliste!P354","v":0},{"$f":"Stückliste!R354","v":0},{"$f":"Stückliste!T354","v":0},{"$f":"Stückliste!V354","v":0},{"$f":"Stückliste!X354","v":0},{"$f":"Stückliste!Z354","v":0},{"$f":"Stückliste!AB354","v":0},{"$f":"Stückliste!AD354","v":0},{"$f":"Stückliste!AH354","v":0},{"$f":"Stückliste!AJ354","v":0},{"$f":"Stückliste!AL354","v":0},{"$f":"Stückliste!AN354","v":0},{"$f":"Stückliste!AP354","v":0},{"$f":"Stückliste!AR354","v":0},{"$f":"Stückliste!AT354","v":0},{"$f":"Stückliste!AV354","v":0},{"$f":"Stückliste!AF354","v":0},{"$f":"Stückliste!AX354","v":0}]
[{"$f":"A301","v":0},0,8,{"$f":"Stückliste!A355","v":0},{"$f":"Stückliste!D355","v":0},{"$f":"Stückliste!H355","v":0},{"$f":"Stückliste!L355","v":0},{"$f":"Stückliste!P355","v":0},{"$f":"Stückliste!R355","v":0},{"$f":"Stückliste!T355","v":0},{"$f":"Stückliste!V355","v":0},{"$f":"Stückliste!X355","v":0},{"$f":"Stückliste!Z355","v":0},{"$f":"Stückliste!AB355","v":0},{"$f":"Stückliste!AD355","v":0},{"$f":"Stückliste!AH355","v":0},{"$f":"Stückliste!AJ355","v":0},{"$f":"Stückliste!AL355","v":0},{"$f":"Stückliste!AN355","v":0},{"$f":"Stückliste!AP355","v":0},{"$f":"Stückliste!AR355","v":0},{"$f":"Stückliste!AT355","v":0},{"$f":"Stückliste!AV355","v":0},{"$f":"Stückliste!AF355","v":0},{"$f":"Stückliste!AX355","v":0}]
[{"$f":"A302","v":0},0,8,{"$f":"Stückliste!A356","v":0},{"$f":"Stückliste!D356","v":0},{"$f":"Stückliste!H356","v":0},{"$f":"Stückliste!L356","v":0},{"$f":"Stückliste!P356","v":0},{"$f":"Stückliste!R356","v":0},{"$f":"Stückliste!T356","v":0},{"$f":"Stückliste!V356","v":0},{"$f":"Stückliste!X356","v":0},{"$f":"Stückliste!Z356","v":0},{"$f":"Stückliste!AB356","v":0},{"$f":"Stückliste!AD356","v":0},{"$f":"Stückliste!AH356","v":0},{"$f":"Stückliste!AJ356","v":0},{"$f":"Stückliste!AL356","v":0},{"$f":"Stückliste!AN356","v":0},{"$f":"Stückliste!AP356","v":0},{"$f":"Stückliste!AR356","v":0},{"$f":"Stückliste!AT356","v":0},{"$f":"Stückliste!AV356","v":0},{"$f":"Stückliste!AF356","v":0},{"$f":"Stückliste!AX356","v":0}]
[{"$f":"A303","v":0},0,8,{"$f":"Stückliste!A357","v":0},{"$f":"Stückliste!D357","v":0},{"$f":"Stückliste!H357","v":0},{"$f":"Stückliste!L357","v":0},{"$f":"Stückliste!P357","v":0},{"$f":"Stückliste!R357","v":0},{"$f":"Stückliste!T357","v":0},{"$f":"Stückliste!V357","v":0},{"$f":"Stückliste!X357","v":0},{"$f":"Stückliste!Z357","v":0},{"$f":"Stückliste!AB357","v":0},{"$f":"Stückliste!AD357","v":0},{"$f":"Stückliste!AH357","v":0},{"$f":"Stückliste!AJ357","v":0},{"$f":"Stückliste!AL357","v":0},{"$f":"Stückliste!AN357","v":0},{"$f":"Stückliste!AP357","v":0},{"$f":"Stückliste!AR357","v":0},{"$f":"Stückliste!AT357","v":0},{"$f":"Stückliste!AV357","v":0},{"$f":"Stückliste!AF357","v":0},{"$f":"Stückliste!AX357","v":0}]
[{"$f":"A304","v":0},0,8,{"$f":"Stückliste!A358","v":0},{"$f":"Stückliste!D358","v":0},{"$f":"Stückliste!H358","v":0},{"$f":"Stückliste!L358","v":0},{"$f":"Stückliste!P358","v":0},{"$f":"Stückliste!R358","v":0},{"$f":"Stückliste!T358","v":0},{"$f":"Stückliste!V358","v":0},{"$f":"Stückliste!X358","v":0},{"$f":"Stückliste!Z358","v":0},{"$f":"Stückliste!AB358","v":0},{"$f":"Stückliste!AD358","v":0},{"$f":"Stückliste!AH358","v":0},{"$f":"Stückliste!AJ358","v":0},{"$f":"Stückliste!AL358","v":0},{"$f":"Stückliste!AN358","v":0},{"$f":"Stückliste!AP358","v":0},{"$f":"Stückliste!AR358","v":0},{"$f":"Stückliste!AT358","v":0},{"$f":"Stückliste!AV358","v":0},{"$f":"Stückliste!AF358","v":0},{"$f":"Stückliste!AX358","v":0}]
[{"$f":"A305","v":0},0,8,{"$f":"Stückliste!A359","v":0},{"$f":"Stückliste!D359","v":0},{"$f":"Stückliste!H359","v":0},{"$f":"Stückliste!L359","v":0},{"$f":"Stückliste!P359","v":0},{"$f":"Stückliste!R359","v":0},{"$f":"Stückliste!T359","v":0},{"$f":"Stückliste!V359","v":0},{"$f":"Stückliste!X359","v":0},{"$f":"Stückliste!Z359","v":0},{"$f":"Stückliste!AB359","v":0},{"$f":"Stückliste!AD359","v":0},{"$f":"Stückliste!AH359","v":0},{"$f":"Stückliste!AJ359","v":0},{"$f":"Stückliste!AL359","v":0},{"$f":"Stückliste!AN359","v":0},{"$f":"Stückliste!AP359","v":0},{"$f":"Stückliste!AR359","v":0},{"$f":"Stückliste!AT359","v":0},{"$f":"Stückliste!AV359","v":0},{"$f":"Stückliste!AF359","v":0},{"$f":"Stückliste!AX359","v":0}]
[{"$f":"A306","v":0},0,8,{"$f":"Stückliste!A360","v":0},{"$f":"Stückliste!D360","v":0},{"$f":"Stückliste!H360","v":0},{"$f":"Stückliste!L360","v":0},{"$f":"Stückliste!P360","v":0},{"$f":"Stückliste!R360","v":0},{"$f":"Stückliste!T360","v":0},{"$f":"Stückliste!V360","v":0},{"$f":"Stückliste!X360","v":0},{"$f":"Stückliste!Z360","v":0},{"$f":"Stückliste!AB360","v":0},{"$f":"Stückliste!AD360","v":0},{"$f":"Stückliste!AH360","v":0},{"$f":"Stückliste!AJ360","v":0},{"$f":"Stückliste!AL360","v":0},{"$f":"Stückliste!AN360","v":0},{"$f":"Stückliste!AP360","v":0},{"$f":"Stückliste!AR360","v":0},{"$f":"Stückliste!AT360","v":0},{"$f":"Stückliste!AV360","v":0},{"$f":"Stückliste!AF360","v":0},{"$f":"Stückliste!AX360","v":0}]
[{"$f":"A307","v":0},0,8,{"$f":"Stückliste!A361","v":0},{"$f":"Stückliste!D361","v":0},{"$f":"Stückliste!H361","v":0},{"$f":"Stückliste!L361","v":0},{"$f":"Stückliste!P361","v":0},{"$f":"Stückliste!R361","v":0},{"$f":"Stückliste!T361","v":0},{"$f":"Stückliste!V361","v":0},{"$f":"Stückliste!X361","v":0},{"$f":"Stückliste!Z361","v":0},{"$f":"Stückliste!AB361","v":0},{"$f":"Stückliste!AD361","v":0},{"$f":"Stückliste!AH361","v":0},{"$f":"Stückliste!AJ361","v":0},{"$f":"Stückliste!AL361","v":0},{"$f":"Stückliste!AN361","v":0},{"$f":"Stückliste!AP361","v":0},{"$f":"Stückliste!AR361","v":0},{"$f":"Stückliste!AT361","v":0},{"$f":"Stückliste!AV361","v":0},{"$f":"Stückliste!AF361","v":0},{"$f":"Stückliste!AX361","v":0}]
[{"$f":"A308","v":0},0,8,{"$f":"Stückliste!A362","v":0},{"$f":"Stückliste!D362","v":0},{"$f":"Stückliste!H362","v":0},{"$f":"Stückliste!L362","v":0},{"$f":"Stückliste!P362","v":0},{"$f":"Stückliste!R362","v":0},{"$f":"Stückliste!T362","v":0},{"$f":"Stückliste!V362","v":0},{"$f":"Stückliste!X362","v":0},{"$f":"Stückliste!Z362","v":0},{"$f":"Stückliste!AB362","v":0},{"$f":"Stückliste!AD362","v":0},{"$f":"Stückliste!AH362","v":0},{"$f":"Stückliste!AJ362","v":0},{"$f":"Stückliste!AL362","v":0},{"$f":"Stückliste!AN362","v":0},{"$f":"Stückliste!AP362","v":0},{"$f":"Stückliste!AR362","v":0},{"$f":"Stückliste!AT362","v":0},{"$f":"Stückliste!AV362","v":0},{"$f":"Stückliste!AF362","v":0},{"$f":"Stückliste!AX362","v":0}]
[{"$f":"A309","v":0},0,8,{"$f":"Stückliste!A363","v":0},{"$f":"Stückliste!D363","v":0},{"$f":"Stückliste!H363","v":0},{"$f":"Stückliste!L363","v":0},{"$f":"Stückliste!P363","v":0},{"$f":"Stückliste!R363","v":0},{"$f":"Stückliste!T363","v":0},{"$f":"Stückliste!V363","v":0},{"$f":"Stückliste!X363","v":0},{"$f":"Stückliste!Z363","v":0},{"$f":"Stückliste!AB363","v":0},{"$f":"Stückliste!AD363","v":0},{"$f":"Stückliste!AH363","v":0},{"$f":"Stückliste!AJ363","v":0},{"$f":"Stückliste!AL363","v":0},{"$f":"Stückliste!AN363","v":0},{"$f":"Stückliste!AP363","v":0},{"$f":"Stückliste!AR363","v":0},{"$f":"Stückliste!AT363","v":0},{"$f":"Stückliste!AV363","v":0},{"$f":"Stückliste!AF363","v":0},{"$f":"Stückliste!AX363","v":0}]
[{"$f":"A310","v":0},0,8,{"$f":"Stückliste!A364","v":0},{"$f":"Stückliste!D364","v":0},{"$f":"Stückliste!H364","v":0},{"$f":"Stückliste!L364","v":0},{"$f":"Stückliste!P364","v":0},{"$f":"Stückliste!R364","v":0},{"$f":"Stückliste!T364","v":0},{"$f":"Stückliste!V364","v":0},{"$f":"Stückliste!X364","v":0},{"$f":"Stückliste!Z364","v":0},{"$f":"Stückliste!AB364","v":0},{"$f":"Stückliste!AD364","v":0},{"$f":"Stückliste!AH364","v":0},{"$f":"Stückliste!AJ364","v":0},{"$f":"Stückliste!AL364","v":0},{"$f":"Stückliste!AN364","v":0},{"$f":"Stückliste!AP364","v":0},{"$f":"Stückliste!AR364","v":0},{"$f":"Stückliste!AT364","v":0},{"$f":"Stückliste!AV364","v":0},{"$f":"Stückliste!AF364","v":0},{"$f":"Stückliste!AX364","v":0}]
[{"$f":"A311","v":0},0,8,{"$f":"Stückliste!A365","v":0},{"$f":"Stückliste!D365","v":0},{"$f":"Stückliste!H365","v":0},{"$f":"Stückliste!L365","v":0},{"$f":"Stückliste!P365","v":0},{"$f":"Stückliste!R365","v":0},{"$f":"Stückliste!T365","v":0},{"$f":"Stückliste!V365","v":0},{"$f":"Stückliste!X365","v":0},{"$f":"Stückliste!Z365","v":0},{"$f":"Stückliste!AB365","v":0},{"$f":"Stückliste!AD365","v":0},{"$f":"Stückliste!AH365","v":0},{"$f":"Stückliste!AJ365","v":0},{"$f":"Stückliste!AL365","v":0},{"$f":"Stückliste!AN365","v":0},{"$f":"Stückliste!AP365","v":0},{"$f":"Stückliste!AR365","v":0},{"$f":"Stückliste!AT365","v":0},{"$f":"Stückliste!AV365","v":0},{"$f":"Stückliste!AF365","v":0},{"$f":"Stückliste!AX365","v":0}]
[{"$f":"A312","v":0},0,8,{"$f":"Stückliste!A366","v":0},{"$f":"Stückliste!D366","v":0},{"$f":"Stückliste!H366","v":0},{"$f":"Stückliste!L366","v":0},{"$f":"Stückliste!P366","v":0},{"$f":"Stückliste!R366","v":0},{"$f":"Stückliste!T366","v":0},{"$f":"Stückliste!V366","v":0},{"$f":"Stückliste!X366","v":0},{"$f":"Stückliste!Z366","v":0},{"$f":"Stückliste!AB366","v":0},{"$f":"Stückliste!AD366","v":0},{"$f":"Stückliste!AH366","v":0},{"$f":"Stückliste!AJ366","v":0},{"$f":"Stückliste!AL366","v":0},{"$f":"Stückliste!AN366","v":0},{"$f":"Stückliste!AP366","v":0},{"$f":"Stückliste!AR366","v":0},{"$f":"Stückliste!AT366","v":0},{"$f":"Stückliste!AV366","v":0},{"$f":"Stückliste!AF366","v":0},{"$f":"Stückliste!AX366","v":0}]
[{"$f":"A313","v":0},0,8,{"$f":"Stückliste!A367","v":0},{"$f":"Stückliste!D367","v":0},{"$f":"Stückliste!H367","v":0},{"$f":"Stückliste!L367","v":0},{"$f":"Stückliste!P367","v":0},{"$f":"Stückliste!R367","v":0},{"$f":"Stückliste!T367","v":0},{"$f":"Stückliste!V367","v":0},{"$f":"Stückliste!X367","v":0},{"$f":"Stückliste!Z367","v":0},{"$f":"Stückliste!AB367","v":0},{"$f":"Stückliste!AD367","v":0},{"$f":"Stückliste!AH367","v":0},{"$f":"Stückliste!AJ367","v":0},{"$f":"Stückliste!AL367","v":0},{"$f":"Stückliste!AN367","v":0},{"$f":"Stückliste!AP367","v":0},{"$f":"Stückliste!AR367","v":0},{"$f":"Stückliste!AT367","v":0},{"$f":"Stückliste!AV367","v":0},{"$f":"Stückliste!AF367","v":0},{"$f":"Stückliste!AX367","v":0}]
[{"$f":"A314","v":0},0,8,{"$f":"Stückliste!A368","v":0},{"$f":"Stückliste!D368","v":0},{"$f":"Stückliste!H368","v":0},{"$f":"Stückliste!L368","v":0},{"$f":"Stückliste!P368","v":0},{"$f":"Stückliste!R368","v":0},{"$f":"Stückliste!T368","v":0},{"$f":"Stückliste!V368","v":0},{"$f":"Stückliste!X368","v":0},{"$f":"Stückliste!Z368","v":0},{"$f":"Stückliste!AB368","v":0},{"$f":"Stückliste!AD368","v":0},{"$f":"Stückliste!AH368","v":0},{"$f":"Stückliste!AJ368","v":0},{"$f":"Stückliste!AL368","v":0},{"$f":"Stückliste!AN368","v":0},{"$f":"Stückliste!AP368","v":0},{"$f":"Stückliste!AR368","v":0},{"$f":"Stückliste!AT368","v":0},{"$f":"Stückliste!AV368","v":0},{"$f":"Stückliste!AF368","v":0},{"$f":"Stückliste!AX368","v":0}]
[{"$f":"A315","v":0},0,8,{"$f":"Stückliste!A369","v":0},{"$f":"Stückliste!D369","v":0},{"$f":"Stückliste!H369","v":0},{"$f":"Stückliste!L369","v":0},{"$f":"Stückliste!P369","v":0},{"$f":"Stückliste!R369","v":0},{"$f":"Stückliste!T369","v":0},{"$f":"Stückliste!V369","v":0},{"$f":"Stückliste!X369","v":0},{"$f":"Stückliste!Z369","v":0},{"$f":"Stückliste!AB369","v":0},{"$f":"Stückliste!AD369","v":0},{"$f":"Stückliste!AH369","v":0},{"$f":"Stückliste!AJ369","v":0},{"$f":"Stückliste!AL369","v":0},{"$f":"Stückliste!AN369","v":0},{"$f":"Stückliste!AP369","v":0},{"$f":"Stückliste!AR369","v":0},{"$f":"Stückliste!AT369","v":0},{"$f":"Stückliste!AV369","v":0},{"$f":"Stückliste!AF369","v":0},{"$f":"Stückliste!AX369","v":0}]
[{"$f":"A316","v":0},0,8,{"$f":"Stückliste!A370","v":0},{"$f":"Stückliste!D370","v":0},{"$f":"Stückliste!H370","v":0},{"$f":"Stückliste!L370","v":0},{"$f":"Stückliste!P370","v":0},{"$f":"Stückliste!R370","v":0},{"$f":"Stückliste!T370","v":0},{"$f":"Stückliste!V370","v":0},{"$f":"Stückliste!X370","v":0},{"$f":"Stückliste!Z370","v":0},{"$f":"Stückliste!AB370","v":0},{"$f":"Stückliste!AD370","v":0},{"$f":"Stückliste!AH370","v":0},{"$f":"Stückliste!AJ370","v":0},{"$f":"Stückliste!AL370","v":0},{"$f":"Stückliste!AN370","v":0},{"$f":"Stückliste!AP370","v":0},{"$f":"Stückliste!AR370","v":0},{"$f":"Stückliste!AT370","v":0},{"$f":"Stückliste!AV370","v":0},{"$f":"Stückliste!AF370","v":0},{"$f":"Stückliste!AX370","v":0}]
[{"$f":"A317","v":0},0,8,{"$f":"Stückliste!A371","v":0},{"$f":"Stückliste!D371","v":0},{"$f":"Stückliste!H371","v":0},{"$f":"Stückliste!L371","v":0},{"$f":"Stückliste!P371","v":0},{"$f":"Stückliste!R371","v":0},{"$f":"Stückliste!T371","v":0},{"$f":"Stückliste!V371","v":0},{"$f":"Stückliste!X371","v":0},{"$f":"Stückliste!Z371","v":0},{"$f":"Stückliste!AB371","v":0},{"$f":"Stückliste!AD371","v":0},{"$f":"Stückliste!AH371","v":0},{"$f":"Stückliste!AJ371","v":0},{"$f":"Stückliste!AL371","v":0},{"$f":"Stückliste!AN371","v":0},{"$f":"Stückliste!AP371","v":0},{"$f":"Stückliste!AR371","v":0},{"$f":"Stückliste!AT371","v":0},{"$f":"Stückliste!AV371","v":0},{"$f":"Stückliste!AF371","v":0},{"$f":"Stückliste!AX371","v":0}]
[{"$f":"A318","v":0},0,8,{"$f":"Stückliste!A372","v":0},{"$f":"Stückliste!D372","v":0},{"$f":"Stückliste!H372","v":0},{"$f":"Stückliste!L372","v":0},{"$f":"Stückliste!P372","v":0},{"$f":"Stückliste!R372","v":0},{"$f":"Stückliste!T372","v":0},{"$f":"Stückliste!V372","v":0},{"$f":"Stückliste!X372","v":0},{"$f":"Stückliste!Z372","v":0},{"$f":"Stückliste!AB372","v":0},{"$f":"Stückliste!AD372","v":0},{"$f":"Stückliste!AH372","v":0},{"$f":"Stückliste!AJ372","v":0},{"$f":"Stückliste!AL372","v":0},{"$f":"Stückliste!AN372","v":0},{"$f":"Stückliste!AP372","v":0},{"$f":"Stückliste!AR372","v":0},{"$f":"Stückliste!AT372","v":0},{"$f":"Stückliste!AV372","v":0},{"$f":"Stückliste!AF372","v":0},{"$f":"Stückliste!AX372","v":0}]
[{"$f":"A319","v":0},0,8,{"$f":"Stückliste!A373","v":0},{"$f":"Stückliste!D373","v":0},{"$f":"Stückliste!H373","v":0},{"$f":"Stückliste!L373","v":0},{"$f":"Stückliste!P373","v":0},{"$f":"Stückliste!R373","v":0},{"$f":"Stückliste!T373","v":0},{"$f":"Stückliste!V373","v":0},{"$f":"Stückliste!X373","v":0},{"$f":"Stückliste!Z373","v":0},{"$f":"Stückliste!AB373","v":0},{"$f":"Stückliste!AD373","v":0},{"$f":"Stückliste!AH373","v":0},{"$f":"Stückliste!AJ373","v":0},{"$f":"Stückliste!AL373","v":0},{"$f":"Stückliste!AN373","v":0},{"$f":"Stückliste!AP373","v":0},{"$f":"Stückliste!AR373","v":0},{"$f":"Stückliste!AT373","v":0},{"$f":"Stückliste!AV373","v":0},{"$f":"Stückliste!AF373","v":0},{"$f":"Stückliste!AX373","v":0}]
[{"$f":"A320","v":0},0,8,{"$f":"Stückliste!A374","v":0},{"$f":"Stückliste!D374","v":0},{"$f":"Stückliste!H374","v":0},{"$f":"Stückliste!L374","v":0},{"$f":"Stückliste!P374","v":0},{"$f":"Stückliste!R374","v":0},{"$f":"Stückliste!T374","v":0},{"$f":"Stückliste!V374","v":0},{"$f":"Stückliste!X374","v":0},{"$f":"Stückliste!Z374","v":0},{"$f":"Stückliste!AB374","v":0},{"$f":"Stückliste!AD374","v":0},{"$f":"Stückliste!AH374","v":0},{"$f":"Stückliste!AJ374","v":0},{"$f":"Stückliste!AL374","v":0},{"$f":"Stückliste!AN374","v":0},{"$f":"Stückliste!AP374","v":0},{"$f":"Stückliste!AR374","v":0},{"$f":"Stückliste!AT374","v":0},{"$f":"Stückliste!AV374","v":0},{"$f":"Stückliste!AF374","v":0},{"$f":"Stückliste!AX374","v":0}]
[{"$f":"A321","v":0},0,8,{"$f":"Stückliste!A375","v":0},{"$f":"Stückliste!D375","v":0},{"$f":"Stückliste!H375","v":0},{"$f":"Stückliste!L375","v":0},{"$f":"Stückliste!P375","v":0},{"$f":"Stückliste!R375","v":0},{"$f":"Stückliste!T375","v":0},{"$f":"Stückliste!V375","v":0},{"$f":"Stückliste!X375","v":0},{"$f":"Stückliste!Z375","v":0},{"$f":"Stückliste!AB375","v":0},{"$f":"Stückliste!AD375","v":0},{"$f":"Stückliste!AH375","v":0},{"$f":"Stückliste!AJ375","v":0},{"$f":"Stückliste!AL375","v":0},{"$f":"Stückliste!AN375","v":0},{"$f":"Stückliste!AP375","v":0},{"$f":"Stückliste!AR375","v":0},{"$f":"Stückliste!AT375","v":0},{"$f":"Stückliste!AV375","v":0},{"$f":"Stückliste!AF375","v":0},{"$f":"Stückliste!AX375","v":0}]
[{"$f":"A322","v":0},0,8,{"$f":"Stückliste!A376","v":0},{"$f":"Stückliste!D376","v":0},{"$f":"Stückliste!H376","v":0},{"$f":"Stückliste!L376","v":0},{"$f":"Stückliste!P376","v":0},{"$f":"Stückliste!R376","v":0},{"$f":"Stückliste!T376","v":0},{"$f":"Stückliste!V376","v":0},{"$f":"Stückliste!X376","v":0},{"$f":"Stückliste!Z376","v":0},{"$f":"Stückliste!AB376","v":0},{"$f":"Stückliste!AD376","v":0},{"$f":"Stückliste!AH376","v":0},{"$f":"Stückliste!AJ376","v":0},{"$f":"Stückliste!AL376","v":0},{"$f":"Stückliste!AN376","v":0},{"$f":"Stückliste!AP376","v":0},{"$f":"Stückliste!AR376","v":0},{"$f":"Stückliste!AT376","v":0},{"$f":"Stückliste!AV376","v":0},{"$f":"Stückliste!AF376","v":0},{"$f":"Stückliste!AX376","v":0}]
[{"$f":"A323","v":0},0,8,{"$f":"Stückliste!A377","v":0},{"$f":"Stückliste!D377","v":0},{"$f":"Stückliste!H377","v":0},{"$f":"Stückliste!L377","v":0},{"$f":"Stückliste!P377","v":0},{"$f":"Stückliste!R377","v":0},{"$f":"Stückliste!T377","v":0},{"$f":"Stückliste!V377","v":0},{"$f":"Stückliste!X377","v":0},{"$f":"Stückliste!Z377","v":0},{"$f":"Stückliste!AB377","v":0},{"$f":"Stückliste!AD377","v":0},{"$f":"Stückliste!AH377","v":0},{"$f":"Stückliste!AJ377","v":0},{"$f":"Stückliste!AL377","v":0},{"$f":"Stückliste!AN377","v":0},{"$f":"Stückliste!AP377","v":0},{"$f":"Stückliste!AR377","v":0},{"$f":"Stückliste!AT377","v":0},{"$f":"Stückliste!AV377","v":0},{"$f":"Stückliste!AF377","v":0},{"$f":"Stückliste!AX377","v":0}]
[{"$f":"A324","v":0},0,8,{"$f":"Stückliste!A378","v":0},{"$f":"Stückliste!D378","v":0},{"$f":"Stückliste!H378","v":0},{"$f":"Stückliste!L378","v":0},{"$f":"Stückliste!P378","v":0},{"$f":"Stückliste!R378","v":0},{"$f":"Stückliste!T378","v":0},{"$f":"Stückliste!V378","v":0},{"$f":"Stückliste!X378","v":0},{"$f":"Stückliste!Z378","v":0},{"$f":"Stückliste!AB378","v":0},{"$f":"Stückliste!AD378","v":0},{"$f":"Stückliste!AH378","v":0},{"$f":"Stückliste!AJ378","v":0},{"$f":"Stückliste!AL378","v":0},{"$f":"Stückliste!AN378","v":0},{"$f":"Stückliste!AP378","v":0},{"$f":"Stückliste!AR378","v":0},{"$f":"Stückliste!AT378","v":0},{"$f":"Stückliste!AV378","v":0},{"$f":"Stückliste!AF378","v":0},{"$f":"Stückliste!AX378","v":0}]
[{"$f":"A325","v":0},0,8,{"$f":"Stückliste!A379","v":0},{"$f":"Stückliste!D379","v":0},{"$f":"Stückliste!H379","v":0},{"$f":"Stückliste!L379","v":0},{"$f":"Stückliste!P379","v":0},{"$f":"Stückliste!R379","v":0},{"$f":"Stückliste!T379","v":0},{"$f":"Stückliste!V379","v":0},{"$f":"Stückliste!X379","v":0},{"$f":"Stückliste!Z379","v":0},{"$f":"Stückliste!AB379","v":0},{"$f":"Stückliste!AD379","v":0},{"$f":"Stückliste!AH379","v":0},{"$f":"Stückliste!AJ379","v":0},{"$f":"Stückliste!AL379","v":0},{"$f":"Stückliste!AN379","v":0},{"$f":"Stückliste!AP379","v":0},{"$f":"Stückliste!AR379","v":0},{"$f":"Stückliste!AT379","v":0},{"$f":"Stückliste!AV379","v":0},{"$f":"Stückliste!AF379","v":0},{"$f":"Stückliste!AX379","v":0}]
[{"$f":"A326","v":0},0,8,{"$f":"Stückliste!A380","v":0},{"$f":"Stückliste!D380","v":0},{"$f":"Stückliste!H380","v":0},{"$f":"Stückliste!L380","v":0},{"$f":"Stückliste!P380","v":0},{"$f":"Stückliste!R380","v":0},{"$f":"Stückliste!T380","v":0},{"$f":"Stückliste!V380","v":0},{"$f":"Stückliste!X380","v":0},{"$f":"Stückliste!Z380","v":0},{"$f":"Stückliste!AB380","v":0},{"$f":"Stückliste!AD380","v":0},{"$f":"Stückliste!AH380","v":0},{"$f":"Stückliste!AJ380","v":0},{"$f":"Stückliste!AL380","v":0},{"$f":"Stückliste!AN380","v":0},{"$f":"Stückliste!AP380","v":0},{"$f":"Stückliste!AR380","v":0},{"$f":"Stückliste!AT380","v":0},{"$f":"Stückliste!AV380","v":0},{"$f":"Stückliste!AF380","v":0},{"$f":"Stückliste!AX380","v":0}]
[{"$f":"A327","v":0},0,8,{"$f":"Stückliste!A381","v":0},{"$f":"Stückliste!D381","v":0},{"$f":"Stückliste!H381","v":0},{"$f":"Stückliste!L381","v":0},{"$f":"Stückliste!P381","v":0},{"$f":"Stückliste!R381","v":0},{"$f":"Stückliste!T381","v":0},{"$f":"Stückliste!V381","v":0},{"$f":"Stückliste!X381","v":0},{"$f":"Stückliste!Z381","v":0},{"$f":"Stückliste!AB381","v":0},{"$f":"Stückliste!AD381","v":0},{"$f":"Stückliste!AH381","v":0},{"$f":"Stückliste!AJ381","v":0},{"$f":"Stückliste!AL381","v":0},{"$f":"Stückliste!AN381","v":0},{"$f":"Stückliste!AP381","v":0},{"$f":"Stückliste!AR381","v":0},{"$f":"Stückliste!AT381","v":0},{"$f":"Stückliste!AV381","v":0},{"$f":"Stückliste!AF381","v":0},{"$f":"Stückliste!AX381","v":0}]
[{"$f":"A328","v":0},0,8,{"$f":"Stückliste!A382","v":0},{"$f":"Stückliste!D382","v":0},{"$f":"Stückliste!H382","v":0},{"$f":"Stückliste!L382","v":0},{"$f":"Stückliste!P382","v":0},{"$f":"Stückliste!R382","v":0},{"$f":"Stückliste!T382","v":0},{"$f":"Stückliste!V382","v":0},{"$f":"Stückliste!X382","v":0},{"$f":"Stückliste!Z382","v":0},{"$f":"Stückliste!AB382","v":0},{"$f":"Stückliste!AD382","v":0},{"$f":"Stückliste!AH382","v":0},{"$f":"Stückliste!AJ382","v":0},{"$f":"Stückliste!AL382","v":0},{"$f":"Stückliste!AN382","v":0},{"$f":"Stückliste!AP382","v":0},{"$f":"Stückliste!AR382","v":0},{"$f":"Stückliste!AT382","v":0},{"$f":"Stückliste!AV382","v":0},{"$f":"Stückliste!AF382","v":0},{"$f":"Stückliste!AX382","v":0}]
[{"$f":"A329","v":0},0,8,{"$f":"Stückliste!A383","v":0},{"$f":"Stückliste!D383","v":0},{"$f":"Stückliste!H383","v":0},{"$f":"Stückliste!L383","v":0},{"$f":"Stückliste!P383","v":0},{"$f":"Stückliste!R383","v":0},{"$f":"Stückliste!T383","v":0},{"$f":"Stückliste!V383","v":0},{"$f":"Stückliste!X383","v":0},{"$f":"Stückliste!Z383","v":0},{"$f":"Stückliste!AB383","v":0},{"$f":"Stückliste!AD383","v":0},{"$f":"Stückliste!AH383","v":0},{"$f":"Stückliste!AJ383","v":0},{"$f":"Stückliste!AL383","v":0},{"$f":"Stückliste!AN383","v":0},{"$f":"Stückliste!AP383","v":0},{"$f":"Stückliste!AR383","v":0},{"$f":"Stückliste!AT383","v":0},{"$f":"Stückliste!AV383","v":0},{"$f":"Stückliste!AF383","v":0},{"$f":"Stückliste!AX383","v":0}]
[{"$f":"A330","v":0},0,8,{"$f":"Stückliste!A384","v":0},{"$f":"Stückliste!D384","v":0},{"$f":"Stückliste!H384","v":0},{"$f":"Stückliste!L384","v":0},{"$f":"Stückliste!P384","v":0},{"$f":"Stückliste!R384","v":0},{"$f":"Stückliste!T384","v":0},{"$f":"Stückliste!V384","v":0},{"$f":"Stückliste!X384","v":0},{"$f":"Stückliste!Z384","v":0},{"$f":"Stückliste!AB384","v":0},{"$f":"Stückliste!AD384","v":0},{"$f":"Stückliste!AH384","v":0},{"$f":"Stückliste!AJ384","v":0},{"$f":"Stückliste!AL384","v":0},{"$f":"Stückliste!AN384","v":0},{"$f":"Stückliste!AP384","v":0},{"$f":"Stückliste!AR384","v":0},{"$f":"Stückliste!AT384","v":0},{"$f":"Stückliste!AV384","v":0},{"$f":"Stückliste!AF384","v":0},{"$f":"Stückliste!AX384","v":0}]
[{"$f":"A331","v":0},0,8,{"$f":"Stückliste!A385","v":0},{"$f":"Stückliste!D385","v":0},{"$f":"Stückliste!H385","v":0},{"$f":"Stückliste!L385","v":0},{"$f":"Stückliste!P385","v":0},{"$f":"Stückliste!R385","v":0},{"$f":"Stückliste!T385","v":0},{"$f":"Stückliste!V385","v":0},{"$f":"Stückliste!X385","v":0},{"$f":"Stückliste!Z385","v":0},{"$f":"Stückliste!AB385","v":0},{"$f":"Stückliste!AD385","v":0},{"$f":"Stückliste!AH385","v":0},{"$f":"Stückliste!AJ385","v":0},{"$f":"Stückliste!AL385","v":0},{"$f":"Stückliste!AN385","v":0},{"$f":"Stückliste!AP385","v":0},{"$f":"Stückliste!AR385","v":0},{"$f":"Stückliste!AT385","v":0},{"$f":"Stückliste!AV385","v":0},{"$f":"Stückliste!AF385","v":0},{"$f":"Stückliste!AX385","v":0}]
[{"$f":"A332","v":0},0,8,{"$f":"Stückliste!A386","v":0},{"$f":"Stückliste!D386","v":0},{"$f":"Stückliste!H386","v":0},{"$f":"Stückliste!L386","v":0},{"$f":"Stückliste!P386","v":0},{"$f":"Stückliste!R386","v":0},{"$f":"Stückliste!T386","v":0},{"$f":"Stückliste!V386","v":0},{"$f":"Stückliste!X386","v":0},{"$f":"Stückliste!Z386","v":0},{"$f":"Stückliste!AB386","v":0},{"$f":"Stückliste!AD386","v":0},{"$f":"Stückliste!AH386","v":0},{"$f":"Stückliste!AJ386","v":0},{"$f":"Stückliste!AL386","v":0},{"$f":"Stückliste!AN386","v":0},{"$f":"Stückliste!AP386","v":0},{"$f":"Stückliste!AR386","v":0},{"$f":"Stückliste!AT386","v":0},{"$f":"Stückliste!AV386","v":0},{"$f":"Stückliste!AF386","v":0},{"$f":"Stückliste!AX386","v":0}]
[{"$f":"A333","v":0},0,8,{"$f":"Stückliste!A387","v":0},{"$f":"Stückliste!D387","v":0},{"$f":"Stückliste!H387","v":0},{"$f":"Stückliste!L387","v":0},{"$f":"Stückliste!P387","v":0},{"$f":"Stückliste!R387","v":0},{"$f":"Stückliste!T387","v":0},{"$f":"Stückliste!V387","v":0},{"$f":"Stückliste!X387","v":0},{"$f":"Stückliste!Z387","v":0},{"$f":"Stückliste!AB387","v":0},{"$f":"Stückliste!AD387","v":0},{"$f":"Stückliste!AH387","v":0},{"$f":"Stückliste!AJ387","v":0},{"$f":"Stückliste!AL387","v":0},{"$f":"Stückliste!AN387","v":0},{"$f":"Stückliste!AP387","v":0},{"$f":"Stückliste!AR387","v":0},{"$f":"Stückliste!AT387","v":0},{"$f":"Stückliste!AV387","v":0},{"$f":"Stückliste!AF387","v":0},{"$f":"Stückliste!AX387","v":0}]
[{"$f":"A334","v":0},0,8,{"$f":"Stückliste!A388","v":0},{"$f":"Stückliste!D388","v":0},{"$f":"Stückliste!H388","v":0},{"$f":"Stückliste!L388","v":0},{"$f":"Stückliste!P388","v":0},{"$f":"Stückliste!R388","v":0},{"$f":"Stückliste!T388","v":0},{"$f":"Stückliste!V388","v":0},{"$f":"Stückliste!X388","v":0},{"$f":"Stückliste!Z388","v":0},{"$f":"Stückliste!AB388","v":0},{"$f":"Stückliste!AD388","v":0},{"$f":"Stückliste!AH388","v":0},{"$f":"Stückliste!AJ388","v":0},{"$f":"Stückliste!AL388","v":0},{"$f":"Stückliste!AN388","v":0},{"$f":"Stückliste!AP388","v":0},{"$f":"Stückliste!AR388","v":0},{"$f":"Stückliste!AT388","v":0},{"$f":"Stückliste!AV388","v":0},{"$f":"Stückliste!AF388","v":0},{"$f":"Stückliste!AX388","v":0}]
[{"$f":"A335","v":0},0,8,{"$f":"Stückliste!A389","v":0},{"$f":"Stückliste!D389","v":0},{"$f":"Stückliste!H389","v":0},{"$f":"Stückliste!L389","v":0},{"$f":"Stückliste!P389","v":0},{"$f":"Stückliste!R389","v":0},{"$f":"Stückliste!T389","v":0},{"$f":"Stückliste!V389","v":0},{"$f":"Stückliste!X389","v":0},{"$f":"Stückliste!Z389","v":0},{"$f":"Stückliste!AB389","v":0},{"$f":"Stückliste!AD389","v":0},{"$f":"Stückliste!AH389","v":0},{"$f":"Stückliste!AJ389","v":0},{"$f":"Stückliste!AL389","v":0},{"$f":"Stückliste!AN389","v":0},{"$f":"Stückliste!AP389","v":0},{"$f":"Stückliste!AR389","v":0},{"$f":"Stückliste!AT389","v":0},{"$f":"Stückliste!AV389","v":0},{"$f":"Stückliste!AF389","v":0},{"$f":"Stückliste!AX389","v":0}]
[{"$f":"A336","v":0},0,8,{"$f":"Stückliste!A390","v":0},{"$f":"Stückliste!D390","v":0},{"$f":"Stückliste!H390","v":0},{"$f":"Stückliste!L390","v":0},{"$f":"Stückliste!P390","v":0},{"$f":"Stückliste!R390","v":0},{"$f":"Stückliste!T390","v":0},{"$f":"Stückliste!V390","v":0},{"$f":"Stückliste!X390","v":0},{"$f":"Stückliste!Z390","v":0},{"$f":"Stückliste!AB390","v":0},{"$f":"Stückliste!AD390","v":0},{"$f":"Stückliste!AH390","v":0},{"$f":"Stückliste!AJ390","v":0},{"$f":"Stückliste!AL390","v":0},{"$f":"Stückliste!AN390","v":0},{"$f":"Stückliste!AP390","v":0},{"$f":"Stückliste!AR390","v":0},{"$f":"Stückliste!AT390","v":0},{"$f":"Stückliste!AV390","v":0},{"$f":"Stückliste!AF390","v":0},{"$f":"Stückliste!AX390","v":0}]
[{"$f":"A337","v":0},0,8,{"$f":"Stückliste!A391","v":0},{"$f":"Stückliste!D391","v":0},{"$f":"Stückliste!H391","v":0},{"$f":"Stückliste!L391","v":0},{"$f":"Stückliste!P391","v":0},{"$f":"Stückliste!R391","v":0},{"$f":"Stückliste!T391","v":0},{"$f":"Stückliste!V391","v":0},{"$f":"Stückliste!X391","v":0},{"$f":"Stückliste!Z391","v":0},{"$f":"Stückliste!AB391","v":0},{"$f":"Stückliste!AD391","v":0},{"$f":"Stückliste!AH391","v":0},{"$f":"Stückliste!AJ391","v":0},{"$f":"Stückliste!AL391","v":0},{"$f":"Stückliste!AN391","v":0},{"$f":"Stückliste!AP391","v":0},{"$f":"Stückliste!AR391","v":0},{"$f":"Stückliste!AT391","v":0},{"$f":"Stückliste!AV391","v":0},{"$f":"Stückliste!AF391","v":0},{"$f":"Stückliste!AX391","v":0}]
[{"$f":"A338","v":0},0,8,{"$f":"Stückliste!A392","v":0},{"$f":"Stückliste!D392","v":0},{"$f":"Stückliste!H392","v":0},{"$f":"Stückliste!L392","v":0},{"$f":"Stückliste!P392","v":0},{"$f":"Stückliste!R392","v":0},{"$f":"Stückliste!T392","v":0},{"$f":"Stückliste!V392","v":0},{"$f":"Stückliste!X392","v":0},{"$f":"Stückliste!Z392","v":0},{"$f":"Stückliste!AB392","v":0},{"$f":"Stückliste!AD392","v":0},{"$f":"Stückliste!AH392","v":0},{"$f":"Stückliste!AJ392","v":0},{"$f":"Stückliste!AL392","v":0},{"$f":"Stückliste!AN392","v":0},{"$f":"Stückliste!AP392","v":0},{"$f":"Stückliste!AR392","v":0},{"$f":"Stückliste!AT392","v":0},{"$f":"Stückliste!AV392","v":0},{"$f":"Stückliste!AF392","v":0},{"$f":"Stückliste!AX392","v":0}]
[{"$f":"A339","v":0},0,8,{"$f":"Stückliste!A393","v":0},{"$f":"Stückliste!D393","v":0},{"$f":"Stückliste!H393","v":0},{"$f":"Stückliste!L393","v":0},{"$f":"Stückliste!P393","v":0},{"$f":"Stückliste!R393","v":0},{"$f":"Stückliste!T393","v":0},{"$f":"Stückliste!V393","v":0},{"$f":"Stückliste!X393","v":0},{"$f":"Stückliste!Z393","v":0},{"$f":"Stückliste!AB393","v":0},{"$f":"Stückliste!AD393","v":0},{"$f":"Stückliste!AH393","v":0},{"$f":"Stückliste!AJ393","v":0},{"$f":"Stückliste!AL393","v":0},{"$f":"Stückliste!AN393","v":0},{"$f":"Stückliste!AP393","v":0},{"$f":"Stückliste!AR393","v":0},{"$f":"Stückliste!AT393","v":0},{"$f":"Stückliste!AV393","v":0},{"$f":"Stückliste!AF393","v":0},{"$f":"Stückliste!AX393","v":0}]
[{"$f":"A340","v":0},0,8,{"$f":"Stückliste!A394","v":0},{"$f":"Stückliste!D394","v":0},{"$f":"Stückliste!H394","v":0},{"$f":"Stückliste!L394","v":0},{"$f":"Stückliste!P394","v":0},{"$f":"Stückliste!R394","v":0},{"$f":"Stückliste!T394","v":0},{"$f":"Stückliste!V394","v":0},{"$f":"Stückliste!X394","v":0},{"$f":"Stückliste!Z394","v":0},{"$f":"Stückliste!AB394","v":0},{"$f":"Stückliste!AD394","v":0},{"$f":"Stückliste!AH394","v":0},{"$f":"Stückliste!AJ394","v":0},{"$f":"Stückliste!AL394","v":0},{"$f":"Stückliste!AN394","v":0},{"$f":"Stückliste!AP394","v":0},{"$f":"Stückliste!AR394","v":0},{"$f":"Stückliste!AT394","v":0},{"$f":"Stückliste!AV394","v":0},{"$f":"Stückliste!AF394","v":0},{"$f":"Stückliste!AX394","v":0}]
[{"$f":"A341","v":0},0,8,{"$f":"Stückliste!A395","v":0},{"$f":"Stückliste!D395","v":0},{"$f":"Stückliste!H395","v":0},{"$f":"Stückliste!L395","v":0},{"$f":"Stückliste!P395","v":0},{"$f":"Stückliste!R395","v":0},{"$f":"Stückliste!T395","v":0},{"$f":"Stückliste!V395","v":0},{"$f":"Stückliste!X395","v":0},{"$f":"Stückliste!Z395","v":0},{"$f":"Stückliste!AB395","v":0},{"$f":"Stückliste!AD395","v":0},{"$f":"Stückliste!AH395","v":0},{"$f":"Stückliste!AJ395","v":0},{"$f":"Stückliste!AL395","v":0},{"$f":"Stückliste!AN395","v":0},{"$f":"Stückliste!AP395","v":0},{"$f":"Stückliste!AR395","v":0},{"$f":"Stückliste!AT395","v":0},{"$f":"Stückliste!AV395","v":0},{"$f":"Stückliste!AF395","v":0},{"$f":"Stückliste!AX395","v":0}]
[{"$f":"A342","v":0},0,8,{"$f":"Stückliste!A396","v":0},{"$f":"Stückliste!D396","v":0},{"$f":"Stückliste!H396","v":0},{"$f":"Stückliste!L396","v":0},{"$f":"Stückliste!P396","v":0},{"$f":"Stückliste!R396","v":0},{"$f":"Stückliste!T396","v":0},{"$f":"Stückliste!V396","v":0},{"$f":"Stückliste!X396","v":0},{"$f":"Stückliste!Z396","v":0},{"$f":"Stückliste!AB396","v":0},{"$f":"Stückliste!AD396","v":0},{"$f":"Stückliste!AH396","v":0},{"$f":"Stückliste!AJ396","v":0},{"$f":"Stückliste!AL396","v":0},{"$f":"Stückliste!AN396","v":0},{"$f":"Stückliste!AP396","v":0},{"$f":"Stückliste!AR396","v":0},{"$f":"Stückliste!AT396","v":0},{"$f":"Stückliste!AV396","v":0},{"$f":"Stückliste!AF396","v":0},{"$f":"Stückliste!AX396","v":0}]
[{"$f":"A343","v":0},0,8,{"$f":"Stückliste!A397","v":0},{"$f":"Stückliste!D397","v":0},{"$f":"Stückliste!H397","v":0},{"$f":"Stückliste!L397","v":0},{"$f":"Stückliste!P397","v":0},{"$f":"Stückliste!R397","v":0},{"$f":"Stückliste!T397","v":0},{"$f":"Stückliste!V397","v":0},{"$f":"Stückliste!X397","v":0},{"$f":"Stückliste!Z397","v":0},{"$f":"Stückliste!AB397","v":0},{"$f":"Stückliste!AD397","v":0},{"$f":"Stückliste!AH397","v":0},{"$f":"Stückliste!AJ397","v":0},{"$f":"Stückliste!AL397","v":0},{"$f":"Stückliste!AN397","v":0},{"$f":"Stückliste!AP397","v":0},{"$f":"Stückliste!AR397","v":0},{"$f":"Stückliste!AT397","v":0},{"$f":"Stückliste!AV397","v":0},{"$f":"Stückliste!AF397","v":0},{"$f":"Stückliste!AX397","v":0}]
[{"$f":"A344","v":0},0,8,{"$f":"Stückliste!A398","v":0},{"$f":"Stückliste!D398","v":0},{"$f":"Stückliste!H398","v":0},{"$f":"Stückliste!L398","v":0},{"$f":"Stückliste!P398","v":0},{"$f":"Stückliste!R398","v":0},{"$f":"Stückliste!T398","v":0},{"$f":"Stückliste!V398","v":0},{"$f":"Stückliste!X398","v":0},{"$f":"Stückliste!Z398","v":0},{"$f":"Stückliste!AB398","v":0},{"$f":"Stückliste!AD398","v":0},{"$f":"Stückliste!AH398","v":0},{"$f":"Stückliste!AJ398","v":0},{"$f":"Stückliste!AL398","v":0},{"$f":"Stückliste!AN398","v":0},{"$f":"Stückliste!AP398","v":0},{"$f":"Stückliste!AR398","v":0},{"$f":"Stückliste!AT398","v":0},{"$f":"Stückliste!AV398","v":0},{"$f":"Stückliste!AF398","v":0},{"$f":"Stückliste!AX398","v":0}]
[{"$f":"A345","v":0},0,8,{"$f":"Stückliste!A399","v":0},{"$f":"Stückliste!D399","v":0},{"$f":"Stückliste!H399","v":0},{"$f":"Stückliste!L399","v":0},{"$f":"Stückliste!P399","v":0},{"$f":"Stückliste!R399","v":0},{"$f":"Stückliste!T399","v":0},{"$f":"Stückliste!V399","v":0},{"$f":"Stückliste!X399","v":0},{"$f":"Stückliste!Z399","v":0},{"$f":"Stückliste!AB399","v":0},{"$f":"Stückliste!AD399","v":0},{"$f":"Stückliste!AH399","v":0},{"$f":"Stückliste!AJ399","v":0},{"$f":"Stückliste!AL399","v":0},{"$f":"Stückliste!AN399","v":0},{"$f":"Stückliste!AP399","v":0},{"$f":"Stückliste!AR399","v":0},{"$f":"Stückliste!AT399","v":0},{"$f":"Stückliste!AV399","v":0},{"$f":"Stückliste!AF399","v":0},{"$f":"Stückliste!AX399","v":0}]
[{"$f":"A346","v":0},0,8,{"$f":"Stückliste!A400","v":0},{"$f":"Stückliste!D400","v":0},{"$f":"Stückliste!H400","v":0},{"$f":"Stückliste!L400","v":0},{"$f":"Stückliste!P400","v":0},{"$f":"Stückliste!R400","v":0},{"$f":"Stückliste!T400","v":0},{"$f":"Stückliste!V400","v":0},{"$f":"Stückliste!X400","v":0},{"$f":"Stückliste!Z400","v":0},{"$f":"Stückliste!AB400","v":0},{"$f":"Stückliste!AD400","v":0},{"$f":"Stückliste!AH400","v":0},{"$f":"Stückliste!AJ400","v":0},{"$f":"Stückliste!AL400","v":0},{"$f":"Stückliste!AN400","v":0},{"$f":"Stückliste!AP400","v":0},{"$f":"Stückliste!AR400","v":0},{"$f":"Stückliste!AT400","v":0},{"$f":"Stückliste!AV400","v":0},{"$f":"Stückliste!AF400","v":0},{"$f":"Stückliste!AX400","v":0}]
[{"$f":"A347","v":0},0,8,{"$f":"Stückliste!A401","v":0},{"$f":"Stückliste!D401","v":0},{"$f":"Stückliste!H401","v":0},{"$f":"Stückliste!L401","v":0},{"$f":"Stückliste!P401","v":0},{"$f":"Stückliste!R401","v":0},{"$f":"Stückliste!T401","v":0},{"$f":"Stückliste!V401","v":0},{"$f":"Stückliste!X401","v":0},{"$f":"Stückliste!Z401","v":0},{"$f":"Stückliste!AB401","v":0},{"$f":"Stückliste!AD401","v":0},{"$f":"Stückliste!AH401","v":0},{"$f":"Stückliste!AJ401","v":0},{"$f":"Stückliste!AL401","v":0},{"$f":"Stückliste!AN401","v":0},{"$f":"Stückliste!AP401","v":0},{"$f":"Stückliste!AR401","v":0},{"$f":"Stückliste!AT401","v":0},{"$f":"Stückliste!AV401","v":0},{"$f":"Stückliste!AF401","v":0},{"$f":"Stückliste!AX401","v":0}]
[{"$f":"A348","v":0},0,8,{"$f":"Stückliste!A402","v":0},{"$f":"Stückliste!D402","v":0},{"$f":"Stückliste!H402","v":0},{"$f":"Stückliste!L402","v":0},{"$f":"Stückliste!P402","v":0},{"$f":"Stückliste!R402","v":0},{"$f":"Stückliste!T402","v":0},{"$f":"Stückliste!V402","v":0},{"$f":"Stückliste!X402","v":0},{"$f":"Stückliste!Z402","v":0},{"$f":"Stückliste!AB402","v":0},{"$f":"Stückliste!AD402","v":0},{"$f":"Stückliste!AH402","v":0},{"$f":"Stückliste!AJ402","v":0},{"$f":"Stückliste!AL402","v":0},{"$f":"Stückliste!AN402","v":0},{"$f":"Stückliste!AP402","v":0},{"$f":"Stückliste!AR402","v":0},{"$f":"Stückliste!AT402","v":0},{"$f":"Stückliste!AV402","v":0},{"$f":"Stückliste!AF402","v":0},{"$f":"Stückliste!AX402","v":0}]
[{"$f":"A349","v":0},0,8,{"$f":"Stückliste!A403","v":0},{"$f":"Stückliste!D403","v":0},{"$f":"Stückliste!H403","v":0},{"$f":"Stückliste!L403","v":0},{"$f":"Stückliste!P403","v":0},{"$f":"Stückliste!R403","v":0},{"$f":"Stückliste!T403","v":0},{"$f":"Stückliste!V403","v":0},{"$f":"Stückliste!X403","v":0},{"$f":"Stückliste!Z403","v":0},{"$f":"Stückliste!AB403","v":0},{"$f":"Stückliste!AD403","v":0},{"$f":"Stückliste!AH403","v":0},{"$f":"Stückliste!AJ403","v":0},{"$f":"Stückliste!AL403","v":0},{"$f":"Stückliste!AN403","v":0},{"$f":"Stückliste!AP403","v":0},{"$f":"Stückliste!AR403","v":0},{"$f":"Stückliste!AT403","v":0},{"$f":"Stückliste!AV403","v":0},{"$f":"Stückliste!AF403","v":0},{"$f":"Stückliste!AX403","v":0}]
[{"$f":"A350","v":0},0,8,{"$f":"Stückliste!A404","v":0},{"$f":"Stückliste!D404","v":0},{"$f":"Stückliste!H404","v":0},{"$f":"Stückliste!L404","v":0},{"$f":"Stückliste!P404","v":0},{"$f":"Stückliste!R404","v":0},{"$f":"Stückliste!T404","v":0},{"$f":"Stückliste!V404","v":0},{"$f":"Stückliste!X404","v":0},{"$f":"Stückliste!Z404","v":0},{"$f":"Stückliste!AB404","v":0},{"$f":"Stückliste!AD404","v":0},{"$f":"Stückliste!AH404","v":0},{"$f":"Stückliste!AJ404","v":0},{"$f":"Stückliste!AL404","v":0},{"$f":"Stückliste!AN404","v":0},{"$f":"Stückliste!AP404","v":0},{"$f":"Stückliste!AR404","v":0},{"$f":"Stückliste!AT404","v":0},{"$f":"Stückliste!AV404","v":0},{"$f":"Stückliste!AF404","v":0},{"$f":"Stückliste!AX404","v":0}]
[{"$f":"A351","v":0},0,8,{"$f":"Stückliste!A405","v":0},{"$f":"Stückliste!D405","v":0},{"$f":"Stückliste!H405","v":0},{"$f":"Stückliste!L405","v":0},{"$f":"Stückliste!P405","v":0},{"$f":"Stückliste!R405","v":0},{"$f":"Stückliste!T405","v":0},{"$f":"Stückliste!V405","v":0},{"$f":"Stückliste!X405","v":0},{"$f":"Stückliste!Z405","v":0},{"$f":"Stückliste!AB405","v":0},{"$f":"Stückliste!AD405","v":0},{"$f":"Stückliste!AH405","v":0},{"$f":"Stückliste!AJ405","v":0},{"$f":"Stückliste!AL405","v":0},{"$f":"Stückliste!AN405","v":0},{"$f":"Stückliste!AP405","v":0},{"$f":"Stückliste!AR405","v":0},{"$f":"Stückliste!AT405","v":0},{"$f":"Stückliste!AV405","v":0},{"$f":"Stückliste!AF405","v":0},{"$f":"Stückliste!AX405","v":0}]
[{"$f":"A352","v":0},0,8,{"$f":"Stückliste!A406","v":0},{"$f":"Stückliste!D406","v":0},{"$f":"Stückliste!H406","v":0},{"$f":"Stückliste!L406","v":0},{"$f":"Stückliste!P406","v":0},{"$f":"Stückliste!R406","v":0},{"$f":"Stückliste!T406","v":0},{"$f":"Stückliste!V406","v":0},{"$f":"Stückliste!X406","v":0},{"$f":"Stückliste!Z406","v":0},{"$f":"Stückliste!AB406","v":0},{"$f":"Stückliste!AD406","v":0},{"$f":"Stückliste!AH406","v":0},{"$f":"Stückliste!AJ406","v":0},{"$f":"Stückliste!AL406","v":0},{"$f":"Stückliste!AN406","v":0},{"$f":"Stückliste!AP406","v":0},{"$f":"Stückliste!AR406","v":0},{"$f":"Stückliste!AT406","v":0},{"$f":"Stückliste!AV406","v":0},{"$f":"Stückliste!AF406","v":0},{"$f":"Stückliste!AX406","v":0}]
[{"$f":"A353","v":0},0,8,{"$f":"Stückliste!A407","v":0},{"$f":"Stückliste!D407","v":0},{"$f":"Stückliste!H407","v":0},{"$f":"Stückliste!L407","v":0},{"$f":"Stückliste!P407","v":0},{"$f":"Stückliste!R407","v":0},{"$f":"Stückliste!T407","v":0},{"$f":"Stückliste!V407","v":0},{"$f":"Stückliste!X407","v":0},{"$f":"Stückliste!Z407","v":0},{"$f":"Stückliste!AB407","v":0},{"$f":"Stückliste!AD407","v":0},{"$f":"Stückliste!AH407","v":0},{"$f":"Stückliste!AJ407","v":0},{"$f":"Stückliste!AL407","v":0},{"$f":"Stückliste!AN407","v":0},{"$f":"Stückliste!AP407","v":0},{"$f":"Stückliste!AR407","v":0},{"$f":"Stückliste!AT407","v":0},{"$f":"Stückliste!AV407","v":0},{"$f":"Stückliste!AF407","v":0},{"$f":"Stückliste!AX407","v":0}]
[{"$f":"A354","v":0},0,8,{"$f":"Stückliste!A408","v":0},{"$f":"Stückliste!D408","v":0},{"$f":"Stückliste!H408","v":0},{"$f":"Stückliste!L408","v":0},{"$f":"Stückliste!P408","v":0},{"$f":"Stückliste!R408","v":0},{"$f":"Stückliste!T408","v":0},{"$f":"Stückliste!V408","v":0},{"$f":"Stückliste!X408","v":0},{"$f":"Stückliste!Z408","v":0},{"$f":"Stückliste!AB408","v":0},{"$f":"Stückliste!AD408","v":0},{"$f":"Stückliste!AH408","v":0},{"$f":"Stückliste!AJ408","v":0},{"$f":"Stückliste!AL408","v":0},{"$f":"Stückliste!AN408","v":0},{"$f":"Stückliste!AP408","v":0},{"$f":"Stückliste!AR408","v":0},{"$f":"Stückliste!AT408","v":0},{"$f":"Stückliste!AV408","v":0},{"$f":"Stückliste!AF408","v":0},{"$f":"Stückliste!AX408","v":0}]
[{"$f":"A355","v":0},0,8,{"$f":"Stückliste!A409","v":0},{"$f":"Stückliste!D409","v":0},{"$f":"Stückliste!H409","v":0},{"$f":"Stückliste!L409","v":0},{"$f":"Stückliste!P409","v":0},{"$f":"Stückliste!R409","v":0},{"$f":"Stückliste!T409","v":0},{"$f":"Stückliste!V409","v":0},{"$f":"Stückliste!X409","v":0},{"$f":"Stückliste!Z409","v":0},{"$f":"Stückliste!AB409","v":0},{"$f":"Stückliste!AD409","v":0},{"$f":"Stückliste!AH409","v":0},{"$f":"Stückliste!AJ409","v":0},{"$f":"Stückliste!AL409","v":0},{"$f":"Stückliste!AN409","v":0},{"$f":"Stückliste!AP409","v":0},{"$f":"Stückliste!AR409","v":0},{"$f":"Stückliste!AT409","v":0},{"$f":"Stückliste!AV409","v":0},{"$f":"Stückliste!AF409","v":0},{"$f":"Stückliste!AX409","v":0}]
[{"$f":"A356","v":0},0,8,{"$f":"Stückliste!A410","v":0},{"$f":"Stückliste!D410","v":0},{"$f":"Stückliste!H410","v":0},{"$f":"Stückliste!L410","v":0},{"$f":"Stückliste!P410","v":0},{"$f":"Stückliste!R410","v":0},{"$f":"Stückliste!T410","v":0},{"$f":"Stückliste!V410","v":0},{"$f":"Stückliste!X410","v":0},{"$f":"Stückliste!Z410","v":0},{"$f":"Stückliste!AB410","v":0},{"$f":"Stückliste!AD410","v":0},{"$f":"Stückliste!AH410","v":0},{"$f":"Stückliste!AJ410","v":0},{"$f":"Stückliste!AL410","v":0},{"$f":"Stückliste!AN410","v":0},{"$f":"Stückliste!AP410","v":0},{"$f":"Stückliste!AR410","v":0},{"$f":"Stückliste!AT410","v":0},{"$f":"Stückliste!AV410","v":0},{"$f":"Stückliste!AF410","v":0},{"$f":"Stückliste!AX410","v":0}]
[{"$f":"A357","v":0},0,8,{"$f":"Stückliste!A411","v":0},{"$f":"Stückliste!D411","v":0},{"$f":"Stückliste!H411","v":0},{"$f":"Stückliste!L411","v":0},{"$f":"Stückliste!P411","v":0},{"$f":"Stückliste!R411","v":0},{"$f":"Stückliste!T411","v":0},{"$f":"Stückliste!V411","v":0},{"$f":"Stückliste!X411","v":0},{"$f":"Stückliste!Z411","v":0},{"$f":"Stückliste!AB411","v":0},{"$f":"Stückliste!AD411","v":0},{"$f":"Stückliste!AH411","v":0},{"$f":"Stückliste!AJ411","v":0},{"$f":"Stückliste!AL411","v":0},{"$f":"Stückliste!AN411","v":0},{"$f":"Stückliste!AP411","v":0},{"$f":"Stückliste!AR411","v":0},{"$f":"Stückliste!AT411","v":0},{"$f":"Stückliste!AV411","v":0},{"$f":"Stückliste!AF411","v":0},{"$f":"Stückliste!AX411","v":0}]
[{"$f":"A358","v":0},0,8,{"$f":"Stückliste!A412","v":0},{"$f":"Stückliste!D412","v":0},{"$f":"Stückliste!H412","v":0},{"$f":"Stückliste!L412","v":0},{"$f":"Stückliste!P412","v":0},{"$f":"Stückliste!R412","v":0},{"$f":"Stückliste!T412","v":0},{"$f":"Stückliste!V412","v":0},{"$f":"Stückliste!X412","v":0},{"$f":"Stückliste!Z412","v":0},{"$f":"Stückliste!AB412","v":0},{"$f":"Stückliste!AD412","v":0},{"$f":"Stückliste!AH412","v":0},{"$f":"Stückliste!AJ412","v":0},{"$f":"Stückliste!AL412","v":0},{"$f":"Stückliste!AN412","v":0},{"$f":"Stückliste!AP412","v":0},{"$f":"Stückliste!AR412","v":0},{"$f":"Stückliste!AT412","v":0},{"$f":"Stückliste!AV412","v":0},{"$f":"Stückliste!AF412","v":0},{"$f":"Stückliste!AX412","v":0}]
[{"$f":"A359","v":0},0,8,{"$f":"Stückliste!A413","v":0},{"$f":"Stückliste!D413","v":0},{"$f":"Stückliste!H413","v":0},{"$f":"Stückliste!L413","v":0},{"$f":"Stückliste!P413","v":0},{"$f":"Stückliste!R413","v":0},{"$f":"Stückliste!T413","v":0},{"$f":"Stückliste!V413","v":0},{"$f":"Stückliste!X413","v":0},{"$f":"Stückliste!Z413","v":0},{"$f":"Stückliste!AB413","v":0},{"$f":"Stückliste!AD413","v":0},{"$f":"Stückliste!AH413","v":0},{"$f":"Stückliste!AJ413","v":0},{"$f":"Stückliste!AL413","v":0},{"$f":"Stückliste!AN413","v":0},{"$f":"Stückliste!AP413","v":0},{"$f":"Stückliste!AR413","v":0},{"$f":"Stückliste!AT413","v":0},{"$f":"Stückliste!AV413","v":0},{"$f":"Stückliste!AF413","v":0},{"$f":"Stückliste!AX413","v":0}]
[{"$f":"A360","v":0},0,8,{"$f":"Stückliste!A414","v":0},{"$f":"Stückliste!D414","v":0},{"$f":"Stückliste!H414","v":0},{"$f":"Stückliste!L414","v":0},{"$f":"Stückliste!P414","v":0},{"$f":"Stückliste!R414","v":0},{"$f":"Stückliste!T414","v":0},{"$f":"Stückliste!V414","v":0},{"$f":"Stückliste!X414","v":0},{"$f":"Stückliste!Z414","v":0},{"$f":"Stückliste!AB414","v":0},{"$f":"Stückliste!AD414","v":0},{"$f":"Stückliste!AH414","v":0},{"$f":"Stückliste!AJ414","v":0},{"$f":"Stückliste!AL414","v":0},{"$f":"Stückliste!AN414","v":0},{"$f":"Stückliste!AP414","v":0},{"$f":"Stückliste!AR414","v":0},{"$f":"Stückliste!AT414","v":0},{"$f":"Stückliste!AV414","v":0},{"$f":"Stückliste!AF414","v":0},{"$f":"Stückliste!AX414","v":0}]
[{"$f":"A361","v":0},0,8,{"$f":"Stückliste!A415","v":0},{"$f":"Stückliste!D415","v":0},{"$f":"Stückliste!H415","v":0},{"$f":"Stückliste!L415","v":0},{"$f":"Stückliste!P415","v":0},{"$f":"Stückliste!R415","v":0},{"$f":"Stückliste!T415","v":0},{"$f":"Stückliste!V415","v":0},{"$f":"Stückliste!X415","v":0},{"$f":"Stückliste!Z415","v":0},{"$f":"Stückliste!AB415","v":0},{"$f":"Stückliste!AD415","v":0},{"$f":"Stückliste!AH415","v":0},{"$f":"Stückliste!AJ415","v":0},{"$f":"Stückliste!AL415","v":0},{"$f":"Stückliste!AN415","v":0},{"$f":"Stückliste!AP415","v":0},{"$f":"Stückliste!AR415","v":0},{"$f":"Stückliste!AT415","v":0},{"$f":"Stückliste!AV415","v":0},{"$f":"Stückliste!AF415","v":0},{"$f":"Stückliste!AX415","v":0}]
[{"$f":"A362","v":0},0,8,{"$f":"Stückliste!A416","v":0},{"$f":"Stückliste!D416","v":0},{"$f":"Stückliste!H416","v":0},{"$f":"Stückliste!L416","v":0},{"$f":"Stückliste!P416","v":0},{"$f":"Stückliste!R416","v":0},{"$f":"Stückliste!T416","v":0},{"$f":"Stückliste!V416","v":0},{"$f":"Stückliste!X416","v":0},{"$f":"Stückliste!Z416","v":0},{"$f":"Stückliste!AB416","v":0},{"$f":"Stückliste!AD416","v":0},{"$f":"Stückliste!AH416","v":0},{"$f":"Stückliste!AJ416","v":0},{"$f":"Stückliste!AL416","v":0},{"$f":"Stückliste!AN416","v":0},{"$f":"Stückliste!AP416","v":0},{"$f":"Stückliste!AR416","v":0},{"$f":"Stückliste!AT416","v":0},{"$f":"Stückliste!AV416","v":0},{"$f":"Stückliste!AF416","v":0},{"$f":"Stückliste!AX416","v":0}]
[{"$f":"A363","v":0},0,8,{"$f":"Stückliste!A417","v":0},{"$f":"Stückliste!D417","v":0},{"$f":"Stückliste!H417","v":0},{"$f":"Stückliste!L417","v":0},{"$f":"Stückliste!P417","v":0},{"$f":"Stückliste!R417","v":0},{"$f":"Stückliste!T417","v":0},{"$f":"Stückliste!V417","v":0},{"$f":"Stückliste!X417","v":0},{"$f":"Stückliste!Z417","v":0},{"$f":"Stückliste!AB417","v":0},{"$f":"Stückliste!AD417","v":0},{"$f":"Stückliste!AH417","v":0},{"$f":"Stückliste!AJ417","v":0},{"$f":"Stückliste!AL417","v":0},{"$f":"Stückliste!AN417","v":0},{"$f":"Stückliste!AP417","v":0},{"$f":"Stückliste!AR417","v":0},{"$f":"Stückliste!AT417","v":0},{"$f":"Stückliste!AV417","v":0},{"$f":"Stückliste!AF417","v":0},{"$f":"Stückliste!AX417","v":0}]
[{"$f":"A364","v":0},0,8,{"$f":"Stückliste!A418","v":0},{"$f":"Stückliste!D418","v":0},{"$f":"Stückliste!H418","v":0},{"$f":"Stückliste!L418","v":0},{"$f":"Stückliste!P418","v":0},{"$f":"Stückliste!R418","v":0},{"$f":"Stückliste!T418","v":0},{"$f":"Stückliste!V418","v":0},{"$f":"Stückliste!X418","v":0},{"$f":"Stückliste!Z418","v":0},{"$f":"Stückliste!AB418","v":0},{"$f":"Stückliste!AD418","v":0},{"$f":"Stückliste!AH418","v":0},{"$f":"Stückliste!AJ418","v":0},{"$f":"Stückliste!AL418","v":0},{"$f":"Stückliste!AN418","v":0},{"$f":"Stückliste!AP418","v":0},{"$f":"Stückliste!AR418","v":0},{"$f":"Stückliste!AT418","v":0},{"$f":"Stückliste!AV418","v":0},{"$f":"Stückliste!AF418","v":0},{"$f":"Stückliste!AX418","v":0}]
[{"$f":"A365","v":0},0,8,{"$f":"Stückliste!A419","v":0},{"$f":"Stückliste!D419","v":0},{"$f":"Stückliste!H419","v":0},{"$f":"Stückliste!L419","v":0},{"$f":"Stückliste!P419","v":0},{"$f":"Stückliste!R419","v":0},{"$f":"Stückliste!T419","v":0},{"$f":"Stückliste!V419","v":0},{"$f":"Stückliste!X419","v":0},{"$f":"Stückliste!Z419","v":0},{"$f":"Stückliste!AB419","v":0},{"$f":"Stückliste!AD419","v":0},{"$f":"Stückliste!AH419","v":0},{"$f":"Stückliste!AJ419","v":0},{"$f":"Stückliste!AL419","v":0},{"$f":"Stückliste!AN419","v":0},{"$f":"Stückliste!AP419","v":0},{"$f":"Stückliste!AR419","v":0},{"$f":"Stückliste!AT419","v":0},{"$f":"Stückliste!AV419","v":0},{"$f":"Stückliste!AF419","v":0},{"$f":"Stückliste!AX419","v":0}]
[{"$f":"A366","v":0},0,8,{"$f":"Stückliste!A420","v":0},{"$f":"Stückliste!D420","v":0},{"$f":"Stückliste!H420","v":0},{"$f":"Stückliste!L420","v":0},{"$f":"Stückliste!P420","v":0},{"$f":"Stückliste!R420","v":0},{"$f":"Stückliste!T420","v":0},{"$f":"Stückliste!V420","v":0},{"$f":"Stückliste!X420","v":0},{"$f":"Stückliste!Z420","v":0},{"$f":"Stückliste!AB420","v":0},{"$f":"Stückliste!AD420","v":0},{"$f":"Stückliste!AH420","v":0},{"$f":"Stückliste!AJ420","v":0},{"$f":"Stückliste!AL420","v":0},{"$f":"Stückliste!AN420","v":0},{"$f":"Stückliste!AP420","v":0},{"$f":"Stückliste!AR420","v":0},{"$f":"Stückliste!AT420","v":0},{"$f":"Stückliste!AV420","v":0},{"$f":"Stückliste!AF420","v":0},{"$f":"Stückliste!AX420","v":0}]
[{"$f":"A367","v":0},0,8,{"$f":"Stückliste!A421","v":0},{"$f":"Stückliste!D421","v":0},{"$f":"Stückliste!H421","v":0},{"$f":"Stückliste!L421","v":0},{"$f":"Stückliste!P421","v":0},{"$f":"Stückliste!R421","v":0},{"$f":"Stückliste!T421","v":0},{"$f":"Stückliste!V421","v":0},{"$f":"Stückliste!X421","v":0},{"$f":"Stückliste!Z421","v":0},{"$f":"Stückliste!AB421","v":0},{"$f":"Stückliste!AD421","v":0},{"$f":"Stückliste!AH421","v":0},{"$f":"Stückliste!AJ421","v":0},{"$f":"Stückliste!AL421","v":0},{"$f":"Stückliste!AN421","v":0},{"$f":"Stückliste!AP421","v":0},{"$f":"Stückliste!AR421","v":0},{"$f":"Stückliste!AT421","v":0},{"$f":"Stückliste!AV421","v":0},{"$f":"Stückliste!AF421","v":0},{"$f":"Stückliste!AX421","v":0}]
[{"$f":"A368","v":0},0,8,{"$f":"Stückliste!A422","v":0},{"$f":"Stückliste!D422","v":0},{"$f":"Stückliste!H422","v":0},{"$f":"Stückliste!L422","v":0},{"$f":"Stückliste!P422","v":0},{"$f":"Stückliste!R422","v":0},{"$f":"Stückliste!T422","v":0},{"$f":"Stückliste!V422","v":0},{"$f":"Stückliste!X422","v":0},{"$f":"Stückliste!Z422","v":0},{"$f":"Stückliste!AB422","v":0},{"$f":"Stückliste!AD422","v":0},{"$f":"Stückliste!AH422","v":0},{"$f":"Stückliste!AJ422","v":0},{"$f":"Stückliste!AL422","v":0},{"$f":"Stückliste!AN422","v":0},{"$f":"Stückliste!AP422","v":0},{"$f":"Stückliste!AR422","v":0},{"$f":"Stückliste!AT422","v":0},{"$f":"Stückliste!AV422","v":0},{"$f":"Stückliste!AF422","v":0},{"$f":"Stückliste!AX422","v":0}]
[{"$f":"A369","v":0},0,8,{"$f":"Stückliste!A423","v":0},{"$f":"Stückliste!D423","v":0},{"$f":"Stückliste!H423","v":0},{"$f":"Stückliste!L423","v":0},{"$f":"Stückliste!P423","v":0},{"$f":"Stückliste!R423","v":0},{"$f":"Stückliste!T423","v":0},{"$f":"Stückliste!V423","v":0},{"$f":"Stückliste!X423","v":0},{"$f":"Stückliste!Z423","v":0},{"$f":"Stückliste!AB423","v":0},{"$f":"Stückliste!AD423","v":0},{"$f":"Stückliste!AH423","v":0},{"$f":"Stückliste!AJ423","v":0},{"$f":"Stückliste!AL423","v":0},{"$f":"Stückliste!AN423","v":0},{"$f":"Stückliste!AP423","v":0},{"$f":"Stückliste!AR423","v":0},{"$f":"Stückliste!AT423","v":0},{"$f":"Stückliste!AV423","v":0},{"$f":"Stückliste!AF423","v":0},{"$f":"Stückliste!AX423","v":0}]
[{"$f":"A370","v":0},0,8,{"$f":"Stückliste!A424","v":0},{"$f":"Stückliste!D424","v":0},{"$f":"Stückliste!H424","v":0},{"$f":"Stückliste!L424","v":0},{"$f":"Stückliste!P424","v":0},{"$f":"Stückliste!R424","v":0},{"$f":"Stückliste!T424","v":0},{"$f":"Stückliste!V424","v":0},{"$f":"Stückliste!X424","v":0},{"$f":"Stückliste!Z424","v":0},{"$f":"Stückliste!AB424","v":0},{"$f":"Stückliste!AD424","v":0},{"$f":"Stückliste!AH424","v":0},{"$f":"Stückliste!AJ424","v":0},{"$f":"Stückliste!AL424","v":0},{"$f":"Stückliste!AN424","v":0},{"$f":"Stückliste!AP424","v":0},{"$f":"Stückliste!AR424","v":0},{"$f":"Stückliste!AT424","v":0},{"$f":"Stückliste!AV424","v":0},{"$f":"Stückliste!AF424","v":0},{"$f":"Stückliste!AX424","v":0}]
[{"$f":"A371","v":0},0,8,{"$f":"Stückliste!A425","v":0},{"$f":"Stückliste!D425","v":0},{"$f":"Stückliste!H425","v":0},{"$f":"Stückliste!L425","v":0},{"$f":"Stückliste!P425","v":0},{"$f":"Stückliste!R425","v":0},{"$f":"Stückliste!T425","v":0},{"$f":"Stückliste!V425","v":0},{"$f":"Stückliste!X425","v":0},{"$f":"Stückliste!Z425","v":0},{"$f":"Stückliste!AB425","v":0},{"$f":"Stückliste!AD425","v":0},{"$f":"Stückliste!AH425","v":0},{"$f":"Stückliste!AJ425","v":0},{"$f":"Stückliste!AL425","v":0},{"$f":"Stückliste!AN425","v":0},{"$f":"Stückliste!AP425","v":0},{"$f":"Stückliste!AR425","v":0},{"$f":"Stückliste!AT425","v":0},{"$f":"Stückliste!AV425","v":0},{"$f":"Stückliste!AF425","v":0},{"$f":"Stückliste!AX425","v":0}]
[{"$f":"A372","v":0},0,8,{"$f":"Stückliste!A426","v":0},{"$f":"Stückliste!D426","v":0},{"$f":"Stückliste!H426","v":0},{"$f":"Stückliste!L426","v":0},{"$f":"Stückliste!P426","v":0},{"$f":"Stückliste!R426","v":0},{"$f":"Stückliste!T426","v":0},{"$f":"Stückliste!V426","v":0},{"$f":"Stückliste!X426","v":0},{"$f":"Stückliste!Z426","v":0},{"$f":"Stückliste!AB426","v":0},{"$f":"Stückliste!AD426","v":0},{"$f":"Stückliste!AH426","v":0},{"$f":"Stückliste!AJ426","v":0},{"$f":"Stückliste!AL426","v":0},{"$f":"Stückliste!AN426","v":0},{"$f":"Stückliste!AP426","v":0},{"$f":"Stückliste!AR426","v":0},{"$f":"Stückliste!AT426","v":0},{"$f":"Stückliste!AV426","v":0},{"$f":"Stückliste!AF426","v":0},{"$f":"Stückliste!AX426","v":0}]
[{"$f":"A373","v":0},0,8,{"$f":"Stückliste!A427","v":0},{"$f":"Stückliste!D427","v":0},{"$f":"Stückliste!H427","v":0},{"$f":"Stückliste!L427","v":0},{"$f":"Stückliste!P427","v":0},{"$f":"Stückliste!R427","v":0},{"$f":"Stückliste!T427","v":0},{"$f":"Stückliste!V427","v":0},{"$f":"Stückliste!X427","v":0},{"$f":"Stückliste!Z427","v":0},{"$f":"Stückliste!AB427","v":0},{"$f":"Stückliste!AD427","v":0},{"$f":"Stückliste!AH427","v":0},{"$f":"Stückliste!AJ427","v":0},{"$f":"Stückliste!AL427","v":0},{"$f":"Stückliste!AN427","v":0},{"$f":"Stückliste!AP427","v":0},{"$f":"Stückliste!AR427","v":0},{"$f":"Stückliste!AT427","v":0},{"$f":"Stückliste!AV427","v":0},{"$f":"Stückliste!AF427","v":0},{"$f":"Stückliste!AX427","v":0}]
[{"$f":"A374","v":0},0,8,{"$f":"Stückliste!A428","v":0},{"$f":"Stückliste!D428","v":0},{"$f":"Stückliste!H428","v":0},{"$f":"Stückliste!L428","v":0},{"$f":"Stückliste!P428","v":0},{"$f":"Stückliste!R428","v":0},{"$f":"Stückliste!T428","v":0},{"$f":"Stückliste!V428","v":0},{"$f":"Stückliste!X428","v":0},{"$f":"Stückliste!Z428","v":0},{"$f":"Stückliste!AB428","v":0},{"$f":"Stückliste!AD428","v":0},{"$f":"Stückliste!AH428","v":0},{"$f":"Stückliste!AJ428","v":0},{"$f":"Stückliste!AL428","v":0},{"$f":"Stückliste!AN428","v":0},{"$f":"Stückliste!AP428","v":0},{"$f":"Stückliste!AR428","v":0},{"$f":"Stückliste!AT428","v":0},{"$f":"Stückliste!AV428","v":0},{"$f":"Stückliste!AF428","v":0},{"$f":"Stückliste!AX428","v":0}]
[{"$f":"A375","v":0},0,8,{"$f":"Stückliste!A429","v":0},{"$f":"Stückliste!D429","v":0},{"$f":"Stückliste!H429","v":0},{"$f":"Stückliste!L429","v":0},{"$f":"Stückliste!P429","v":0},{"$f":"Stückliste!R429","v":0},{"$f":"Stückliste!T429","v":0},{"$f":"Stückliste!V429","v":0},{"$f":"Stückliste!X429","v":0},{"$f":"Stückliste!Z429","v":0},{"$f":"Stückliste!AB429","v":0},{"$f":"Stückliste!AD429","v":0},{"$f":"Stückliste!AH429","v":0},{"$f":"Stückliste!AJ429","v":0},{"$f":"Stückliste!AL429","v":0},{"$f":"Stückliste!AN429","v":0},{"$f":"Stückliste!AP429","v":0},{"$f":"Stückliste!AR429","v":0},{"$f":"Stückliste!AT429","v":0},{"$f":"Stückliste!AV429","v":0},{"$f":"Stückliste!AF429","v":0},{"$f":"Stückliste!AX429","v":0}]
[{"$f":"A376","v":0},0,8,{"$f":"Stückliste!A430","v":0},{"$f":"Stückliste!D430","v":0},{"$f":"Stückliste!H430","v":0},{"$f":"Stückliste!L430","v":0},{"$f":"Stückliste!P430","v":0},{"$f":"Stückliste!R430","v":0},{"$f":"Stückliste!T430","v":0},{"$f":"Stückliste!V430","v":0},{"$f":"Stückliste!X430","v":0},{"$f":"Stückliste!Z430","v":0},{"$f":"Stückliste!AB430","v":0},{"$f":"Stückliste!AD430","v":0},{"$f":"Stückliste!AH430","v":0},{"$f":"Stückliste!AJ430","v":0},{"$f":"Stückliste!AL430","v":0},{"$f":"Stückliste!AN430","v":0},{"$f":"Stückliste!AP430","v":0},{"$f":"Stückliste!AR430","v":0},{"$f":"Stückliste!AT430","v":0},{"$f":"Stückliste!AV430","v":0},{"$f":"Stückliste!AF430","v":0},{"$f":"Stückliste!AX430","v":0}]
[{"$f":"A377","v":0},0,8,{"$f":"Stückliste!A431","v":0},{"$f":"Stückliste!D431","v":0},{"$f":"Stückliste!H431","v":0},{"$f":"Stückliste!L431","v":0},{"$f":"Stückliste!P431","v":0},{"$f":"Stückliste!R431","v":0},{"$f":"Stückliste!T431","v":0},{"$f":"Stückliste!V431","v":0},{"$f":"Stückliste!X431","v":0},{"$f":"Stückliste!Z431","v":0},{"$f":"Stückliste!AB431","v":0},{"$f":"Stückliste!AD431","v":0},{"$f":"Stückliste!AH431","v":0},{"$f":"Stückliste!AJ431","v":0},{"$f":"Stückliste!AL431","v":0},{"$f":"Stückliste!AN431","v":0},{"$f":"Stückliste!AP431","v":0},{"$f":"Stückliste!AR431","v":0},{"$f":"Stückliste!AT431","v":0},{"$f":"Stückliste!AV431","v":0},{"$f":"Stückliste!AF431","v":0},{"$f":"Stückliste!AX431","v":0}]
[{"$f":"A378","v":0},0,8,{"$f":"Stückliste!A432","v":0},{"$f":"Stückliste!D432","v":0},{"$f":"Stückliste!H432","v":0},{"$f":"Stückliste!L432","v":0},{"$f":"Stückliste!P432","v":0},{"$f":"Stückliste!R432","v":0},{"$f":"Stückliste!T432","v":0},{"$f":"Stückliste!V432","v":0},{"$f":"Stückliste!X432","v":0},{"$f":"Stückliste!Z432","v":0},{"$f":"Stückliste!AB432","v":0},{"$f":"Stückliste!AD432","v":0},{"$f":"Stückliste!AH432","v":0},{"$f":"Stückliste!AJ432","v":0},{"$f":"Stückliste!AL432","v":0},{"$f":"Stückliste!AN432","v":0},{"$f":"Stückliste!AP432","v":0},{"$f":"Stückliste!AR432","v":0},{"$f":"Stückliste!AT432","v":0},{"$f":"Stückliste!AV432","v":0},{"$f":"Stückliste!AF432","v":0},{"$f":"Stückliste!AX432","v":0}]
[{"$f":"A379","v":0},0,8,{"$f":"Stückliste!A433","v":0},{"$f":"Stückliste!D433","v":0},{"$f":"Stückliste!H433","v":0},{"$f":"Stückliste!L433","v":0},{"$f":"Stückliste!P433","v":0},{"$f":"Stückliste!R433","v":0},{"$f":"Stückliste!T433","v":0},{"$f":"Stückliste!V433","v":0},{"$f":"Stückliste!X433","v":0},{"$f":"Stückliste!Z433","v":0},{"$f":"Stückliste!AB433","v":0},{"$f":"Stückliste!AD433","v":0},{"$f":"Stückliste!AH433","v":0},{"$f":"Stückliste!AJ433","v":0},{"$f":"Stückliste!AL433","v":0},{"$f":"Stückliste!AN433","v":0},{"$f":"Stückliste!AP433","v":0},{"$f":"Stückliste!AR433","v":0},{"$f":"Stückliste!AT433","v":0},{"$f":"Stückliste!AV433","v":0},{"$f":"Stückliste!AF433","v":0},{"$f":"Stückliste!AX433","v":0}]
[{"$f":"A380","v":0},0,8,{"$f":"Stückliste!A434","v":0},{"$f":"Stückliste!D434","v":0},{"$f":"Stückliste!H434","v":0},{"$f":"Stückliste!L434","v":0},{"$f":"Stückliste!P434","v":0},{"$f":"Stückliste!R434","v":0},{"$f":"Stückliste!T434","v":0},{"$f":"Stückliste!V434","v":0},{"$f":"Stückliste!X434","v":0},{"$f":"Stückliste!Z434","v":0},{"$f":"Stückliste!AB434","v":0},{"$f":"Stückliste!AD434","v":0},{"$f":"Stückliste!AH434","v":0},{"$f":"Stückliste!AJ434","v":0},{"$f":"Stückliste!AL434","v":0},{"$f":"Stückliste!AN434","v":0},{"$f":"Stückliste!AP434","v":0},{"$f":"Stückliste!AR434","v":0},{"$f":"Stückliste!AT434","v":0},{"$f":"Stückliste!AV434","v":0},{"$f":"Stückliste!AF434","v":0},{"$f":"Stückliste!AX434","v":0}]
[{"$f":"A381","v":0},0,8,{"$f":"Stückliste!A435","v":0},{"$f":"Stückliste!D435","v":0},{"$f":"Stückliste!H435","v":0},{"$f":"Stückliste!L435","v":0},{"$f":"Stückliste!P435","v":0},{"$f":"Stückliste!R435","v":0},{"$f":"Stückliste!T435","v":0},{"$f":"Stückliste!V435","v":0},{"$f":"Stückliste!X435","v":0},{"$f":"Stückliste!Z435","v":0},{"$f":"Stückliste!AB435","v":0},{"$f":"Stückliste!AD435","v":0},{"$f":"Stückliste!AH435","v":0},{"$f":"Stückliste!AJ435","v":0},{"$f":"Stückliste!AL435","v":0},{"$f":"Stückliste!AN435","v":0},{"$f":"Stückliste!AP435","v":0},{"$f":"Stückliste!AR435","v":0},{"$f":"Stückliste!AT435","v":0},{"$f":"Stückliste!AV435","v":0},{"$f":"Stückliste!AF435","v":0},{"$f":"Stückliste!AX435","v":0}]
[{"$f":"A382","v":0},0,8,{"$f":"Stückliste!A436","v":0},{"$f":"Stückliste!D436","v":0},{"$f":"Stückliste!H436","v":0},{"$f":"Stückliste!L436","v":0},{"$f":"Stückliste!P436","v":0},{"$f":"Stückliste!R436","v":0},{"$f":"Stückliste!T436","v":0},{"$f":"Stückliste!V436","v":0},{"$f":"Stückliste!X436","v":0},{"$f":"Stückliste!Z436","v":0},{"$f":"Stückliste!AB436","v":0},{"$f":"Stückliste!AD436","v":0},{"$f":"Stückliste!AH436","v":0},{"$f":"Stückliste!AJ436","v":0},{"$f":"Stückliste!AL436","v":0},{"$f":"Stückliste!AN436","v":0},{"$f":"Stückliste!AP436","v":0},{"$f":"Stückliste!AR436","v":0},{"$f":"Stückliste!AT436","v":0},{"$f":"Stückliste!AV436","v":0},{"$f":"Stückliste!AF436","v":0},{"$f":"Stückliste!AX436","v":0}]
[{"$f":"A383","v":0},0,8,{"$f":"Stückliste!A437","v":0},{"$f":"Stückliste!D437","v":0},{"$f":"Stückliste!H437","v":0},{"$f":"Stückliste!L437","v":0},{"$f":"Stückliste!P437","v":0},{"$f":"Stückliste!R437","v":0},{"$f":"Stückliste!T437","v":0},{"$f":"Stückliste!V437","v":0},{"$f":"Stückliste!X437","v":0},{"$f":"Stückliste!Z437","v":0},{"$f":"Stückliste!AB437","v":0},{"$f":"Stückliste!AD437","v":0},{"$f":"Stückliste!AH437","v":0},{"$f":"Stückliste!AJ437","v":0},{"$f":"Stückliste!AL437","v":0},{"$f":"Stückliste!AN437","v":0},{"$f":"Stückliste!AP437","v":0},{"$f":"Stückliste!AR437","v":0},{"$f":"Stückliste!AT437","v":0},{"$f":"Stückliste!AV437","v":0},{"$f":"Stückliste!AF437","v":0},{"$f":"Stückliste!AX437","v":0}]
[{"$f":"A384","v":0},0,8,{"$f":"Stückliste!A438","v":0},{"$f":"Stückliste!D438","v":0},{"$f":"Stückliste!H438","v":0},{"$f":"Stückliste!L438","v":0},{"$f":"Stückliste!P438","v":0},{"$f":"Stückliste!R438","v":0},{"$f":"Stückliste!T438","v":0},{"$f":"Stückliste!V438","v":0},{"$f":"Stückliste!X438","v":0},{"$f":"Stückliste!Z438","v":0},{"$f":"Stückliste!AB438","v":0},{"$f":"Stückliste!AD438","v":0},{"$f":"Stückliste!AH438","v":0},{"$f":"Stückliste!AJ438","v":0},{"$f":"Stückliste!AL438","v":0},{"$f":"Stückliste!AN438","v":0},{"$f":"Stückliste!AP438","v":0},{"$f":"Stückliste!AR438","v":0},{"$f":"Stückliste!AT438","v":0},{"$f":"Stückliste!AV438","v":0},{"$f":"Stückliste!AF438","v":0},{"$f":"Stückliste!AX438","v":0}]
[{"$f":"A385","v":0},0,8,{"$f":"Stückliste!A439","v":0},{"$f":"Stückliste!D439","v":0},{"$f":"Stückliste!H439","v":0},{"$f":"Stückliste!L439","v":0},{"$f":"Stückliste!P439","v":0},{"$f":"Stückliste!R439","v":0},{"$f":"Stückliste!T439","v":0},{"$f":"Stückliste!V439","v":0},{"$f":"Stückliste!X439","v":0},{"$f":"Stückliste!Z439","v":0},{"$f":"Stückliste!AB439","v":0},{"$f":"Stückliste!AD439","v":0},{"$f":"Stückliste!AH439","v":0},{"$f":"Stückliste!AJ439","v":0},{"$f":"Stückliste!AL439","v":0},{"$f":"Stückliste!AN439","v":0},{"$f":"Stückliste!AP439","v":0},{"$f":"Stückliste!AR439","v":0},{"$f":"Stückliste!AT439","v":0},{"$f":"Stückliste!AV439","v":0},{"$f":"Stückliste!AF439","v":0},{"$f":"Stückliste!AX439","v":0}]
[{"$f":"A386","v":0},0,8,{"$f":"Stückliste!A440","v":0},{"$f":"Stückliste!D440","v":0},{"$f":"Stückliste!H440","v":0},{"$f":"Stückliste!L440","v":0},{"$f":"Stückliste!P440","v":0},{"$f":"Stückliste!R440","v":0},{"$f":"Stückliste!T440","v":0},{"$f":"Stückliste!V440","v":0},{"$f":"Stückliste!X440","v":0},{"$f":"Stückliste!Z440","v":0},{"$f":"Stückliste!AB440","v":0},{"$f":"Stückliste!AD440","v":0},{"$f":"Stückliste!AH440","v":0},{"$f":"Stückliste!AJ440","v":0},{"$f":"Stückliste!AL440","v":0},{"$f":"Stückliste!AN440","v":0},{"$f":"Stückliste!AP440","v":0},{"$f":"Stückliste!AR440","v":0},{"$f":"Stückliste!AT440","v":0},{"$f":"Stückliste!AV440","v":0},{"$f":"Stückliste!AF440","v":0},{"$f":"Stückliste!AX440","v":0}]
[{"$f":"A387","v":0},0,8,{"$f":"Stückliste!A441","v":0},{"$f":"Stückliste!D441","v":0},{"$f":"Stückliste!H441","v":0},{"$f":"Stückliste!L441","v":0},{"$f":"Stückliste!P441","v":0},{"$f":"Stückliste!R441","v":0},{"$f":"Stückliste!T441","v":0},{"$f":"Stückliste!V441","v":0},{"$f":"Stückliste!X441","v":0},{"$f":"Stückliste!Z441","v":0},{"$f":"Stückliste!AB441","v":0},{"$f":"Stückliste!AD441","v":0},{"$f":"Stückliste!AH441","v":0},{"$f":"Stückliste!AJ441","v":0},{"$f":"Stückliste!AL441","v":0},{"$f":"Stückliste!AN441","v":0},{"$f":"Stückliste!AP441","v":0},{"$f":"Stückliste!AR441","v":0},{"$f":"Stückliste!AT441","v":0},{"$f":"Stückliste!AV441","v":0},{"$f":"Stückliste!AF441","v":0},{"$f":"Stückliste!AX441","v":0}]
[{"$f":"A388","v":0},0,8,{"$f":"Stückliste!A442","v":0},{"$f":"Stückliste!D442","v":0},{"$f":"Stückliste!H442","v":0},{"$f":"Stückliste!L442","v":0},{"$f":"Stückliste!P442","v":0},{"$f":"Stückliste!R442","v":0},{"$f":"Stückliste!T442","v":0},{"$f":"Stückliste!V442","v":0},{"$f":"Stückliste!X442","v":0},{"$f":"Stückliste!Z442","v":0},{"$f":"Stückliste!AB442","v":0},{"$f":"Stückliste!AD442","v":0},{"$f":"Stückliste!AH442","v":0},{"$f":"Stückliste!AJ442","v":0},{"$f":"Stückliste!AL442","v":0},{"$f":"Stückliste!AN442","v":0},{"$f":"Stückliste!AP442","v":0},{"$f":"Stückliste!AR442","v":0},{"$f":"Stückliste!AT442","v":0},{"$f":"Stückliste!AV442","v":0},{"$f":"Stückliste!AF442","v":0},{"$f":"Stückliste!AX442","v":0}]
[{"$f":"A389","v":0},0,8,{"$f":"Stückliste!A443","v":0},{"$f":"Stückliste!D443","v":0},{"$f":"Stückliste!H443","v":0},{"$f":"Stückliste!L443","v":0},{"$f":"Stückliste!P443","v":0},{"$f":"Stückliste!R443","v":0},{"$f":"Stückliste!T443","v":0},{"$f":"Stückliste!V443","v":0},{"$f":"Stückliste!X443","v":0},{"$f":"Stückliste!Z443","v":0},{"$f":"Stückliste!AB443","v":0},{"$f":"Stückliste!AD443","v":0},{"$f":"Stückliste!AH443","v":0},{"$f":"Stückliste!AJ443","v":0},{"$f":"Stückliste!AL443","v":0},{"$f":"Stückliste!AN443","v":0},{"$f":"Stückliste!AP443","v":0},{"$f":"Stückliste!AR443","v":0},{"$f":"Stückliste!AT443","v":0},{"$f":"Stückliste!AV443","v":0},{"$f":"Stückliste!AF443","v":0},{"$f":"Stückliste!AX443","v":0}]
[{"$f":"A390","v":0},0,8,{"$f":"Stückliste!A444","v":0},{"$f":"Stückliste!D444","v":0},{"$f":"Stückliste!H444","v":0},{"$f":"Stückliste!L444","v":0},{"$f":"Stückliste!P444","v":0},{"$f":"Stückliste!R444","v":0},{"$f":"Stückliste!T444","v":0},{"$f":"Stückliste!V444","v":0},{"$f":"Stückliste!X444","v":0},{"$f":"Stückliste!Z444","v":0},{"$f":"Stückliste!AB444","v":0},{"$f":"Stückliste!AD444","v":0},{"$f":"Stückliste!AH444","v":0},{"$f":"Stückliste!AJ444","v":0},{"$f":"Stückliste!AL444","v":0},{"$f":"Stückliste!AN444","v":0},{"$f":"Stückliste!AP444","v":0},{"$f":"Stückliste!AR444","v":0},{"$f":"Stückliste!AT444","v":0},{"$f":"Stückliste!AV444","v":0},{"$f":"Stückliste!AF444","v":0},{"$f":"Stückliste!AX444","v":0}]
[{"$f":"A391","v":0},0,8,{"$f":"Stückliste!A445","v":0},{"$f":"Stückliste!D445","v":0},{"$f":"Stückliste!H445","v":0},{"$f":"Stückliste!L445","v":0},{"$f":"Stückliste!P445","v":0},{"$f":"Stückliste!R445","v":0},{"$f":"Stückliste!T445","v":0},{"$f":"Stückliste!V445","v":0},{"$f":"Stückliste!X445","v":0},{"$f":"Stückliste!Z445","v":0},{"$f":"Stückliste!AB445","v":0},{"$f":"Stückliste!AD445","v":0},{"$f":"Stückliste!AH445","v":0},{"$f":"Stückliste!AJ445","v":0},{"$f":"Stückliste!AL445","v":0},{"$f":"Stückliste!AN445","v":0},{"$f":"Stückliste!AP445","v":0},{"$f":"Stückliste!AR445","v":0},{"$f":"Stückliste!AT445","v":0},{"$f":"Stückliste!AV445","v":0},{"$f":"Stückliste!AF445","v":0},{"$f":"Stückliste!AX445","v":0}]
[{"$f":"A392","v":0},0,8,{"$f":"Stückliste!A446","v":0},{"$f":"Stückliste!D446","v":0},{"$f":"Stückliste!H446","v":0},{"$f":"Stückliste!L446","v":0},{"$f":"Stückliste!P446","v":0},{"$f":"Stückliste!R446","v":0},{"$f":"Stückliste!T446","v":0},{"$f":"Stückliste!V446","v":0},{"$f":"Stückliste!X446","v":0},{"$f":"Stückliste!Z446","v":0},{"$f":"Stückliste!AB446","v":0},{"$f":"Stückliste!AD446","v":0},{"$f":"Stückliste!AH446","v":0},{"$f":"Stückliste!AJ446","v":0},{"$f":"Stückliste!AL446","v":0},{"$f":"Stückliste!AN446","v":0},{"$f":"Stückliste!AP446","v":0},{"$f":"Stückliste!AR446","v":0},{"$f":"Stückliste!AT446","v":0},{"$f":"Stückliste!AV446","v":0},{"$f":"Stückliste!AF446","v":0},{"$f":"Stückliste!AX446","v":0}]
[{"$f":"A393","v":0},0,8,{"$f":"Stückliste!A447","v":0},{"$f":"Stückliste!D447","v":0},{"$f":"Stückliste!H447","v":0},{"$f":"Stückliste!L447","v":0},{"$f":"Stückliste!P447","v":0},{"$f":"Stückliste!R447","v":0},{"$f":"Stückliste!T447","v":0},{"$f":"Stückliste!V447","v":0},{"$f":"Stückliste!X447","v":0},{"$f":"Stückliste!Z447","v":0},{"$f":"Stückliste!AB447","v":0},{"$f":"Stückliste!AD447","v":0},{"$f":"Stückliste!AH447","v":0},{"$f":"Stückliste!AJ447","v":0},{"$f":"Stückliste!AL447","v":0},{"$f":"Stückliste!AN447","v":0},{"$f":"Stückliste!AP447","v":0},{"$f":"Stückliste!AR447","v":0},{"$f":"Stückliste!AT447","v":0},{"$f":"Stückliste!AV447","v":0},{"$f":"Stückliste!AF447","v":0},{"$f":"Stückliste!AX447","v":0}]
[{"$f":"A394","v":0},0,8,{"$f":"Stückliste!A448","v":0},{"$f":"Stückliste!D448","v":0},{"$f":"Stückliste!H448","v":0},{"$f":"Stückliste!L448","v":0},{"$f":"Stückliste!P448","v":0},{"$f":"Stückliste!R448","v":0},{"$f":"Stückliste!T448","v":0},{"$f":"Stückliste!V448","v":0},{"$f":"Stückliste!X448","v":0},{"$f":"Stückliste!Z448","v":0},{"$f":"Stückliste!AB448","v":0},{"$f":"Stückliste!AD448","v":0},{"$f":"Stückliste!AH448","v":0},{"$f":"Stückliste!AJ448","v":0},{"$f":"Stückliste!AL448","v":0},{"$f":"Stückliste!AN448","v":0},{"$f":"Stückliste!AP448","v":0},{"$f":"Stückliste!AR448","v":0},{"$f":"Stückliste!AT448","v":0},{"$f":"Stückliste!AV448","v":0},{"$f":"Stückliste!AF448","v":0},{"$f":"Stückliste!AX448","v":0}]
[{"$f":"A395","v":0},0,8,{"$f":"Stückliste!A449","v":0},{"$f":"Stückliste!D449","v":0},{"$f":"Stückliste!H449","v":0},{"$f":"Stückliste!L449","v":0},{"$f":"Stückliste!P449","v":0},{"$f":"Stückliste!R449","v":0},{"$f":"Stückliste!T449","v":0},{"$f":"Stückliste!V449","v":0},{"$f":"Stückliste!X449","v":0},{"$f":"Stückliste!Z449","v":0},{"$f":"Stückliste!AB449","v":0},{"$f":"Stückliste!AD449","v":0},{"$f":"Stückliste!AH449","v":0},{"$f":"Stückliste!AJ449","v":0},{"$f":"Stückliste!AL449","v":0},{"$f":"Stückliste!AN449","v":0},{"$f":"Stückliste!AP449","v":0},{"$f":"Stückliste!AR449","v":0},{"$f":"Stückliste!AT449","v":0},{"$f":"Stückliste!AV449","v":0},{"$f":"Stückliste!AF449","v":0},{"$f":"Stückliste!AX449","v":0}]
[{"$f":"A396","v":0},0,8,{"$f":"Stückliste!A450","v":0},{"$f":"Stückliste!D450","v":0},{"$f":"Stückliste!H450","v":0},{"$f":"Stückliste!L450","v":0},{"$f":"Stückliste!P450","v":0},{"$f":"Stückliste!R450","v":0},{"$f":"Stückliste!T450","v":0},{"$f":"Stückliste!V450","v":0},{"$f":"Stückliste!X450","v":0},{"$f":"Stückliste!Z450","v":0},{"$f":"Stückliste!AB450","v":0},{"$f":"Stückliste!AD450","v":0},{"$f":"Stückliste!AH450","v":0},{"$f":"Stückliste!AJ450","v":0},{"$f":"Stückliste!AL450","v":0},{"$f":"Stückliste!AN450","v":0},{"$f":"Stückliste!AP450","v":0},{"$f":"Stückliste!AR450","v":0},{"$f":"Stückliste!AT450","v":0},{"$f":"Stückliste!AV450","v":0},{"$f":"Stückliste!AF450","v":0},{"$f":"Stückliste!AX450","v":0}]
[{"$f":"A397","v":0},0,8,{"$f":"Stückliste!A451","v":0},{"$f":"Stückliste!D451","v":0},{"$f":"Stückliste!H451","v":0},{"$f":"Stückliste!L451","v":0},{"$f":"Stückliste!P451","v":0},{"$f":"Stückliste!R451","v":0},{"$f":"Stückliste!T451","v":0},{"$f":"Stückliste!V451","v":0},{"$f":"Stückliste!X451","v":0},{"$f":"Stückliste!Z451","v":0},{"$f":"Stückliste!AB451","v":0},{"$f":"Stückliste!AD451","v":0},{"$f":"Stückliste!AH451","v":0},{"$f":"Stückliste!AJ451","v":0},{"$f":"Stückliste!AL451","v":0},{"$f":"Stückliste!AN451","v":0},{"$f":"Stückliste!AP451","v":0},{"$f":"Stückliste!AR451","v":0},{"$f":"Stückliste!AT451","v":0},{"$f":"Stückliste!AV451","v":0},{"$f":"Stückliste!AF451","v":0},{"$f":"Stückliste!AX451","v":0}]
[{"$f":"A398","v":0},0,8,{"$f":"Stückliste!A452","v":0},{"$f":"Stückliste!D452","v":0},{"$f":"Stückliste!H452","v":0},{"$f":"Stückliste!L452","v":0},{"$f":"Stückliste!P452","v":0},{"$f":"Stückliste!R452","v":0},{"$f":"Stückliste!T452","v":0},{"$f":"Stückliste!V452","v":0},{"$f":"Stückliste!X452","v":0},{"$f":"Stückliste!Z452","v":0},{"$f":"Stückliste!AB452","v":0},{"$f":"Stückliste!AD452","v":0},{"$f":"Stückliste!AH452","v":0},{"$f":"Stückliste!AJ452","v":0},{"$f":"Stückliste!AL452","v":0},{"$f":"Stückliste!AN452","v":0},{"$f":"Stückliste!AP452","v":0},{"$f":"Stückliste!AR452","v":0},{"$f":"Stückliste!AT452","v":0},{"$f":"Stückliste!AV452","v":0},{"$f":"Stückliste!AF452","v":0},{"$f":"Stückliste!AX452","v":0}]
[{"$f":"A399","v":0},0,8,{"$f":"Stückliste!A453","v":0},{"$f":"Stückliste!D453","v":0},{"$f":"Stückliste!H453","v":0},{"$f":"Stückliste!L453","v":0},{"$f":"Stückliste!P453","v":0},{"$f":"Stückliste!R453","v":0},{"$f":"Stückliste!T453","v":0},{"$f":"Stückliste!V453","v":0},{"$f":"Stückliste!X453","v":0},{"$f":"Stückliste!Z453","v":0},{"$f":"Stückliste!AB453","v":0},{"$f":"Stückliste!AD453","v":0},{"$f":"Stückliste!AH453","v":0},{"$f":"Stückliste!AJ453","v":0},{"$f":"Stückliste!AL453","v":0},{"$f":"Stückliste!AN453","v":0},{"$f":"Stückliste!AP453","v":0},{"$f":"Stückliste!AR453","v":0},{"$f":"Stückliste!AT453","v":0},{"$f":"Stückliste!AV453","v":0},{"$f":"Stückliste!AF453","v":0},{"$f":"Stückliste!AX453","v":0}]
[{"$f":"A400","v":0},0,8,{"$f":"Stückliste!A454","v":0},{"$f":"Stückliste!D454","v":0},{"$f":"Stückliste!H454","v":0},{"$f":"Stückliste!L454","v":0},{"$f":"Stückliste!P454","v":0},{"$f":"Stückliste!R454","v":0},{"$f":"Stückliste!T454","v":0},{"$f":"Stückliste!V454","v":0},{"$f":"Stückliste!X454","v":0},{"$f":"Stückliste!Z454","v":0},{"$f":"Stückliste!AB454","v":0},{"$f":"Stückliste!AD454","v":0},{"$f":"Stückliste!AH454","v":0},{"$f":"Stückliste!AJ454","v":0},{"$f":"Stückliste!AL454","v":0},{"$f":"Stückliste!AN454","v":0},{"$f":"Stückliste!AP454","v":0},{"$f":"Stückliste!AR454","v":0},{"$f":"Stückliste!AT454","v":0},{"$f":"Stückliste!AV454","v":0},{"$f":"Stückliste!AF454","v":0},{"$f":"Stückliste!AX454","v":0}]
[{"$f":"A401","v":0},0,8,{"$f":"Stückliste!A455","v":0},{"$f":"Stückliste!D455","v":0},{"$f":"Stückliste!H455","v":0},{"$f":"Stückliste!L455","v":0},{"$f":"Stückliste!P455","v":0},{"$f":"Stückliste!R455","v":0},{"$f":"Stückliste!T455","v":0},{"$f":"Stückliste!V455","v":0},{"$f":"Stückliste!X455","v":0},{"$f":"Stückliste!Z455","v":0},{"$f":"Stückliste!AB455","v":0},{"$f":"Stückliste!AD455","v":0},{"$f":"Stückliste!AH455","v":0},{"$f":"Stückliste!AJ455","v":0},{"$f":"Stückliste!AL455","v":0},{"$f":"Stückliste!AN455","v":0},{"$f":"Stückliste!AP455","v":0},{"$f":"Stückliste!AR455","v":0},{"$f":"Stückliste!AT455","v":0},{"$f":"Stückliste!AV455","v":0},{"$f":"Stückliste!AF455","v":0},{"$f":"Stückliste!AX455","v":0}]
[{"$f":"A402","v":0},0,8,{"$f":"Stückliste!A456","v":0},{"$f":"Stückliste!D456","v":0},{"$f":"Stückliste!H456","v":0},{"$f":"Stückliste!L456","v":0},{"$f":"Stückliste!P456","v":0},{"$f":"Stückliste!R456","v":0},{"$f":"Stückliste!T456","v":0},{"$f":"Stückliste!V456","v":0},{"$f":"Stückliste!X456","v":0},{"$f":"Stückliste!Z456","v":0},{"$f":"Stückliste!AB456","v":0},{"$f":"Stückliste!AD456","v":0},{"$f":"Stückliste!AH456","v":0},{"$f":"Stückliste!AJ456","v":0},{"$f":"Stückliste!AL456","v":0},{"$f":"Stückliste!AN456","v":0},{"$f":"Stückliste!AP456","v":0},{"$f":"Stückliste!AR456","v":0},{"$f":"Stückliste!AT456","v":0},{"$f":"Stückliste!AV456","v":0},{"$f":"Stückliste!AF456","v":0},{"$f":"Stückliste!AX456","v":0}]
[{"$f":"A403","v":0},0,8,{"$f":"Stückliste!A457","v":0},{"$f":"Stückliste!D457","v":0},{"$f":"Stückliste!H457","v":0},{"$f":"Stückliste!L457","v":0},{"$f":"Stückliste!P457","v":0},{"$f":"Stückliste!R457","v":0},{"$f":"Stückliste!T457","v":0},{"$f":"Stückliste!V457","v":0},{"$f":"Stückliste!X457","v":0},{"$f":"Stückliste!Z457","v":0},{"$f":"Stückliste!AB457","v":0},{"$f":"Stückliste!AD457","v":0},{"$f":"Stückliste!AH457","v":0},{"$f":"Stückliste!AJ457","v":0},{"$f":"Stückliste!AL457","v":0},{"$f":"Stückliste!AN457","v":0},{"$f":"Stückliste!AP457","v":0},{"$f":"Stückliste!AR457","v":0},{"$f":"Stückliste!AT457","v":0},{"$f":"Stückliste!AV457","v":0},{"$f":"Stückliste!AF457","v":0},{"$f":"Stückliste!AX457","v":0}]
[{"$f":"A404","v":0},0,8,{"$f":"Stückliste!A458","v":0},{"$f":"Stückliste!D458","v":0},{"$f":"Stückliste!H458","v":0},{"$f":"Stückliste!L458","v":0},{"$f":"Stückliste!P458","v":0},{"$f":"Stückliste!R458","v":0},{"$f":"Stückliste!T458","v":0},{"$f":"Stückliste!V458","v":0},{"$f":"Stückliste!X458","v":0},{"$f":"Stückliste!Z458","v":0},{"$f":"Stückliste!AB458","v":0},{"$f":"Stückliste!AD458","v":0},{"$f":"Stückliste!AH458","v":0},{"$f":"Stückliste!AJ458","v":0},{"$f":"Stückliste!AL458","v":0},{"$f":"Stückliste!AN458","v":0},{"$f":"Stückliste!AP458","v":0},{"$f":"Stückliste!AR458","v":0},{"$f":"Stückliste!AT458","v":0},{"$f":"Stückliste!AV458","v":0},{"$f":"Stückliste!AF458","v":0},{"$f":"Stückliste!AX458","v":0}]
[{"$f":"A405","v":0},0,8,{"$f":"Stückliste!A459","v":0},{"$f":"Stückliste!D459","v":0},{"$f":"Stückliste!H459","v":0},{"$f":"Stückliste!L459","v":0},{"$f":"Stückliste!P459","v":0},{"$f":"Stückliste!R459","v":0},{"$f":"Stückliste!T459","v":0},{"$f":"Stückliste!V459","v":0},{"$f":"Stückliste!X459","v":0},{"$f":"Stückliste!Z459","v":0},{"$f":"Stückliste!AB459","v":0},{"$f":"Stückliste!AD459","v":0},{"$f":"Stückliste!AH459","v":0},{"$f":"Stückliste!AJ459","v":0},{"$f":"Stückliste!AL459","v":0},{"$f":"Stückliste!AN459","v":0},{"$f":"Stückliste!AP459","v":0},{"$f":"Stückliste!AR459","v":0},{"$f":"Stückliste!AT459","v":0},{"$f":"Stückliste!AV459","v":0},{"$f":"Stückliste!AF459","v":0},{"$f":"Stückliste!AX459","v":0}]
[{"$f":"A406","v":0},0,8,{"$f":"Stückliste!A460","v":0},{"$f":"Stückliste!D460","v":0},{"$f":"Stückliste!H460","v":0},{"$f":"Stückliste!L460","v":0},{"$f":"Stückliste!P460","v":0},{"$f":"Stückliste!R460","v":0},{"$f":"Stückliste!T460","v":0},{"$f":"Stückliste!V460","v":0},{"$f":"Stückliste!X460","v":0},{"$f":"Stückliste!Z460","v":0},{"$f":"Stückliste!AB460","v":0},{"$f":"Stückliste!AD460","v":0},{"$f":"Stückliste!AH460","v":0},{"$f":"Stückliste!AJ460","v":0},{"$f":"Stückliste!AL460","v":0},{"$f":"Stückliste!AN460","v":0},{"$f":"Stückliste!AP460","v":0},{"$f":"Stückliste!AR460","v":0},{"$f":"Stückliste!AT460","v":0},{"$f":"Stückliste!AV460","v":0},{"$f":"Stückliste!AF460","v":0},{"$f":"Stückliste!AX460","v":0}]
[{"$f":"A407","v":0},0,8,{"$f":"Stückliste!A461","v":0},{"$f":"Stückliste!D461","v":0},{"$f":"Stückliste!H461","v":0},{"$f":"Stückliste!L461","v":0},{"$f":"Stückliste!P461","v":0},{"$f":"Stückliste!R461","v":0},{"$f":"Stückliste!T461","v":0},{"$f":"Stückliste!V461","v":0},{"$f":"Stückliste!X461","v":0},{"$f":"Stückliste!Z461","v":0},{"$f":"Stückliste!AB461","v":0},{"$f":"Stückliste!AD461","v":0},{"$f":"Stückliste!AH461","v":0},{"$f":"Stückliste!AJ461","v":0},{"$f":"Stückliste!AL461","v":0},{"$f":"Stückliste!AN461","v":0},{"$f":"Stückliste!AP461","v":0},{"$f":"Stückliste!AR461","v":0},{"$f":"Stückliste!AT461","v":0},{"$f":"Stückliste!AV461","v":0},{"$f":"Stückliste!AF461","v":0},{"$f":"Stückliste!AX461","v":0}]
[{"$f":"A408","v":0},0,8,{"$f":"Stückliste!A462","v":0},{"$f":"Stückliste!D462","v":0},{"$f":"Stückliste!H462","v":0},{"$f":"Stückliste!L462","v":0},{"$f":"Stückliste!P462","v":0},{"$f":"Stückliste!R462","v":0},{"$f":"Stückliste!T462","v":0},{"$f":"Stückliste!V462","v":0},{"$f":"Stückliste!X462","v":0},{"$f":"Stückliste!Z462","v":0},{"$f":"Stückliste!AB462","v":0},{"$f":"Stückliste!AD462","v":0},{"$f":"Stückliste!AH462","v":0},{"$f":"Stückliste!AJ462","v":0},{"$f":"Stückliste!AL462","v":0},{"$f":"Stückliste!AN462","v":0},{"$f":"Stückliste!AP462","v":0},{"$f":"Stückliste!AR462","v":0},{"$f":"Stückliste!AT462","v":0},{"$f":"Stückliste!AV462","v":0},{"$f":"Stückliste!AF462","v":0},{"$f":"Stückliste!AX462","v":0}]
[{"$f":"A409","v":0},0,8,{"$f":"Stückliste!A463","v":0},{"$f":"Stückliste!D463","v":0},{"$f":"Stückliste!H463","v":0},{"$f":"Stückliste!L463","v":0},{"$f":"Stückliste!P463","v":0},{"$f":"Stückliste!R463","v":0},{"$f":"Stückliste!T463","v":0},{"$f":"Stückliste!V463","v":0},{"$f":"Stückliste!X463","v":0},{"$f":"Stückliste!Z463","v":0},{"$f":"Stückliste!AB463","v":0},{"$f":"Stückliste!AD463","v":0},{"$f":"Stückliste!AH463","v":0},{"$f":"Stückliste!AJ463","v":0},{"$f":"Stückliste!AL463","v":0},{"$f":"Stückliste!AN463","v":0},{"$f":"Stückliste!AP463","v":0},{"$f":"Stückliste!AR463","v":0},{"$f":"Stückliste!AT463","v":0},{"$f":"Stückliste!AV463","v":0},{"$f":"Stückliste!AF463","v":0},{"$f":"Stückliste!AX463","v":0}]
[{"$f":"A410","v":0},0,8,{"$f":"Stückliste!A464","v":0},{"$f":"Stückliste!D464","v":0},{"$f":"Stückliste!H464","v":0},{"$f":"Stückliste!L464","v":0},{"$f":"Stückliste!P464","v":0},{"$f":"Stückliste!R464","v":0},{"$f":"Stückliste!T464","v":0},{"$f":"Stückliste!V464","v":0},{"$f":"Stückliste!X464","v":0},{"$f":"Stückliste!Z464","v":0},{"$f":"Stückliste!AB464","v":0},{"$f":"Stückliste!AD464","v":0},{"$f":"Stückliste!AH464","v":0},{"$f":"Stückliste!AJ464","v":0},{"$f":"Stückliste!AL464","v":0},{"$f":"Stückliste!AN464","v":0},{"$f":"Stückliste!AP464","v":0},{"$f":"Stückliste!AR464","v":0},{"$f":"Stückliste!AT464","v":0},{"$f":"Stückliste!AV464","v":0},{"$f":"Stückliste!AF464","v":0},{"$f":"Stückliste!AX464","v":0}]
[{"$f":"A411","v":0},0,8,{"$f":"Stückliste!A465","v":0},{"$f":"Stückliste!D465","v":0},{"$f":"Stückliste!H465","v":0},{"$f":"Stückliste!L465","v":0},{"$f":"Stückliste!P465","v":0},{"$f":"Stückliste!R465","v":0},{"$f":"Stückliste!T465","v":0},{"$f":"Stückliste!V465","v":0},{"$f":"Stückliste!X465","v":0},{"$f":"Stückliste!Z465","v":0},{"$f":"Stückliste!AB465","v":0},{"$f":"Stückliste!AD465","v":0},{"$f":"Stückliste!AH465","v":0},{"$f":"Stückliste!AJ465","v":0},{"$f":"Stückliste!AL465","v":0},{"$f":"Stückliste!AN465","v":0},{"$f":"Stückliste!AP465","v":0},{"$f":"Stückliste!AR465","v":0},{"$f":"Stückliste!AT465","v":0},{"$f":"Stückliste!AV465","v":0},{"$f":"Stückliste!AF465","v":0},{"$f":"Stückliste!AX465","v":0}]
[{"$f":"A412","v":0},0,8,{"$f":"Stückliste!A466","v":0},{"$f":"Stückliste!D466","v":0},{"$f":"Stückliste!H466","v":0},{"$f":"Stückliste!L466","v":0},{"$f":"Stückliste!P466","v":0},{"$f":"Stückliste!R466","v":0},{"$f":"Stückliste!T466","v":0},{"$f":"Stückliste!V466","v":0},{"$f":"Stückliste!X466","v":0},{"$f":"Stückliste!Z466","v":0},{"$f":"Stückliste!AB466","v":0},{"$f":"Stückliste!AD466","v":0},{"$f":"Stückliste!AH466","v":0},{"$f":"Stückliste!AJ466","v":0},{"$f":"Stückliste!AL466","v":0},{"$f":"Stückliste!AN466","v":0},{"$f":"Stückliste!AP466","v":0},{"$f":"Stückliste!AR466","v":0},{"$f":"Stückliste!AT466","v":0},{"$f":"Stückliste!AV466","v":0},{"$f":"Stückliste!AF466","v":0},{"$f":"Stückliste!AX466","v":0}]
[{"$f":"A413","v":0},0,8,{"$f":"Stückliste!A467","v":0},{"$f":"Stückliste!D467","v":0},{"$f":"Stückliste!H467","v":0},{"$f":"Stückliste!L467","v":0},{"$f":"Stückliste!P467","v":0},{"$f":"Stückliste!R467","v":0},{"$f":"Stückliste!T467","v":0},{"$f":"Stückliste!V467","v":0},{"$f":"Stückliste!X467","v":0},{"$f":"Stückliste!Z467","v":0},{"$f":"Stückliste!AB467","v":0},{"$f":"Stückliste!AD467","v":0},{"$f":"Stückliste!AH467","v":0},{"$f":"Stückliste!AJ467","v":0},{"$f":"Stückliste!AL467","v":0},{"$f":"Stückliste!AN467","v":0},{"$f":"Stückliste!AP467","v":0},{"$f":"Stückliste!AR467","v":0},{"$f":"Stückliste!AT467","v":0},{"$f":"Stückliste!AV467","v":0},{"$f":"Stückliste!AF467","v":0},{"$f":"Stückliste!AX467","v":0}]
[{"$f":"A414","v":0},0,8,{"$f":"Stückliste!A468","v":0},{"$f":"Stückliste!D468","v":0},{"$f":"Stückliste!H468","v":0},{"$f":"Stückliste!L468","v":0},{"$f":"Stückliste!P468","v":0},{"$f":"Stückliste!R468","v":0},{"$f":"Stückliste!T468","v":0},{"$f":"Stückliste!V468","v":0},{"$f":"Stückliste!X468","v":0},{"$f":"Stückliste!Z468","v":0},{"$f":"Stückliste!AB468","v":0},{"$f":"Stückliste!AD468","v":0},{"$f":"Stückliste!AH468","v":0},{"$f":"Stückliste!AJ468","v":0},{"$f":"Stückliste!AL468","v":0},{"$f":"Stückliste!AN468","v":0},{"$f":"Stückliste!AP468","v":0},{"$f":"Stückliste!AR468","v":0},{"$f":"Stückliste!AT468","v":0},{"$f":"Stückliste!AV468","v":0},{"$f":"Stückliste!AF468","v":0},{"$f":"Stückliste!AX468","v":0}]
[{"$f":"A415","v":0},0,8,{"$f":"Stückliste!A469","v":0},{"$f":"Stückliste!D469","v":0},{"$f":"Stückliste!H469","v":0},{"$f":"Stückliste!L469","v":0},{"$f":"Stückliste!P469","v":0},{"$f":"Stückliste!R469","v":0},{"$f":"Stückliste!T469","v":0},{"$f":"Stückliste!V469","v":0},{"$f":"Stückliste!X469","v":0},{"$f":"Stückliste!Z469","v":0},{"$f":"Stückliste!AB469","v":0},{"$f":"Stückliste!AD469","v":0},{"$f":"Stückliste!AH469","v":0},{"$f":"Stückliste!AJ469","v":0},{"$f":"Stückliste!AL469","v":0},{"$f":"Stückliste!AN469","v":0},{"$f":"Stückliste!AP469","v":0},{"$f":"Stückliste!AR469","v":0},{"$f":"Stückliste!AT469","v":0},{"$f":"Stückliste!AV469","v":0},{"$f":"Stückliste!AF469","v":0},{"$f":"Stückliste!AX469","v":0}]
[{"$f":"A416","v":0},0,8,{"$f":"Stückliste!A470","v":0},{"$f":"Stückliste!D470","v":0},{"$f":"Stückliste!H470","v":0},{"$f":"Stückliste!L470","v":0},{"$f":"Stückliste!P470","v":0},{"$f":"Stückliste!R470","v":0},{"$f":"Stückliste!T470","v":0},{"$f":"Stückliste!V470","v":0},{"$f":"Stückliste!X470","v":0},{"$f":"Stückliste!Z470","v":0},{"$f":"Stückliste!AB470","v":0},{"$f":"Stückliste!AD470","v":0},{"$f":"Stückliste!AH470","v":0},{"$f":"Stückliste!AJ470","v":0},{"$f":"Stückliste!AL470","v":0},{"$f":"Stückliste!AN470","v":0},{"$f":"Stückliste!AP470","v":0},{"$f":"Stückliste!AR470","v":0},{"$f":"Stückliste!AT470","v":0},{"$f":"Stückliste!AV470","v":0},{"$f":"Stückliste!AF470","v":0},{"$f":"Stückliste!AX470","v":0}]
[{"$f":"A417","v":0},0,8,{"$f":"Stückliste!A471","v":0},{"$f":"Stückliste!D471","v":0},{"$f":"Stückliste!H471","v":0},{"$f":"Stückliste!L471","v":0},{"$f":"Stückliste!P471","v":0},{"$f":"Stückliste!R471","v":0},{"$f":"Stückliste!T471","v":0},{"$f":"Stückliste!V471","v":0},{"$f":"Stückliste!X471","v":0},{"$f":"Stückliste!Z471","v":0},{"$f":"Stückliste!AB471","v":0},{"$f":"Stückliste!AD471","v":0},{"$f":"Stückliste!AH471","v":0},{"$f":"Stückliste!AJ471","v":0},{"$f":"Stückliste!AL471","v":0},{"$f":"Stückliste!AN471","v":0},{"$f":"Stückliste!AP471","v":0},{"$f":"Stückliste!AR471","v":0},{"$f":"Stückliste!AT471","v":0},{"$f":"Stückliste!AV471","v":0},{"$f":"Stückliste!AF471","v":0},{"$f":"Stückliste!AX471","v":0}]
[{"$f":"A418","v":0},0,8,{"$f":"Stückliste!A472","v":0},{"$f":"Stückliste!D472","v":0},{"$f":"Stückliste!H472","v":0},{"$f":"Stückliste!L472","v":0},{"$f":"Stückliste!P472","v":0},{"$f":"Stückliste!R472","v":0},{"$f":"Stückliste!T472","v":0},{"$f":"Stückliste!V472","v":0},{"$f":"Stückliste!X472","v":0},{"$f":"Stückliste!Z472","v":0},{"$f":"Stückliste!AB472","v":0},{"$f":"Stückliste!AD472","v":0},{"$f":"Stückliste!AH472","v":0},{"$f":"Stückliste!AJ472","v":0},{"$f":"Stückliste!AL472","v":0},{"$f":"Stückliste!AN472","v":0},{"$f":"Stückliste!AP472","v":0},{"$f":"Stückliste!AR472","v":0},{"$f":"Stückliste!AT472","v":0},{"$f":"Stückliste!AV472","v":0},{"$f":"Stückliste!AF472","v":0},{"$f":"Stückliste!AX472","v":0}]
[{"$f":"A419","v":0},0,8,{"$f":"Stückliste!A473","v":0},{"$f":"Stückliste!D473","v":0},{"$f":"Stückliste!H473","v":0},{"$f":"Stückliste!L473","v":0},{"$f":"Stückliste!P473","v":0},{"$f":"Stückliste!R473","v":0},{"$f":"Stückliste!T473","v":0},{"$f":"Stückliste!V473","v":0},{"$f":"Stückliste!X473","v":0},{"$f":"Stückliste!Z473","v":0},{"$f":"Stückliste!AB473","v":0},{"$f":"Stückliste!AD473","v":0},{"$f":"Stückliste!AH473","v":0},{"$f":"Stückliste!AJ473","v":0},{"$f":"Stückliste!AL473","v":0},{"$f":"Stückliste!AN473","v":0},{"$f":"Stückliste!AP473","v":0},{"$f":"Stückliste!AR473","v":0},{"$f":"Stückliste!AT473","v":0},{"$f":"Stückliste!AV473","v":0},{"$f":"Stückliste!AF473","v":0},{"$f":"Stückliste!AX473","v":0}]
[{"$f":"A420","v":0},0,8,{"$f":"Stückliste!A474","v":0},{"$f":"Stückliste!D474","v":0},{"$f":"Stückliste!H474","v":0},{"$f":"Stückliste!L474","v":0},{"$f":"Stückliste!P474","v":0},{"$f":"Stückliste!R474","v":0},{"$f":"Stückliste!T474","v":0},{"$f":"Stückliste!V474","v":0},{"$f":"Stückliste!X474","v":0},{"$f":"Stückliste!Z474","v":0},{"$f":"Stückliste!AB474","v":0},{"$f":"Stückliste!AD474","v":0},{"$f":"Stückliste!AH474","v":0},{"$f":"Stückliste!AJ474","v":0},{"$f":"Stückliste!AL474","v":0},{"$f":"Stückliste!AN474","v":0},{"$f":"Stückliste!AP474","v":0},{"$f":"Stückliste!AR474","v":0},{"$f":"Stückliste!AT474","v":0},{"$f":"Stückliste!AV474","v":0},{"$f":"Stückliste!AF474","v":0},{"$f":"Stückliste!AX474","v":0}]
[{"$f":"A421","v":0},0,8,{"$f":"Stückliste!A475","v":0},{"$f":"Stückliste!D475","v":0},{"$f":"Stückliste!H475","v":0},{"$f":"Stückliste!L475","v":0},{"$f":"Stückliste!P475","v":0},{"$f":"Stückliste!R475","v":0},{"$f":"Stückliste!T475","v":0},{"$f":"Stückliste!V475","v":0},{"$f":"Stückliste!X475","v":0},{"$f":"Stückliste!Z475","v":0},{"$f":"Stückliste!AB475","v":0},{"$f":"Stückliste!AD475","v":0},{"$f":"Stückliste!AH475","v":0},{"$f":"Stückliste!AJ475","v":0},{"$f":"Stückliste!AL475","v":0},{"$f":"Stückliste!AN475","v":0},{"$f":"Stückliste!AP475","v":0},{"$f":"Stückliste!AR475","v":0},{"$f":"Stückliste!AT475","v":0},{"$f":"Stückliste!AV475","v":0},{"$f":"Stückliste!AF475","v":0},{"$f":"Stückliste!AX475","v":0}]
[{"$f":"A422","v":0},0,8,{"$f":"Stückliste!A476","v":0},{"$f":"Stückliste!D476","v":0},{"$f":"Stückliste!H476","v":0},{"$f":"Stückliste!L476","v":0},{"$f":"Stückliste!P476","v":0},{"$f":"Stückliste!R476","v":0},{"$f":"Stückliste!T476","v":0},{"$f":"Stückliste!V476","v":0},{"$f":"Stückliste!X476","v":0},{"$f":"Stückliste!Z476","v":0},{"$f":"Stückliste!AB476","v":0},{"$f":"Stückliste!AD476","v":0},{"$f":"Stückliste!AH476","v":0},{"$f":"Stückliste!AJ476","v":0},{"$f":"Stückliste!AL476","v":0},{"$f":"Stückliste!AN476","v":0},{"$f":"Stückliste!AP476","v":0},{"$f":"Stückliste!AR476","v":0},{"$f":"Stückliste!AT476","v":0},{"$f":"Stückliste!AV476","v":0},{"$f":"Stückliste!AF476","v":0},{"$f":"Stückliste!AX476","v":0}]
[{"$f":"A423","v":0},0,8,{"$f":"Stückliste!A477","v":0},{"$f":"Stückliste!D477","v":0},{"$f":"Stückliste!H477","v":0},{"$f":"Stückliste!L477","v":0},{"$f":"Stückliste!P477","v":0},{"$f":"Stückliste!R477","v":0},{"$f":"Stückliste!T477","v":0},{"$f":"Stückliste!V477","v":0},{"$f":"Stückliste!X477","v":0},{"$f":"Stückliste!Z477","v":0},{"$f":"Stückliste!AB477","v":0},{"$f":"Stückliste!AD477","v":0},{"$f":"Stückliste!AH477","v":0},{"$f":"Stückliste!AJ477","v":0},{"$f":"Stückliste!AL477","v":0},{"$f":"Stückliste!AN477","v":0},{"$f":"Stückliste!AP477","v":0},{"$f":"Stückliste!AR477","v":0},{"$f":"Stückliste!AT477","v":0},{"$f":"Stückliste!AV477","v":0},{"$f":"Stückliste!AF477","v":0},{"$f":"Stückliste!AX477","v":0}]
[{"$f":"A424","v":0},0,8,{"$f":"Stückliste!A478","v":0},{"$f":"Stückliste!D478","v":0},{"$f":"Stückliste!H478","v":0},{"$f":"Stückliste!L478","v":0},{"$f":"Stückliste!P478","v":0},{"$f":"Stückliste!R478","v":0},{"$f":"Stückliste!T478","v":0},{"$f":"Stückliste!V478","v":0},{"$f":"Stückliste!X478","v":0},{"$f":"Stückliste!Z478","v":0},{"$f":"Stückliste!AB478","v":0},{"$f":"Stückliste!AD478","v":0},{"$f":"Stückliste!AH478","v":0},{"$f":"Stückliste!AJ478","v":0},{"$f":"Stückliste!AL478","v":0},{"$f":"Stückliste!AN478","v":0},{"$f":"Stückliste!AP478","v":0},{"$f":"Stückliste!AR478","v":0},{"$f":"Stückliste!AT478","v":0},{"$f":"Stückliste!AV478","v":0},{"$f":"Stückliste!AF478","v":0},{"$f":"Stückliste!AX478","v":0}]
[{"$f":"A425","v":0},0,8,{"$f":"Stückliste!A479","v":0},{"$f":"Stückliste!D479","v":0},{"$f":"Stückliste!H479","v":0},{"$f":"Stückliste!L479","v":0},{"$f":"Stückliste!P479","v":0},{"$f":"Stückliste!R479","v":0},{"$f":"Stückliste!T479","v":0},{"$f":"Stückliste!V479","v":0},{"$f":"Stückliste!X479","v":0},{"$f":"Stückliste!Z479","v":0},{"$f":"Stückliste!AB479","v":0},{"$f":"Stückliste!AD479","v":0},{"$f":"Stückliste!AH479","v":0},{"$f":"Stückliste!AJ479","v":0},{"$f":"Stückliste!AL479","v":0},{"$f":"Stückliste!AN479","v":0},{"$f":"Stückliste!AP479","v":0},{"$f":"Stückliste!AR479","v":0},{"$f":"Stückliste!AT479","v":0},{"$f":"Stückliste!AV479","v":0},{"$f":"Stückliste!AF479","v":0},{"$f":"Stückliste!AX479","v":0}]
[{"$f":"A426","v":0},0,8,{"$f":"Stückliste!A480","v":0},{"$f":"Stückliste!D480","v":0},{"$f":"Stückliste!H480","v":0},{"$f":"Stückliste!L480","v":0},{"$f":"Stückliste!P480","v":0},{"$f":"Stückliste!R480","v":0},{"$f":"Stückliste!T480","v":0},{"$f":"Stückliste!V480","v":0},{"$f":"Stückliste!X480","v":0},{"$f":"Stückliste!Z480","v":0},{"$f":"Stückliste!AB480","v":0},{"$f":"Stückliste!AD480","v":0},{"$f":"Stückliste!AH480","v":0},{"$f":"Stückliste!AJ480","v":0},{"$f":"Stückliste!AL480","v":0},{"$f":"Stückliste!AN480","v":0},{"$f":"Stückliste!AP480","v":0},{"$f":"Stückliste!AR480","v":0},{"$f":"Stückliste!AT480","v":0},{"$f":"Stückliste!AV480","v":0},{"$f":"Stückliste!AF480","v":0},{"$f":"Stückliste!AX480","v":0}]
[{"$f":"A427","v":0},0,8,{"$f":"Stückliste!A481","v":0},{"$f":"Stückliste!D481","v":0},{"$f":"Stückliste!H481","v":0},{"$f":"Stückliste!L481","v":0},{"$f":"Stückliste!P481","v":0},{"$f":"Stückliste!R481","v":0},{"$f":"Stückliste!T481","v":0},{"$f":"Stückliste!V481","v":0},{"$f":"Stückliste!X481","v":0},{"$f":"Stückliste!Z481","v":0},{"$f":"Stückliste!AB481","v":0},{"$f":"Stückliste!AD481","v":0},{"$f":"Stückliste!AH481","v":0},{"$f":"Stückliste!AJ481","v":0},{"$f":"Stückliste!AL481","v":0},{"$f":"Stückliste!AN481","v":0},{"$f":"Stückliste!AP481","v":0},{"$f":"Stückliste!AR481","v":0},{"$f":"Stückliste!AT481","v":0},{"$f":"Stückliste!AV481","v":0},{"$f":"Stückliste!AF481","v":0},{"$f":"Stückliste!AX481","v":0}]
[{"$f":"A428","v":0},0,8,{"$f":"Stückliste!A482","v":0},{"$f":"Stückliste!D482","v":0},{"$f":"Stückliste!H482","v":0},{"$f":"Stückliste!L482","v":0},{"$f":"Stückliste!P482","v":0},{"$f":"Stückliste!R482","v":0},{"$f":"Stückliste!T482","v":0},{"$f":"Stückliste!V482","v":0},{"$f":"Stückliste!X482","v":0},{"$f":"Stückliste!Z482","v":0},{"$f":"Stückliste!AB482","v":0},{"$f":"Stückliste!AD482","v":0},{"$f":"Stückliste!AH482","v":0},{"$f":"Stückliste!AJ482","v":0},{"$f":"Stückliste!AL482","v":0},{"$f":"Stückliste!AN482","v":0},{"$f":"Stückliste!AP482","v":0},{"$f":"Stückliste!AR482","v":0},{"$f":"Stückliste!AT482","v":0},{"$f":"Stückliste!AV482","v":0},{"$f":"Stückliste!AF482","v":0},{"$f":"Stückliste!AX482","v":0}]
[{"$f":"A429","v":0},0,8,{"$f":"Stückliste!A483","v":0},{"$f":"Stückliste!D483","v":0},{"$f":"Stückliste!H483","v":0},{"$f":"Stückliste!L483","v":0},{"$f":"Stückliste!P483","v":0},{"$f":"Stückliste!R483","v":0},{"$f":"Stückliste!T483","v":0},{"$f":"Stückliste!V483","v":0},{"$f":"Stückliste!X483","v":0},{"$f":"Stückliste!Z483","v":0},{"$f":"Stückliste!AB483","v":0},{"$f":"Stückliste!AD483","v":0},{"$f":"Stückliste!AH483","v":0},{"$f":"Stückliste!AJ483","v":0},{"$f":"Stückliste!AL483","v":0},{"$f":"Stückliste!AN483","v":0},{"$f":"Stückliste!AP483","v":0},{"$f":"Stückliste!AR483","v":0},{"$f":"Stückliste!AT483","v":0},{"$f":"Stückliste!AV483","v":0},{"$f":"Stückliste!AF483","v":0},{"$f":"Stückliste!AX483","v":0}]
[{"$f":"A430","v":0},0,8,{"$f":"Stückliste!A484","v":0},{"$f":"Stückliste!D484","v":0},{"$f":"Stückliste!H484","v":0},{"$f":"Stückliste!L484","v":0},{"$f":"Stückliste!P484","v":0},{"$f":"Stückliste!R484","v":0},{"$f":"Stückliste!T484","v":0},{"$f":"Stückliste!V484","v":0},{"$f":"Stückliste!X484","v":0},{"$f":"Stückliste!Z484","v":0},{"$f":"Stückliste!AB484","v":0},{"$f":"Stückliste!AD484","v":0},{"$f":"Stückliste!AH484","v":0},{"$f":"Stückliste!AJ484","v":0},{"$f":"Stückliste!AL484","v":0},{"$f":"Stückliste!AN484","v":0},{"$f":"Stückliste!AP484","v":0},{"$f":"Stückliste!AR484","v":0},{"$f":"Stückliste!AT484","v":0},{"$f":"Stückliste!AV484","v":0},{"$f":"Stückliste!AF484","v":0},{"$f":"Stückliste!AX484","v":0}]
[{"$f":"A431","v":0},0,8,{"$f":"Stückliste!A485","v":0},{"$f":"Stückliste!D485","v":0},{"$f":"Stückliste!H485","v":0},{"$f":"Stückliste!L485","v":0},{"$f":"Stückliste!P485","v":0},{"$f":"Stückliste!R485","v":0},{"$f":"Stückliste!T485","v":0},{"$f":"Stückliste!V485","v":0},{"$f":"Stückliste!X485","v":0},{"$f":"Stückliste!Z485","v":0},{"$f":"Stückliste!AB485","v":0},{"$f":"Stückliste!AD485","v":0},{"$f":"Stückliste!AH485","v":0},{"$f":"Stückliste!AJ485","v":0},{"$f":"Stückliste!AL485","v":0},{"$f":"Stückliste!AN485","v":0},{"$f":"Stückliste!AP485","v":0},{"$f":"Stückliste!AR485","v":0},{"$f":"Stückliste!AT485","v":0},{"$f":"Stückliste!AV485","v":0},{"$f":"Stückliste!AF485","v":0},{"$f":"Stückliste!AX485","v":0}]
[{"$f":"A432","v":0},0,8,{"$f":"Stückliste!A486","v":0},{"$f":"Stückliste!D486","v":0},{"$f":"Stückliste!H486","v":0},{"$f":"Stückliste!L486","v":0},{"$f":"Stückliste!P486","v":0},{"$f":"Stückliste!R486","v":0},{"$f":"Stückliste!T486","v":0},{"$f":"Stückliste!V486","v":0},{"$f":"Stückliste!X486","v":0},{"$f":"Stückliste!Z486","v":0},{"$f":"Stückliste!AB486","v":0},{"$f":"Stückliste!AD486","v":0},{"$f":"Stückliste!AH486","v":0},{"$f":"Stückliste!AJ486","v":0},{"$f":"Stückliste!AL486","v":0},{"$f":"Stückliste!AN486","v":0},{"$f":"Stückliste!AP486","v":0},{"$f":"Stückliste!AR486","v":0},{"$f":"Stückliste!AT486","v":0},{"$f":"Stückliste!AV486","v":0},{"$f":"Stückliste!AF486","v":0},{"$f":"Stückliste!AX486","v":0}]
[{"$f":"A433","v":0},0,8,{"$f":"Stückliste!A487","v":0},{"$f":"Stückliste!D487","v":0},{"$f":"Stückliste!H487","v":0},{"$f":"Stückliste!L487","v":0},{"$f":"Stückliste!P487","v":0},{"$f":"Stückliste!R487","v":0},{"$f":"Stückliste!T487","v":0},{"$f":"Stückliste!V487","v":0},{"$f":"Stückliste!X487","v":0},{"$f":"Stückliste!Z487","v":0},{"$f":"Stückliste!AB487","v":0},{"$f":"Stückliste!AD487","v":0},{"$f":"Stückliste!AH487","v":0},{"$f":"Stückliste!AJ487","v":0},{"$f":"Stückliste!AL487","v":0},{"$f":"Stückliste!AN487","v":0},{"$f":"Stückliste!AP487","v":0},{"$f":"Stückliste!AR487","v":0},{"$f":"Stückliste!AT487","v":0},{"$f":"Stückliste!AV487","v":0},{"$f":"Stückliste!AF487","v":0},{"$f":"Stückliste!AX487","v":0}]
[{"$f":"A434","v":0},0,8,{"$f":"Stückliste!A488","v":0},{"$f":"Stückliste!D488","v":0},{"$f":"Stückliste!H488","v":0},{"$f":"Stückliste!L488","v":0},{"$f":"Stückliste!P488","v":0},{"$f":"Stückliste!R488","v":0},{"$f":"Stückliste!T488","v":0},{"$f":"Stückliste!V488","v":0},{"$f":"Stückliste!X488","v":0},{"$f":"Stückliste!Z488","v":0},{"$f":"Stückliste!AB488","v":0},{"$f":"Stückliste!AD488","v":0},{"$f":"Stückliste!AH488","v":0},{"$f":"Stückliste!AJ488","v":0},{"$f":"Stückliste!AL488","v":0},{"$f":"Stückliste!AN488","v":0},{"$f":"Stückliste!AP488","v":0},{"$f":"Stückliste!AR488","v":0},{"$f":"Stückliste!AT488","v":0},{"$f":"Stückliste!AV488","v":0},{"$f":"Stückliste!AF488","v":0},{"$f":"Stückliste!AX488","v":0}]
[{"$f":"A435","v":0},0,8,{"$f":"Stückliste!A489","v":0},{"$f":"Stückliste!D489","v":0},{"$f":"Stückliste!H489","v":0},{"$f":"Stückliste!L489","v":0},{"$f":"Stückliste!P489","v":0},{"$f":"Stückliste!R489","v":0},{"$f":"Stückliste!T489","v":0},{"$f":"Stückliste!V489","v":0},{"$f":"Stückliste!X489","v":0},{"$f":"Stückliste!Z489","v":0},{"$f":"Stückliste!AB489","v":0},{"$f":"Stückliste!AD489","v":0},{"$f":"Stückliste!AH489","v":0},{"$f":"Stückliste!AJ489","v":0},{"$f":"Stückliste!AL489","v":0},{"$f":"Stückliste!AN489","v":0},{"$f":"Stückliste!AP489","v":0},{"$f":"Stückliste!AR489","v":0},{"$f":"Stückliste!AT489","v":0},{"$f":"Stückliste!AV489","v":0},{"$f":"Stückliste!AF489","v":0},{"$f":"Stückliste!AX489","v":0}]
[{"$f":"A436","v":0},0,8,{"$f":"Stückliste!A490","v":0},{"$f":"Stückliste!D490","v":0},{"$f":"Stückliste!H490","v":0},{"$f":"Stückliste!L490","v":0},{"$f":"Stückliste!P490","v":0},{"$f":"Stückliste!R490","v":0},{"$f":"Stückliste!T490","v":0},{"$f":"Stückliste!V490","v":0},{"$f":"Stückliste!X490","v":0},{"$f":"Stückliste!Z490","v":0},{"$f":"Stückliste!AB490","v":0},{"$f":"Stückliste!AD490","v":0},{"$f":"Stückliste!AH490","v":0},{"$f":"Stückliste!AJ490","v":0},{"$f":"Stückliste!AL490","v":0},{"$f":"Stückliste!AN490","v":0},{"$f":"Stückliste!AP490","v":0},{"$f":"Stückliste!AR490","v":0},{"$f":"Stückliste!AT490","v":0},{"$f":"Stückliste!AV490","v":0},{"$f":"Stückliste!AF490","v":0},{"$f":"Stückliste!AX490","v":0}]
[{"$f":"A437","v":0},0,8,{"$f":"Stückliste!A491","v":0},{"$f":"Stückliste!D491","v":0},{"$f":"Stückliste!H491","v":0},{"$f":"Stückliste!L491","v":0},{"$f":"Stückliste!P491","v":0},{"$f":"Stückliste!R491","v":0},{"$f":"Stückliste!T491","v":0},{"$f":"Stückliste!V491","v":0},{"$f":"Stückliste!X491","v":0},{"$f":"Stückliste!Z491","v":0},{"$f":"Stückliste!AB491","v":0},{"$f":"Stückliste!AD491","v":0},{"$f":"Stückliste!AH491","v":0},{"$f":"Stückliste!AJ491","v":0},{"$f":"Stückliste!AL491","v":0},{"$f":"Stückliste!AN491","v":0},{"$f":"Stückliste!AP491","v":0},{"$f":"Stückliste!AR491","v":0},{"$f":"Stückliste!AT491","v":0},{"$f":"Stückliste!AV491","v":0},{"$f":"Stückliste!AF491","v":0},{"$f":"Stückliste!AX491","v":0}]
[{"$f":"A438","v":0},0,8,{"$f":"Stückliste!A492","v":0},{"$f":"Stückliste!D492","v":0},{"$f":"Stückliste!H492","v":0},{"$f":"Stückliste!L492","v":0},{"$f":"Stückliste!P492","v":0},{"$f":"Stückliste!R492","v":0},{"$f":"Stückliste!T492","v":0},{"$f":"Stückliste!V492","v":0},{"$f":"Stückliste!X492","v":0},{"$f":"Stückliste!Z492","v":0},{"$f":"Stückliste!AB492","v":0},{"$f":"Stückliste!AD492","v":0},{"$f":"Stückliste!AH492","v":0},{"$f":"Stückliste!AJ492","v":0},{"$f":"Stückliste!AL492","v":0},{"$f":"Stückliste!AN492","v":0},{"$f":"Stückliste!AP492","v":0},{"$f":"Stückliste!AR492","v":0},{"$f":"Stückliste!AT492","v":0},{"$f":"Stückliste!AV492","v":0},{"$f":"Stückliste!AF492","v":0},{"$f":"Stückliste!AX492","v":0}]
[{"$f":"A439","v":0},0,8,{"$f":"Stückliste!A493","v":0},{"$f":"Stückliste!D493","v":0},{"$f":"Stückliste!H493","v":0},{"$f":"Stückliste!L493","v":0},{"$f":"Stückliste!P493","v":0},{"$f":"Stückliste!R493","v":0},{"$f":"Stückliste!T493","v":0},{"$f":"Stückliste!V493","v":0},{"$f":"Stückliste!X493","v":0},{"$f":"Stückliste!Z493","v":0},{"$f":"Stückliste!AB493","v":0},{"$f":"Stückliste!AD493","v":0},{"$f":"Stückliste!AH493","v":0},{"$f":"Stückliste!AJ493","v":0},{"$f":"Stückliste!AL493","v":0},{"$f":"Stückliste!AN493","v":0},{"$f":"Stückliste!AP493","v":0},{"$f":"Stückliste!AR493","v":0},{"$f":"Stückliste!AT493","v":0},{"$f":"Stückliste!AV493","v":0},{"$f":"Stückliste!AF493","v":0},{"$f":"Stückliste!AX493","v":0}]
[{"$f":"A440","v":0},0,8,{"$f":"Stückliste!A494","v":0},{"$f":"Stückliste!D494","v":0},{"$f":"Stückliste!H494","v":0},{"$f":"Stückliste!L494","v":0},{"$f":"Stückliste!P494","v":0},{"$f":"Stückliste!R494","v":0},{"$f":"Stückliste!T494","v":0},{"$f":"Stückliste!V494","v":0},{"$f":"Stückliste!X494","v":0},{"$f":"Stückliste!Z494","v":0},{"$f":"Stückliste!AB494","v":0},{"$f":"Stückliste!AD494","v":0},{"$f":"Stückliste!AH494","v":0},{"$f":"Stückliste!AJ494","v":0},{"$f":"Stückliste!AL494","v":0},{"$f":"Stückliste!AN494","v":0},{"$f":"Stückliste!AP494","v":0},{"$f":"Stückliste!AR494","v":0},{"$f":"Stückliste!AT494","v":0},{"$f":"Stückliste!AV494","v":0},{"$f":"Stückliste!AF494","v":0},{"$f":"Stückliste!AX494","v":0}]
[{"$f":"A441","v":0},0,8,{"$f":"Stückliste!A495","v":0},{"$f":"Stückliste!D495","v":0},{"$f":"Stückliste!H495","v":0},{"$f":"Stückliste!L495","v":0},{"$f":"Stückliste!P495","v":0},{"$f":"Stückliste!R495","v":0},{"$f":"Stückliste!T495","v":0},{"$f":"Stückliste!V495","v":0},{"$f":"Stückliste!X495","v":0},{"$f":"Stückliste!Z495","v":0},{"$f":"Stückliste!AB495","v":0},{"$f":"Stückliste!AD495","v":0},{"$f":"Stückliste!AH495","v":0},{"$f":"Stückliste!AJ495","v":0},{"$f":"Stückliste!AL495","v":0},{"$f":"Stückliste!AN495","v":0},{"$f":"Stückliste!AP495","v":0},{"$f":"Stückliste!AR495","v":0},{"$f":"Stückliste!AT495","v":0},{"$f":"Stückliste!AV495","v":0},{"$f":"Stückliste!AF495","v":0},{"$f":"Stückliste!AX495","v":0}]
[{"$f":"A442","v":0},0,8,{"$f":"Stückliste!A496","v":0},{"$f":"Stückliste!D496","v":0},{"$f":"Stückliste!H496","v":0},{"$f":"Stückliste!L496","v":0},{"$f":"Stückliste!P496","v":0},{"$f":"Stückliste!R496","v":0},{"$f":"Stückliste!T496","v":0},{"$f":"Stückliste!V496","v":0},{"$f":"Stückliste!X496","v":0},{"$f":"Stückliste!Z496","v":0},{"$f":"Stückliste!AB496","v":0},{"$f":"Stückliste!AD496","v":0},{"$f":"Stückliste!AH496","v":0},{"$f":"Stückliste!AJ496","v":0},{"$f":"Stückliste!AL496","v":0},{"$f":"Stückliste!AN496","v":0},{"$f":"Stückliste!AP496","v":0},{"$f":"Stückliste!AR496","v":0},{"$f":"Stückliste!AT496","v":0},{"$f":"Stückliste!AV496","v":0},{"$f":"Stückliste!AF496","v":0},{"$f":"Stückliste!AX496","v":0}]
[{"$f":"A443","v":0},0,8,{"$f":"Stückliste!A497","v":0},{"$f":"Stückliste!D497","v":0},{"$f":"Stückliste!H497","v":0},{"$f":"Stückliste!L497","v":0},{"$f":"Stückliste!P497","v":0},{"$f":"Stückliste!R497","v":0},{"$f":"Stückliste!T497","v":0},{"$f":"Stückliste!V497","v":0},{"$f":"Stückliste!X497","v":0},{"$f":"Stückliste!Z497","v":0},{"$f":"Stückliste!AB497","v":0},{"$f":"Stückliste!AD497","v":0},{"$f":"Stückliste!AH497","v":0},{"$f":"Stückliste!AJ497","v":0},{"$f":"Stückliste!AL497","v":0},{"$f":"Stückliste!AN497","v":0},{"$f":"Stückliste!AP497","v":0},{"$f":"Stückliste!AR497","v":0},{"$f":"Stückliste!AT497","v":0},{"$f":"Stückliste!AV497","v":0},{"$f":"Stückliste!AF497","v":0},{"$f":"Stückliste!AX497","v":0}]
[{"$f":"A444","v":0},0,8,{"$f":"Stückliste!A498","v":0},{"$f":"Stückliste!D498","v":0},{"$f":"Stückliste!H498","v":0},{"$f":"Stückliste!L498","v":0},{"$f":"Stückliste!P498","v":0},{"$f":"Stückliste!R498","v":0},{"$f":"Stückliste!T498","v":0},{"$f":"Stückliste!V498","v":0},{"$f":"Stückliste!X498","v":0},{"$f":"Stückliste!Z498","v":0},{"$f":"Stückliste!AB498","v":0},{"$f":"Stückliste!AD498","v":0},{"$f":"Stückliste!AH498","v":0},{"$f":"Stückliste!AJ498","v":0},{"$f":"Stückliste!AL498","v":0},{"$f":"Stückliste!AN498","v":0},{"$f":"Stückliste!AP498","v":0},{"$f":"Stückliste!AR498","v":0},{"$f":"Stückliste!AT498","v":0},{"$f":"Stückliste!AV498","v":0},{"$f":"Stückliste!AF498","v":0},{"$f":"Stückliste!AX498","v":0}]
[{"$f":"A445","v":0},0,8,{"$f":"Stückliste!A499","v":0},{"$f":"Stückliste!D499","v":0},{"$f":"Stückliste!H499","v":0},{"$f":"Stückliste!L499","v":0},{"$f":"Stückliste!P499","v":0},{"$f":"Stückliste!R499","v":0},{"$f":"Stückliste!T499","v":0},{"$f":"Stückliste!V499","v":0},{"$f":"Stückliste!X499","v":0},{"$f":"Stückliste!Z499","v":0},{"$f":"Stückliste!AB499","v":0},{"$f":"Stückliste!AD499","v":0},{"$f":"Stückliste!AH499","v":0},{"$f":"Stückliste!AJ499","v":0},{"$f":"Stückliste!AL499","v":0},{"$f":"Stückliste!AN499","v":0},{"$f":"Stückliste!AP499","v":0},{"$f":"Stückliste!AR499","v":0},{"$f":"Stückliste!AT499","v":0},{"$f":"Stückliste!AV499","v":0},{"$f":"Stückliste!AF499","v":0},{"$f":"Stückliste!AX499","v":0}]
[{"$f":"A446","v":0},0,8,{"$f":"Stückliste!A500","v":0},{"$f":"Stückliste!D500","v":0},{"$f":"Stückliste!H500","v":0},{"$f":"Stückliste!L500","v":0},{"$f":"Stückliste!P500","v":0},{"$f":"Stückliste!R500","v":0},{"$f":"Stückliste!T500","v":0},{"$f":"Stückliste!V500","v":0},{"$f":"Stückliste!X500","v":0},{"$f":"Stückliste!Z500","v":0},{"$f":"Stückliste!AB500","v":0},{"$f":"Stückliste!AD500","v":0},{"$f":"Stückliste!AH500","v":0},{"$f":"Stückliste!AJ500","v":0},{"$f":"Stückliste!AL500","v":0},{"$f":"Stückliste!AN500","v":0},{"$f":"Stückliste!AP500","v":0},{"$f":"Stückliste!AR500","v":0},{"$f":"Stückliste!AT500","v":0},{"$f":"Stückliste!AV500","v":0},{"$f":"Stückliste!AF500","v":0},{"$f":"Stückliste!AX500","v":0}]
[{"$f":"A447","v":0},0,8,{"$f":"Stückliste!A501","v":0},{"$f":"Stückliste!D501","v":0},{"$f":"Stückliste!H501","v":0},{"$f":"Stückliste!L501","v":0},{"$f":"Stückliste!P501","v":0},{"$f":"Stückliste!R501","v":0},{"$f":"Stückliste!T501","v":0},{"$f":"Stückliste!V501","v":0},{"$f":"Stückliste!X501","v":0},{"$f":"Stückliste!Z501","v":0},{"$f":"Stückliste!AB501","v":0},{"$f":"Stückliste!AD501","v":0},{"$f":"Stückliste!AH501","v":0},{"$f":"Stückliste!AJ501","v":0},{"$f":"Stückliste!AL501","v":0},{"$f":"Stückliste!AN501","v":0},{"$f":"Stückliste!AP501","v":0},{"$f":"Stückliste!AR501","v":0},{"$f":"Stückliste!AT501","v":0},{"$f":"Stückliste!AV501","v":0},{"$f":"Stückliste!AF501","v":0},{"$f":"Stückliste!AX501","v":0}]
[{"$f":"A448","v":0},0,8,{"$f":"Stückliste!A502","v":0},{"$f":"Stückliste!D502","v":0},{"$f":"Stückliste!H502","v":0},{"$f":"Stückliste!L502","v":0},{"$f":"Stückliste!P502","v":0},{"$f":"Stückliste!R502","v":0},{"$f":"Stückliste!T502","v":0},{"$f":"Stückliste!V502","v":0},{"$f":"Stückliste!X502","v":0},{"$f":"Stückliste!Z502","v":0},{"$f":"Stückliste!AB502","v":0},{"$f":"Stückliste!AD502","v":0},{"$f":"Stückliste!AH502","v":0},{"$f":"Stückliste!AJ502","v":0},{"$f":"Stückliste!AL502","v":0},{"$f":"Stückliste!AN502","v":0},{"$f":"Stückliste!AP502","v":0},{"$f":"Stückliste!AR502","v":0},{"$f":"Stückliste!AT502","v":0},{"$f":"Stückliste!AV502","v":0},{"$f":"Stückliste!AF502","v":0},{"$f":"Stückliste!AX502","v":0}]
[{"$f":"A449","v":0},0,8,{"$f":"Stückliste!A503","v":0},{"$f":"Stückliste!D503","v":0},{"$f":"Stückliste!H503","v":0},{"$f":"Stückliste!L503","v":0},{"$f":"Stückliste!P503","v":0},{"$f":"Stückliste!R503","v":0},{"$f":"Stückliste!T503","v":0},{"$f":"Stückliste!V503","v":0},{"$f":"Stückliste!X503","v":0},{"$f":"Stückliste!Z503","v":0},{"$f":"Stückliste!AB503","v":0},{"$f":"Stückliste!AD503","v":0},{"$f":"Stückliste!AH503","v":0},{"$f":"Stückliste!AJ503","v":0},{"$f":"Stückliste!AL503","v":0},{"$f":"Stückliste!AN503","v":0},{"$f":"Stückliste!AP503","v":0},{"$f":"Stückliste!AR503","v":0},{"$f":"Stückliste!AT503","v":0},{"$f":"Stückliste!AV503","v":0},{"$f":"Stückliste!AF503","v":0},{"$f":"Stückliste!AX503","v":0}]
[{"$f":"A450","v":0},0,8,{"$f":"Stückliste!A504","v":0},{"$f":"Stückliste!D504","v":0},{"$f":"Stückliste!H504","v":0},{"$f":"Stückliste!L504","v":0},{"$f":"Stückliste!P504","v":0},{"$f":"Stückliste!R504","v":0},{"$f":"Stückliste!T504","v":0},{"$f":"Stückliste!V504","v":0},{"$f":"Stückliste!X504","v":0},{"$f":"Stückliste!Z504","v":0},{"$f":"Stückliste!AB504","v":0},{"$f":"Stückliste!AD504","v":0},{"$f":"Stückliste!AH504","v":0},{"$f":"Stückliste!AJ504","v":0},{"$f":"Stückliste!AL504","v":0},{"$f":"Stückliste!AN504","v":0},{"$f":"Stückliste!AP504","v":0},{"$f":"Stückliste!AR504","v":0},{"$f":"Stückliste!AT504","v":0},{"$f":"Stückliste!AV504","v":0},{"$f":"Stückliste!AF504","v":0},{"$f":"Stückliste!AX504","v":0}]
[{"$f":"A451","v":0},0,8,{"$f":"Stückliste!A505","v":0},{"$f":"Stückliste!D505","v":0},{"$f":"Stückliste!H505","v":0},{"$f":"Stückliste!L505","v":0},{"$f":"Stückliste!P505","v":0},{"$f":"Stückliste!R505","v":0},{"$f":"Stückliste!T505","v":0},{"$f":"Stückliste!V505","v":0},{"$f":"Stückliste!X505","v":0},{"$f":"Stückliste!Z505","v":0},{"$f":"Stückliste!AB505","v":0},{"$f":"Stückliste!AD505","v":0},{"$f":"Stückliste!AH505","v":0},{"$f":"Stückliste!AJ505","v":0},{"$f":"Stückliste!AL505","v":0},{"$f":"Stückliste!AN505","v":0},{"$f":"Stückliste!AP505","v":0},{"$f":"Stückliste!AR505","v":0},{"$f":"Stückliste!AT505","v":0},{"$f":"Stückliste!AV505","v":0},{"$f":"Stückliste!AF505","v":0},{"$f":"Stückliste!AX505","v":0}]
[{"$f":"A452","v":0},0,8,{"$f":"Stückliste!A506","v":0},{"$f":"Stückliste!D506","v":0},{"$f":"Stückliste!H506","v":0},{"$f":"Stückliste!L506","v":0},{"$f":"Stückliste!P506","v":0},{"$f":"Stückliste!R506","v":0},{"$f":"Stückliste!T506","v":0},{"$f":"Stückliste!V506","v":0},{"$f":"Stückliste!X506","v":0},{"$f":"Stückliste!Z506","v":0},{"$f":"Stückliste!AB506","v":0},{"$f":"Stückliste!AD506","v":0},{"$f":"Stückliste!AH506","v":0},{"$f":"Stückliste!AJ506","v":0},{"$f":"Stückliste!AL506","v":0},{"$f":"Stückliste!AN506","v":0},{"$f":"Stückliste!AP506","v":0},{"$f":"Stückliste!AR506","v":0},{"$f":"Stückliste!AT506","v":0},{"$f":"Stückliste!AV506","v":0},{"$f":"Stückliste!AF506","v":0},{"$f":"Stückliste!AX506","v":0}]
[{"$f":"A453","v":0},0,8,{"$f":"Stückliste!A507","v":0},{"$f":"Stückliste!D507","v":0},{"$f":"Stückliste!H507","v":0},{"$f":"Stückliste!L507","v":0},{"$f":"Stückliste!P507","v":0},{"$f":"Stückliste!R507","v":0},{"$f":"Stückliste!T507","v":0},{"$f":"Stückliste!V507","v":0},{"$f":"Stückliste!X507","v":0},{"$f":"Stückliste!Z507","v":0},{"$f":"Stückliste!AB507","v":0},{"$f":"Stückliste!AD507","v":0},{"$f":"Stückliste!AH507","v":0},{"$f":"Stückliste!AJ507","v":0},{"$f":"Stückliste!AL507","v":0},{"$f":"Stückliste!AN507","v":0},{"$f":"Stückliste!AP507","v":0},{"$f":"Stückliste!AR507","v":0},{"$f":"Stückliste!AT507","v":0},{"$f":"Stückliste!AV507","v":0},{"$f":"Stückliste!AF507","v":0},{"$f":"Stückliste!AX507","v":0}]
[{"$f":"A454","v":0},0,8,{"$f":"Stückliste!A508","v":0},{"$f":"Stückliste!D508","v":0},{"$f":"Stückliste!H508","v":0},{"$f":"Stückliste!L508","v":0},{"$f":"Stückliste!P508","v":0},{"$f":"Stückliste!R508","v":0},{"$f":"Stückliste!T508","v":0},{"$f":"Stückliste!V508","v":0},{"$f":"Stückliste!X508","v":0},{"$f":"Stückliste!Z508","v":0},{"$f":"Stückliste!AB508","v":0},{"$f":"Stückliste!AD508","v":0},{"$f":"Stückliste!AH508","v":0},{"$f":"Stückliste!AJ508","v":0},{"$f":"Stückliste!AL508","v":0},{"$f":"Stückliste!AN508","v":0},{"$f":"Stückliste!AP508","v":0},{"$f":"Stückliste!AR508","v":0},{"$f":"Stückliste!AT508","v":0},{"$f":"Stückliste!AV508","v":0},{"$f":"Stückliste!AF508","v":0},{"$f":"Stückliste!AX508","v":0}]
[{"$f":"A455","v":0},0,8,{"$f":"Stückliste!A509","v":0},{"$f":"Stückliste!D509","v":0},{"$f":"Stückliste!H509","v":0},{"$f":"Stückliste!L509","v":0},{"$f":"Stückliste!P509","v":0},{"$f":"Stückliste!R509","v":0},{"$f":"Stückliste!T509","v":0},{"$f":"Stückliste!V509","v":0},{"$f":"Stückliste!X509","v":0},{"$f":"Stückliste!Z509","v":0},{"$f":"Stückliste!AB509","v":0},{"$f":"Stückliste!AD509","v":0},{"$f":"Stückliste!AH509","v":0},{"$f":"Stückliste!AJ509","v":0},{"$f":"Stückliste!AL509","v":0},{"$f":"Stückliste!AN509","v":0},{"$f":"Stückliste!AP509","v":0},{"$f":"Stückliste!AR509","v":0},{"$f":"Stückliste!AT509","v":0},{"$f":"Stückliste!AV509","v":0},{"$f":"Stückliste!AF509","v":0},{"$f":"Stückliste!AX509","v":0}]
[{"$f":"A456","v":0},0,8,{"$f":"Stückliste!A510","v":0},{"$f":"Stückliste!D510","v":0},{"$f":"Stückliste!H510","v":0},{"$f":"Stückliste!L510","v":0},{"$f":"Stückliste!P510","v":0},{"$f":"Stückliste!R510","v":0},{"$f":"Stückliste!T510","v":0},{"$f":"Stückliste!V510","v":0},{"$f":"Stückliste!X510","v":0},{"$f":"Stückliste!Z510","v":0},{"$f":"Stückliste!AB510","v":0},{"$f":"Stückliste!AD510","v":0},{"$f":"Stückliste!AH510","v":0},{"$f":"Stückliste!AJ510","v":0},{"$f":"Stückliste!AL510","v":0},{"$f":"Stückliste!AN510","v":0},{"$f":"Stückliste!AP510","v":0},{"$f":"Stückliste!AR510","v":0},{"$f":"Stückliste!AT510","v":0},{"$f":"Stückliste!AV510","v":0},{"$f":"Stückliste!AF510","v":0},{"$f":"Stückliste!AX510","v":0}]
[{"$f":"A457","v":0},0,8,{"$f":"Stückliste!A511","v":0},{"$f":"Stückliste!D511","v":0},{"$f":"Stückliste!H511","v":0},{"$f":"Stückliste!L511","v":0},{"$f":"Stückliste!P511","v":0},{"$f":"Stückliste!R511","v":0},{"$f":"Stückliste!T511","v":0},{"$f":"Stückliste!V511","v":0},{"$f":"Stückliste!X511","v":0},{"$f":"Stückliste!Z511","v":0},{"$f":"Stückliste!AB511","v":0},{"$f":"Stückliste!AD511","v":0},{"$f":"Stückliste!AH511","v":0},{"$f":"Stückliste!AJ511","v":0},{"$f":"Stückliste!AL511","v":0},{"$f":"Stückliste!AN511","v":0},{"$f":"Stückliste!AP511","v":0},{"$f":"Stückliste!AR511","v":0},{"$f":"Stückliste!AT511","v":0},{"$f":"Stückliste!AV511","v":0},{"$f":"Stückliste!AF511","v":0},{"$f":"Stückliste!AX511","v":0}]
[{"$f":"A458","v":0},0,8,{"$f":"Stückliste!A512","v":0},{"$f":"Stückliste!D512","v":0},{"$f":"Stückliste!H512","v":0},{"$f":"Stückliste!L512","v":0},{"$f":"Stückliste!P512","v":0},{"$f":"Stückliste!R512","v":0},{"$f":"Stückliste!T512","v":0},{"$f":"Stückliste!V512","v":0},{"$f":"Stückliste!X512","v":0},{"$f":"Stückliste!Z512","v":0},{"$f":"Stückliste!AB512","v":0},{"$f":"Stückliste!AD512","v":0},{"$f":"Stückliste!AH512","v":0},{"$f":"Stückliste!AJ512","v":0},{"$f":"Stückliste!AL512","v":0},{"$f":"Stückliste!AN512","v":0},{"$f":"Stückliste!AP512","v":0},{"$f":"Stückliste!AR512","v":0},{"$f":"Stückliste!AT512","v":0},{"$f":"Stückliste!AV512","v":0},{"$f":"Stückliste!AF512","v":0},{"$f":"Stückliste!AX512","v":0}]
[{"$f":"A459","v":0},0,8,{"$f":"Stückliste!A513","v":0},{"$f":"Stückliste!D513","v":0},{"$f":"Stückliste!H513","v":0},{"$f":"Stückliste!L513","v":0},{"$f":"Stückliste!P513","v":0},{"$f":"Stückliste!R513","v":0},{"$f":"Stückliste!T513","v":0},{"$f":"Stückliste!V513","v":0},{"$f":"Stückliste!X513","v":0},{"$f":"Stückliste!Z513","v":0},{"$f":"Stückliste!AB513","v":0},{"$f":"Stückliste!AD513","v":0},{"$f":"Stückliste!AH513","v":0},{"$f":"Stückliste!AJ513","v":0},{"$f":"Stückliste!AL513","v":0},{"$f":"Stückliste!AN513","v":0},{"$f":"Stückliste!AP513","v":0},{"$f":"Stückliste!AR513","v":0},{"$f":"Stückliste!AT513","v":0},{"$f":"Stückliste!AV513","v":0},{"$f":"Stückliste!AF513","v":0},{"$f":"Stückliste!AX513","v":0}]
[{"$f":"A460","v":0},0,8,{"$f":"Stückliste!A514","v":0},{"$f":"Stückliste!D514","v":0},{"$f":"Stückliste!H514","v":0},{"$f":"Stückliste!L514","v":0},{"$f":"Stückliste!P514","v":0},{"$f":"Stückliste!R514","v":0},{"$f":"Stückliste!T514","v":0},{"$f":"Stückliste!V514","v":0},{"$f":"Stückliste!X514","v":0},{"$f":"Stückliste!Z514","v":0},{"$f":"Stückliste!AB514","v":0},{"$f":"Stückliste!AD514","v":0},{"$f":"Stückliste!AH514","v":0},{"$f":"Stückliste!AJ514","v":0},{"$f":"Stückliste!AL514","v":0},{"$f":"Stückliste!AN514","v":0},{"$f":"Stückliste!AP514","v":0},{"$f":"Stückliste!AR514","v":0},{"$f":"Stückliste!AT514","v":0},{"$f":"Stückliste!AV514","v":0},{"$f":"Stückliste!AF514","v":0},{"$f":"Stückliste!AX514","v":0}]
[{"$f":"A461","v":0},0,8,{"$f":"Stückliste!A515","v":0},{"$f":"Stückliste!D515","v":0},{"$f":"Stückliste!H515","v":0},{"$f":"Stückliste!L515","v":0},{"$f":"Stückliste!P515","v":0},{"$f":"Stückliste!R515","v":0},{"$f":"Stückliste!T515","v":0},{"$f":"Stückliste!V515","v":0},{"$f":"Stückliste!X515","v":0},{"$f":"Stückliste!Z515","v":0},{"$f":"Stückliste!AB515","v":0},{"$f":"Stückliste!AD515","v":0},{"$f":"Stückliste!AH515","v":0},{"$f":"Stückliste!AJ515","v":0},{"$f":"Stückliste!AL515","v":0},{"$f":"Stückliste!AN515","v":0},{"$f":"Stückliste!AP515","v":0},{"$f":"Stückliste!AR515","v":0},{"$f":"Stückliste!AT515","v":0},{"$f":"Stückliste!AV515","v":0},{"$f":"Stückliste!AF515","v":0},{"$f":"Stückliste!AX515","v":0}]
[{"$f":"A462","v":0},0,8,{"$f":"Stückliste!A516","v":0},{"$f":"Stückliste!D516","v":0},{"$f":"Stückliste!H516","v":0},{"$f":"Stückliste!L516","v":0},{"$f":"Stückliste!P516","v":0},{"$f":"Stückliste!R516","v":0},{"$f":"Stückliste!T516","v":0},{"$f":"Stückliste!V516","v":0},{"$f":"Stückliste!X516","v":0},{"$f":"Stückliste!Z516","v":0},{"$f":"Stückliste!AB516","v":0},{"$f":"Stückliste!AD516","v":0},{"$f":"Stückliste!AH516","v":0},{"$f":"Stückliste!AJ516","v":0},{"$f":"Stückliste!AL516","v":0},{"$f":"Stückliste!AN516","v":0},{"$f":"Stückliste!AP516","v":0},{"$f":"Stückliste!AR516","v":0},{"$f":"Stückliste!AT516","v":0},{"$f":"Stückliste!AV516","v":0},{"$f":"Stückliste!AF516","v":0},{"$f":"Stückliste!AX516","v":0}]
[{"$f":"A463","v":0},0,8,{"$f":"Stückliste!A517","v":0},{"$f":"Stückliste!D517","v":0},{"$f":"Stückliste!H517","v":0},{"$f":"Stückliste!L517","v":0},{"$f":"Stückliste!P517","v":0},{"$f":"Stückliste!R517","v":0},{"$f":"Stückliste!T517","v":0},{"$f":"Stückliste!V517","v":0},{"$f":"Stückliste!X517","v":0},{"$f":"Stückliste!Z517","v":0},{"$f":"Stückliste!AB517","v":0},{"$f":"Stückliste!AD517","v":0},{"$f":"Stückliste!AH517","v":0},{"$f":"Stückliste!AJ517","v":0},{"$f":"Stückliste!AL517","v":0},{"$f":"Stückliste!AN517","v":0},{"$f":"Stückliste!AP517","v":0},{"$f":"Stückliste!AR517","v":0},{"$f":"Stückliste!AT517","v":0},{"$f":"Stückliste!AV517","v":0},{"$f":"Stückliste!AF517","v":0},{"$f":"Stückliste!AX517","v":0}]
[{"$f":"A464","v":0},0,8,{"$f":"Stückliste!A518","v":0},{"$f":"Stückliste!D518","v":0},{"$f":"Stückliste!H518","v":0},{"$f":"Stückliste!L518","v":0},{"$f":"Stückliste!P518","v":0},{"$f":"Stückliste!R518","v":0},{"$f":"Stückliste!T518","v":0},{"$f":"Stückliste!V518","v":0},{"$f":"Stückliste!X518","v":0},{"$f":"Stückliste!Z518","v":0},{"$f":"Stückliste!AB518","v":0},{"$f":"Stückliste!AD518","v":0},{"$f":"Stückliste!AH518","v":0},{"$f":"Stückliste!AJ518","v":0},{"$f":"Stückliste!AL518","v":0},{"$f":"Stückliste!AN518","v":0},{"$f":"Stückliste!AP518","v":0},{"$f":"Stückliste!AR518","v":0},{"$f":"Stückliste!AT518","v":0},{"$f":"Stückliste!AV518","v":0},{"$f":"Stückliste!AF518","v":0},{"$f":"Stückliste!AX518","v":0}]
[{"$f":"A465","v":0},0,8,{"$f":"Stückliste!A519","v":0},{"$f":"Stückliste!D519","v":0},{"$f":"Stückliste!H519","v":0},{"$f":"Stückliste!L519","v":0},{"$f":"Stückliste!P519","v":0},{"$f":"Stückliste!R519","v":0},{"$f":"Stückliste!T519","v":0},{"$f":"Stückliste!V519","v":0},{"$f":"Stückliste!X519","v":0},{"$f":"Stückliste!Z519","v":0},{"$f":"Stückliste!AB519","v":0},{"$f":"Stückliste!AD519","v":0},{"$f":"Stückliste!AH519","v":0},{"$f":"Stückliste!AJ519","v":0},{"$f":"Stückliste!AL519","v":0},{"$f":"Stückliste!AN519","v":0},{"$f":"Stückliste!AP519","v":0},{"$f":"Stückliste!AR519","v":0},{"$f":"Stückliste!AT519","v":0},{"$f":"Stückliste!AV519","v":0},{"$f":"Stückliste!AF519","v":0},{"$f":"Stückliste!AX519","v":0}]
[{"$f":"A466","v":0},0,8,{"$f":"Stückliste!A520","v":0},{"$f":"Stückliste!D520","v":0},{"$f":"Stückliste!H520","v":0},{"$f":"Stückliste!L520","v":0},{"$f":"Stückliste!P520","v":0},{"$f":"Stückliste!R520","v":0},{"$f":"Stückliste!T520","v":0},{"$f":"Stückliste!V520","v":0},{"$f":"Stückliste!X520","v":0},{"$f":"Stückliste!Z520","v":0},{"$f":"Stückliste!AB520","v":0},{"$f":"Stückliste!AD520","v":0},{"$f":"Stückliste!AH520","v":0},{"$f":"Stückliste!AJ520","v":0},{"$f":"Stückliste!AL520","v":0},{"$f":"Stückliste!AN520","v":0},{"$f":"Stückliste!AP520","v":0},{"$f":"Stückliste!AR520","v":0},{"$f":"Stückliste!AT520","v":0},{"$f":"Stückliste!AV520","v":0},{"$f":"Stückliste!AF520","v":0},{"$f":"Stückliste!AX520","v":0}]
[{"$f":"A467","v":0},0,8,{"$f":"Stückliste!A521","v":0},{"$f":"Stückliste!D521","v":0},{"$f":"Stückliste!H521","v":0},{"$f":"Stückliste!L521","v":0},{"$f":"Stückliste!P521","v":0},{"$f":"Stückliste!R521","v":0},{"$f":"Stückliste!T521","v":0},{"$f":"Stückliste!V521","v":0},{"$f":"Stückliste!X521","v":0},{"$f":"Stückliste!Z521","v":0},{"$f":"Stückliste!AB521","v":0},{"$f":"Stückliste!AD521","v":0},{"$f":"Stückliste!AH521","v":0},{"$f":"Stückliste!AJ521","v":0},{"$f":"Stückliste!AL521","v":0},{"$f":"Stückliste!AN521","v":0},{"$f":"Stückliste!AP521","v":0},{"$f":"Stückliste!AR521","v":0},{"$f":"Stückliste!AT521","v":0},{"$f":"Stückliste!AV521","v":0},{"$f":"Stückliste!AF521","v":0},{"$f":"Stückliste!AX521","v":0}]
[{"$f":"A468","v":0},0,8,{"$f":"Stückliste!A522","v":0},{"$f":"Stückliste!D522","v":0},{"$f":"Stückliste!H522","v":0},{"$f":"Stückliste!L522","v":0},{"$f":"Stückliste!P522","v":0},{"$f":"Stückliste!R522","v":0},{"$f":"Stückliste!T522","v":0},{"$f":"Stückliste!V522","v":0},{"$f":"Stückliste!X522","v":0},{"$f":"Stückliste!Z522","v":0},{"$f":"Stückliste!AB522","v":0},{"$f":"Stückliste!AD522","v":0},{"$f":"Stückliste!AH522","v":0},{"$f":"Stückliste!AJ522","v":0},{"$f":"Stückliste!AL522","v":0},{"$f":"Stückliste!AN522","v":0},{"$f":"Stückliste!AP522","v":0},{"$f":"Stückliste!AR522","v":0},{"$f":"Stückliste!AT522","v":0},{"$f":"Stückliste!AV522","v":0},{"$f":"Stückliste!AF522","v":0},{"$f":"Stückliste!AX522","v":0}]
[{"$f":"A469","v":0},0,8,{"$f":"Stückliste!A523","v":0},{"$f":"Stückliste!D523","v":0},{"$f":"Stückliste!H523","v":0},{"$f":"Stückliste!L523","v":0},{"$f":"Stückliste!P523","v":0},{"$f":"Stückliste!R523","v":0},{"$f":"Stückliste!T523","v":0},{"$f":"Stückliste!V523","v":0},{"$f":"Stückliste!X523","v":0},{"$f":"Stückliste!Z523","v":0},{"$f":"Stückliste!AB523","v":0},{"$f":"Stückliste!AD523","v":0},{"$f":"Stückliste!AH523","v":0},{"$f":"Stückliste!AJ523","v":0},{"$f":"Stückliste!AL523","v":0},{"$f":"Stückliste!AN523","v":0},{"$f":"Stückliste!AP523","v":0},{"$f":"Stückliste!AR523","v":0},{"$f":"Stückliste!AT523","v":0},{"$f":"Stückliste!AV523","v":0},{"$f":"Stückliste!AF523","v":0},{"$f":"Stückliste!AX523","v":0}]
[{"$f":"A470","v":0},0,8,{"$f":"Stückliste!A524","v":0},{"$f":"Stückliste!D524","v":0},{"$f":"Stückliste!H524","v":0},{"$f":"Stückliste!L524","v":0},{"$f":"Stückliste!P524","v":0},{"$f":"Stückliste!R524","v":0},{"$f":"Stückliste!T524","v":0},{"$f":"Stückliste!V524","v":0},{"$f":"Stückliste!X524","v":0},{"$f":"Stückliste!Z524","v":0},{"$f":"Stückliste!AB524","v":0},{"$f":"Stückliste!AD524","v":0},{"$f":"Stückliste!AH524","v":0},{"$f":"Stückliste!AJ524","v":0},{"$f":"Stückliste!AL524","v":0},{"$f":"Stückliste!AN524","v":0},{"$f":"Stückliste!AP524","v":0},{"$f":"Stückliste!AR524","v":0},{"$f":"Stückliste!AT524","v":0},{"$f":"Stückliste!AV524","v":0},{"$f":"Stückliste!AF524","v":0},{"$f":"Stückliste!AX524","v":0}]
[{"$f":"A471","v":0},0,8,{"$f":"Stückliste!A525","v":0},{"$f":"Stückliste!D525","v":0},{"$f":"Stückliste!H525","v":0},{"$f":"Stückliste!L525","v":0},{"$f":"Stückliste!P525","v":0},{"$f":"Stückliste!R525","v":0},{"$f":"Stückliste!T525","v":0},{"$f":"Stückliste!V525","v":0},{"$f":"Stückliste!X525","v":0},{"$f":"Stückliste!Z525","v":0},{"$f":"Stückliste!AB525","v":0},{"$f":"Stückliste!AD525","v":0},{"$f":"Stückliste!AH525","v":0},{"$f":"Stückliste!AJ525","v":0},{"$f":"Stückliste!AL525","v":0},{"$f":"Stückliste!AN525","v":0},{"$f":"Stückliste!AP525","v":0},{"$f":"Stückliste!AR525","v":0},{"$f":"Stückliste!AT525","v":0},{"$f":"Stückliste!AV525","v":0},{"$f":"Stückliste!AF525","v":0},{"$f":"Stückliste!AX525","v":0}]
[{"$f":"A472","v":0},0,8,{"$f":"Stückliste!A526","v":0},{"$f":"Stückliste!D526","v":0},{"$f":"Stückliste!H526","v":0},{"$f":"Stückliste!L526","v":0},{"$f":"Stückliste!P526","v":0},{"$f":"Stückliste!R526","v":0},{"$f":"Stückliste!T526","v":0},{"$f":"Stückliste!V526","v":0},{"$f":"Stückliste!X526","v":0},{"$f":"Stückliste!Z526","v":0},{"$f":"Stückliste!AB526","v":0},{"$f":"Stückliste!AD526","v":0},{"$f":"Stückliste!AH526","v":0},{"$f":"Stückliste!AJ526","v":0},{"$f":"Stückliste!AL526","v":0},{"$f":"Stückliste!AN526","v":0},{"$f":"Stückliste!AP526","v":0},{"$f":"Stückliste!AR526","v":0},{"$f":"Stückliste!AT526","v":0},{"$f":"Stückliste!AV526","v":0},{"$f":"Stückliste!AF526","v":0},{"$f":"Stückliste!AX526","v":0}]
[{"$f":"A473","v":0},0,8,{"$f":"Stückliste!A527","v":0},{"$f":"Stückliste!D527","v":0},{"$f":"Stückliste!H527","v":0},{"$f":"Stückliste!L527","v":0},{"$f":"Stückliste!P527","v":0},{"$f":"Stückliste!R527","v":0},{"$f":"Stückliste!T527","v":0},{"$f":"Stückliste!V527","v":0},{"$f":"Stückliste!X527","v":0},{"$f":"Stückliste!Z527","v":0},{"$f":"Stückliste!AB527","v":0},{"$f":"Stückliste!AD527","v":0},{"$f":"Stückliste!AH527","v":0},{"$f":"Stückliste!AJ527","v":0},{"$f":"Stückliste!AL527","v":0},{"$f":"Stückliste!AN527","v":0},{"$f":"Stückliste!AP527","v":0},{"$f":"Stückliste!AR527","v":0},{"$f":"Stückliste!AT527","v":0},{"$f":"Stückliste!AV527","v":0},{"$f":"Stückliste!AF527","v":0},{"$f":"Stückliste!AX527","v":0}]
[{"$f":"A474","v":0},0,8,{"$f":"Stückliste!A528","v":0},{"$f":"Stückliste!D528","v":0},{"$f":"Stückliste!H528","v":0},{"$f":"Stückliste!L528","v":0},{"$f":"Stückliste!P528","v":0},{"$f":"Stückliste!R528","v":0},{"$f":"Stückliste!T528","v":0},{"$f":"Stückliste!V528","v":0},{"$f":"Stückliste!X528","v":0},{"$f":"Stückliste!Z528","v":0},{"$f":"Stückliste!AB528","v":0},{"$f":"Stückliste!AD528","v":0},{"$f":"Stückliste!AH528","v":0},{"$f":"Stückliste!AJ528","v":0},{"$f":"Stückliste!AL528","v":0},{"$f":"Stückliste!AN528","v":0},{"$f":"Stückliste!AP528","v":0},{"$f":"Stückliste!AR528","v":0},{"$f":"Stückliste!AT528","v":0},{"$f":"Stückliste!AV528","v":0},{"$f":"Stückliste!AF528","v":0},{"$f":"Stückliste!AX528","v":0}]
[{"$f":"A475","v":0},0,8,{"$f":"Stückliste!A529","v":0},{"$f":"Stückliste!D529","v":0},{"$f":"Stückliste!H529","v":0},{"$f":"Stückliste!L529","v":0},{"$f":"Stückliste!P529","v":0},{"$f":"Stückliste!R529","v":0},{"$f":"Stückliste!T529","v":0},{"$f":"Stückliste!V529","v":0},{"$f":"Stückliste!X529","v":0},{"$f":"Stückliste!Z529","v":0},{"$f":"Stückliste!AB529","v":0},{"$f":"Stückliste!AD529","v":0},{"$f":"Stückliste!AH529","v":0},{"$f":"Stückliste!AJ529","v":0},{"$f":"Stückliste!AL529","v":0},{"$f":"Stückliste!AN529","v":0},{"$f":"Stückliste!AP529","v":0},{"$f":"Stückliste!AR529","v":0},{"$f":"Stückliste!AT529","v":0},{"$f":"Stückliste!AV529","v":0},{"$f":"Stückliste!AF529","v":0},{"$f":"Stückliste!AX529","v":0}]
[{"$f":"A476","v":0},0,8,{"$f":"Stückliste!A530","v":0},{"$f":"Stückliste!D530","v":0},{"$f":"Stückliste!H530","v":0},{"$f":"Stückliste!L530","v":0},{"$f":"Stückliste!P530","v":0},{"$f":"Stückliste!R530","v":0},{"$f":"Stückliste!T530","v":0},{"$f":"Stückliste!V530","v":0},{"$f":"Stückliste!X530","v":0},{"$f":"Stückliste!Z530","v":0},{"$f":"Stückliste!AB530","v":0},{"$f":"Stückliste!AD530","v":0},{"$f":"Stückliste!AH530","v":0},{"$f":"Stückliste!AJ530","v":0},{"$f":"Stückliste!AL530","v":0},{"$f":"Stückliste!AN530","v":0},{"$f":"Stückliste!AP530","v":0},{"$f":"Stückliste!AR530","v":0},{"$f":"Stückliste!AT530","v":0},{"$f":"Stückliste!AV530","v":0},{"$f":"Stückliste!AF530","v":0},{"$f":"Stückliste!AX530","v":0}]
[{"$f":"A477","v":0},0,8,{"$f":"Stückliste!A531","v":0},{"$f":"Stückliste!D531","v":0},{"$f":"Stückliste!H531","v":0},{"$f":"Stückliste!L531","v":0},{"$f":"Stückliste!P531","v":0},{"$f":"Stückliste!R531","v":0},{"$f":"Stückliste!T531","v":0},{"$f":"Stückliste!V531","v":0},{"$f":"Stückliste!X531","v":0},{"$f":"Stückliste!Z531","v":0},{"$f":"Stückliste!AB531","v":0},{"$f":"Stückliste!AD531","v":0},{"$f":"Stückliste!AH531","v":0},{"$f":"Stückliste!AJ531","v":0},{"$f":"Stückliste!AL531","v":0},{"$f":"Stückliste!AN531","v":0},{"$f":"Stückliste!AP531","v":0},{"$f":"Stückliste!AR531","v":0},{"$f":"Stückliste!AT531","v":0},{"$f":"Stückliste!AV531","v":0},{"$f":"Stückliste!AF531","v":0},{"$f":"Stückliste!AX531","v":0}]
[{"$f":"A478","v":0},0,8,{"$f":"Stückliste!A532","v":0},{"$f":"Stückliste!D532","v":0},{"$f":"Stückliste!H532","v":0},{"$f":"Stückliste!L532","v":0},{"$f":"Stückliste!P532","v":0},{"$f":"Stückliste!R532","v":0},{"$f":"Stückliste!T532","v":0},{"$f":"Stückliste!V532","v":0},{"$f":"Stückliste!X532","v":0},{"$f":"Stückliste!Z532","v":0},{"$f":"Stückliste!AB532","v":0},{"$f":"Stückliste!AD532","v":0},{"$f":"Stückliste!AH532","v":0},{"$f":"Stückliste!AJ532","v":0},{"$f":"Stückliste!AL532","v":0},{"$f":"Stückliste!AN532","v":0},{"$f":"Stückliste!AP532","v":0},{"$f":"Stückliste!AR532","v":0},{"$f":"Stückliste!AT532","v":0},{"$f":"Stückliste!AV532","v":0},{"$f":"Stückliste!AF532","v":0},{"$f":"Stückliste!AX532","v":0}]
[{"$f":"A479","v":0},0,8,{"$f":"Stückliste!A533","v":0},{"$f":"Stückliste!D533","v":0},{"$f":"Stückliste!H533","v":0},{"$f":"Stückliste!L533","v":0},{"$f":"Stückliste!P533","v":0},{"$f":"Stückliste!R533","v":0},{"$f":"Stückliste!T533","v":0},{"$f":"Stückliste!V533","v":0},{"$f":"Stückliste!X533","v":0},{"$f":"Stückliste!Z533","v":0},{"$f":"Stückliste!AB533","v":0},{"$f":"Stückliste!AD533","v":0},{"$f":"Stückliste!AH533","v":0},{"$f":"Stückliste!AJ533","v":0},{"$f":"Stückliste!AL533","v":0},{"$f":"Stückliste!AN533","v":0},{"$f":"Stückliste!AP533","v":0},{"$f":"Stückliste!AR533","v":0},{"$f":"Stückliste!AT533","v":0},{"$f":"Stückliste!AV533","v":0},{"$f":"Stückliste!AF533","v":0},{"$f":"Stückliste!AX533","v":0}]
[{"$f":"A480","v":0},0,8,{"$f":"Stückliste!A534","v":0},{"$f":"Stückliste!D534","v":0},{"$f":"Stückliste!H534","v":0},{"$f":"Stückliste!L534","v":0},{"$f":"Stückliste!P534","v":0},{"$f":"Stückliste!R534","v":0},{"$f":"Stückliste!T534","v":0},{"$f":"Stückliste!V534","v":0},{"$f":"Stückliste!X534","v":0},{"$f":"Stückliste!Z534","v":0},{"$f":"Stückliste!AB534","v":0},{"$f":"Stückliste!AD534","v":0},{"$f":"Stückliste!AH534","v":0},{"$f":"Stückliste!AJ534","v":0},{"$f":"Stückliste!AL534","v":0},{"$f":"Stückliste!AN534","v":0},{"$f":"Stückliste!AP534","v":0},{"$f":"Stückliste!AR534","v":0},{"$f":"Stückliste!AT534","v":0},{"$f":"Stückliste!AV534","v":0},{"$f":"Stückliste!AF534","v":0},{"$f":"Stückliste!AX534","v":0}]
[{"$f":"A481","v":0},0,8,{"$f":"Stückliste!A535","v":0},{"$f":"Stückliste!D535","v":0},{"$f":"Stückliste!H535","v":0},{"$f":"Stückliste!L535","v":0},{"$f":"Stückliste!P535","v":0},{"$f":"Stückliste!R535","v":0},{"$f":"Stückliste!T535","v":0},{"$f":"Stückliste!V535","v":0},{"$f":"Stückliste!X535","v":0},{"$f":"Stückliste!Z535","v":0},{"$f":"Stückliste!AB535","v":0},{"$f":"Stückliste!AD535","v":0},{"$f":"Stückliste!AH535","v":0},{"$f":"Stückliste!AJ535","v":0},{"$f":"Stückliste!AL535","v":0},{"$f":"Stückliste!AN535","v":0},{"$f":"Stückliste!AP535","v":0},{"$f":"Stückliste!AR535","v":0},{"$f":"Stückliste!AT535","v":0},{"$f":"Stückliste!AV535","v":0},{"$f":"Stückliste!AF535","v":0},{"$f":"Stückliste!AX535","v":0}]
[{"$f":"A482","v":0},0,8,{"$f":"Stückliste!A536","v":0},{"$f":"Stückliste!D536","v":0},{"$f":"Stückliste!H536","v":0},{"$f":"Stückliste!L536","v":0},{"$f":"Stückliste!P536","v":0},{"$f":"Stückliste!R536","v":0},{"$f":"Stückliste!T536","v":0},{"$f":"Stückliste!V536","v":0},{"$f":"Stückliste!X536","v":0},{"$f":"Stückliste!Z536","v":0},{"$f":"Stückliste!AB536","v":0},{"$f":"Stückliste!AD536","v":0},{"$f":"Stückliste!AH536","v":0},{"$f":"Stückliste!AJ536","v":0},{"$f":"Stückliste!AL536","v":0},{"$f":"Stückliste!AN536","v":0},{"$f":"Stückliste!AP536","v":0},{"$f":"Stückliste!AR536","v":0},{"$f":"Stückliste!AT536","v":0},{"$f":"Stückliste!AV536","v":0},{"$f":"Stückliste!AF536","v":0},{"$f":"Stückliste!AX536","v":0}]
[{"$f":"A483","v":0},0,8,{"$f":"Stückliste!A537","v":0},{"$f":"Stückliste!D537","v":0},{"$f":"Stückliste!H537","v":0},{"$f":"Stückliste!L537","v":0},{"$f":"Stückliste!P537","v":0},{"$f":"Stückliste!R537","v":0},{"$f":"Stückliste!T537","v":0},{"$f":"Stückliste!V537","v":0},{"$f":"Stückliste!X537","v":0},{"$f":"Stückliste!Z537","v":0},{"$f":"Stückliste!AB537","v":0},{"$f":"Stückliste!AD537","v":0},{"$f":"Stückliste!AH537","v":0},{"$f":"Stückliste!AJ537","v":0},{"$f":"Stückliste!AL537","v":0},{"$f":"Stückliste!AN537","v":0},{"$f":"Stückliste!AP537","v":0},{"$f":"Stückliste!AR537","v":0},{"$f":"Stückliste!AT537","v":0},{"$f":"Stückliste!AV537","v":0},{"$f":"Stückliste!AF537","v":0},{"$f":"Stückliste!AX537","v":0}]
[{"$f":"A484","v":0},0,8,{"$f":"Stückliste!A538","v":0},{"$f":"Stückliste!D538","v":0},{"$f":"Stückliste!H538","v":0},{"$f":"Stückliste!L538","v":0},{"$f":"Stückliste!P538","v":0},{"$f":"Stückliste!R538","v":0},{"$f":"Stückliste!T538","v":0},{"$f":"Stückliste!V538","v":0},{"$f":"Stückliste!X538","v":0},{"$f":"Stückliste!Z538","v":0},{"$f":"Stückliste!AB538","v":0},{"$f":"Stückliste!AD538","v":0},{"$f":"Stückliste!AH538","v":0},{"$f":"Stückliste!AJ538","v":0},{"$f":"Stückliste!AL538","v":0},{"$f":"Stückliste!AN538","v":0},{"$f":"Stückliste!AP538","v":0},{"$f":"Stückliste!AR538","v":0},{"$f":"Stückliste!AT538","v":0},{"$f":"Stückliste!AV538","v":0},{"$f":"Stückliste!AF538","v":0},{"$f":"Stückliste!AX538","v":0}]
[{"$f":"A485","v":0},0,8,{"$f":"Stückliste!A539","v":0},{"$f":"Stückliste!D539","v":0},{"$f":"Stückliste!H539","v":0},{"$f":"Stückliste!L539","v":0},{"$f":"Stückliste!P539","v":0},{"$f":"Stückliste!R539","v":0},{"$f":"Stückliste!T539","v":0},{"$f":"Stückliste!V539","v":0},{"$f":"Stückliste!X539","v":0},{"$f":"Stückliste!Z539","v":0},{"$f":"Stückliste!AB539","v":0},{"$f":"Stückliste!AD539","v":0},{"$f":"Stückliste!AH539","v":0},{"$f":"Stückliste!AJ539","v":0},{"$f":"Stückliste!AL539","v":0},{"$f":"Stückliste!AN539","v":0},{"$f":"Stückliste!AP539","v":0},{"$f":"Stückliste!AR539","v":0},{"$f":"Stückliste!AT539","v":0},{"$f":"Stückliste!AV539","v":0},{"$f":"Stückliste!AF539","v":0},{"$f":"Stückliste!AX539","v":0}]
[{"$f":"A486","v":0},0,8,{"$f":"Stückliste!A540","v":0},{"$f":"Stückliste!D540","v":0},{"$f":"Stückliste!H540","v":0},{"$f":"Stückliste!L540","v":0},{"$f":"Stückliste!P540","v":0},{"$f":"Stückliste!R540","v":0},{"$f":"Stückliste!T540","v":0},{"$f":"Stückliste!V540","v":0},{"$f":"Stückliste!X540","v":0},{"$f":"Stückliste!Z540","v":0},{"$f":"Stückliste!AB540","v":0},{"$f":"Stückliste!AD540","v":0},{"$f":"Stückliste!AH540","v":0},{"$f":"Stückliste!AJ540","v":0},{"$f":"Stückliste!AL540","v":0},{"$f":"Stückliste!AN540","v":0},{"$f":"Stückliste!AP540","v":0},{"$f":"Stückliste!AR540","v":0},{"$f":"Stückliste!AT540","v":0},{"$f":"Stückliste!AV540","v":0},{"$f":"Stückliste!AF540","v":0},{"$f":"Stückliste!AX540","v":0}]
[{"$f":"A487","v":0},0,8,{"$f":"Stückliste!A541","v":0},{"$f":"Stückliste!D541","v":0},{"$f":"Stückliste!H541","v":0},{"$f":"Stückliste!L541","v":0},{"$f":"Stückliste!P541","v":0},{"$f":"Stückliste!R541","v":0},{"$f":"Stückliste!T541","v":0},{"$f":"Stückliste!V541","v":0},{"$f":"Stückliste!X541","v":0},{"$f":"Stückliste!Z541","v":0},{"$f":"Stückliste!AB541","v":0},{"$f":"Stückliste!AD541","v":0},{"$f":"Stückliste!AH541","v":0},{"$f":"Stückliste!AJ541","v":0},{"$f":"Stückliste!AL541","v":0},{"$f":"Stückliste!AN541","v":0},{"$f":"Stückliste!AP541","v":0},{"$f":"Stückliste!AR541","v":0},{"$f":"Stückliste!AT541","v":0},{"$f":"Stückliste!AV541","v":0},{"$f":"Stückliste!AF541","v":0},{"$f":"Stückliste!AX541","v":0}]
[{"$f":"A488","v":0},0,8,{"$f":"Stückliste!A542","v":0},{"$f":"Stückliste!D542","v":0},{"$f":"Stückliste!H542","v":0},{"$f":"Stückliste!L542","v":0},{"$f":"Stückliste!P542","v":0},{"$f":"Stückliste!R542","v":0},{"$f":"Stückliste!T542","v":0},{"$f":"Stückliste!V542","v":0},{"$f":"Stückliste!X542","v":0},{"$f":"Stückliste!Z542","v":0},{"$f":"Stückliste!AB542","v":0},{"$f":"Stückliste!AD542","v":0},{"$f":"Stückliste!AH542","v":0},{"$f":"Stückliste!AJ542","v":0},{"$f":"Stückliste!AL542","v":0},{"$f":"Stückliste!AN542","v":0},{"$f":"Stückliste!AP542","v":0},{"$f":"Stückliste!AR542","v":0},{"$f":"Stückliste!AT542","v":0},{"$f":"Stückliste!AV542","v":0},{"$f":"Stückliste!AF542","v":0},{"$f":"Stückliste!AX542","v":0}]
[{"$f":"A489","v":0},0,8,{"$f":"Stückliste!A543","v":0},{"$f":"Stückliste!D543","v":0},{"$f":"Stückliste!H543","v":0},{"$f":"Stückliste!L543","v":0},{"$f":"Stückliste!P543","v":0},{"$f":"Stückliste!R543","v":0},{"$f":"Stückliste!T543","v":0},{"$f":"Stückliste!V543","v":0},{"$f":"Stückliste!X543","v":0},{"$f":"Stückliste!Z543","v":0},{"$f":"Stückliste!AB543","v":0},{"$f":"Stückliste!AD543","v":0},{"$f":"Stückliste!AH543","v":0},{"$f":"Stückliste!AJ543","v":0},{"$f":"Stückliste!AL543","v":0},{"$f":"Stückliste!AN543","v":0},{"$f":"Stückliste!AP543","v":0},{"$f":"Stückliste!AR543","v":0},{"$f":"Stückliste!AT543","v":0},{"$f":"Stückliste!AV543","v":0},{"$f":"Stückliste!AF543","v":0},{"$f":"Stückliste!AX543","v":0}]
[{"$f":"A490","v":0},0,8,{"$f":"Stückliste!A544","v":0},{"$f":"Stückliste!D544","v":0},{"$f":"Stückliste!H544","v":0},{"$f":"Stückliste!L544","v":0},{"$f":"Stückliste!P544","v":0},{"$f":"Stückliste!R544","v":0},{"$f":"Stückliste!T544","v":0},{"$f":"Stückliste!V544","v":0},{"$f":"Stückliste!X544","v":0},{"$f":"Stückliste!Z544","v":0},{"$f":"Stückliste!AB544","v":0},{"$f":"Stückliste!AD544","v":0},{"$f":"Stückliste!AH544","v":0},{"$f":"Stückliste!AJ544","v":0},{"$f":"Stückliste!AL544","v":0},{"$f":"Stückliste!AN544","v":0},{"$f":"Stückliste!AP544","v":0},{"$f":"Stückliste!AR544","v":0},{"$f":"Stückliste!AT544","v":0},{"$f":"Stückliste!AV544","v":0},{"$f":"Stückliste!AF544","v":0},{"$f":"Stückliste!AX544","v":0}]
[{"$f":"A491","v":0},0,8,{"$f":"Stückliste!A545","v":0},{"$f":"Stückliste!D545","v":0},{"$f":"Stückliste!H545","v":0},{"$f":"Stückliste!L545","v":0},{"$f":"Stückliste!P545","v":0},{"$f":"Stückliste!R545","v":0},{"$f":"Stückliste!T545","v":0},{"$f":"Stückliste!V545","v":0},{"$f":"Stückliste!X545","v":0},{"$f":"Stückliste!Z545","v":0},{"$f":"Stückliste!AB545","v":0},{"$f":"Stückliste!AD545","v":0},{"$f":"Stückliste!AH545","v":0},{"$f":"Stückliste!AJ545","v":0},{"$f":"Stückliste!AL545","v":0},{"$f":"Stückliste!AN545","v":0},{"$f":"Stückliste!AP545","v":0},{"$f":"Stückliste!AR545","v":0},{"$f":"Stückliste!AT545","v":0},{"$f":"Stückliste!AV545","v":0},{"$f":"Stückliste!AF545","v":0},{"$f":"Stückliste!AX545","v":0}]
[{"$f":"A492","v":0},0,8,{"$f":"Stückliste!A546","v":0},{"$f":"Stückliste!D546","v":0},{"$f":"Stückliste!H546","v":0},{"$f":"Stückliste!L546","v":0},{"$f":"Stückliste!P546","v":0},{"$f":"Stückliste!R546","v":0},{"$f":"Stückliste!T546","v":0},{"$f":"Stückliste!V546","v":0},{"$f":"Stückliste!X546","v":0},{"$f":"Stückliste!Z546","v":0},{"$f":"Stückliste!AB546","v":0},{"$f":"Stückliste!AD546","v":0},{"$f":"Stückliste!AH546","v":0},{"$f":"Stückliste!AJ546","v":0},{"$f":"Stückliste!AL546","v":0},{"$f":"Stückliste!AN546","v":0},{"$f":"Stückliste!AP546","v":0},{"$f":"Stückliste!AR546","v":0},{"$f":"Stückliste!AT546","v":0},{"$f":"Stückliste!AV546","v":0},{"$f":"Stückliste!AF546","v":0},{"$f":"Stückliste!AX546","v":0}]
[{"$f":"A493","v":0},0,8,{"$f":"Stückliste!A547","v":0},{"$f":"Stückliste!D547","v":0},{"$f":"Stückliste!H547","v":0},{"$f":"Stückliste!L547","v":0},{"$f":"Stückliste!P547","v":0},{"$f":"Stückliste!R547","v":0},{"$f":"Stückliste!T547","v":0},{"$f":"Stückliste!V547","v":0},{"$f":"Stückliste!X547","v":0},{"$f":"Stückliste!Z547","v":0},{"$f":"Stückliste!AB547","v":0},{"$f":"Stückliste!AD547","v":0},{"$f":"Stückliste!AH547","v":0},{"$f":"Stückliste!AJ547","v":0},{"$f":"Stückliste!AL547","v":0},{"$f":"Stückliste!AN547","v":0},{"$f":"Stückliste!AP547","v":0},{"$f":"Stückliste!AR547","v":0},{"$f":"Stückliste!AT547","v":0},{"$f":"Stückliste!AV547","v":0},{"$f":"Stückliste!AF547","v":0},{"$f":"Stückliste!AX547","v":0}]
[{"$f":"A494","v":0},0,8,{"$f":"Stückliste!A548","v":0},{"$f":"Stückliste!D548","v":0},{"$f":"Stückliste!H548","v":0},{"$f":"Stückliste!L548","v":0},{"$f":"Stückliste!P548","v":0},{"$f":"Stückliste!R548","v":0},{"$f":"Stückliste!T548","v":0},{"$f":"Stückliste!V548","v":0},{"$f":"Stückliste!X548","v":0},{"$f":"Stückliste!Z548","v":0},{"$f":"Stückliste!AB548","v":0},{"$f":"Stückliste!AD548","v":0},{"$f":"Stückliste!AH548","v":0},{"$f":"Stückliste!AJ548","v":0},{"$f":"Stückliste!AL548","v":0},{"$f":"Stückliste!AN548","v":0},{"$f":"Stückliste!AP548","v":0},{"$f":"Stückliste!AR548","v":0},{"$f":"Stückliste!AT548","v":0},{"$f":"Stückliste!AV548","v":0},{"$f":"Stückliste!AF548","v":0},{"$f":"Stückliste!AX548","v":0}]
[{"$f":"A495","v":0},0,8,{"$f":"Stückliste!A549","v":0},{"$f":"Stückliste!D549","v":0},{"$f":"Stückliste!H549","v":0},{"$f":"Stückliste!L549","v":0},{"$f":"Stückliste!P549","v":0},{"$f":"Stückliste!R549","v":0},{"$f":"Stückliste!T549","v":0},{"$f":"Stückliste!V549","v":0},{"$f":"Stückliste!X549","v":0},{"$f":"Stückliste!Z549","v":0},{"$f":"Stückliste!AB549","v":0},{"$f":"Stückliste!AD549","v":0},{"$f":"Stückliste!AH549","v":0},{"$f":"Stückliste!AJ549","v":0},{"$f":"Stückliste!AL549","v":0},{"$f":"Stückliste!AN549","v":0},{"$f":"Stückliste!AP549","v":0},{"$f":"Stückliste!AR549","v":0},{"$f":"Stückliste!AT549","v":0},{"$f":"Stückliste!AV549","v":0},{"$f":"Stückliste!AF549","v":0},{"$f":"Stückliste!AX549","v":0}]
[{"$f":"A496","v":0},0,8,{"$f":"Stückliste!A550","v":0},{"$f":"Stückliste!D550","v":0},{"$f":"Stückliste!H550","v":0},{"$f":"Stückliste!L550","v":0},{"$f":"Stückliste!P550","v":0},{"$f":"Stückliste!R550","v":0},{"$f":"Stückliste!T550","v":0},{"$f":"Stückliste!V550","v":0},{"$f":"Stückliste!X550","v":0},{"$f":"Stückliste!Z550","v":0},{"$f":"Stückliste!AB550","v":0},{"$f":"Stückliste!AD550","v":0},{"$f":"Stückliste!AH550","v":0},{"$f":"Stückliste!AJ550","v":0},{"$f":"Stückliste!AL550","v":0},{"$f":"Stückliste!AN550","v":0},{"$f":"Stückliste!AP550","v":0},{"$f":"Stückliste!AR550","v":0},{"$f":"Stückliste!AT550","v":0},{"$f":"Stückliste!AV550","v":0},{"$f":"Stückliste!AF550","v":0},{"$f":"Stückliste!AX550","v":0}]
[{"$f":"A497","v":0},0,8,{"$f":"Stückliste!A551","v":0},{"$f":"Stückliste!D551","v":0},{"$f":"Stückliste!H551","v":0},{"$f":"Stückliste!L551","v":0},{"$f":"Stückliste!P551","v":0},{"$f":"Stückliste!R551","v":0},{"$f":"Stückliste!T551","v":0},{"$f":"Stückliste!V551","v":0},{"$f":"Stückliste!X551","v":0},{"$f":"Stückliste!Z551","v":0},{"$f":"Stückliste!AB551","v":0},{"$f":"Stückliste!AD551","v":0},{"$f":"Stückliste!AH551","v":0},{"$f":"Stückliste!AJ551","v":0},{"$f":"Stückliste!AL551","v":0},{"$f":"Stückliste!AN551","v":0},{"$f":"Stückliste!AP551","v":0},{"$f":"Stückliste!AR551","v":0},{"$f":"Stückliste!AT551","v":0},{"$f":"Stückliste!AV551","v":0},{"$f":"Stückliste!AF551","v":0},{"$f":"Stückliste!AX551","v":0}]
[{"$f":"A498","v":0},0,8,{"$f":"Stückliste!A552","v":0},{"$f":"Stückliste!D552","v":0},{"$f":"Stückliste!H552","v":0},{"$f":"Stückliste!L552","v":0},{"$f":"Stückliste!P552","v":0},{"$f":"Stückliste!R552","v":0},{"$f":"Stückliste!T552","v":0},{"$f":"Stückliste!V552","v":0},{"$f":"Stückliste!X552","v":0},{"$f":"Stückliste!Z552","v":0},{"$f":"Stückliste!AB552","v":0},{"$f":"Stückliste!AD552","v":0},{"$f":"Stückliste!AH552","v":0},{"$f":"Stückliste!AJ552","v":0},{"$f":"Stückliste!AL552","v":0},{"$f":"Stückliste!AN552","v":0},{"$f":"Stückliste!AP552","v":0},{"$f":"Stückliste!AR552","v":0},{"$f":"Stückliste!AT552","v":0},{"$f":"Stückliste!AV552","v":0},{"$f":"Stückliste!AF552","v":0},{"$f":"Stückliste!AX552","v":0}]
[{"$f":"A499","v":0},0,8,{"$f":"Stückliste!A553","v":0},{"$f":"Stückliste!D553","v":0},{"$f":"Stückliste!H553","v":0},{"$f":"Stückliste!L553","v":0},{"$f":"Stückliste!P553","v":0},{"$f":"Stückliste!R553","v":0},{"$f":"Stückliste!T553","v":0},{"$f":"Stückliste!V553","v":0},{"$f":"Stückliste!X553","v":0},{"$f":"Stückliste!Z553","v":0},{"$f":"Stückliste!AB553","v":0},{"$f":"Stückliste!AD553","v":0},{"$f":"Stückliste!AH553","v":0},{"$f":"Stückliste!AJ553","v":0},{"$f":"Stückliste!AL553","v":0},{"$f":"Stückliste!AN553","v":0},{"$f":"Stückliste!AP553","v":0},{"$f":"Stückliste!AR553","v":0},{"$f":"Stückliste!AT553","v":0},{"$f":"Stückliste!AV553","v":0},{"$f":"Stückliste!AF553","v":0},{"$f":"Stückliste!AX553","v":0}]
[{"$f":"A500","v":0},0,8,{"$f":"Stückliste!A554","v":0},{"$f":"Stückliste!D554","v":0},{"$f":"Stückliste!H554","v":0},{"$f":"Stückliste!L554","v":0},{"$f":"Stückliste!P554","v":0},{"$f":"Stückliste!R554","v":0},{"$f":"Stückliste!T554","v":0},{"$f":"Stückliste!V554","v":0},{"$f":"Stückliste!X554","v":0},{"$f":"Stückliste!Z554","v":0},{"$f":"Stückliste!AB554","v":0},{"$f":"Stückliste!AD554","v":0},{"$f":"Stückliste!AH554","v":0},{"$f":"Stückliste!AJ554","v":0},{"$f":"Stückliste!AL554","v":0},{"$f":"Stückliste!AN554","v":0},{"$f":"Stückliste!AP554","v":0},{"$f":"Stückliste!AR554","v":0},{"$f":"Stückliste!AT554","v":0},{"$f":"Stückliste!AV554","v":0},{"$f":"Stückliste!AF554","v":0},{"$f":"Stückliste!AX554","v":0}]
[{"$f":"A501","v":0},0,8,{"$f":"Stückliste!A555","v":0},{"$f":"Stückliste!D555","v":0},{"$f":"Stückliste!H555","v":0},{"$f":"Stückliste!L555","v":0},{"$f":"Stückliste!P555","v":0},{"$f":"Stückliste!R555","v":0},{"$f":"Stückliste!T555","v":0},{"$f":"Stückliste!V555","v":0},{"$f":"Stückliste!X555","v":0},{"$f":"Stückliste!Z555","v":0},{"$f":"Stückliste!AB555","v":0},{"$f":"Stückliste!AD555","v":0},{"$f":"Stückliste!AH555","v":0},{"$f":"Stückliste!AJ555","v":0},{"$f":"Stückliste!AL555","v":0},{"$f":"Stückliste!AN555","v":0},{"$f":"Stückliste!AP555","v":0},{"$f":"Stückliste!AR555","v":0},{"$f":"Stückliste!AT555","v":0},{"$f":"Stückliste!AV555","v":0},{"$f":"Stückliste!AF555","v":0},{"$f":"Stückliste!AX555","v":0}]
[{"$f":"A502","v":0},0,8,{"$f":"Stückliste!A556","v":0},{"$f":"Stückliste!D556","v":0},{"$f":"Stückliste!H556","v":0},{"$f":"Stückliste!L556","v":0},{"$f":"Stückliste!P556","v":0},{"$f":"Stückliste!R556","v":0},{"$f":"Stückliste!T556","v":0},{"$f":"Stückliste!V556","v":0},{"$f":"Stückliste!X556","v":0},{"$f":"Stückliste!Z556","v":0},{"$f":"Stückliste!AB556","v":0},{"$f":"Stückliste!AD556","v":0},{"$f":"Stückliste!AH556","v":0},{"$f":"Stückliste!AJ556","v":0},{"$f":"Stückliste!AL556","v":0},{"$f":"Stückliste!AN556","v":0},{"$f":"Stückliste!AP556","v":0},{"$f":"Stückliste!AR556","v":0},{"$f":"Stückliste!AT556","v":0},{"$f":"Stückliste!AV556","v":0},{"$f":"Stückliste!AF556","v":0},{"$f":"Stückliste!AX556","v":0}]
[{"$f":"A503","v":0},0,8,{"$f":"Stückliste!A557","v":0},{"$f":"Stückliste!D557","v":0},{"$f":"Stückliste!H557","v":0},{"$f":"Stückliste!L557","v":0},{"$f":"Stückliste!P557","v":0},{"$f":"Stückliste!R557","v":0},{"$f":"Stückliste!T557","v":0},{"$f":"Stückliste!V557","v":0},{"$f":"Stückliste!X557","v":0},{"$f":"Stückliste!Z557","v":0},{"$f":"Stückliste!AB557","v":0},{"$f":"Stückliste!AD557","v":0},{"$f":"Stückliste!AH557","v":0},{"$f":"Stückliste!AJ557","v":0},{"$f":"Stückliste!AL557","v":0},{"$f":"Stückliste!AN557","v":0},{"$f":"Stückliste!AP557","v":0},{"$f":"Stückliste!AR557","v":0},{"$f":"Stückliste!AT557","v":0},{"$f":"Stückliste!AV557","v":0},{"$f":"Stückliste!AF557","v":0},{"$f":"Stückliste!AX557","v":0}]
[{"$f":"A504","v":0},0,8,{"$f":"Stückliste!A558","v":0},{"$f":"Stückliste!D558","v":0},{"$f":"Stückliste!H558","v":0},{"$f":"Stückliste!L558","v":0},{"$f":"Stückliste!P558","v":0},{"$f":"Stückliste!R558","v":0},{"$f":"Stückliste!T558","v":0},{"$f":"Stückliste!V558","v":0},{"$f":"Stückliste!X558","v":0},{"$f":"Stückliste!Z558","v":0},{"$f":"Stückliste!AB558","v":0},{"$f":"Stückliste!AD558","v":0},{"$f":"Stückliste!AH558","v":0},{"$f":"Stückliste!AJ558","v":0},{"$f":"Stückliste!AL558","v":0},{"$f":"Stückliste!AN558","v":0},{"$f":"Stückliste!AP558","v":0},{"$f":"Stückliste!AR558","v":0},{"$f":"Stückliste!AT558","v":0},{"$f":"Stückliste!AV558","v":0},{"$f":"Stückliste!AF558","v":0},{"$f":"Stückliste!AX558","v":0}]
[{"$f":"A505","v":0},0,8,{"$f":"Stückliste!A559","v":0},{"$f":"Stückliste!D559","v":0},{"$f":"Stückliste!H559","v":0},{"$f":"Stückliste!L559","v":0},{"$f":"Stückliste!P559","v":0},{"$f":"Stückliste!R559","v":0},{"$f":"Stückliste!T559","v":0},{"$f":"Stückliste!V559","v":0},{"$f":"Stückliste!X559","v":0},{"$f":"Stückliste!Z559","v":0},{"$f":"Stückliste!AB559","v":0},{"$f":"Stückliste!AD559","v":0},{"$f":"Stückliste!AH559","v":0},{"$f":"Stückliste!AJ559","v":0},{"$f":"Stückliste!AL559","v":0},{"$f":"Stückliste!AN559","v":0},{"$f":"Stückliste!AP559","v":0},{"$f":"Stückliste!AR559","v":0},{"$f":"Stückliste!AT559","v":0},{"$f":"Stückliste!AV559","v":0},{"$f":"Stückliste!AF559","v":0},{"$f":"Stückliste!AX559","v":0}]
[{"$f":"A506","v":0},0,8,{"$f":"Stückliste!A560","v":0},{"$f":"Stückliste!D560","v":0},{"$f":"Stückliste!H560","v":0},{"$f":"Stückliste!L560","v":0},{"$f":"Stückliste!P560","v":0},{"$f":"Stückliste!R560","v":0},{"$f":"Stückliste!T560","v":0},{"$f":"Stückliste!V560","v":0},{"$f":"Stückliste!X560","v":0},{"$f":"Stückliste!Z560","v":0},{"$f":"Stückliste!AB560","v":0},{"$f":"Stückliste!AD560","v":0},{"$f":"Stückliste!AH560","v":0},{"$f":"Stückliste!AJ560","v":0},{"$f":"Stückliste!AL560","v":0},{"$f":"Stückliste!AN560","v":0},{"$f":"Stückliste!AP560","v":0},{"$f":"Stückliste!AR560","v":0},{"$f":"Stückliste!AT560","v":0},{"$f":"Stückliste!AV560","v":0},{"$f":"Stückliste!AF560","v":0},{"$f":"Stückliste!AX560","v":0}]
[{"$f":"A507","v":0},0,8,{"$f":"Stückliste!A561","v":0},{"$f":"Stückliste!D561","v":0},{"$f":"Stückliste!H561","v":0},{"$f":"Stückliste!L561","v":0},{"$f":"Stückliste!P561","v":0},{"$f":"Stückliste!R561","v":0},{"$f":"Stückliste!T561","v":0},{"$f":"Stückliste!V561","v":0},{"$f":"Stückliste!X561","v":0},{"$f":"Stückliste!Z561","v":0},{"$f":"Stückliste!AB561","v":0},{"$f":"Stückliste!AD561","v":0},{"$f":"Stückliste!AH561","v":0},{"$f":"Stückliste!AJ561","v":0},{"$f":"Stückliste!AL561","v":0},{"$f":"Stückliste!AN561","v":0},{"$f":"Stückliste!AP561","v":0},{"$f":"Stückliste!AR561","v":0},{"$f":"Stückliste!AT561","v":0},{"$f":"Stückliste!AV561","v":0},{"$f":"Stückliste!AF561","v":0},{"$f":"Stückliste!AX561","v":0}]
[{"$f":"A508","v":0},0,8,{"$f":"Stückliste!A562","v":0},{"$f":"Stückliste!D562","v":0},{"$f":"Stückliste!H562","v":0},{"$f":"Stückliste!L562","v":0},{"$f":"Stückliste!P562","v":0},{"$f":"Stückliste!R562","v":0},{"$f":"Stückliste!T562","v":0},{"$f":"Stückliste!V562","v":0},{"$f":"Stückliste!X562","v":0},{"$f":"Stückliste!Z562","v":0},{"$f":"Stückliste!AB562","v":0},{"$f":"Stückliste!AD562","v":0},{"$f":"Stückliste!AH562","v":0},{"$f":"Stückliste!AJ562","v":0},{"$f":"Stückliste!AL562","v":0},{"$f":"Stückliste!AN562","v":0},{"$f":"Stückliste!AP562","v":0},{"$f":"Stückliste!AR562","v":0},{"$f":"Stückliste!AT562","v":0},{"$f":"Stückliste!AV562","v":0},{"$f":"Stückliste!AF562","v":0},{"$f":"Stückliste!AX562","v":0}]
[{"$f":"A509","v":0},0,8,{"$f":"Stückliste!A563","v":0},{"$f":"Stückliste!D563","v":0},{"$f":"Stückliste!H563","v":0},{"$f":"Stückliste!L563","v":0},{"$f":"Stückliste!P563","v":0},{"$f":"Stückliste!R563","v":0},{"$f":"Stückliste!T563","v":0},{"$f":"Stückliste!V563","v":0},{"$f":"Stückliste!X563","v":0},{"$f":"Stückliste!Z563","v":0},{"$f":"Stückliste!AB563","v":0},{"$f":"Stückliste!AD563","v":0},{"$f":"Stückliste!AH563","v":0},{"$f":"Stückliste!AJ563","v":0},{"$f":"Stückliste!AL563","v":0},{"$f":"Stückliste!AN563","v":0},{"$f":"Stückliste!AP563","v":0},{"$f":"Stückliste!AR563","v":0},{"$f":"Stückliste!AT563","v":0},{"$f":"Stückliste!AV563","v":0},{"$f":"Stückliste!AF563","v":0},{"$f":"Stückliste!AX563","v":0}]
[{"$f":"A510","v":0},0,8,{"$f":"Stückliste!A564","v":0},{"$f":"Stückliste!D564","v":0},{"$f":"Stückliste!H564","v":0},{"$f":"Stückliste!L564","v":0},{"$f":"Stückliste!P564","v":0},{"$f":"Stückliste!R564","v":0},{"$f":"Stückliste!T564","v":0},{"$f":"Stückliste!V564","v":0},{"$f":"Stückliste!X564","v":0},{"$f":"Stückliste!Z564","v":0},{"$f":"Stückliste!AB564","v":0},{"$f":"Stückliste!AD564","v":0},{"$f":"Stückliste!AH564","v":0},{"$f":"Stückliste!AJ564","v":0},{"$f":"Stückliste!AL564","v":0},{"$f":"Stückliste!AN564","v":0},{"$f":"Stückliste!AP564","v":0},{"$f":"Stückliste!AR564","v":0},{"$f":"Stückliste!AT564","v":0},{"$f":"Stückliste!AV564","v":0},{"$f":"Stückliste!AF564","v":0},{"$f":"Stückliste!AX564","v":0}]
[{"$f":"A511","v":0},0,8,{"$f":"Stückliste!A565","v":0},{"$f":"Stückliste!D565","v":0},{"$f":"Stückliste!H565","v":0},{"$f":"Stückliste!L565","v":0},{"$f":"Stückliste!P565","v":0},{"$f":"Stückliste!R565","v":0},{"$f":"Stückliste!T565","v":0},{"$f":"Stückliste!V565","v":0},{"$f":"Stückliste!X565","v":0},{"$f":"Stückliste!Z565","v":0},{"$f":"Stückliste!AB565","v":0},{"$f":"Stückliste!AD565","v":0},{"$f":"Stückliste!AH565","v":0},{"$f":"Stückliste!AJ565","v":0},{"$f":"Stückliste!AL565","v":0},{"$f":"Stückliste!AN565","v":0},{"$f":"Stückliste!AP565","v":0},{"$f":"Stückliste!AR565","v":0},{"$f":"Stückliste!AT565","v":0},{"$f":"Stückliste!AV565","v":0},{"$f":"Stückliste!AF565","v":0},{"$f":"Stückliste!AX565","v":0}]
[{"$f":"A512","v":0},0,8,{"$f":"Stückliste!A566","v":0},{"$f":"Stückliste!D566","v":0},{"$f":"Stückliste!H566","v":0},{"$f":"Stückliste!L566","v":0},{"$f":"Stückliste!P566","v":0},{"$f":"Stückliste!R566","v":0},{"$f":"Stückliste!T566","v":0},{"$f":"Stückliste!V566","v":0},{"$f":"Stückliste!X566","v":0},{"$f":"Stückliste!Z566","v":0},{"$f":"Stückliste!AB566","v":0},{"$f":"Stückliste!AD566","v":0},{"$f":"Stückliste!AH566","v":0},{"$f":"Stückliste!AJ566","v":0},{"$f":"Stückliste!AL566","v":0},{"$f":"Stückliste!AN566","v":0},{"$f":"Stückliste!AP566","v":0},{"$f":"Stückliste!AR566","v":0},{"$f":"Stückliste!AT566","v":0},{"$f":"Stückliste!AV566","v":0},{"$f":"Stückliste!AF566","v":0},{"$f":"Stückliste!AX566","v":0}]
[{"$f":"A513","v":0},0,8,{"$f":"Stückliste!A567","v":0},{"$f":"Stückliste!D567","v":0},{"$f":"Stückliste!H567","v":0},{"$f":"Stückliste!L567","v":0},{"$f":"Stückliste!P567","v":0},{"$f":"Stückliste!R567","v":0},{"$f":"Stückliste!T567","v":0},{"$f":"Stückliste!V567","v":0},{"$f":"Stückliste!X567","v":0},{"$f":"Stückliste!Z567","v":0},{"$f":"Stückliste!AB567","v":0},{"$f":"Stückliste!AD567","v":0},{"$f":"Stückliste!AH567","v":0},{"$f":"Stückliste!AJ567","v":0},{"$f":"Stückliste!AL567","v":0},{"$f":"Stückliste!AN567","v":0},{"$f":"Stückliste!AP567","v":0},{"$f":"Stückliste!AR567","v":0},{"$f":"Stückliste!AT567","v":0},{"$f":"Stückliste!AV567","v":0},{"$f":"Stückliste!AF567","v":0},{"$f":"Stückliste!AX567","v":0}]
[{"$f":"A514","v":0},0,8,{"$f":"Stückliste!A568","v":0},{"$f":"Stückliste!D568","v":0},{"$f":"Stückliste!H568","v":0},{"$f":"Stückliste!L568","v":0},{"$f":"Stückliste!P568","v":0},{"$f":"Stückliste!R568","v":0},{"$f":"Stückliste!T568","v":0},{"$f":"Stückliste!V568","v":0},{"$f":"Stückliste!X568","v":0},{"$f":"Stückliste!Z568","v":0},{"$f":"Stückliste!AB568","v":0},{"$f":"Stückliste!AD568","v":0},{"$f":"Stückliste!AH568","v":0},{"$f":"Stückliste!AJ568","v":0},{"$f":"Stückliste!AL568","v":0},{"$f":"Stückliste!AN568","v":0},{"$f":"Stückliste!AP568","v":0},{"$f":"Stückliste!AR568","v":0},{"$f":"Stückliste!AT568","v":0},{"$f":"Stückliste!AV568","v":0},{"$f":"Stückliste!AF568","v":0},{"$f":"Stückliste!AX568","v":0}]
[{"$f":"A515","v":0},0,8,{"$f":"Stückliste!A569","v":0},{"$f":"Stückliste!D569","v":0},{"$f":"Stückliste!H569","v":0},{"$f":"Stückliste!L569","v":0},{"$f":"Stückliste!P569","v":0},{"$f":"Stückliste!R569","v":0},{"$f":"Stückliste!T569","v":0},{"$f":"Stückliste!V569","v":0},{"$f":"Stückliste!X569","v":0},{"$f":"Stückliste!Z569","v":0},{"$f":"Stückliste!AB569","v":0},{"$f":"Stückliste!AD569","v":0},{"$f":"Stückliste!AH569","v":0},{"$f":"Stückliste!AJ569","v":0},{"$f":"Stückliste!AL569","v":0},{"$f":"Stückliste!AN569","v":0},{"$f":"Stückliste!AP569","v":0},{"$f":"Stückliste!AR569","v":0},{"$f":"Stückliste!AT569","v":0},{"$f":"Stückliste!AV569","v":0},{"$f":"Stückliste!AF569","v":0},{"$f":"Stückliste!AX569","v":0}]
[{"$f":"A516","v":0},0,8,{"$f":"Stückliste!A570","v":0},{"$f":"Stückliste!D570","v":0},{"$f":"Stückliste!H570","v":0},{"$f":"Stückliste!L570","v":0},{"$f":"Stückliste!P570","v":0},{"$f":"Stückliste!R570","v":0},{"$f":"Stückliste!T570","v":0},{"$f":"Stückliste!V570","v":0},{"$f":"Stückliste!X570","v":0},{"$f":"Stückliste!Z570","v":0},{"$f":"Stückliste!AB570","v":0},{"$f":"Stückliste!AD570","v":0},{"$f":"Stückliste!AH570","v":0},{"$f":"Stückliste!AJ570","v":0},{"$f":"Stückliste!AL570","v":0},{"$f":"Stückliste!AN570","v":0},{"$f":"Stückliste!AP570","v":0},{"$f":"Stückliste!AR570","v":0},{"$f":"Stückliste!AT570","v":0},{"$f":"Stückliste!AV570","v":0},{"$f":"Stückliste!AF570","v":0},{"$f":"Stückliste!AX570","v":0}]
[{"$f":"A517","v":0},0,8,{"$f":"Stückliste!A571","v":0},{"$f":"Stückliste!D571","v":0},{"$f":"Stückliste!H571","v":0},{"$f":"Stückliste!L571","v":0},{"$f":"Stückliste!P571","v":0},{"$f":"Stückliste!R571","v":0},{"$f":"Stückliste!T571","v":0},{"$f":"Stückliste!V571","v":0},{"$f":"Stückliste!X571","v":0},{"$f":"Stückliste!Z571","v":0},{"$f":"Stückliste!AB571","v":0},{"$f":"Stückliste!AD571","v":0},{"$f":"Stückliste!AH571","v":0},{"$f":"Stückliste!AJ571","v":0},{"$f":"Stückliste!AL571","v":0},{"$f":"Stückliste!AN571","v":0},{"$f":"Stückliste!AP571","v":0},{"$f":"Stückliste!AR571","v":0},{"$f":"Stückliste!AT571","v":0},{"$f":"Stückliste!AV571","v":0},{"$f":"Stückliste!AF571","v":0},{"$f":"Stückliste!AX571","v":0}]
[{"$f":"A518","v":0},0,8,{"$f":"Stückliste!A572","v":0},{"$f":"Stückliste!D572","v":0},{"$f":"Stückliste!H572","v":0},{"$f":"Stückliste!L572","v":0},{"$f":"Stückliste!P572","v":0},{"$f":"Stückliste!R572","v":0},{"$f":"Stückliste!T572","v":0},{"$f":"Stückliste!V572","v":0},{"$f":"Stückliste!X572","v":0},{"$f":"Stückliste!Z572","v":0},{"$f":"Stückliste!AB572","v":0},{"$f":"Stückliste!AD572","v":0},{"$f":"Stückliste!AH572","v":0},{"$f":"Stückliste!AJ572","v":0},{"$f":"Stückliste!AL572","v":0},{"$f":"Stückliste!AN572","v":0},{"$f":"Stückliste!AP572","v":0},{"$f":"Stückliste!AR572","v":0},{"$f":"Stückliste!AT572","v":0},{"$f":"Stückliste!AV572","v":0},{"$f":"Stückliste!AF572","v":0},{"$f":"Stückliste!AX572","v":0}]
[{"$f":"A519","v":0},0,8,{"$f":"Stückliste!A573","v":0},{"$f":"Stückliste!D573","v":0},{"$f":"Stückliste!H573","v":0},{"$f":"Stückliste!L573","v":0},{"$f":"Stückliste!P573","v":0},{"$f":"Stückliste!R573","v":0},{"$f":"Stückliste!T573","v":0},{"$f":"Stückliste!V573","v":0},{"$f":"Stückliste!X573","v":0},{"$f":"Stückliste!Z573","v":0},{"$f":"Stückliste!AB573","v":0},{"$f":"Stückliste!AD573","v":0},{"$f":"Stückliste!AH573","v":0},{"$f":"Stückliste!AJ573","v":0},{"$f":"Stückliste!AL573","v":0},{"$f":"Stückliste!AN573","v":0},{"$f":"Stückliste!AP573","v":0},{"$f":"Stückliste!AR573","v":0},{"$f":"Stückliste!AT573","v":0},{"$f":"Stückliste!AV573","v":0},{"$f":"Stückliste!AF573","v":0},{"$f":"Stückliste!AX573","v":0}]
[{"$f":"A520","v":0},0,8,{"$f":"Stückliste!A574","v":0},{"$f":"Stückliste!D574","v":0},{"$f":"Stückliste!H574","v":0},{"$f":"Stückliste!L574","v":0},{"$f":"Stückliste!P574","v":0},{"$f":"Stückliste!R574","v":0},{"$f":"Stückliste!T574","v":0},{"$f":"Stückliste!V574","v":0},{"$f":"Stückliste!X574","v":0},{"$f":"Stückliste!Z574","v":0},{"$f":"Stückliste!AB574","v":0},{"$f":"Stückliste!AD574","v":0},{"$f":"Stückliste!AH574","v":0},{"$f":"Stückliste!AJ574","v":0},{"$f":"Stückliste!AL574","v":0},{"$f":"Stückliste!AN574","v":0},{"$f":"Stückliste!AP574","v":0},{"$f":"Stückliste!AR574","v":0},{"$f":"Stückliste!AT574","v":0},{"$f":"Stückliste!AV574","v":0},{"$f":"Stückliste!AF574","v":0},{"$f":"Stückliste!AX574","v":0}]
[{"$f":"A521","v":0},0,8,{"$f":"Stückliste!A575","v":0},{"$f":"Stückliste!D575","v":0},{"$f":"Stückliste!H575","v":0},{"$f":"Stückliste!L575","v":0},{"$f":"Stückliste!P575","v":0},{"$f":"Stückliste!R575","v":0},{"$f":"Stückliste!T575","v":0},{"$f":"Stückliste!V575","v":0},{"$f":"Stückliste!X575","v":0},{"$f":"Stückliste!Z575","v":0},{"$f":"Stückliste!AB575","v":0},{"$f":"Stückliste!AD575","v":0},{"$f":"Stückliste!AH575","v":0},{"$f":"Stückliste!AJ575","v":0},{"$f":"Stückliste!AL575","v":0},{"$f":"Stückliste!AN575","v":0},{"$f":"Stückliste!AP575","v":0},{"$f":"Stückliste!AR575","v":0},{"$f":"Stückliste!AT575","v":0},{"$f":"Stückliste!AV575","v":0},{"$f":"Stückliste!AF575","v":0},{"$f":"Stückliste!AX575","v":0}]
[{"$f":"A522","v":0},0,8,{"$f":"Stückliste!A576","v":0},{"$f":"Stückliste!D576","v":0},{"$f":"Stückliste!H576","v":0},{"$f":"Stückliste!L576","v":0},{"$f":"Stückliste!P576","v":0},{"$f":"Stückliste!R576","v":0},{"$f":"Stückliste!T576","v":0},{"$f":"Stückliste!V576","v":0},{"$f":"Stückliste!X576","v":0},{"$f":"Stückliste!Z576","v":0},{"$f":"Stückliste!AB576","v":0},{"$f":"Stückliste!AD576","v":0},{"$f":"Stückliste!AH576","v":0},{"$f":"Stückliste!AJ576","v":0},{"$f":"Stückliste!AL576","v":0},{"$f":"Stückliste!AN576","v":0},{"$f":"Stückliste!AP576","v":0},{"$f":"Stückliste!AR576","v":0},{"$f":"Stückliste!AT576","v":0},{"$f":"Stückliste!AV576","v":0},{"$f":"Stückliste!AF576","v":0},{"$f":"Stückliste!AX576","v":0}]
[{"$f":"A523","v":0},0,8,{"$f":"Stückliste!A577","v":0},{"$f":"Stückliste!D577","v":0},{"$f":"Stückliste!H577","v":0},{"$f":"Stückliste!L577","v":0},{"$f":"Stückliste!P577","v":0},{"$f":"Stückliste!R577","v":0},{"$f":"Stückliste!T577","v":0},{"$f":"Stückliste!V577","v":0},{"$f":"Stückliste!X577","v":0},{"$f":"Stückliste!Z577","v":0},{"$f":"Stückliste!AB577","v":0},{"$f":"Stückliste!AD577","v":0},{"$f":"Stückliste!AH577","v":0},{"$f":"Stückliste!AJ577","v":0},{"$f":"Stückliste!AL577","v":0},{"$f":"Stückliste!AN577","v":0},{"$f":"Stückliste!AP577","v":0},{"$f":"Stückliste!AR577","v":0},{"$f":"Stückliste!AT577","v":0},{"$f":"Stückliste!AV577","v":0},{"$f":"Stückliste!AF577","v":0},{"$f":"Stückliste!AX577","v":0}]
[{"$f":"A524","v":0},0,8,{"$f":"Stückliste!A578","v":0},{"$f":"Stückliste!D578","v":0},{"$f":"Stückliste!H578","v":0},{"$f":"Stückliste!L578","v":0},{"$f":"Stückliste!P578","v":0},{"$f":"Stückliste!R578","v":0},{"$f":"Stückliste!T578","v":0},{"$f":"Stückliste!V578","v":0},{"$f":"Stückliste!X578","v":0},{"$f":"Stückliste!Z578","v":0},{"$f":"Stückliste!AB578","v":0},{"$f":"Stückliste!AD578","v":0},{"$f":"Stückliste!AH578","v":0},{"$f":"Stückliste!AJ578","v":0},{"$f":"Stückliste!AL578","v":0},{"$f":"Stückliste!AN578","v":0},{"$f":"Stückliste!AP578","v":0},{"$f":"Stückliste!AR578","v":0},{"$f":"Stückliste!AT578","v":0},{"$f":"Stückliste!AV578","v":0},{"$f":"Stückliste!AF578","v":0},{"$f":"Stückliste!AX578","v":0}]
[{"$f":"A525","v":0},0,8,{"$f":"Stückliste!A579","v":0},{"$f":"Stückliste!D579","v":0},{"$f":"Stückliste!H579","v":0},{"$f":"Stückliste!L579","v":0},{"$f":"Stückliste!P579","v":0},{"$f":"Stückliste!R579","v":0},{"$f":"Stückliste!T579","v":0},{"$f":"Stückliste!V579","v":0},{"$f":"Stückliste!X579","v":0},{"$f":"Stückliste!Z579","v":0},{"$f":"Stückliste!AB579","v":0},{"$f":"Stückliste!AD579","v":0},{"$f":"Stückliste!AH579","v":0},{"$f":"Stückliste!AJ579","v":0},{"$f":"Stückliste!AL579","v":0},{"$f":"Stückliste!AN579","v":0},{"$f":"Stückliste!AP579","v":0},{"$f":"Stückliste!AR579","v":0},{"$f":"Stückliste!AT579","v":0},{"$f":"Stückliste!AV579","v":0},{"$f":"Stückliste!AF579","v":0},{"$f":"Stückliste!AX579","v":0}]
[{"$f":"A526","v":0},0,8,{"$f":"Stückliste!A580","v":0},{"$f":"Stückliste!D580","v":0},{"$f":"Stückliste!H580","v":0},{"$f":"Stückliste!L580","v":0},{"$f":"Stückliste!P580","v":0},{"$f":"Stückliste!R580","v":0},{"$f":"Stückliste!T580","v":0},{"$f":"Stückliste!V580","v":0},{"$f":"Stückliste!X580","v":0},{"$f":"Stückliste!Z580","v":0},{"$f":"Stückliste!AB580","v":0},{"$f":"Stückliste!AD580","v":0},{"$f":"Stückliste!AH580","v":0},{"$f":"Stückliste!AJ580","v":0},{"$f":"Stückliste!AL580","v":0},{"$f":"Stückliste!AN580","v":0},{"$f":"Stückliste!AP580","v":0},{"$f":"Stückliste!AR580","v":0},{"$f":"Stückliste!AT580","v":0},{"$f":"Stückliste!AV580","v":0},{"$f":"Stückliste!AF580","v":0},{"$f":"Stückliste!AX580","v":0}]
[{"$f":"A527","v":0},0,8,{"$f":"Stückliste!A581","v":0},{"$f":"Stückliste!D581","v":0},{"$f":"Stückliste!H581","v":0},{"$f":"Stückliste!L581","v":0},{"$f":"Stückliste!P581","v":0},{"$f":"Stückliste!R581","v":0},{"$f":"Stückliste!T581","v":0},{"$f":"Stückliste!V581","v":0},{"$f":"Stückliste!X581","v":0},{"$f":"Stückliste!Z581","v":0},{"$f":"Stückliste!AB581","v":0},{"$f":"Stückliste!AD581","v":0},{"$f":"Stückliste!AH581","v":0},{"$f":"Stückliste!AJ581","v":0},{"$f":"Stückliste!AL581","v":0},{"$f":"Stückliste!AN581","v":0},{"$f":"Stückliste!AP581","v":0},{"$f":"Stückliste!AR581","v":0},{"$f":"Stückliste!AT581","v":0},{"$f":"Stückliste!AV581","v":0},{"$f":"Stückliste!AF581","v":0},{"$f":"Stückliste!AX581","v":0}]
[{"$f":"A528","v":0},0,8,{"$f":"Stückliste!A582","v":0},{"$f":"Stückliste!D582","v":0},{"$f":"Stückliste!H582","v":0},{"$f":"Stückliste!L582","v":0},{"$f":"Stückliste!P582","v":0},{"$f":"Stückliste!R582","v":0},{"$f":"Stückliste!T582","v":0},{"$f":"Stückliste!V582","v":0},{"$f":"Stückliste!X582","v":0},{"$f":"Stückliste!Z582","v":0},{"$f":"Stückliste!AB582","v":0},{"$f":"Stückliste!AD582","v":0},{"$f":"Stückliste!AH582","v":0},{"$f":"Stückliste!AJ582","v":0},{"$f":"Stückliste!AL582","v":0},{"$f":"Stückliste!AN582","v":0},{"$f":"Stückliste!AP582","v":0},{"$f":"Stückliste!AR582","v":0},{"$f":"Stückliste!AT582","v":0},{"$f":"Stückliste!AV582","v":0},{"$f":"Stückliste!AF582","v":0},{"$f":"Stückliste!AX582","v":0}]
[{"$f":"A529","v":0},0,8,{"$f":"Stückliste!A583","v":0},{"$f":"Stückliste!D583","v":0},{"$f":"Stückliste!H583","v":0},{"$f":"Stückliste!L583","v":0},{"$f":"Stückliste!P583","v":0},{"$f":"Stückliste!R583","v":0},{"$f":"Stückliste!T583","v":0},{"$f":"Stückliste!V583","v":0},{"$f":"Stückliste!X583","v":0},{"$f":"Stückliste!Z583","v":0},{"$f":"Stückliste!AB583","v":0},{"$f":"Stückliste!AD583","v":0},{"$f":"Stückliste!AH583","v":0},{"$f":"Stückliste!AJ583","v":0},{"$f":"Stückliste!AL583","v":0},{"$f":"Stückliste!AN583","v":0},{"$f":"Stückliste!AP583","v":0},{"$f":"Stückliste!AR583","v":0},{"$f":"Stückliste!AT583","v":0},{"$f":"Stückliste!AV583","v":0},{"$f":"Stückliste!AF583","v":0},{"$f":"Stückliste!AX583","v":0}]
[{"$f":"A530","v":0},0,8,{"$f":"Stückliste!A584","v":0},{"$f":"Stückliste!D584","v":0},{"$f":"Stückliste!H584","v":0},{"$f":"Stückliste!L584","v":0},{"$f":"Stückliste!P584","v":0},{"$f":"Stückliste!R584","v":0},{"$f":"Stückliste!T584","v":0},{"$f":"Stückliste!V584","v":0},{"$f":"Stückliste!X584","v":0},{"$f":"Stückliste!Z584","v":0},{"$f":"Stückliste!AB584","v":0},{"$f":"Stückliste!AD584","v":0},{"$f":"Stückliste!AH584","v":0},{"$f":"Stückliste!AJ584","v":0},{"$f":"Stückliste!AL584","v":0},{"$f":"Stückliste!AN584","v":0},{"$f":"Stückliste!AP584","v":0},{"$f":"Stückliste!AR584","v":0},{"$f":"Stückliste!AT584","v":0},{"$f":"Stückliste!AV584","v":0},{"$f":"Stückliste!AF584","v":0},{"$f":"Stückliste!AX584","v":0}]
[{"$f":"A531","v":0},0,8,{"$f":"Stückliste!A585","v":0},{"$f":"Stückliste!D585","v":0},{"$f":"Stückliste!H585","v":0},{"$f":"Stückliste!L585","v":0},{"$f":"Stückliste!P585","v":0},{"$f":"Stückliste!R585","v":0},{"$f":"Stückliste!T585","v":0},{"$f":"Stückliste!V585","v":0},{"$f":"Stückliste!X585","v":0},{"$f":"Stückliste!Z585","v":0},{"$f":"Stückliste!AB585","v":0},{"$f":"Stückliste!AD585","v":0},{"$f":"Stückliste!AH585","v":0},{"$f":"Stückliste!AJ585","v":0},{"$f":"Stückliste!AL585","v":0},{"$f":"Stückliste!AN585","v":0},{"$f":"Stückliste!AP585","v":0},{"$f":"Stückliste!AR585","v":0},{"$f":"Stückliste!AT585","v":0},{"$f":"Stückliste!AV585","v":0},{"$f":"Stückliste!AF585","v":0},{"$f":"Stückliste!AX585","v":0}]
[{"$f":"A532","v":0},0,8,{"$f":"Stückliste!A586","v":0},{"$f":"Stückliste!D586","v":0},{"$f":"Stückliste!H586","v":0},{"$f":"Stückliste!L586","v":0},{"$f":"Stückliste!P586","v":0},{"$f":"Stückliste!R586","v":0},{"$f":"Stückliste!T586","v":0},{"$f":"Stückliste!V586","v":0},{"$f":"Stückliste!X586","v":0},{"$f":"Stückliste!Z586","v":0},{"$f":"Stückliste!AB586","v":0},{"$f":"Stückliste!AD586","v":0},{"$f":"Stückliste!AH586","v":0},{"$f":"Stückliste!AJ586","v":0},{"$f":"Stückliste!AL586","v":0},{"$f":"Stückliste!AN586","v":0},{"$f":"Stückliste!AP586","v":0},{"$f":"Stückliste!AR586","v":0},{"$f":"Stückliste!AT586","v":0},{"$f":"Stückliste!AV586","v":0},{"$f":"Stückliste!AF586","v":0},{"$f":"Stückliste!AX586","v":0}]
[{"$f":"A533","v":0},0,8,{"$f":"Stückliste!A587","v":0},{"$f":"Stückliste!D587","v":0},{"$f":"Stückliste!H587","v":0},{"$f":"Stückliste!L587","v":0},{"$f":"Stückliste!P587","v":0},{"$f":"Stückliste!R587","v":0},{"$f":"Stückliste!T587","v":0},{"$f":"Stückliste!V587","v":0},{"$f":"Stückliste!X587","v":0},{"$f":"Stückliste!Z587","v":0},{"$f":"Stückliste!AB587","v":0},{"$f":"Stückliste!AD587","v":0},{"$f":"Stückliste!AH587","v":0},{"$f":"Stückliste!AJ587","v":0},{"$f":"Stückliste!AL587","v":0},{"$f":"Stückliste!AN587","v":0},{"$f":"Stückliste!AP587","v":0},{"$f":"Stückliste!AR587","v":0},{"$f":"Stückliste!AT587","v":0},{"$f":"Stückliste!AV587","v":0},{"$f":"Stückliste!AF587","v":0},{"$f":"Stückliste!AX587","v":0}]
[{"$f":"A534","v":0},0,8,{"$f":"Stückliste!A588","v":0},{"$f":"Stückliste!D588","v":0},{"$f":"Stückliste!H588","v":0},{"$f":"Stückliste!L588","v":0},{"$f":"Stückliste!P588","v":0},{"$f":"Stückliste!R588","v":0},{"$f":"Stückliste!T588","v":0},{"$f":"Stückliste!V588","v":0},{"$f":"Stückliste!X588","v":0},{"$f":"Stückliste!Z588","v":0},{"$f":"Stückliste!AB588","v":0},{"$f":"Stückliste!AD588","v":0},{"$f":"Stückliste!AH588","v":0},{"$f":"Stückliste!AJ588","v":0},{"$f":"Stückliste!AL588","v":0},{"$f":"Stückliste!AN588","v":0},{"$f":"Stückliste!AP588","v":0},{"$f":"Stückliste!AR588","v":0},{"$f":"Stückliste!AT588","v":0},{"$f":"Stückliste!AV588","v":0},{"$f":"Stückliste!AF588","v":0},{"$f":"Stückliste!AX588","v":0}]
[{"$f":"A535","v":0},0,8,{"$f":"Stückliste!A589","v":0},{"$f":"Stückliste!D589","v":0},{"$f":"Stückliste!H589","v":0},{"$f":"Stückliste!L589","v":0},{"$f":"Stückliste!P589","v":0},{"$f":"Stückliste!R589","v":0},{"$f":"Stückliste!T589","v":0},{"$f":"Stückliste!V589","v":0},{"$f":"Stückliste!X589","v":0},{"$f":"Stückliste!Z589","v":0},{"$f":"Stückliste!AB589","v":0},{"$f":"Stückliste!AD589","v":0},{"$f":"Stückliste!AH589","v":0},{"$f":"Stückliste!AJ589","v":0},{"$f":"Stückliste!AL589","v":0},{"$f":"Stückliste!AN589","v":0},{"$f":"Stückliste!AP589","v":0},{"$f":"Stückliste!AR589","v":0},{"$f":"Stückliste!AT589","v":0},{"$f":"Stückliste!AV589","v":0},{"$f":"Stückliste!AF589","v":0},{"$f":"Stückliste!AX589","v":0}]
[{"$f":"A536","v":0},0,8,{"$f":"Stückliste!A590","v":0},{"$f":"Stückliste!D590","v":0},{"$f":"Stückliste!H590","v":0},{"$f":"Stückliste!L590","v":0},{"$f":"Stückliste!P590","v":0},{"$f":"Stückliste!R590","v":0},{"$f":"Stückliste!T590","v":0},{"$f":"Stückliste!V590","v":0},{"$f":"Stückliste!X590","v":0},{"$f":"Stückliste!Z590","v":0},{"$f":"Stückliste!AB590","v":0},{"$f":"Stückliste!AD590","v":0},{"$f":"Stückliste!AH590","v":0},{"$f":"Stückliste!AJ590","v":0},{"$f":"Stückliste!AL590","v":0},{"$f":"Stückliste!AN590","v":0},{"$f":"Stückliste!AP590","v":0},{"$f":"Stückliste!AR590","v":0},{"$f":"Stückliste!AT590","v":0},{"$f":"Stückliste!AV590","v":0},{"$f":"Stückliste!AF590","v":0},{"$f":"Stückliste!AX590","v":0}]
[{"$f":"A537","v":0},0,8,{"$f":"Stückliste!A591","v":0},{"$f":"Stückliste!D591","v":0},{"$f":"Stückliste!H591","v":0},{"$f":"Stückliste!L591","v":0},{"$f":"Stückliste!P591","v":0},{"$f":"Stückliste!R591","v":0},{"$f":"Stückliste!T591","v":0},{"$f":"Stückliste!V591","v":0},{"$f":"Stückliste!X591","v":0},{"$f":"Stückliste!Z591","v":0},{"$f":"Stückliste!AB591","v":0},{"$f":"Stückliste!AD591","v":0},{"$f":"Stückliste!AH591","v":0},{"$f":"Stückliste!AJ591","v":0},{"$f":"Stückliste!AL591","v":0},{"$f":"Stückliste!AN591","v":0},{"$f":"Stückliste!AP591","v":0},{"$f":"Stückliste!AR591","v":0},{"$f":"Stückliste!AT591","v":0},{"$f":"Stückliste!AV591","v":0},{"$f":"Stückliste!AF591","v":0},{"$f":"Stückliste!AX591","v":0}]
[{"$f":"A538","v":0},0,8,{"$f":"Stückliste!A592","v":0},{"$f":"Stückliste!D592","v":0},{"$f":"Stückliste!H592","v":0},{"$f":"Stückliste!L592","v":0},{"$f":"Stückliste!P592","v":0},{"$f":"Stückliste!R592","v":0},{"$f":"Stückliste!T592","v":0},{"$f":"Stückliste!V592","v":0},{"$f":"Stückliste!X592","v":0},{"$f":"Stückliste!Z592","v":0},{"$f":"Stückliste!AB592","v":0},{"$f":"Stückliste!AD592","v":0},{"$f":"Stückliste!AH592","v":0},{"$f":"Stückliste!AJ592","v":0},{"$f":"Stückliste!AL592","v":0},{"$f":"Stückliste!AN592","v":0},{"$f":"Stückliste!AP592","v":0},{"$f":"Stückliste!AR592","v":0},{"$f":"Stückliste!AT592","v":0},{"$f":"Stückliste!AV592","v":0},{"$f":"Stückliste!AF592","v":0},{"$f":"Stückliste!AX592","v":0}]
[{"$f":"A539","v":0},0,8,{"$f":"Stückliste!A593","v":0},{"$f":"Stückliste!D593","v":0},{"$f":"Stückliste!H593","v":0},{"$f":"Stückliste!L593","v":0},{"$f":"Stückliste!P593","v":0},{"$f":"Stückliste!R593","v":0},{"$f":"Stückliste!T593","v":0},{"$f":"Stückliste!V593","v":0},{"$f":"Stückliste!X593","v":0},{"$f":"Stückliste!Z593","v":0},{"$f":"Stückliste!AB593","v":0},{"$f":"Stückliste!AD593","v":0},{"$f":"Stückliste!AH593","v":0},{"$f":"Stückliste!AJ593","v":0},{"$f":"Stückliste!AL593","v":0},{"$f":"Stückliste!AN593","v":0},{"$f":"Stückliste!AP593","v":0},{"$f":"Stückliste!AR593","v":0},{"$f":"Stückliste!AT593","v":0},{"$f":"Stückliste!AV593","v":0},{"$f":"Stückliste!AF593","v":0},{"$f":"Stückliste!AX593","v":0}]
[{"$f":"A540","v":0},0,8,{"$f":"Stückliste!A594","v":0},{"$f":"Stückliste!D594","v":0},{"$f":"Stückliste!H594","v":0},{"$f":"Stückliste!L594","v":0},{"$f":"Stückliste!P594","v":0},{"$f":"Stückliste!R594","v":0},{"$f":"Stückliste!T594","v":0},{"$f":"Stückliste!V594","v":0},{"$f":"Stückliste!X594","v":0},{"$f":"Stückliste!Z594","v":0},{"$f":"Stückliste!AB594","v":0},{"$f":"Stückliste!AD594","v":0},{"$f":"Stückliste!AH594","v":0},{"$f":"Stückliste!AJ594","v":0},{"$f":"Stückliste!AL594","v":0},{"$f":"Stückliste!AN594","v":0},{"$f":"Stückliste!AP594","v":0},{"$f":"Stückliste!AR594","v":0},{"$f":"Stückliste!AT594","v":0},{"$f":"Stückliste!AV594","v":0},{"$f":"Stückliste!AF594","v":0},{"$f":"Stückliste!AX594","v":0}]
[{"$f":"A541","v":0},0,8,{"$f":"Stückliste!A595","v":0},{"$f":"Stückliste!D595","v":0},{"$f":"Stückliste!H595","v":0},{"$f":"Stückliste!L595","v":0},{"$f":"Stückliste!P595","v":0},{"$f":"Stückliste!R595","v":0},{"$f":"Stückliste!T595","v":0},{"$f":"Stückliste!V595","v":0},{"$f":"Stückliste!X595","v":0},{"$f":"Stückliste!Z595","v":0},{"$f":"Stückliste!AB595","v":0},{"$f":"Stückliste!AD595","v":0},{"$f":"Stückliste!AH595","v":0},{"$f":"Stückliste!AJ595","v":0},{"$f":"Stückliste!AL595","v":0},{"$f":"Stückliste!AN595","v":0},{"$f":"Stückliste!AP595","v":0},{"$f":"Stückliste!AR595","v":0},{"$f":"Stückliste!AT595","v":0},{"$f":"Stückliste!AV595","v":0},{"$f":"Stückliste!AF595","v":0},{"$f":"Stückliste!AX595","v":0}]
[{"$f":"A542","v":0},0,8,{"$f":"Stückliste!A596","v":0},{"$f":"Stückliste!D596","v":0},{"$f":"Stückliste!H596","v":0},{"$f":"Stückliste!L596","v":0},{"$f":"Stückliste!P596","v":0},{"$f":"Stückliste!R596","v":0},{"$f":"Stückliste!T596","v":0},{"$f":"Stückliste!V596","v":0},{"$f":"Stückliste!X596","v":0},{"$f":"Stückliste!Z596","v":0},{"$f":"Stückliste!AB596","v":0},{"$f":"Stückliste!AD596","v":0},{"$f":"Stückliste!AH596","v":0},{"$f":"Stückliste!AJ596","v":0},{"$f":"Stückliste!AL596","v":0},{"$f":"Stückliste!AN596","v":0},{"$f":"Stückliste!AP596","v":0},{"$f":"Stückliste!AR596","v":0},{"$f":"Stückliste!AT596","v":0},{"$f":"Stückliste!AV596","v":0},{"$f":"Stückliste!AF596","v":0},{"$f":"Stückliste!AX596","v":0}]
[{"$f":"A543","v":0},0,8,{"$f":"Stückliste!A597","v":0},{"$f":"Stückliste!D597","v":0},{"$f":"Stückliste!H597","v":0},{"$f":"Stückliste!L597","v":0},{"$f":"Stückliste!P597","v":0},{"$f":"Stückliste!R597","v":0},{"$f":"Stückliste!T597","v":0},{"$f":"Stückliste!V597","v":0},{"$f":"Stückliste!X597","v":0},{"$f":"Stückliste!Z597","v":0},{"$f":"Stückliste!AB597","v":0},{"$f":"Stückliste!AD597","v":0},{"$f":"Stückliste!AH597","v":0},{"$f":"Stückliste!AJ597","v":0},{"$f":"Stückliste!AL597","v":0},{"$f":"Stückliste!AN597","v":0},{"$f":"Stückliste!AP597","v":0},{"$f":"Stückliste!AR597","v":0},{"$f":"Stückliste!AT597","v":0},{"$f":"Stückliste!AV597","v":0},{"$f":"Stückliste!AF597","v":0},{"$f":"Stückliste!AX597","v":0}]
[{"$f":"A544","v":0},0,8,{"$f":"Stückliste!A598","v":0},{"$f":"Stückliste!D598","v":0},{"$f":"Stückliste!H598","v":0},{"$f":"Stückliste!L598","v":0},{"$f":"Stückliste!P598","v":0},{"$f":"Stückliste!R598","v":0},{"$f":"Stückliste!T598","v":0},{"$f":"Stückliste!V598","v":0},{"$f":"Stückliste!X598","v":0},{"$f":"Stückliste!Z598","v":0},{"$f":"Stückliste!AB598","v":0},{"$f":"Stückliste!AD598","v":0},{"$f":"Stückliste!AH598","v":0},{"$f":"Stückliste!AJ598","v":0},{"$f":"Stückliste!AL598","v":0},{"$f":"Stückliste!AN598","v":0},{"$f":"Stückliste!AP598","v":0},{"$f":"Stückliste!AR598","v":0},{"$f":"Stückliste!AT598","v":0},{"$f":"Stückliste!AV598","v":0},{"$f":"Stückliste!AF598","v":0},{"$f":"Stückliste!AX598","v":0}]
[{"$f":"A545","v":0},0,8,{"$f":"Stückliste!A599","v":0},{"$f":"Stückliste!D599","v":0},{"$f":"Stückliste!H599","v":0},{"$f":"Stückliste!L599","v":0},{"$f":"Stückliste!P599","v":0},{"$f":"Stückliste!R599","v":0},{"$f":"Stückliste!T599","v":0},{"$f":"Stückliste!V599","v":0},{"$f":"Stückliste!X599","v":0},{"$f":"Stückliste!Z599","v":0},{"$f":"Stückliste!AB599","v":0},{"$f":"Stückliste!AD599","v":0},{"$f":"Stückliste!AH599","v":0},{"$f":"Stückliste!AJ599","v":0},{"$f":"Stückliste!AL599","v":0},{"$f":"Stückliste!AN599","v":0},{"$f":"Stückliste!AP599","v":0},{"$f":"Stückliste!AR599","v":0},{"$f":"Stückliste!AT599","v":0},{"$f":"Stückliste!AV599","v":0},{"$f":"Stückliste!AF599","v":0},{"$f":"Stückliste!AX599","v":0}]
[{"$f":"A546","v":0},0,8,{"$f":"Stückliste!A600","v":0},{"$f":"Stückliste!D600","v":0},{"$f":"Stückliste!H600","v":0},{"$f":"Stückliste!L600","v":0},{"$f":"Stückliste!P600","v":0},{"$f":"Stückliste!R600","v":0},{"$f":"Stückliste!T600","v":0},{"$f":"Stückliste!V600","v":0},{"$f":"Stückliste!X600","v":0},{"$f":"Stückliste!Z600","v":0},{"$f":"Stückliste!AB600","v":0},{"$f":"Stückliste!AD600","v":0},{"$f":"Stückliste!AH600","v":0},{"$f":"Stückliste!AJ600","v":0},{"$f":"Stückliste!AL600","v":0},{"$f":"Stückliste!AN600","v":0},{"$f":"Stückliste!AP600","v":0},{"$f":"Stückliste!AR600","v":0},{"$f":"Stückliste!AT600","v":0},{"$f":"Stückliste!AV600","v":0},{"$f":"Stückliste!AF600","v":0},{"$f":"Stückliste!AX600","v":0}]
[{"$f":"A547","v":0},0,8,{"$f":"Stückliste!A601","v":0},{"$f":"Stückliste!D601","v":0},{"$f":"Stückliste!H601","v":0},{"$f":"Stückliste!L601","v":0},{"$f":"Stückliste!P601","v":0},{"$f":"Stückliste!R601","v":0},{"$f":"Stückliste!T601","v":0},{"$f":"Stückliste!V601","v":0},{"$f":"Stückliste!X601","v":0},{"$f":"Stückliste!Z601","v":0},{"$f":"Stückliste!AB601","v":0},{"$f":"Stückliste!AD601","v":0},{"$f":"Stückliste!AH601","v":0},{"$f":"Stückliste!AJ601","v":0},{"$f":"Stückliste!AL601","v":0},{"$f":"Stückliste!AN601","v":0},{"$f":"Stückliste!AP601","v":0},{"$f":"Stückliste!AR601","v":0},{"$f":"Stückliste!AT601","v":0},{"$f":"Stückliste!AV601","v":0},{"$f":"Stückliste!AF601","v":0},{"$f":"Stückliste!AX601","v":0}]
[{"$f":"A548","v":0},0,8,{"$f":"Stückliste!A602","v":0},{"$f":"Stückliste!D602","v":0},{"$f":"Stückliste!H602","v":0},{"$f":"Stückliste!L602","v":0},{"$f":"Stückliste!P602","v":0},{"$f":"Stückliste!R602","v":0},{"$f":"Stückliste!T602","v":0},{"$f":"Stückliste!V602","v":0},{"$f":"Stückliste!X602","v":0},{"$f":"Stückliste!Z602","v":0},{"$f":"Stückliste!AB602","v":0},{"$f":"Stückliste!AD602","v":0},{"$f":"Stückliste!AH602","v":0},{"$f":"Stückliste!AJ602","v":0},{"$f":"Stückliste!AL602","v":0},{"$f":"Stückliste!AN602","v":0},{"$f":"Stückliste!AP602","v":0},{"$f":"Stückliste!AR602","v":0},{"$f":"Stückliste!AT602","v":0},{"$f":"Stückliste!AV602","v":0},{"$f":"Stückliste!AF602","v":0},{"$f":"Stückliste!AX602","v":0}]
[{"$f":"A549","v":0},0,8,{"$f":"Stückliste!A603","v":0},{"$f":"Stückliste!D603","v":0},{"$f":"Stückliste!H603","v":0},{"$f":"Stückliste!L603","v":0},{"$f":"Stückliste!P603","v":0},{"$f":"Stückliste!R603","v":0},{"$f":"Stückliste!T603","v":0},{"$f":"Stückliste!V603","v":0},{"$f":"Stückliste!X603","v":0},{"$f":"Stückliste!Z603","v":0},{"$f":"Stückliste!AB603","v":0},{"$f":"Stückliste!AD603","v":0},{"$f":"Stückliste!AH603","v":0},{"$f":"Stückliste!AJ603","v":0},{"$f":"Stückliste!AL603","v":0},{"$f":"Stückliste!AN603","v":0},{"$f":"Stückliste!AP603","v":0},{"$f":"Stückliste!AR603","v":0},{"$f":"Stückliste!AT603","v":0},{"$f":"Stückliste!AV603","v":0},{"$f":"Stückliste!AF603","v":0},{"$f":"Stückliste!AX603","v":0}]
[{"$f":"A550","v":0},0,8,{"$f":"Stückliste!A604","v":0},{"$f":"Stückliste!D604","v":0},{"$f":"Stückliste!H604","v":0},{"$f":"Stückliste!L604","v":0},{"$f":"Stückliste!P604","v":0},{"$f":"Stückliste!R604","v":0},{"$f":"Stückliste!T604","v":0},{"$f":"Stückliste!V604","v":0},{"$f":"Stückliste!X604","v":0},{"$f":"Stückliste!Z604","v":0},{"$f":"Stückliste!AB604","v":0},{"$f":"Stückliste!AD604","v":0},{"$f":"Stückliste!AH604","v":0},{"$f":"Stückliste!AJ604","v":0},{"$f":"Stückliste!AL604","v":0},{"$f":"Stückliste!AN604","v":0},{"$f":"Stückliste!AP604","v":0},{"$f":"Stückliste!AR604","v":0},{"$f":"Stückliste!AT604","v":0},{"$f":"Stückliste!AV604","v":0},{"$f":"Stückliste!AF604","v":0},{"$f":"Stückliste!AX604","v":0}]
[{"$f":"A551","v":0},0,8,{"$f":"Stückliste!A605","v":0},{"$f":"Stückliste!D605","v":0},{"$f":"Stückliste!H605","v":0},{"$f":"Stückliste!L605","v":0},{"$f":"Stückliste!P605","v":0},{"$f":"Stückliste!R605","v":0},{"$f":"Stückliste!T605","v":0},{"$f":"Stückliste!V605","v":0},{"$f":"Stückliste!X605","v":0},{"$f":"Stückliste!Z605","v":0},{"$f":"Stückliste!AB605","v":0},{"$f":"Stückliste!AD605","v":0},{"$f":"Stückliste!AH605","v":0},{"$f":"Stückliste!AJ605","v":0},{"$f":"Stückliste!AL605","v":0},{"$f":"Stückliste!AN605","v":0},{"$f":"Stückliste!AP605","v":0},{"$f":"Stückliste!AR605","v":0},{"$f":"Stückliste!AT605","v":0},{"$f":"Stückliste!AV605","v":0},{"$f":"Stückliste!AF605","v":0},{"$f":"Stückliste!AX605","v":0}]
[{"$f":"A552","v":0},0,8,{"$f":"Stückliste!A606","v":0},{"$f":"Stückliste!D606","v":0},{"$f":"Stückliste!H606","v":0},{"$f":"Stückliste!L606","v":0},{"$f":"Stückliste!P606","v":0},{"$f":"Stückliste!R606","v":0},{"$f":"Stückliste!T606","v":0},{"$f":"Stückliste!V606","v":0},{"$f":"Stückliste!X606","v":0},{"$f":"Stückliste!Z606","v":0},{"$f":"Stückliste!AB606","v":0},{"$f":"Stückliste!AD606","v":0},{"$f":"Stückliste!AH606","v":0},{"$f":"Stückliste!AJ606","v":0},{"$f":"Stückliste!AL606","v":0},{"$f":"Stückliste!AN606","v":0},{"$f":"Stückliste!AP606","v":0},{"$f":"Stückliste!AR606","v":0},{"$f":"Stückliste!AT606","v":0},{"$f":"Stückliste!AV606","v":0},{"$f":"Stückliste!AF606","v":0},{"$f":"Stückliste!AX606","v":0}]
[{"$f":"A553","v":0},0,8,{"$f":"Stückliste!A607","v":0},{"$f":"Stückliste!D607","v":0},{"$f":"Stückliste!H607","v":0},{"$f":"Stückliste!L607","v":0},{"$f":"Stückliste!P607","v":0},{"$f":"Stückliste!R607","v":0},{"$f":"Stückliste!T607","v":0},{"$f":"Stückliste!V607","v":0},{"$f":"Stückliste!X607","v":0},{"$f":"Stückliste!Z607","v":0},{"$f":"Stückliste!AB607","v":0},{"$f":"Stückliste!AD607","v":0},{"$f":"Stückliste!AH607","v":0},{"$f":"Stückliste!AJ607","v":0},{"$f":"Stückliste!AL607","v":0},{"$f":"Stückliste!AN607","v":0},{"$f":"Stückliste!AP607","v":0},{"$f":"Stückliste!AR607","v":0},{"$f":"Stückliste!AT607","v":0},{"$f":"Stückliste!AV607","v":0},{"$f":"Stückliste!AF607","v":0},{"$f":"Stückliste!AX607","v":0}]
[{"$f":"A554","v":0},0,8,{"$f":"Stückliste!A608","v":0},{"$f":"Stückliste!D608","v":0},{"$f":"Stückliste!H608","v":0},{"$f":"Stückliste!L608","v":0},{"$f":"Stückliste!P608","v":0},{"$f":"Stückliste!R608","v":0},{"$f":"Stückliste!T608","v":0},{"$f":"Stückliste!V608","v":0},{"$f":"Stückliste!X608","v":0},{"$f":"Stückliste!Z608","v":0},{"$f":"Stückliste!AB608","v":0},{"$f":"Stückliste!AD608","v":0},{"$f":"Stückliste!AH608","v":0},{"$f":"Stückliste!AJ608","v":0},{"$f":"Stückliste!AL608","v":0},{"$f":"Stückliste!AN608","v":0},{"$f":"Stückliste!AP608","v":0},{"$f":"Stückliste!AR608","v":0},{"$f":"Stückliste!AT608","v":0},{"$f":"Stückliste!AV608","v":0},{"$f":"Stückliste!AF608","v":0},{"$f":"Stückliste!AX608","v":0}]
[{"$f":"A555","v":0},0,8,{"$f":"Stückliste!A609","v":0},{"$f":"Stückliste!D609","v":0},{"$f":"Stückliste!H609","v":0},{"$f":"Stückliste!L609","v":0},{"$f":"Stückliste!P609","v":0},{"$f":"Stückliste!R609","v":0},{"$f":"Stückliste!T609","v":0},{"$f":"Stückliste!V609","v":0},{"$f":"Stückliste!X609","v":0},{"$f":"Stückliste!Z609","v":0},{"$f":"Stückliste!AB609","v":0},{"$f":"Stückliste!AD609","v":0},{"$f":"Stückliste!AH609","v":0},{"$f":"Stückliste!AJ609","v":0},{"$f":"Stückliste!AL609","v":0},{"$f":"Stückliste!AN609","v":0},{"$f":"Stückliste!AP609","v":0},{"$f":"Stückliste!AR609","v":0},{"$f":"Stückliste!AT609","v":0},{"$f":"Stückliste!AV609","v":0},{"$f":"Stückliste!AF609","v":0},{"$f":"Stückliste!AX609","v":0}]
[{"$f":"A556","v":0},0,8,{"$f":"Stückliste!A610","v":0},{"$f":"Stückliste!D610","v":0},{"$f":"Stückliste!H610","v":0},{"$f":"Stückliste!L610","v":0},{"$f":"Stückliste!P610","v":0},{"$f":"Stückliste!R610","v":0},{"$f":"Stückliste!T610","v":0},{"$f":"Stückliste!V610","v":0},{"$f":"Stückliste!X610","v":0},{"$f":"Stückliste!Z610","v":0},{"$f":"Stückliste!AB610","v":0},{"$f":"Stückliste!AD610","v":0},{"$f":"Stückliste!AH610","v":0},{"$f":"Stückliste!AJ610","v":0},{"$f":"Stückliste!AL610","v":0},{"$f":"Stückliste!AN610","v":0},{"$f":"Stückliste!AP610","v":0},{"$f":"Stückliste!AR610","v":0},{"$f":"Stückliste!AT610","v":0},{"$f":"Stückliste!AV610","v":0},{"$f":"Stückliste!AF610","v":0},{"$f":"Stückliste!AX610","v":0}]
[{"$f":"A557","v":0},0,8,{"$f":"Stückliste!A611","v":0},{"$f":"Stückliste!D611","v":0},{"$f":"Stückliste!H611","v":0},{"$f":"Stückliste!L611","v":0},{"$f":"Stückliste!P611","v":0},{"$f":"Stückliste!R611","v":0},{"$f":"Stückliste!T611","v":0},{"$f":"Stückliste!V611","v":0},{"$f":"Stückliste!X611","v":0},{"$f":"Stückliste!Z611","v":0},{"$f":"Stückliste!AB611","v":0},{"$f":"Stückliste!AD611","v":0},{"$f":"Stückliste!AH611","v":0},{"$f":"Stückliste!AJ611","v":0},{"$f":"Stückliste!AL611","v":0},{"$f":"Stückliste!AN611","v":0},{"$f":"Stückliste!AP611","v":0},{"$f":"Stückliste!AR611","v":0},{"$f":"Stückliste!AT611","v":0},{"$f":"Stückliste!AV611","v":0},{"$f":"Stückliste!AF611","v":0},{"$f":"Stückliste!AX611","v":0}]
[{"$f":"A558","v":0},0,8,{"$f":"Stückliste!A612","v":0},{"$f":"Stückliste!D612","v":0},{"$f":"Stückliste!H612","v":0},{"$f":"Stückliste!L612","v":0},{"$f":"Stückliste!P612","v":0},{"$f":"Stückliste!R612","v":0},{"$f":"Stückliste!T612","v":0},{"$f":"Stückliste!V612","v":0},{"$f":"Stückliste!X612","v":0},{"$f":"Stückliste!Z612","v":0},{"$f":"Stückliste!AB612","v":0},{"$f":"Stückliste!AD612","v":0},{"$f":"Stückliste!AH612","v":0},{"$f":"Stückliste!AJ612","v":0},{"$f":"Stückliste!AL612","v":0},{"$f":"Stückliste!AN612","v":0},{"$f":"Stückliste!AP612","v":0},{"$f":"Stückliste!AR612","v":0},{"$f":"Stückliste!AT612","v":0},{"$f":"Stückliste!AV612","v":0},{"$f":"Stückliste!AF612","v":0},{"$f":"Stückliste!AX612","v":0}]
[{"$f":"A559","v":0},0,8,{"$f":"Stückliste!A613","v":0},{"$f":"Stückliste!D613","v":0},{"$f":"Stückliste!H613","v":0},{"$f":"Stückliste!L613","v":0},{"$f":"Stückliste!P613","v":0},{"$f":"Stückliste!R613","v":0},{"$f":"Stückliste!T613","v":0},{"$f":"Stückliste!V613","v":0},{"$f":"Stückliste!X613","v":0},{"$f":"Stückliste!Z613","v":0},{"$f":"Stückliste!AB613","v":0},{"$f":"Stückliste!AD613","v":0},{"$f":"Stückliste!AH613","v":0},{"$f":"Stückliste!AJ613","v":0},{"$f":"Stückliste!AL613","v":0},{"$f":"Stückliste!AN613","v":0},{"$f":"Stückliste!AP613","v":0},{"$f":"Stückliste!AR613","v":0},{"$f":"Stückliste!AT613","v":0},{"$f":"Stückliste!AV613","v":0},{"$f":"Stückliste!AF613","v":0},{"$f":"Stückliste!AX613","v":0}]
[{"$f":"A560","v":0},0,8,{"$f":"Stückliste!A614","v":0},{"$f":"Stückliste!D614","v":0},{"$f":"Stückliste!H614","v":0},{"$f":"Stückliste!L614","v":0},{"$f":"Stückliste!P614","v":0},{"$f":"Stückliste!R614","v":0},{"$f":"Stückliste!T614","v":0},{"$f":"Stückliste!V614","v":0},{"$f":"Stückliste!X614","v":0},{"$f":"Stückliste!Z614","v":0},{"$f":"Stückliste!AB614","v":0},{"$f":"Stückliste!AD614","v":0},{"$f":"Stückliste!AH614","v":0},{"$f":"Stückliste!AJ614","v":0},{"$f":"Stückliste!AL614","v":0},{"$f":"Stückliste!AN614","v":0},{"$f":"Stückliste!AP614","v":0},{"$f":"Stückliste!AR614","v":0},{"$f":"Stückliste!AT614","v":0},{"$f":"Stückliste!AV614","v":0},{"$f":"Stückliste!AF614","v":0},{"$f":"Stückliste!AX614","v":0}]
[{"$f":"A561","v":0},0,8,{"$f":"Stückliste!A615","v":0},{"$f":"Stückliste!D615","v":0},{"$f":"Stückliste!H615","v":0},{"$f":"Stückliste!L615","v":0},{"$f":"Stückliste!P615","v":0},{"$f":"Stückliste!R615","v":0},{"$f":"Stückliste!T615","v":0},{"$f":"Stückliste!V615","v":0},{"$f":"Stückliste!X615","v":0},{"$f":"Stückliste!Z615","v":0},{"$f":"Stückliste!AB615","v":0},{"$f":"Stückliste!AD615","v":0},{"$f":"Stückliste!AH615","v":0},{"$f":"Stückliste!AJ615","v":0},{"$f":"Stückliste!AL615","v":0},{"$f":"Stückliste!AN615","v":0},{"$f":"Stückliste!AP615","v":0},{"$f":"Stückliste!AR615","v":0},{"$f":"Stückliste!AT615","v":0},{"$f":"Stückliste!AV615","v":0},{"$f":"Stückliste!AF615","v":0},{"$f":"Stückliste!AX615","v":0}]
[{"$f":"A562","v":0},0,8,{"$f":"Stückliste!A616","v":0},{"$f":"Stückliste!D616","v":0},{"$f":"Stückliste!H616","v":0},{"$f":"Stückliste!L616","v":0},{"$f":"Stückliste!P616","v":0},{"$f":"Stückliste!R616","v":0},{"$f":"Stückliste!T616","v":0},{"$f":"Stückliste!V616","v":0},{"$f":"Stückliste!X616","v":0},{"$f":"Stückliste!Z616","v":0},{"$f":"Stückliste!AB616","v":0},{"$f":"Stückliste!AD616","v":0},{"$f":"Stückliste!AH616","v":0},{"$f":"Stückliste!AJ616","v":0},{"$f":"Stückliste!AL616","v":0},{"$f":"Stückliste!AN616","v":0},{"$f":"Stückliste!AP616","v":0},{"$f":"Stückliste!AR616","v":0},{"$f":"Stückliste!AT616","v":0},{"$f":"Stückliste!AV616","v":0},{"$f":"Stückliste!AF616","v":0},{"$f":"Stückliste!AX616","v":0}]
[{"$f":"A563","v":0},0,8,{"$f":"Stückliste!A617","v":0},{"$f":"Stückliste!D617","v":0},{"$f":"Stückliste!H617","v":0},{"$f":"Stückliste!L617","v":0},{"$f":"Stückliste!P617","v":0},{"$f":"Stückliste!R617","v":0},{"$f":"Stückliste!T617","v":0},{"$f":"Stückliste!V617","v":0},{"$f":"Stückliste!X617","v":0},{"$f":"Stückliste!Z617","v":0},{"$f":"Stückliste!AB617","v":0},{"$f":"Stückliste!AD617","v":0},{"$f":"Stückliste!AH617","v":0},{"$f":"Stückliste!AJ617","v":0},{"$f":"Stückliste!AL617","v":0},{"$f":"Stückliste!AN617","v":0},{"$f":"Stückliste!AP617","v":0},{"$f":"Stückliste!AR617","v":0},{"$f":"Stückliste!AT617","v":0},{"$f":"Stückliste!AV617","v":0},{"$f":"Stückliste!AF617","v":0},{"$f":"Stückliste!AX617","v":0}]
[{"$f":"A564","v":0},0,8,{"$f":"Stückliste!A618","v":0},{"$f":"Stückliste!D618","v":0},{"$f":"Stückliste!H618","v":0},{"$f":"Stückliste!L618","v":0},{"$f":"Stückliste!P618","v":0},{"$f":"Stückliste!R618","v":0},{"$f":"Stückliste!T618","v":0},{"$f":"Stückliste!V618","v":0},{"$f":"Stückliste!X618","v":0},{"$f":"Stückliste!Z618","v":0},{"$f":"Stückliste!AB618","v":0},{"$f":"Stückliste!AD618","v":0},{"$f":"Stückliste!AH618","v":0},{"$f":"Stückliste!AJ618","v":0},{"$f":"Stückliste!AL618","v":0},{"$f":"Stückliste!AN618","v":0},{"$f":"Stückliste!AP618","v":0},{"$f":"Stückliste!AR618","v":0},{"$f":"Stückliste!AT618","v":0},{"$f":"Stückliste!AV618","v":0},{"$f":"Stückliste!AF618","v":0},{"$f":"Stückliste!AX618","v":0}]
[{"$f":"A565","v":0},0,8,{"$f":"Stückliste!A619","v":0},{"$f":"Stückliste!D619","v":0},{"$f":"Stückliste!H619","v":0},{"$f":"Stückliste!L619","v":0},{"$f":"Stückliste!P619","v":0},{"$f":"Stückliste!R619","v":0},{"$f":"Stückliste!T619","v":0},{"$f":"Stückliste!V619","v":0},{"$f":"Stückliste!X619","v":0},{"$f":"Stückliste!Z619","v":0},{"$f":"Stückliste!AB619","v":0},{"$f":"Stückliste!AD619","v":0},{"$f":"Stückliste!AH619","v":0},{"$f":"Stückliste!AJ619","v":0},{"$f":"Stückliste!AL619","v":0},{"$f":"Stückliste!AN619","v":0},{"$f":"Stückliste!AP619","v":0},{"$f":"Stückliste!AR619","v":0},{"$f":"Stückliste!AT619","v":0},{"$f":"Stückliste!AV619","v":0},{"$f":"Stückliste!AF619","v":0},{"$f":"Stückliste!AX619","v":0}]
[{"$f":"A566","v":0},0,8,{"$f":"Stückliste!A620","v":0},{"$f":"Stückliste!D620","v":0},{"$f":"Stückliste!H620","v":0},{"$f":"Stückliste!L620","v":0},{"$f":"Stückliste!P620","v":0},{"$f":"Stückliste!R620","v":0},{"$f":"Stückliste!T620","v":0},{"$f":"Stückliste!V620","v":0},{"$f":"Stückliste!X620","v":0},{"$f":"Stückliste!Z620","v":0},{"$f":"Stückliste!AB620","v":0},{"$f":"Stückliste!AD620","v":0},{"$f":"Stückliste!AH620","v":0},{"$f":"Stückliste!AJ620","v":0},{"$f":"Stückliste!AL620","v":0},{"$f":"Stückliste!AN620","v":0},{"$f":"Stückliste!AP620","v":0},{"$f":"Stückliste!AR620","v":0},{"$f":"Stückliste!AT620","v":0},{"$f":"Stückliste!AV620","v":0},{"$f":"Stückliste!AF620","v":0},{"$f":"Stückliste!AX620","v":0}]
[{"$f":"A567","v":0},0,8,{"$f":"Stückliste!A621","v":0},{"$f":"Stückliste!D621","v":0},{"$f":"Stückliste!H621","v":0},{"$f":"Stückliste!L621","v":0},{"$f":"Stückliste!P621","v":0},{"$f":"Stückliste!R621","v":0},{"$f":"Stückliste!T621","v":0},{"$f":"Stückliste!V621","v":0},{"$f":"Stückliste!X621","v":0},{"$f":"Stückliste!Z621","v":0},{"$f":"Stückliste!AB621","v":0},{"$f":"Stückliste!AD621","v":0},{"$f":"Stückliste!AH621","v":0},{"$f":"Stückliste!AJ621","v":0},{"$f":"Stückliste!AL621","v":0},{"$f":"Stückliste!AN621","v":0},{"$f":"Stückliste!AP621","v":0},{"$f":"Stückliste!AR621","v":0},{"$f":"Stückliste!AT621","v":0},{"$f":"Stückliste!AV621","v":0},{"$f":"Stückliste!AF621","v":0},{"$f":"Stückliste!AX621","v":0}]
[{"$f":"A568","v":0},0,8,{"$f":"Stückliste!A622","v":0},{"$f":"Stückliste!D622","v":0},{"$f":"Stückliste!H622","v":0},{"$f":"Stückliste!L622","v":0},{"$f":"Stückliste!P622","v":0},{"$f":"Stückliste!R622","v":0},{"$f":"Stückliste!T622","v":0},{"$f":"Stückliste!V622","v":0},{"$f":"Stückliste!X622","v":0},{"$f":"Stückliste!Z622","v":0},{"$f":"Stückliste!AB622","v":0},{"$f":"Stückliste!AD622","v":0},{"$f":"Stückliste!AH622","v":0},{"$f":"Stückliste!AJ622","v":0},{"$f":"Stückliste!AL622","v":0},{"$f":"Stückliste!AN622","v":0},{"$f":"Stückliste!AP622","v":0},{"$f":"Stückliste!AR622","v":0},{"$f":"Stückliste!AT622","v":0},{"$f":"Stückliste!AV622","v":0},{"$f":"Stückliste!AF622","v":0},{"$f":"Stückliste!AX622","v":0}]
[{"$f":"A569","v":0},0,8,{"$f":"Stückliste!A623","v":0},{"$f":"Stückliste!D623","v":0},{"$f":"Stückliste!H623","v":0},{"$f":"Stückliste!L623","v":0},{"$f":"Stückliste!P623","v":0},{"$f":"Stückliste!R623","v":0},{"$f":"Stückliste!T623","v":0},{"$f":"Stückliste!V623","v":0},{"$f":"Stückliste!X623","v":0},{"$f":"Stückliste!Z623","v":0},{"$f":"Stückliste!AB623","v":0},{"$f":"Stückliste!AD623","v":0},{"$f":"Stückliste!AH623","v":0},{"$f":"Stückliste!AJ623","v":0},{"$f":"Stückliste!AL623","v":0},{"$f":"Stückliste!AN623","v":0},{"$f":"Stückliste!AP623","v":0},{"$f":"Stückliste!AR623","v":0},{"$f":"Stückliste!AT623","v":0},{"$f":"Stückliste!AV623","v":0},{"$f":"Stückliste!AF623","v":0},{"$f":"Stückliste!AX623","v":0}]
[{"$f":"A570","v":0},0,8,{"$f":"Stückliste!A624","v":0},{"$f":"Stückliste!D624","v":0},{"$f":"Stückliste!H624","v":0},{"$f":"Stückliste!L624","v":0},{"$f":"Stückliste!P624","v":0},{"$f":"Stückliste!R624","v":0},{"$f":"Stückliste!T624","v":0},{"$f":"Stückliste!V624","v":0},{"$f":"Stückliste!X624","v":0},{"$f":"Stückliste!Z624","v":0},{"$f":"Stückliste!AB624","v":0},{"$f":"Stückliste!AD624","v":0},{"$f":"Stückliste!AH624","v":0},{"$f":"Stückliste!AJ624","v":0},{"$f":"Stückliste!AL624","v":0},{"$f":"Stückliste!AN624","v":0},{"$f":"Stückliste!AP624","v":0},{"$f":"Stückliste!AR624","v":0},{"$f":"Stückliste!AT624","v":0},{"$f":"Stückliste!AV624","v":0},{"$f":"Stückliste!AF624","v":0},{"$f":"Stückliste!AX624","v":0}]
[{"$f":"A571","v":0},0,8,{"$f":"Stückliste!A625","v":0},{"$f":"Stückliste!D625","v":0},{"$f":"Stückliste!H625","v":0},{"$f":"Stückliste!L625","v":0},{"$f":"Stückliste!P625","v":0},{"$f":"Stückliste!R625","v":0},{"$f":"Stückliste!T625","v":0},{"$f":"Stückliste!V625","v":0},{"$f":"Stückliste!X625","v":0},{"$f":"Stückliste!Z625","v":0},{"$f":"Stückliste!AB625","v":0},{"$f":"Stückliste!AD625","v":0},{"$f":"Stückliste!AH625","v":0},{"$f":"Stückliste!AJ625","v":0},{"$f":"Stückliste!AL625","v":0},{"$f":"Stückliste!AN625","v":0},{"$f":"Stückliste!AP625","v":0},{"$f":"Stückliste!AR625","v":0},{"$f":"Stückliste!AT625","v":0},{"$f":"Stückliste!AV625","v":0},{"$f":"Stückliste!AF625","v":0},{"$f":"Stückliste!AX625","v":0}]
[{"$f":"A572","v":0},0,8,{"$f":"Stückliste!A626","v":0},{"$f":"Stückliste!D626","v":0},{"$f":"Stückliste!H626","v":0},{"$f":"Stückliste!L626","v":0},{"$f":"Stückliste!P626","v":0},{"$f":"Stückliste!R626","v":0},{"$f":"Stückliste!T626","v":0},{"$f":"Stückliste!V626","v":0},{"$f":"Stückliste!X626","v":0},{"$f":"Stückliste!Z626","v":0},{"$f":"Stückliste!AB626","v":0},{"$f":"Stückliste!AD626","v":0},{"$f":"Stückliste!AH626","v":0},{"$f":"Stückliste!AJ626","v":0},{"$f":"Stückliste!AL626","v":0},{"$f":"Stückliste!AN626","v":0},{"$f":"Stückliste!AP626","v":0},{"$f":"Stückliste!AR626","v":0},{"$f":"Stückliste!AT626","v":0},{"$f":"Stückliste!AV626","v":0},{"$f":"Stückliste!AF626","v":0},{"$f":"Stückliste!AX626","v":0}]
[{"$f":"A573","v":0},0,8,{"$f":"Stückliste!A627","v":0},{"$f":"Stückliste!D627","v":0},{"$f":"Stückliste!H627","v":0},{"$f":"Stückliste!L627","v":0},{"$f":"Stückliste!P627","v":0},{"$f":"Stückliste!R627","v":0},{"$f":"Stückliste!T627","v":0},{"$f":"Stückliste!V627","v":0},{"$f":"Stückliste!X627","v":0},{"$f":"Stückliste!Z627","v":0},{"$f":"Stückliste!AB627","v":0},{"$f":"Stückliste!AD627","v":0},{"$f":"Stückliste!AH627","v":0},{"$f":"Stückliste!AJ627","v":0},{"$f":"Stückliste!AL627","v":0},{"$f":"Stückliste!AN627","v":0},{"$f":"Stückliste!AP627","v":0},{"$f":"Stückliste!AR627","v":0},{"$f":"Stückliste!AT627","v":0},{"$f":"Stückliste!AV627","v":0},{"$f":"Stückliste!AF627","v":0},{"$f":"Stückliste!AX627","v":0}]
[{"$f":"A574","v":0},0,8,{"$f":"Stückliste!A628","v":0},{"$f":"Stückliste!D628","v":0},{"$f":"Stückliste!H628","v":0},{"$f":"Stückliste!L628","v":0},{"$f":"Stückliste!P628","v":0},{"$f":"Stückliste!R628","v":0},{"$f":"Stückliste!T628","v":0},{"$f":"Stückliste!V628","v":0},{"$f":"Stückliste!X628","v":0},{"$f":"Stückliste!Z628","v":0},{"$f":"Stückliste!AB628","v":0},{"$f":"Stückliste!AD628","v":0},{"$f":"Stückliste!AH628","v":0},{"$f":"Stückliste!AJ628","v":0},{"$f":"Stückliste!AL628","v":0},{"$f":"Stückliste!AN628","v":0},{"$f":"Stückliste!AP628","v":0},{"$f":"Stückliste!AR628","v":0},{"$f":"Stückliste!AT628","v":0},{"$f":"Stückliste!AV628","v":0},{"$f":"Stückliste!AF628","v":0},{"$f":"Stückliste!AX628","v":0}]
[{"$f":"A575","v":0},0,8,{"$f":"Stückliste!A629","v":0},{"$f":"Stückliste!D629","v":0},{"$f":"Stückliste!H629","v":0},{"$f":"Stückliste!L629","v":0},{"$f":"Stückliste!P629","v":0},{"$f":"Stückliste!R629","v":0},{"$f":"Stückliste!T629","v":0},{"$f":"Stückliste!V629","v":0},{"$f":"Stückliste!X629","v":0},{"$f":"Stückliste!Z629","v":0},{"$f":"Stückliste!AB629","v":0},{"$f":"Stückliste!AD629","v":0},{"$f":"Stückliste!AH629","v":0},{"$f":"Stückliste!AJ629","v":0},{"$f":"Stückliste!AL629","v":0},{"$f":"Stückliste!AN629","v":0},{"$f":"Stückliste!AP629","v":0},{"$f":"Stückliste!AR629","v":0},{"$f":"Stückliste!AT629","v":0},{"$f":"Stückliste!AV629","v":0},{"$f":"Stückliste!AF629","v":0},{"$f":"Stückliste!AX629","v":0}]
[{"$f":"A576","v":0},0,8,{"$f":"Stückliste!A630","v":0},{"$f":"Stückliste!D630","v":0},{"$f":"Stückliste!H630","v":0},{"$f":"Stückliste!L630","v":0},{"$f":"Stückliste!P630","v":0},{"$f":"Stückliste!R630","v":0},{"$f":"Stückliste!T630","v":0},{"$f":"Stückliste!V630","v":0},{"$f":"Stückliste!X630","v":0},{"$f":"Stückliste!Z630","v":0},{"$f":"Stückliste!AB630","v":0},{"$f":"Stückliste!AD630","v":0},{"$f":"Stückliste!AH630","v":0},{"$f":"Stückliste!AJ630","v":0},{"$f":"Stückliste!AL630","v":0},{"$f":"Stückliste!AN630","v":0},{"$f":"Stückliste!AP630","v":0},{"$f":"Stückliste!AR630","v":0},{"$f":"Stückliste!AT630","v":0},{"$f":"Stückliste!AV630","v":0},{"$f":"Stückliste!AF630","v":0},{"$f":"Stückliste!AX630","v":0}]
[{"$f":"A577","v":0},0,8,{"$f":"Stückliste!A631","v":0},{"$f":"Stückliste!D631","v":0},{"$f":"Stückliste!H631","v":0},{"$f":"Stückliste!L631","v":0},{"$f":"Stückliste!P631","v":0},{"$f":"Stückliste!R631","v":0},{"$f":"Stückliste!T631","v":0},{"$f":"Stückliste!V631","v":0},{"$f":"Stückliste!X631","v":0},{"$f":"Stückliste!Z631","v":0},{"$f":"Stückliste!AB631","v":0},{"$f":"Stückliste!AD631","v":0},{"$f":"Stückliste!AH631","v":0},{"$f":"Stückliste!AJ631","v":0},{"$f":"Stückliste!AL631","v":0},{"$f":"Stückliste!AN631","v":0},{"$f":"Stückliste!AP631","v":0},{"$f":"Stückliste!AR631","v":0},{"$f":"Stückliste!AT631","v":0},{"$f":"Stückliste!AV631","v":0},{"$f":"Stückliste!AF631","v":0},{"$f":"Stückliste!AX631","v":0}]
[{"$f":"A578","v":0},0,8,{"$f":"Stückliste!A632","v":0},{"$f":"Stückliste!D632","v":0},{"$f":"Stückliste!H632","v":0},{"$f":"Stückliste!L632","v":0},{"$f":"Stückliste!P632","v":0},{"$f":"Stückliste!R632","v":0},{"$f":"Stückliste!T632","v":0},{"$f":"Stückliste!V632","v":0},{"$f":"Stückliste!X632","v":0},{"$f":"Stückliste!Z632","v":0},{"$f":"Stückliste!AB632","v":0},{"$f":"Stückliste!AD632","v":0},{"$f":"Stückliste!AH632","v":0},{"$f":"Stückliste!AJ632","v":0},{"$f":"Stückliste!AL632","v":0},{"$f":"Stückliste!AN632","v":0},{"$f":"Stückliste!AP632","v":0},{"$f":"Stückliste!AR632","v":0},{"$f":"Stückliste!AT632","v":0},{"$f":"Stückliste!AV632","v":0},{"$f":"Stückliste!AF632","v":0},{"$f":"Stückliste!AX632","v":0}]
[{"$f":"A579","v":0},0,8,{"$f":"Stückliste!A633","v":0},{"$f":"Stückliste!D633","v":0},{"$f":"Stückliste!H633","v":0},{"$f":"Stückliste!L633","v":0},{"$f":"Stückliste!P633","v":0},{"$f":"Stückliste!R633","v":0},{"$f":"Stückliste!T633","v":0},{"$f":"Stückliste!V633","v":0},{"$f":"Stückliste!X633","v":0},{"$f":"Stückliste!Z633","v":0},{"$f":"Stückliste!AB633","v":0},{"$f":"Stückliste!AD633","v":0},{"$f":"Stückliste!AH633","v":0},{"$f":"Stückliste!AJ633","v":0},{"$f":"Stückliste!AL633","v":0},{"$f":"Stückliste!AN633","v":0},{"$f":"Stückliste!AP633","v":0},{"$f":"Stückliste!AR633","v":0},{"$f":"Stückliste!AT633","v":0},{"$f":"Stückliste!AV633","v":0},{"$f":"Stückliste!AF633","v":0},{"$f":"Stückliste!AX633","v":0}]
[{"$f":"A580","v":0},0,8,{"$f":"Stückliste!A634","v":0},{"$f":"Stückliste!D634","v":0},{"$f":"Stückliste!H634","v":0},{"$f":"Stückliste!L634","v":0},{"$f":"Stückliste!P634","v":0},{"$f":"Stückliste!R634","v":0},{"$f":"Stückliste!T634","v":0},{"$f":"Stückliste!V634","v":0},{"$f":"Stückliste!X634","v":0},{"$f":"Stückliste!Z634","v":0},{"$f":"Stückliste!AB634","v":0},{"$f":"Stückliste!AD634","v":0},{"$f":"Stückliste!AH634","v":0},{"$f":"Stückliste!AJ634","v":0},{"$f":"Stückliste!AL634","v":0},{"$f":"Stückliste!AN634","v":0},{"$f":"Stückliste!AP634","v":0},{"$f":"Stückliste!AR634","v":0},{"$f":"Stückliste!AT634","v":0},{"$f":"Stückliste!AV634","v":0},{"$f":"Stückliste!AF634","v":0},{"$f":"Stückliste!AX634","v":0}]
[{"$f":"A581","v":0},0,8,{"$f":"Stückliste!A635","v":0},{"$f":"Stückliste!D635","v":0},{"$f":"Stückliste!H635","v":0},{"$f":"Stückliste!L635","v":0},{"$f":"Stückliste!P635","v":0},{"$f":"Stückliste!R635","v":0},{"$f":"Stückliste!T635","v":0},{"$f":"Stückliste!V635","v":0},{"$f":"Stückliste!X635","v":0},{"$f":"Stückliste!Z635","v":0},{"$f":"Stückliste!AB635","v":0},{"$f":"Stückliste!AD635","v":0},{"$f":"Stückliste!AH635","v":0},{"$f":"Stückliste!AJ635","v":0},{"$f":"Stückliste!AL635","v":0},{"$f":"Stückliste!AN635","v":0},{"$f":"Stückliste!AP635","v":0},{"$f":"Stückliste!AR635","v":0},{"$f":"Stückliste!AT635","v":0},{"$f":"Stückliste!AV635","v":0},{"$f":"Stückliste!AF635","v":0},{"$f":"Stückliste!AX635","v":0}]
[{"$f":"A582","v":0},0,8,{"$f":"Stückliste!A636","v":0},{"$f":"Stückliste!D636","v":0},{"$f":"Stückliste!H636","v":0},{"$f":"Stückliste!L636","v":0},{"$f":"Stückliste!P636","v":0},{"$f":"Stückliste!R636","v":0},{"$f":"Stückliste!T636","v":0},{"$f":"Stückliste!V636","v":0},{"$f":"Stückliste!X636","v":0},{"$f":"Stückliste!Z636","v":0},{"$f":"Stückliste!AB636","v":0},{"$f":"Stückliste!AD636","v":0},{"$f":"Stückliste!AH636","v":0},{"$f":"Stückliste!AJ636","v":0},{"$f":"Stückliste!AL636","v":0},{"$f":"Stückliste!AN636","v":0},{"$f":"Stückliste!AP636","v":0},{"$f":"Stückliste!AR636","v":0},{"$f":"Stückliste!AT636","v":0},{"$f":"Stückliste!AV636","v":0},{"$f":"Stückliste!AF636","v":0},{"$f":"Stückliste!AX636","v":0}]
[{"$f":"A583","v":0},0,8,{"$f":"Stückliste!A637","v":0},{"$f":"Stückliste!D637","v":0},{"$f":"Stückliste!H637","v":0},{"$f":"Stückliste!L637","v":0},{"$f":"Stückliste!P637","v":0},{"$f":"Stückliste!R637","v":0},{"$f":"Stückliste!T637","v":0},{"$f":"Stückliste!V637","v":0},{"$f":"Stückliste!X637","v":0},{"$f":"Stückliste!Z637","v":0},{"$f":"Stückliste!AB637","v":0},{"$f":"Stückliste!AD637","v":0},{"$f":"Stückliste!AH637","v":0},{"$f":"Stückliste!AJ637","v":0},{"$f":"Stückliste!AL637","v":0},{"$f":"Stückliste!AN637","v":0},{"$f":"Stückliste!AP637","v":0},{"$f":"Stückliste!AR637","v":0},{"$f":"Stückliste!AT637","v":0},{"$f":"Stückliste!AV637","v":0},{"$f":"Stückliste!AF637","v":0},{"$f":"Stückliste!AX637","v":0}]
[{"$f":"A584","v":0},0,8,{"$f":"Stückliste!A638","v":0},{"$f":"Stückliste!D638","v":0},{"$f":"Stückliste!H638","v":0},{"$f":"Stückliste!L638","v":0},{"$f":"Stückliste!P638","v":0},{"$f":"Stückliste!R638","v":0},{"$f":"Stückliste!T638","v":0},{"$f":"Stückliste!V638","v":0},{"$f":"Stückliste!X638","v":0},{"$f":"Stückliste!Z638","v":0},{"$f":"Stückliste!AB638","v":0},{"$f":"Stückliste!AD638","v":0},{"$f":"Stückliste!AH638","v":0},{"$f":"Stückliste!AJ638","v":0},{"$f":"Stückliste!AL638","v":0},{"$f":"Stückliste!AN638","v":0},{"$f":"Stückliste!AP638","v":0},{"$f":"Stückliste!AR638","v":0},{"$f":"Stückliste!AT638","v":0},{"$f":"Stückliste!AV638","v":0},{"$f":"Stückliste!AF638","v":0},{"$f":"Stückliste!AX638","v":0}]
[{"$f":"A585","v":0},0,8,{"$f":"Stückliste!A639","v":0},{"$f":"Stückliste!D639","v":0},{"$f":"Stückliste!H639","v":0},{"$f":"Stückliste!L639","v":0},{"$f":"Stückliste!P639","v":0},{"$f":"Stückliste!R639","v":0},{"$f":"Stückliste!T639","v":0},{"$f":"Stückliste!V639","v":0},{"$f":"Stückliste!X639","v":0},{"$f":"Stückliste!Z639","v":0},{"$f":"Stückliste!AB639","v":0},{"$f":"Stückliste!AD639","v":0},{"$f":"Stückliste!AH639","v":0},{"$f":"Stückliste!AJ639","v":0},{"$f":"Stückliste!AL639","v":0},{"$f":"Stückliste!AN639","v":0},{"$f":"Stückliste!AP639","v":0},{"$f":"Stückliste!AR639","v":0},{"$f":"Stückliste!AT639","v":0},{"$f":"Stückliste!AV639","v":0},{"$f":"Stückliste!AF639","v":0},{"$f":"Stückliste!AX639","v":0}]
[{"$f":"A586","v":0},0,8,{"$f":"Stückliste!A640","v":0},{"$f":"Stückliste!D640","v":0},{"$f":"Stückliste!H640","v":0},{"$f":"Stückliste!L640","v":0},{"$f":"Stückliste!P640","v":0},{"$f":"Stückliste!R640","v":0},{"$f":"Stückliste!T640","v":0},{"$f":"Stückliste!V640","v":0},{"$f":"Stückliste!X640","v":0},{"$f":"Stückliste!Z640","v":0},{"$f":"Stückliste!AB640","v":0},{"$f":"Stückliste!AD640","v":0},{"$f":"Stückliste!AH640","v":0},{"$f":"Stückliste!AJ640","v":0},{"$f":"Stückliste!AL640","v":0},{"$f":"Stückliste!AN640","v":0},{"$f":"Stückliste!AP640","v":0},{"$f":"Stückliste!AR640","v":0},{"$f":"Stückliste!AT640","v":0},{"$f":"Stückliste!AV640","v":0},{"$f":"Stückliste!AF640","v":0},{"$f":"Stückliste!AX640","v":0}]
[{"$f":"A587","v":0},0,8,{"$f":"Stückliste!A641","v":0},{"$f":"Stückliste!D641","v":0},{"$f":"Stückliste!H641","v":0},{"$f":"Stückliste!L641","v":0},{"$f":"Stückliste!P641","v":0},{"$f":"Stückliste!R641","v":0},{"$f":"Stückliste!T641","v":0},{"$f":"Stückliste!V641","v":0},{"$f":"Stückliste!X641","v":0},{"$f":"Stückliste!Z641","v":0},{"$f":"Stückliste!AB641","v":0},{"$f":"Stückliste!AD641","v":0},{"$f":"Stückliste!AH641","v":0},{"$f":"Stückliste!AJ641","v":0},{"$f":"Stückliste!AL641","v":0},{"$f":"Stückliste!AN641","v":0},{"$f":"Stückliste!AP641","v":0},{"$f":"Stückliste!AR641","v":0},{"$f":"Stückliste!AT641","v":0},{"$f":"Stückliste!AV641","v":0},{"$f":"Stückliste!AF641","v":0},{"$f":"Stückliste!AX641","v":0}]
[{"$f":"A588","v":0},0,8,{"$f":"Stückliste!A642","v":0},{"$f":"Stückliste!D642","v":0},{"$f":"Stückliste!H642","v":0},{"$f":"Stückliste!L642","v":0},{"$f":"Stückliste!P642","v":0},{"$f":"Stückliste!R642","v":0},{"$f":"Stückliste!T642","v":0},{"$f":"Stückliste!V642","v":0},{"$f":"Stückliste!X642","v":0},{"$f":"Stückliste!Z642","v":0},{"$f":"Stückliste!AB642","v":0},{"$f":"Stückliste!AD642","v":0},{"$f":"Stückliste!AH642","v":0},{"$f":"Stückliste!AJ642","v":0},{"$f":"Stückliste!AL642","v":0},{"$f":"Stückliste!AN642","v":0},{"$f":"Stückliste!AP642","v":0},{"$f":"Stückliste!AR642","v":0},{"$f":"Stückliste!AT642","v":0},{"$f":"Stückliste!AV642","v":0},{"$f":"Stückliste!AF642","v":0},{"$f":"Stückliste!AX642","v":0}]
[{"$f":"A589","v":0},0,8,{"$f":"Stückliste!A643","v":0},{"$f":"Stückliste!D643","v":0},{"$f":"Stückliste!H643","v":0},{"$f":"Stückliste!L643","v":0},{"$f":"Stückliste!P643","v":0},{"$f":"Stückliste!R643","v":0},{"$f":"Stückliste!T643","v":0},{"$f":"Stückliste!V643","v":0},{"$f":"Stückliste!X643","v":0},{"$f":"Stückliste!Z643","v":0},{"$f":"Stückliste!AB643","v":0},{"$f":"Stückliste!AD643","v":0},{"$f":"Stückliste!AH643","v":0},{"$f":"Stückliste!AJ643","v":0},{"$f":"Stückliste!AL643","v":0},{"$f":"Stückliste!AN643","v":0},{"$f":"Stückliste!AP643","v":0},{"$f":"Stückliste!AR643","v":0},{"$f":"Stückliste!AT643","v":0},{"$f":"Stückliste!AV643","v":0},{"$f":"Stückliste!AF643","v":0},{"$f":"Stückliste!AX643","v":0}]
[{"$f":"A590","v":0},0,8,{"$f":"Stückliste!A644","v":0},{"$f":"Stückliste!D644","v":0},{"$f":"Stückliste!H644","v":0},{"$f":"Stückliste!L644","v":0},{"$f":"Stückliste!P644","v":0},{"$f":"Stückliste!R644","v":0},{"$f":"Stückliste!T644","v":0},{"$f":"Stückliste!V644","v":0},{"$f":"Stückliste!X644","v":0},{"$f":"Stückliste!Z644","v":0},{"$f":"Stückliste!AB644","v":0},{"$f":"Stückliste!AD644","v":0},{"$f":"Stückliste!AH644","v":0},{"$f":"Stückliste!AJ644","v":0},{"$f":"Stückliste!AL644","v":0},{"$f":"Stückliste!AN644","v":0},{"$f":"Stückliste!AP644","v":0},{"$f":"Stückliste!AR644","v":0},{"$f":"Stückliste!AT644","v":0},{"$f":"Stückliste!AV644","v":0},{"$f":"Stückliste!AF644","v":0},{"$f":"Stückliste!AX644","v":0}]
[{"$f":"A591","v":0},0,8,{"$f":"Stückliste!A645","v":0},{"$f":"Stückliste!D645","v":0},{"$f":"Stückliste!H645","v":0},{"$f":"Stückliste!L645","v":0},{"$f":"Stückliste!P645","v":0},{"$f":"Stückliste!R645","v":0},{"$f":"Stückliste!T645","v":0},{"$f":"Stückliste!V645","v":0},{"$f":"Stückliste!X645","v":0},{"$f":"Stückliste!Z645","v":0},{"$f":"Stückliste!AB645","v":0},{"$f":"Stückliste!AD645","v":0},{"$f":"Stückliste!AH645","v":0},{"$f":"Stückliste!AJ645","v":0},{"$f":"Stückliste!AL645","v":0},{"$f":"Stückliste!AN645","v":0},{"$f":"Stückliste!AP645","v":0},{"$f":"Stückliste!AR645","v":0},{"$f":"Stückliste!AT645","v":0},{"$f":"Stückliste!AV645","v":0},{"$f":"Stückliste!AF645","v":0},{"$f":"Stückliste!AX645","v":0}]
[{"$f":"A592","v":0},0,8,{"$f":"Stückliste!A646","v":0},{"$f":"Stückliste!D646","v":0},{"$f":"Stückliste!H646","v":0},{"$f":"Stückliste!L646","v":0},{"$f":"Stückliste!P646","v":0},{"$f":"Stückliste!R646","v":0},{"$f":"Stückliste!T646","v":0},{"$f":"Stückliste!V646","v":0},{"$f":"Stückliste!X646","v":0},{"$f":"Stückliste!Z646","v":0},{"$f":"Stückliste!AB646","v":0},{"$f":"Stückliste!AD646","v":0},{"$f":"Stückliste!AH646","v":0},{"$f":"Stückliste!AJ646","v":0},{"$f":"Stückliste!AL646","v":0},{"$f":"Stückliste!AN646","v":0},{"$f":"Stückliste!AP646","v":0},{"$f":"Stückliste!AR646","v":0},{"$f":"Stückliste!AT646","v":0},{"$f":"Stückliste!AV646","v":0},{"$f":"Stückliste!AF646","v":0},{"$f":"Stückliste!AX646","v":0}]
[{"$f":"A593","v":0},0,8,{"$f":"Stückliste!A647","v":0},{"$f":"Stückliste!D647","v":0},{"$f":"Stückliste!H647","v":0},{"$f":"Stückliste!L647","v":0},{"$f":"Stückliste!P647","v":0},{"$f":"Stückliste!R647","v":0},{"$f":"Stückliste!T647","v":0},{"$f":"Stückliste!V647","v":0},{"$f":"Stückliste!X647","v":0},{"$f":"Stückliste!Z647","v":0},{"$f":"Stückliste!AB647","v":0},{"$f":"Stückliste!AD647","v":0},{"$f":"Stückliste!AH647","v":0},{"$f":"Stückliste!AJ647","v":0},{"$f":"Stückliste!AL647","v":0},{"$f":"Stückliste!AN647","v":0},{"$f":"Stückliste!AP647","v":0},{"$f":"Stückliste!AR647","v":0},{"$f":"Stückliste!AT647","v":0},{"$f":"Stückliste!AV647","v":0},{"$f":"Stückliste!AF647","v":0},{"$f":"Stückliste!AX647","v":0}]
[{"$f":"A594","v":0},0,8,{"$f":"Stückliste!A648","v":0},{"$f":"Stückliste!D648","v":0},{"$f":"Stückliste!H648","v":0},{"$f":"Stückliste!L648","v":0},{"$f":"Stückliste!P648","v":0},{"$f":"Stückliste!R648","v":0},{"$f":"Stückliste!T648","v":0},{"$f":"Stückliste!V648","v":0},{"$f":"Stückliste!X648","v":0},{"$f":"Stückliste!Z648","v":0},{"$f":"Stückliste!AB648","v":0},{"$f":"Stückliste!AD648","v":0},{"$f":"Stückliste!AH648","v":0},{"$f":"Stückliste!AJ648","v":0},{"$f":"Stückliste!AL648","v":0},{"$f":"Stückliste!AN648","v":0},{"$f":"Stückliste!AP648","v":0},{"$f":"Stückliste!AR648","v":0},{"$f":"Stückliste!AT648","v":0},{"$f":"Stückliste!AV648","v":0},{"$f":"Stückliste!AF648","v":0},{"$f":"Stückliste!AX648","v":0}]
[{"$f":"A595","v":0},0,8,{"$f":"Stückliste!A649","v":0},{"$f":"Stückliste!D649","v":0},{"$f":"Stückliste!H649","v":0},{"$f":"Stückliste!L649","v":0},{"$f":"Stückliste!P649","v":0},{"$f":"Stückliste!R649","v":0},{"$f":"Stückliste!T649","v":0},{"$f":"Stückliste!V649","v":0},{"$f":"Stückliste!X649","v":0},{"$f":"Stückliste!Z649","v":0},{"$f":"Stückliste!AB649","v":0},{"$f":"Stückliste!AD649","v":0},{"$f":"Stückliste!AH649","v":0},{"$f":"Stückliste!AJ649","v":0},{"$f":"Stückliste!AL649","v":0},{"$f":"Stückliste!AN649","v":0},{"$f":"Stückliste!AP649","v":0},{"$f":"Stückliste!AR649","v":0},{"$f":"Stückliste!AT649","v":0},{"$f":"Stückliste!AV649","v":0},{"$f":"Stückliste!AF649","v":0},{"$f":"Stückliste!AX649","v":0}]
[{"$f":"A596","v":0},0,8,{"$f":"Stückliste!A650","v":0},{"$f":"Stückliste!D650","v":0},{"$f":"Stückliste!H650","v":0},{"$f":"Stückliste!L650","v":0},{"$f":"Stückliste!P650","v":0},{"$f":"Stückliste!R650","v":0},{"$f":"Stückliste!T650","v":0},{"$f":"Stückliste!V650","v":0},{"$f":"Stückliste!X650","v":0},{"$f":"Stückliste!Z650","v":0},{"$f":"Stückliste!AB650","v":0},{"$f":"Stückliste!AD650","v":0},{"$f":"Stückliste!AH650","v":0},{"$f":"Stückliste!AJ650","v":0},{"$f":"Stückliste!AL650","v":0},{"$f":"Stückliste!AN650","v":0},{"$f":"Stückliste!AP650","v":0},{"$f":"Stückliste!AR650","v":0},{"$f":"Stückliste!AT650","v":0},{"$f":"Stückliste!AV650","v":0},{"$f":"Stückliste!AF650","v":0},{"$f":"Stückliste!AX650","v":0}]
[{"$f":"A597","v":0},0,8,{"$f":"Stückliste!A651","v":0},{"$f":"Stückliste!D651","v":0},{"$f":"Stückliste!H651","v":0},{"$f":"Stückliste!L651","v":0},{"$f":"Stückliste!P651","v":0},{"$f":"Stückliste!R651","v":0},{"$f":"Stückliste!T651","v":0},{"$f":"Stückliste!V651","v":0},{"$f":"Stückliste!X651","v":0},{"$f":"Stückliste!Z651","v":0},{"$f":"Stückliste!AB651","v":0},{"$f":"Stückliste!AD651","v":0},{"$f":"Stückliste!AH651","v":0},{"$f":"Stückliste!AJ651","v":0},{"$f":"Stückliste!AL651","v":0},{"$f":"Stückliste!AN651","v":0},{"$f":"Stückliste!AP651","v":0},{"$f":"Stückliste!AR651","v":0},{"$f":"Stückliste!AT651","v":0},{"$f":"Stückliste!AV651","v":0},{"$f":"Stückliste!AF651","v":0},{"$f":"Stückliste!AX651","v":0}]
[{"$f":"A598","v":0},0,8,{"$f":"Stückliste!A652","v":0},{"$f":"Stückliste!D652","v":0},{"$f":"Stückliste!H652","v":0},{"$f":"Stückliste!L652","v":0},{"$f":"Stückliste!P652","v":0},{"$f":"Stückliste!R652","v":0},{"$f":"Stückliste!T652","v":0},{"$f":"Stückliste!V652","v":0},{"$f":"Stückliste!X652","v":0},{"$f":"Stückliste!Z652","v":0},{"$f":"Stückliste!AB652","v":0},{"$f":"Stückliste!AD652","v":0},{"$f":"Stückliste!AH652","v":0},{"$f":"Stückliste!AJ652","v":0},{"$f":"Stückliste!AL652","v":0},{"$f":"Stückliste!AN652","v":0},{"$f":"Stückliste!AP652","v":0},{"$f":"Stückliste!AR652","v":0},{"$f":"Stückliste!AT652","v":0},{"$f":"Stückliste!AV652","v":0},{"$f":"Stückliste!AF652","v":0},{"$f":"Stückliste!AX652","v":0}]
[{"$f":"A599","v":0},0,8,{"$f":"Stückliste!A653","v":0},{"$f":"Stückliste!D653","v":0},{"$f":"Stückliste!H653","v":0},{"$f":"Stückliste!L653","v":0},{"$f":"Stückliste!P653","v":0},{"$f":"Stückliste!R653","v":0},{"$f":"Stückliste!T653","v":0},{"$f":"Stückliste!V653","v":0},{"$f":"Stückliste!X653","v":0},{"$f":"Stückliste!Z653","v":0},{"$f":"Stückliste!AB653","v":0},{"$f":"Stückliste!AD653","v":0},{"$f":"Stückliste!AH653","v":0},{"$f":"Stückliste!AJ653","v":0},{"$f":"Stückliste!AL653","v":0},{"$f":"Stückliste!AN653","v":0},{"$f":"Stückliste!AP653","v":0},{"$f":"Stückliste!AR653","v":0},{"$f":"Stückliste!AT653","v":0},{"$f":"Stückliste!AV653","v":0},{"$f":"Stückliste!AF653","v":0},{"$f":"Stückliste!AX653","v":0}]
[{"$f":"A600","v":0},0,8,{"$f":"Stückliste!A654","v":0},{"$f":"Stückliste!D654","v":0},{"$f":"Stückliste!H654","v":0},{"$f":"Stückliste!L654","v":0},{"$f":"Stückliste!P654","v":0},{"$f":"Stückliste!R654","v":0},{"$f":"Stückliste!T654","v":0},{"$f":"Stückliste!V654","v":0},{"$f":"Stückliste!X654","v":0},{"$f":"Stückliste!Z654","v":0},{"$f":"Stückliste!AB654","v":0},{"$f":"Stückliste!AD654","v":0},{"$f":"Stückliste!AH654","v":0},{"$f":"Stückliste!AJ654","v":0},{"$f":"Stückliste!AL654","v":0},{"$f":"Stückliste!AN654","v":0},{"$f":"Stückliste!AP654","v":0},{"$f":"Stückliste!AR654","v":0},{"$f":"Stückliste!AT654","v":0},{"$f":"Stückliste!AV654","v":0},{"$f":"Stückliste!AF654","v":0},{"$f":"Stückliste!AX654","v":0}]
[{"$f":"A601","v":0},0,8,{"$f":"Stückliste!A655","v":0},{"$f":"Stückliste!D655","v":0},{"$f":"Stückliste!H655","v":0},{"$f":"Stückliste!L655","v":0},{"$f":"Stückliste!P655","v":0},{"$f":"Stückliste!R655","v":0},{"$f":"Stückliste!T655","v":0},{"$f":"Stückliste!V655","v":0},{"$f":"Stückliste!X655","v":0},{"$f":"Stückliste!Z655","v":0},{"$f":"Stückliste!AB655","v":0},{"$f":"Stückliste!AD655","v":0},{"$f":"Stückliste!AH655","v":0},{"$f":"Stückliste!AJ655","v":0},{"$f":"Stückliste!AL655","v":0},{"$f":"Stückliste!AN655","v":0},{"$f":"Stückliste!AP655","v":0},{"$f":"Stückliste!AR655","v":0},{"$f":"Stückliste!AT655","v":0},{"$f":"Stückliste!AV655","v":0},{"$f":"Stückliste!AF655","v":0},{"$f":"Stückliste!AX655","v":0}]
[{"$f":"A602","v":0},0,8,{"$f":"Stückliste!A656","v":0},{"$f":"Stückliste!D656","v":0},{"$f":"Stückliste!H656","v":0},{"$f":"Stückliste!L656","v":0},{"$f":"Stückliste!P656","v":0},{"$f":"Stückliste!R656","v":0},{"$f":"Stückliste!T656","v":0},{"$f":"Stückliste!V656","v":0},{"$f":"Stückliste!X656","v":0},{"$f":"Stückliste!Z656","v":0},{"$f":"Stückliste!AB656","v":0},{"$f":"Stückliste!AD656","v":0},{"$f":"Stückliste!AH656","v":0},{"$f":"Stückliste!AJ656","v":0},{"$f":"Stückliste!AL656","v":0},{"$f":"Stückliste!AN656","v":0},{"$f":"Stückliste!AP656","v":0},{"$f":"Stückliste!AR656","v":0},{"$f":"Stückliste!AT656","v":0},{"$f":"Stückliste!AV656","v":0},{"$f":"Stückliste!AF656","v":0},{"$f":"Stückliste!AX656","v":0}]
[{"$f":"A603","v":0},0,8,{"$f":"Stückliste!A657","v":0},{"$f":"Stückliste!D657","v":0},{"$f":"Stückliste!H657","v":0},{"$f":"Stückliste!L657","v":0},{"$f":"Stückliste!P657","v":0},{"$f":"Stückliste!R657","v":0},{"$f":"Stückliste!T657","v":0},{"$f":"Stückliste!V657","v":0},{"$f":"Stückliste!X657","v":0},{"$f":"Stückliste!Z657","v":0},{"$f":"Stückliste!AB657","v":0},{"$f":"Stückliste!AD657","v":0},{"$f":"Stückliste!AH657","v":0},{"$f":"Stückliste!AJ657","v":0},{"$f":"Stückliste!AL657","v":0},{"$f":"Stückliste!AN657","v":0},{"$f":"Stückliste!AP657","v":0},{"$f":"Stückliste!AR657","v":0},{"$f":"Stückliste!AT657","v":0},{"$f":"Stückliste!AV657","v":0},{"$f":"Stückliste!AF657","v":0},{"$f":"Stückliste!AX657","v":0}]
[{"$f":"A604","v":0},0,8,{"$f":"Stückliste!A658","v":0},{"$f":"Stückliste!D658","v":0},{"$f":"Stückliste!H658","v":0},{"$f":"Stückliste!L658","v":0},{"$f":"Stückliste!P658","v":0},{"$f":"Stückliste!R658","v":0},{"$f":"Stückliste!T658","v":0},{"$f":"Stückliste!V658","v":0},{"$f":"Stückliste!X658","v":0},{"$f":"Stückliste!Z658","v":0},{"$f":"Stückliste!AB658","v":0},{"$f":"Stückliste!AD658","v":0},{"$f":"Stückliste!AH658","v":0},{"$f":"Stückliste!AJ658","v":0},{"$f":"Stückliste!AL658","v":0},{"$f":"Stückliste!AN658","v":0},{"$f":"Stückliste!AP658","v":0},{"$f":"Stückliste!AR658","v":0},{"$f":"Stückliste!AT658","v":0},{"$f":"Stückliste!AV658","v":0},{"$f":"Stückliste!AF658","v":0},{"$f":"Stückliste!AX658","v":0}]
[{"$f":"A605","v":0},0,8,{"$f":"Stückliste!A659","v":0},{"$f":"Stückliste!D659","v":0},{"$f":"Stückliste!H659","v":0},{"$f":"Stückliste!L659","v":0},{"$f":"Stückliste!P659","v":0},{"$f":"Stückliste!R659","v":0},{"$f":"Stückliste!T659","v":0},{"$f":"Stückliste!V659","v":0},{"$f":"Stückliste!X659","v":0},{"$f":"Stückliste!Z659","v":0},{"$f":"Stückliste!AB659","v":0},{"$f":"Stückliste!AD659","v":0},{"$f":"Stückliste!AH659","v":0},{"$f":"Stückliste!AJ659","v":0},{"$f":"Stückliste!AL659","v":0},{"$f":"Stückliste!AN659","v":0},{"$f":"Stückliste!AP659","v":0},{"$f":"Stückliste!AR659","v":0},{"$f":"Stückliste!AT659","v":0},{"$f":"Stückliste!AV659","v":0},{"$f":"Stückliste!AF659","v":0},{"$f":"Stückliste!AX659","v":0}]
[{"$f":"A606","v":0},0,8,{"$f":"Stückliste!A660","v":0},{"$f":"Stückliste!D660","v":0},{"$f":"Stückliste!H660","v":0},{"$f":"Stückliste!L660","v":0},{"$f":"Stückliste!P660","v":0},{"$f":"Stückliste!R660","v":0},{"$f":"Stückliste!T660","v":0},{"$f":"Stückliste!V660","v":0},{"$f":"Stückliste!X660","v":0},{"$f":"Stückliste!Z660","v":0},{"$f":"Stückliste!AB660","v":0},{"$f":"Stückliste!AD660","v":0},{"$f":"Stückliste!AH660","v":0},{"$f":"Stückliste!AJ660","v":0},{"$f":"Stückliste!AL660","v":0},{"$f":"Stückliste!AN660","v":0},{"$f":"Stückliste!AP660","v":0},{"$f":"Stückliste!AR660","v":0},{"$f":"Stückliste!AT660","v":0},{"$f":"Stückliste!AV660","v":0},{"$f":"Stückliste!AF660","v":0},{"$f":"Stückliste!AX660","v":0}]
[{"$f":"A607","v":0},0,8,{"$f":"Stückliste!A661","v":0},{"$f":"Stückliste!D661","v":0},{"$f":"Stückliste!H661","v":0},{"$f":"Stückliste!L661","v":0},{"$f":"Stückliste!P661","v":0},{"$f":"Stückliste!R661","v":0},{"$f":"Stückliste!T661","v":0},{"$f":"Stückliste!V661","v":0},{"$f":"Stückliste!X661","v":0},{"$f":"Stückliste!Z661","v":0},{"$f":"Stückliste!AB661","v":0},{"$f":"Stückliste!AD661","v":0},{"$f":"Stückliste!AH661","v":0},{"$f":"Stückliste!AJ661","v":0},{"$f":"Stückliste!AL661","v":0},{"$f":"Stückliste!AN661","v":0},{"$f":"Stückliste!AP661","v":0},{"$f":"Stückliste!AR661","v":0},{"$f":"Stückliste!AT661","v":0},{"$f":"Stückliste!AV661","v":0},{"$f":"Stückliste!AF661","v":0},{"$f":"Stückliste!AX661","v":0}]
[{"$f":"A608","v":0},0,8,{"$f":"Stückliste!A662","v":0},{"$f":"Stückliste!D662","v":0},{"$f":"Stückliste!H662","v":0},{"$f":"Stückliste!L662","v":0},{"$f":"Stückliste!P662","v":0},{"$f":"Stückliste!R662","v":0},{"$f":"Stückliste!T662","v":0},{"$f":"Stückliste!V662","v":0},{"$f":"Stückliste!X662","v":0},{"$f":"Stückliste!Z662","v":0},{"$f":"Stückliste!AB662","v":0},{"$f":"Stückliste!AD662","v":0},{"$f":"Stückliste!AH662","v":0},{"$f":"Stückliste!AJ662","v":0},{"$f":"Stückliste!AL662","v":0},{"$f":"Stückliste!AN662","v":0},{"$f":"Stückliste!AP662","v":0},{"$f":"Stückliste!AR662","v":0},{"$f":"Stückliste!AT662","v":0},{"$f":"Stückliste!AV662","v":0},{"$f":"Stückliste!AF662","v":0},{"$f":"Stückliste!AX662","v":0}]
[{"$f":"A609","v":0},0,8,{"$f":"Stückliste!A663","v":0},{"$f":"Stückliste!D663","v":0},{"$f":"Stückliste!H663","v":0},{"$f":"Stückliste!L663","v":0},{"$f":"Stückliste!P663","v":0},{"$f":"Stückliste!R663","v":0},{"$f":"Stückliste!T663","v":0},{"$f":"Stückliste!V663","v":0},{"$f":"Stückliste!X663","v":0},{"$f":"Stückliste!Z663","v":0},{"$f":"Stückliste!AB663","v":0},{"$f":"Stückliste!AD663","v":0},{"$f":"Stückliste!AH663","v":0},{"$f":"Stückliste!AJ663","v":0},{"$f":"Stückliste!AL663","v":0},{"$f":"Stückliste!AN663","v":0},{"$f":"Stückliste!AP663","v":0},{"$f":"Stückliste!AR663","v":0},{"$f":"Stückliste!AT663","v":0},{"$f":"Stückliste!AV663","v":0},{"$f":"Stückliste!AF663","v":0},{"$f":"Stückliste!AX663","v":0}]
[{"$f":"A610","v":0},0,8,{"$f":"Stückliste!A664","v":0},{"$f":"Stückliste!D664","v":0},{"$f":"Stückliste!H664","v":0},{"$f":"Stückliste!L664","v":0},{"$f":"Stückliste!P664","v":0},{"$f":"Stückliste!R664","v":0},{"$f":"Stückliste!T664","v":0},{"$f":"Stückliste!V664","v":0},{"$f":"Stückliste!X664","v":0},{"$f":"Stückliste!Z664","v":0},{"$f":"Stückliste!AB664","v":0},{"$f":"Stückliste!AD664","v":0},{"$f":"Stückliste!AH664","v":0},{"$f":"Stückliste!AJ664","v":0},{"$f":"Stückliste!AL664","v":0},{"$f":"Stückliste!AN664","v":0},{"$f":"Stückliste!AP664","v":0},{"$f":"Stückliste!AR664","v":0},{"$f":"Stückliste!AT664","v":0},{"$f":"Stückliste!AV664","v":0},{"$f":"Stückliste!AF664","v":0},{"$f":"Stückliste!AX664","v":0}]
[{"$f":"A611","v":0},0,8,{"$f":"Stückliste!A665","v":0},{"$f":"Stückliste!D665","v":0},{"$f":"Stückliste!H665","v":0},{"$f":"Stückliste!L665","v":0},{"$f":"Stückliste!P665","v":0},{"$f":"Stückliste!R665","v":0},{"$f":"Stückliste!T665","v":0},{"$f":"Stückliste!V665","v":0},{"$f":"Stückliste!X665","v":0},{"$f":"Stückliste!Z665","v":0},{"$f":"Stückliste!AB665","v":0},{"$f":"Stückliste!AD665","v":0},{"$f":"Stückliste!AH665","v":0},{"$f":"Stückliste!AJ665","v":0},{"$f":"Stückliste!AL665","v":0},{"$f":"Stückliste!AN665","v":0},{"$f":"Stückliste!AP665","v":0},{"$f":"Stückliste!AR665","v":0},{"$f":"Stückliste!AT665","v":0},{"$f":"Stückliste!AV665","v":0},{"$f":"Stückliste!AF665","v":0},{"$f":"Stückliste!AX665","v":0}]
[{"$f":"A612","v":0},0,8,{"$f":"Stückliste!A666","v":0},{"$f":"Stückliste!D666","v":0},{"$f":"Stückliste!H666","v":0},{"$f":"Stückliste!L666","v":0},{"$f":"Stückliste!P666","v":0},{"$f":"Stückliste!R666","v":0},{"$f":"Stückliste!T666","v":0},{"$f":"Stückliste!V666","v":0},{"$f":"Stückliste!X666","v":0},{"$f":"Stückliste!Z666","v":0},{"$f":"Stückliste!AB666","v":0},{"$f":"Stückliste!AD666","v":0},{"$f":"Stückliste!AH666","v":0},{"$f":"Stückliste!AJ666","v":0},{"$f":"Stückliste!AL666","v":0},{"$f":"Stückliste!AN666","v":0},{"$f":"Stückliste!AP666","v":0},{"$f":"Stückliste!AR666","v":0},{"$f":"Stückliste!AT666","v":0},{"$f":"Stückliste!AV666","v":0},{"$f":"Stückliste!AF666","v":0},{"$f":"Stückliste!AX666","v":0}]
[{"$f":"A613","v":0},0,8,{"$f":"Stückliste!A667","v":0},{"$f":"Stückliste!D667","v":0},{"$f":"Stückliste!H667","v":0},{"$f":"Stückliste!L667","v":0},{"$f":"Stückliste!P667","v":0},{"$f":"Stückliste!R667","v":0},{"$f":"Stückliste!T667","v":0},{"$f":"Stückliste!V667","v":0},{"$f":"Stückliste!X667","v":0},{"$f":"Stückliste!Z667","v":0},{"$f":"Stückliste!AB667","v":0},{"$f":"Stückliste!AD667","v":0},{"$f":"Stückliste!AH667","v":0},{"$f":"Stückliste!AJ667","v":0},{"$f":"Stückliste!AL667","v":0},{"$f":"Stückliste!AN667","v":0},{"$f":"Stückliste!AP667","v":0},{"$f":"Stückliste!AR667","v":0},{"$f":"Stückliste!AT667","v":0},{"$f":"Stückliste!AV667","v":0},{"$f":"Stückliste!AF667","v":0},{"$f":"Stückliste!AX667","v":0}]
[{"$f":"A614","v":0},0,8,{"$f":"Stückliste!A668","v":0},{"$f":"Stückliste!D668","v":0},{"$f":"Stückliste!H668","v":0},{"$f":"Stückliste!L668","v":0},{"$f":"Stückliste!P668","v":0},{"$f":"Stückliste!R668","v":0},{"$f":"Stückliste!T668","v":0},{"$f":"Stückliste!V668","v":0},{"$f":"Stückliste!X668","v":0},{"$f":"Stückliste!Z668","v":0},{"$f":"Stückliste!AB668","v":0},{"$f":"Stückliste!AD668","v":0},{"$f":"Stückliste!AH668","v":0},{"$f":"Stückliste!AJ668","v":0},{"$f":"Stückliste!AL668","v":0},{"$f":"Stückliste!AN668","v":0},{"$f":"Stückliste!AP668","v":0},{"$f":"Stückliste!AR668","v":0},{"$f":"Stückliste!AT668","v":0},{"$f":"Stückliste!AV668","v":0},{"$f":"Stückliste!AF668","v":0},{"$f":"Stückliste!AX668","v":0}]
[{"$f":"A615","v":0},0,8,{"$f":"Stückliste!A669","v":0},{"$f":"Stückliste!D669","v":0},{"$f":"Stückliste!H669","v":0},{"$f":"Stückliste!L669","v":0},{"$f":"Stückliste!P669","v":0},{"$f":"Stückliste!R669","v":0},{"$f":"Stückliste!T669","v":0},{"$f":"Stückliste!V669","v":0},{"$f":"Stückliste!X669","v":0},{"$f":"Stückliste!Z669","v":0},{"$f":"Stückliste!AB669","v":0},{"$f":"Stückliste!AD669","v":0},{"$f":"Stückliste!AH669","v":0},{"$f":"Stückliste!AJ669","v":0},{"$f":"Stückliste!AL669","v":0},{"$f":"Stückliste!AN669","v":0},{"$f":"Stückliste!AP669","v":0},{"$f":"Stückliste!AR669","v":0},{"$f":"Stückliste!AT669","v":0},{"$f":"Stückliste!AV669","v":0},{"$f":"Stückliste!AF669","v":0},{"$f":"Stückliste!AX669","v":0}]
[{"$f":"A616","v":0},0,8,{"$f":"Stückliste!A670","v":0},{"$f":"Stückliste!D670","v":0},{"$f":"Stückliste!H670","v":0},{"$f":"Stückliste!L670","v":0},{"$f":"Stückliste!P670","v":0},{"$f":"Stückliste!R670","v":0},{"$f":"Stückliste!T670","v":0},{"$f":"Stückliste!V670","v":0},{"$f":"Stückliste!X670","v":0},{"$f":"Stückliste!Z670","v":0},{"$f":"Stückliste!AB670","v":0},{"$f":"Stückliste!AD670","v":0},{"$f":"Stückliste!AH670","v":0},{"$f":"Stückliste!AJ670","v":0},{"$f":"Stückliste!AL670","v":0},{"$f":"Stückliste!AN670","v":0},{"$f":"Stückliste!AP670","v":0},{"$f":"Stückliste!AR670","v":0},{"$f":"Stückliste!AT670","v":0},{"$f":"Stückliste!AV670","v":0},{"$f":"Stückliste!AF670","v":0},{"$f":"Stückliste!AX670","v":0}]
[{"$f":"A617","v":0},0,8,{"$f":"Stückliste!A671","v":0},{"$f":"Stückliste!D671","v":0},{"$f":"Stückliste!H671","v":0},{"$f":"Stückliste!L671","v":0},{"$f":"Stückliste!P671","v":0},{"$f":"Stückliste!R671","v":0},{"$f":"Stückliste!T671","v":0},{"$f":"Stückliste!V671","v":0},{"$f":"Stückliste!X671","v":0},{"$f":"Stückliste!Z671","v":0},{"$f":"Stückliste!AB671","v":0},{"$f":"Stückliste!AD671","v":0},{"$f":"Stückliste!AH671","v":0},{"$f":"Stückliste!AJ671","v":0},{"$f":"Stückliste!AL671","v":0},{"$f":"Stückliste!AN671","v":0},{"$f":"Stückliste!AP671","v":0},{"$f":"Stückliste!AR671","v":0},{"$f":"Stückliste!AT671","v":0},{"$f":"Stückliste!AV671","v":0},{"$f":"Stückliste!AF671","v":0},{"$f":"Stückliste!AX671","v":0}]
[{"$f":"A618","v":0},0,8,{"$f":"Stückliste!A672","v":0},{"$f":"Stückliste!D672","v":0},{"$f":"Stückliste!H672","v":0},{"$f":"Stückliste!L672","v":0},{"$f":"Stückliste!P672","v":0},{"$f":"Stückliste!R672","v":0},{"$f":"Stückliste!T672","v":0},{"$f":"Stückliste!V672","v":0},{"$f":"Stückliste!X672","v":0},{"$f":"Stückliste!Z672","v":0},{"$f":"Stückliste!AB672","v":0},{"$f":"Stückliste!AD672","v":0},{"$f":"Stückliste!AH672","v":0},{"$f":"Stückliste!AJ672","v":0},{"$f":"Stückliste!AL672","v":0},{"$f":"Stückliste!AN672","v":0},{"$f":"Stückliste!AP672","v":0},{"$f":"Stückliste!AR672","v":0},{"$f":"Stückliste!AT672","v":0},{"$f":"Stückliste!AV672","v":0},{"$f":"Stückliste!AF672","v":0},{"$f":"Stückliste!AX672","v":0}]
[{"$f":"A619","v":0},0,8,{"$f":"Stückliste!A673","v":0},{"$f":"Stückliste!D673","v":0},{"$f":"Stückliste!H673","v":0},{"$f":"Stückliste!L673","v":0},{"$f":"Stückliste!P673","v":0},{"$f":"Stückliste!R673","v":0},{"$f":"Stückliste!T673","v":0},{"$f":"Stückliste!V673","v":0},{"$f":"Stückliste!X673","v":0},{"$f":"Stückliste!Z673","v":0},{"$f":"Stückliste!AB673","v":0},{"$f":"Stückliste!AD673","v":0},{"$f":"Stückliste!AH673","v":0},{"$f":"Stückliste!AJ673","v":0},{"$f":"Stückliste!AL673","v":0},{"$f":"Stückliste!AN673","v":0},{"$f":"Stückliste!AP673","v":0},{"$f":"Stückliste!AR673","v":0},{"$f":"Stückliste!AT673","v":0},{"$f":"Stückliste!AV673","v":0},{"$f":"Stückliste!AF673","v":0},{"$f":"Stückliste!AX673","v":0}]
[{"$f":"A620","v":0},0,8,{"$f":"Stückliste!A674","v":0},{"$f":"Stückliste!D674","v":0},{"$f":"Stückliste!H674","v":0},{"$f":"Stückliste!L674","v":0},{"$f":"Stückliste!P674","v":0},{"$f":"Stückliste!R674","v":0},{"$f":"Stückliste!T674","v":0},{"$f":"Stückliste!V674","v":0},{"$f":"Stückliste!X674","v":0},{"$f":"Stückliste!Z674","v":0},{"$f":"Stückliste!AB674","v":0},{"$f":"Stückliste!AD674","v":0},{"$f":"Stückliste!AH674","v":0},{"$f":"Stückliste!AJ674","v":0},{"$f":"Stückliste!AL674","v":0},{"$f":"Stückliste!AN674","v":0},{"$f":"Stückliste!AP674","v":0},{"$f":"Stückliste!AR674","v":0},{"$f":"Stückliste!AT674","v":0},{"$f":"Stückliste!AV674","v":0},{"$f":"Stückliste!AF674","v":0},{"$f":"Stückliste!AX674","v":0}]
[{"$f":"A621","v":0},0,8,{"$f":"Stückliste!A675","v":0},{"$f":"Stückliste!D675","v":0},{"$f":"Stückliste!H675","v":0},{"$f":"Stückliste!L675","v":0},{"$f":"Stückliste!P675","v":0},{"$f":"Stückliste!R675","v":0},{"$f":"Stückliste!T675","v":0},{"$f":"Stückliste!V675","v":0},{"$f":"Stückliste!X675","v":0},{"$f":"Stückliste!Z675","v":0},{"$f":"Stückliste!AB675","v":0},{"$f":"Stückliste!AD675","v":0},{"$f":"Stückliste!AH675","v":0},{"$f":"Stückliste!AJ675","v":0},{"$f":"Stückliste!AL675","v":0},{"$f":"Stückliste!AN675","v":0},{"$f":"Stückliste!AP675","v":0},{"$f":"Stückliste!AR675","v":0},{"$f":"Stückliste!AT675","v":0},{"$f":"Stückliste!AV675","v":0},{"$f":"Stückliste!AF675","v":0},{"$f":"Stückliste!AX675","v":0}]
[{"$f":"A622","v":0},0,8,{"$f":"Stückliste!A676","v":0},{"$f":"Stückliste!D676","v":0},{"$f":"Stückliste!H676","v":0},{"$f":"Stückliste!L676","v":0},{"$f":"Stückliste!P676","v":0},{"$f":"Stückliste!R676","v":0},{"$f":"Stückliste!T676","v":0},{"$f":"Stückliste!V676","v":0},{"$f":"Stückliste!X676","v":0},{"$f":"Stückliste!Z676","v":0},{"$f":"Stückliste!AB676","v":0},{"$f":"Stückliste!AD676","v":0},{"$f":"Stückliste!AH676","v":0},{"$f":"Stückliste!AJ676","v":0},{"$f":"Stückliste!AL676","v":0},{"$f":"Stückliste!AN676","v":0},{"$f":"Stückliste!AP676","v":0},{"$f":"Stückliste!AR676","v":0},{"$f":"Stückliste!AT676","v":0},{"$f":"Stückliste!AV676","v":0},{"$f":"Stückliste!AF676","v":0},{"$f":"Stückliste!AX676","v":0}]
[{"$f":"A623","v":0},0,8,{"$f":"Stückliste!A677","v":0},{"$f":"Stückliste!D677","v":0},{"$f":"Stückliste!H677","v":0},{"$f":"Stückliste!L677","v":0},{"$f":"Stückliste!P677","v":0},{"$f":"Stückliste!R677","v":0},{"$f":"Stückliste!T677","v":0},{"$f":"Stückliste!V677","v":0},{"$f":"Stückliste!X677","v":0},{"$f":"Stückliste!Z677","v":0},{"$f":"Stückliste!AB677","v":0},{"$f":"Stückliste!AD677","v":0},{"$f":"Stückliste!AH677","v":0},{"$f":"Stückliste!AJ677","v":0},{"$f":"Stückliste!AL677","v":0},{"$f":"Stückliste!AN677","v":0},{"$f":"Stückliste!AP677","v":0},{"$f":"Stückliste!AR677","v":0},{"$f":"Stückliste!AT677","v":0},{"$f":"Stückliste!AV677","v":0},{"$f":"Stückliste!AF677","v":0},{"$f":"Stückliste!AX677","v":0}]
[{"$f":"A624","v":0},0,8,{"$f":"Stückliste!A678","v":0},{"$f":"Stückliste!D678","v":0},{"$f":"Stückliste!H678","v":0},{"$f":"Stückliste!L678","v":0},{"$f":"Stückliste!P678","v":0},{"$f":"Stückliste!R678","v":0},{"$f":"Stückliste!T678","v":0},{"$f":"Stückliste!V678","v":0},{"$f":"Stückliste!X678","v":0},{"$f":"Stückliste!Z678","v":0},{"$f":"Stückliste!AB678","v":0},{"$f":"Stückliste!AD678","v":0},{"$f":"Stückliste!AH678","v":0},{"$f":"Stückliste!AJ678","v":0},{"$f":"Stückliste!AL678","v":0},{"$f":"Stückliste!AN678","v":0},{"$f":"Stückliste!AP678","v":0},{"$f":"Stückliste!AR678","v":0},{"$f":"Stückliste!AT678","v":0},{"$f":"Stückliste!AV678","v":0},{"$f":"Stückliste!AF678","v":0},{"$f":"Stückliste!AX678","v":0}]
[{"$f":"A625","v":0},0,8,{"$f":"Stückliste!A679","v":0},{"$f":"Stückliste!D679","v":0},{"$f":"Stückliste!H679","v":0},{"$f":"Stückliste!L679","v":0},{"$f":"Stückliste!P679","v":0},{"$f":"Stückliste!R679","v":0},{"$f":"Stückliste!T679","v":0},{"$f":"Stückliste!V679","v":0},{"$f":"Stückliste!X679","v":0},{"$f":"Stückliste!Z679","v":0},{"$f":"Stückliste!AB679","v":0},{"$f":"Stückliste!AD679","v":0},{"$f":"Stückliste!AH679","v":0},{"$f":"Stückliste!AJ679","v":0},{"$f":"Stückliste!AL679","v":0},{"$f":"Stückliste!AN679","v":0},{"$f":"Stückliste!AP679","v":0},{"$f":"Stückliste!AR679","v":0},{"$f":"Stückliste!AT679","v":0},{"$f":"Stückliste!AV679","v":0},{"$f":"Stückliste!AF679","v":0},{"$f":"Stückliste!AX679","v":0}]
[{"$f":"A626","v":0},0,8,{"$f":"Stückliste!A680","v":0},{"$f":"Stückliste!D680","v":0},{"$f":"Stückliste!H680","v":0},{"$f":"Stückliste!L680","v":0},{"$f":"Stückliste!P680","v":0},{"$f":"Stückliste!R680","v":0},{"$f":"Stückliste!T680","v":0},{"$f":"Stückliste!V680","v":0},{"$f":"Stückliste!X680","v":0},{"$f":"Stückliste!Z680","v":0},{"$f":"Stückliste!AB680","v":0},{"$f":"Stückliste!AD680","v":0},{"$f":"Stückliste!AH680","v":0},{"$f":"Stückliste!AJ680","v":0},{"$f":"Stückliste!AL680","v":0},{"$f":"Stückliste!AN680","v":0},{"$f":"Stückliste!AP680","v":0},{"$f":"Stückliste!AR680","v":0},{"$f":"Stückliste!AT680","v":0},{"$f":"Stückliste!AV680","v":0},{"$f":"Stückliste!AF680","v":0},{"$f":"Stückliste!AX680","v":0}]
[{"$f":"A627","v":0},0,8,{"$f":"Stückliste!A681","v":0},{"$f":"Stückliste!D681","v":0},{"$f":"Stückliste!H681","v":0},{"$f":"Stückliste!L681","v":0},{"$f":"Stückliste!P681","v":0},{"$f":"Stückliste!R681","v":0},{"$f":"Stückliste!T681","v":0},{"$f":"Stückliste!V681","v":0},{"$f":"Stückliste!X681","v":0},{"$f":"Stückliste!Z681","v":0},{"$f":"Stückliste!AB681","v":0},{"$f":"Stückliste!AD681","v":0},{"$f":"Stückliste!AH681","v":0},{"$f":"Stückliste!AJ681","v":0},{"$f":"Stückliste!AL681","v":0},{"$f":"Stückliste!AN681","v":0},{"$f":"Stückliste!AP681","v":0},{"$f":"Stückliste!AR681","v":0},{"$f":"Stückliste!AT681","v":0},{"$f":"Stückliste!AV681","v":0},{"$f":"Stückliste!AF681","v":0},{"$f":"Stückliste!AX681","v":0}]
[{"$f":"A628","v":0},0,8,{"$f":"Stückliste!A682","v":0},{"$f":"Stückliste!D682","v":0},{"$f":"Stückliste!H682","v":0},{"$f":"Stückliste!L682","v":0},{"$f":"Stückliste!P682","v":0},{"$f":"Stückliste!R682","v":0},{"$f":"Stückliste!T682","v":0},{"$f":"Stückliste!V682","v":0},{"$f":"Stückliste!X682","v":0},{"$f":"Stückliste!Z682","v":0},{"$f":"Stückliste!AB682","v":0},{"$f":"Stückliste!AD682","v":0},{"$f":"Stückliste!AH682","v":0},{"$f":"Stückliste!AJ682","v":0},{"$f":"Stückliste!AL682","v":0},{"$f":"Stückliste!AN682","v":0},{"$f":"Stückliste!AP682","v":0},{"$f":"Stückliste!AR682","v":0},{"$f":"Stückliste!AT682","v":0},{"$f":"Stückliste!AV682","v":0},{"$f":"Stückliste!AF682","v":0},{"$f":"Stückliste!AX682","v":0}]
[{"$f":"A629","v":0},0,8,{"$f":"Stückliste!A683","v":0},{"$f":"Stückliste!D683","v":0},{"$f":"Stückliste!H683","v":0},{"$f":"Stückliste!L683","v":0},{"$f":"Stückliste!P683","v":0},{"$f":"Stückliste!R683","v":0},{"$f":"Stückliste!T683","v":0},{"$f":"Stückliste!V683","v":0},{"$f":"Stückliste!X683","v":0},{"$f":"Stückliste!Z683","v":0},{"$f":"Stückliste!AB683","v":0},{"$f":"Stückliste!AD683","v":0},{"$f":"Stückliste!AH683","v":0},{"$f":"Stückliste!AJ683","v":0},{"$f":"Stückliste!AL683","v":0},{"$f":"Stückliste!AN683","v":0},{"$f":"Stückliste!AP683","v":0},{"$f":"Stückliste!AR683","v":0},{"$f":"Stückliste!AT683","v":0},{"$f":"Stückliste!AV683","v":0},{"$f":"Stückliste!AF683","v":0},{"$f":"Stückliste!AX683","v":0}]
[{"$f":"A630","v":0},0,8,{"$f":"Stückliste!A684","v":0},{"$f":"Stückliste!D684","v":0},{"$f":"Stückliste!H684","v":0},{"$f":"Stückliste!L684","v":0},{"$f":"Stückliste!P684","v":0},{"$f":"Stückliste!R684","v":0},{"$f":"Stückliste!T684","v":0},{"$f":"Stückliste!V684","v":0},{"$f":"Stückliste!X684","v":0},{"$f":"Stückliste!Z684","v":0},{"$f":"Stückliste!AB684","v":0},{"$f":"Stückliste!AD684","v":0},{"$f":"Stückliste!AH684","v":0},{"$f":"Stückliste!AJ684","v":0},{"$f":"Stückliste!AL684","v":0},{"$f":"Stückliste!AN684","v":0},{"$f":"Stückliste!AP684","v":0},{"$f":"Stückliste!AR684","v":0},{"$f":"Stückliste!AT684","v":0},{"$f":"Stückliste!AV684","v":0},{"$f":"Stückliste!AF684","v":0},{"$f":"Stückliste!AX684","v":0}]
[{"$f":"A631","v":0},0,8,{"$f":"Stückliste!A685","v":0},{"$f":"Stückliste!D685","v":0},{"$f":"Stückliste!H685","v":0},{"$f":"Stückliste!L685","v":0},{"$f":"Stückliste!P685","v":0},{"$f":"Stückliste!R685","v":0},{"$f":"Stückliste!T685","v":0},{"$f":"Stückliste!V685","v":0},{"$f":"Stückliste!X685","v":0},{"$f":"Stückliste!Z685","v":0},{"$f":"Stückliste!AB685","v":0},{"$f":"Stückliste!AD685","v":0},{"$f":"Stückliste!AH685","v":0},{"$f":"Stückliste!AJ685","v":0},{"$f":"Stückliste!AL685","v":0},{"$f":"Stückliste!AN685","v":0},{"$f":"Stückliste!AP685","v":0},{"$f":"Stückliste!AR685","v":0},{"$f":"Stückliste!AT685","v":0},{"$f":"Stückliste!AV685","v":0},{"$f":"Stückliste!AF685","v":0},{"$f":"Stückliste!AX685","v":0}]
[{"$f":"A632","v":0},0,8,{"$f":"Stückliste!A686","v":0},{"$f":"Stückliste!D686","v":0},{"$f":"Stückliste!H686","v":0},{"$f":"Stückliste!L686","v":0},{"$f":"Stückliste!P686","v":0},{"$f":"Stückliste!R686","v":0},{"$f":"Stückliste!T686","v":0},{"$f":"Stückliste!V686","v":0},{"$f":"Stückliste!X686","v":0},{"$f":"Stückliste!Z686","v":0},{"$f":"Stückliste!AB686","v":0},{"$f":"Stückliste!AD686","v":0},{"$f":"Stückliste!AH686","v":0},{"$f":"Stückliste!AJ686","v":0},{"$f":"Stückliste!AL686","v":0},{"$f":"Stückliste!AN686","v":0},{"$f":"Stückliste!AP686","v":0},{"$f":"Stückliste!AR686","v":0},{"$f":"Stückliste!AT686","v":0},{"$f":"Stückliste!AV686","v":0},{"$f":"Stückliste!AF686","v":0},{"$f":"Stückliste!AX686","v":0}]
[{"$f":"A633","v":0},0,8,{"$f":"Stückliste!A687","v":0},{"$f":"Stückliste!D687","v":0},{"$f":"Stückliste!H687","v":0},{"$f":"Stückliste!L687","v":0},{"$f":"Stückliste!P687","v":0},{"$f":"Stückliste!R687","v":0},{"$f":"Stückliste!T687","v":0},{"$f":"Stückliste!V687","v":0},{"$f":"Stückliste!X687","v":0},{"$f":"Stückliste!Z687","v":0},{"$f":"Stückliste!AB687","v":0},{"$f":"Stückliste!AD687","v":0},{"$f":"Stückliste!AH687","v":0},{"$f":"Stückliste!AJ687","v":0},{"$f":"Stückliste!AL687","v":0},{"$f":"Stückliste!AN687","v":0},{"$f":"Stückliste!AP687","v":0},{"$f":"Stückliste!AR687","v":0},{"$f":"Stückliste!AT687","v":0},{"$f":"Stückliste!AV687","v":0},{"$f":"Stückliste!AF687","v":0},{"$f":"Stückliste!AX687","v":0}]
[{"$f":"A634","v":0},0,8,{"$f":"Stückliste!A688","v":0},{"$f":"Stückliste!D688","v":0},{"$f":"Stückliste!H688","v":0},{"$f":"Stückliste!L688","v":0},{"$f":"Stückliste!P688","v":0},{"$f":"Stückliste!R688","v":0},{"$f":"Stückliste!T688","v":0},{"$f":"Stückliste!V688","v":0},{"$f":"Stückliste!X688","v":0},{"$f":"Stückliste!Z688","v":0},{"$f":"Stückliste!AB688","v":0},{"$f":"Stückliste!AD688","v":0},{"$f":"Stückliste!AH688","v":0},{"$f":"Stückliste!AJ688","v":0},{"$f":"Stückliste!AL688","v":0},{"$f":"Stückliste!AN688","v":0},{"$f":"Stückliste!AP688","v":0},{"$f":"Stückliste!AR688","v":0},{"$f":"Stückliste!AT688","v":0},{"$f":"Stückliste!AV688","v":0},{"$f":"Stückliste!AF688","v":0},{"$f":"Stückliste!AX688","v":0}]
[{"$f":"A635","v":0},0,8,{"$f":"Stückliste!A689","v":0},{"$f":"Stückliste!D689","v":0},{"$f":"Stückliste!H689","v":0},{"$f":"Stückliste!L689","v":0},{"$f":"Stückliste!P689","v":0},{"$f":"Stückliste!R689","v":0},{"$f":"Stückliste!T689","v":0},{"$f":"Stückliste!V689","v":0},{"$f":"Stückliste!X689","v":0},{"$f":"Stückliste!Z689","v":0},{"$f":"Stückliste!AB689","v":0},{"$f":"Stückliste!AD689","v":0},{"$f":"Stückliste!AH689","v":0},{"$f":"Stückliste!AJ689","v":0},{"$f":"Stückliste!AL689","v":0},{"$f":"Stückliste!AN689","v":0},{"$f":"Stückliste!AP689","v":0},{"$f":"Stückliste!AR689","v":0},{"$f":"Stückliste!AT689","v":0},{"$f":"Stückliste!AV689","v":0},{"$f":"Stückliste!AF689","v":0},{"$f":"Stückliste!AX689","v":0}]
[{"$f":"A636","v":0},0,8,{"$f":"Stückliste!A690","v":0},{"$f":"Stückliste!D690","v":0},{"$f":"Stückliste!H690","v":0},{"$f":"Stückliste!L690","v":0},{"$f":"Stückliste!P690","v":0},{"$f":"Stückliste!R690","v":0},{"$f":"Stückliste!T690","v":0},{"$f":"Stückliste!V690","v":0},{"$f":"Stückliste!X690","v":0},{"$f":"Stückliste!Z690","v":0},{"$f":"Stückliste!AB690","v":0},{"$f":"Stückliste!AD690","v":0},{"$f":"Stückliste!AH690","v":0},{"$f":"Stückliste!AJ690","v":0},{"$f":"Stückliste!AL690","v":0},{"$f":"Stückliste!AN690","v":0},{"$f":"Stückliste!AP690","v":0},{"$f":"Stückliste!AR690","v":0},{"$f":"Stückliste!AT690","v":0},{"$f":"Stückliste!AV690","v":0},{"$f":"Stückliste!AF690","v":0},{"$f":"Stückliste!AX690","v":0}]
[{"$f":"A637","v":0},0,8,{"$f":"Stückliste!A691","v":0},{"$f":"Stückliste!D691","v":0},{"$f":"Stückliste!H691","v":0},{"$f":"Stückliste!L691","v":0},{"$f":"Stückliste!P691","v":0},{"$f":"Stückliste!R691","v":0},{"$f":"Stückliste!T691","v":0},{"$f":"Stückliste!V691","v":0},{"$f":"Stückliste!X691","v":0},{"$f":"Stückliste!Z691","v":0},{"$f":"Stückliste!AB691","v":0},{"$f":"Stückliste!AD691","v":0},{"$f":"Stückliste!AH691","v":0},{"$f":"Stückliste!AJ691","v":0},{"$f":"Stückliste!AL691","v":0},{"$f":"Stückliste!AN691","v":0},{"$f":"Stückliste!AP691","v":0},{"$f":"Stückliste!AR691","v":0},{"$f":"Stückliste!AT691","v":0},{"$f":"Stückliste!AV691","v":0},{"$f":"Stückliste!AF691","v":0},{"$f":"Stückliste!AX691","v":0}]
[{"$f":"A638","v":0},0,8,{"$f":"Stückliste!A692","v":0},{"$f":"Stückliste!D692","v":0},{"$f":"Stückliste!H692","v":0},{"$f":"Stückliste!L692","v":0},{"$f":"Stückliste!P692","v":0},{"$f":"Stückliste!R692","v":0},{"$f":"Stückliste!T692","v":0},{"$f":"Stückliste!V692","v":0},{"$f":"Stückliste!X692","v":0},{"$f":"Stückliste!Z692","v":0},{"$f":"Stückliste!AB692","v":0},{"$f":"Stückliste!AD692","v":0},{"$f":"Stückliste!AH692","v":0},{"$f":"Stückliste!AJ692","v":0},{"$f":"Stückliste!AL692","v":0},{"$f":"Stückliste!AN692","v":0},{"$f":"Stückliste!AP692","v":0},{"$f":"Stückliste!AR692","v":0},{"$f":"Stückliste!AT692","v":0},{"$f":"Stückliste!AV692","v":0},{"$f":"Stückliste!AF692","v":0},{"$f":"Stückliste!AX692","v":0}]
[{"$f":"A639","v":0},0,8,{"$f":"Stückliste!A693","v":0},{"$f":"Stückliste!D693","v":0},{"$f":"Stückliste!H693","v":0},{"$f":"Stückliste!L693","v":0},{"$f":"Stückliste!P693","v":0},{"$f":"Stückliste!R693","v":0},{"$f":"Stückliste!T693","v":0},{"$f":"Stückliste!V693","v":0},{"$f":"Stückliste!X693","v":0},{"$f":"Stückliste!Z693","v":0},{"$f":"Stückliste!AB693","v":0},{"$f":"Stückliste!AD693","v":0},{"$f":"Stückliste!AH693","v":0},{"$f":"Stückliste!AJ693","v":0},{"$f":"Stückliste!AL693","v":0},{"$f":"Stückliste!AN693","v":0},{"$f":"Stückliste!AP693","v":0},{"$f":"Stückliste!AR693","v":0},{"$f":"Stückliste!AT693","v":0},{"$f":"Stückliste!AV693","v":0},{"$f":"Stückliste!AF693","v":0},{"$f":"Stückliste!AX693","v":0}]
[{"$f":"A640","v":0},0,8,{"$f":"Stückliste!A694","v":0},{"$f":"Stückliste!D694","v":0},{"$f":"Stückliste!H694","v":0},{"$f":"Stückliste!L694","v":0},{"$f":"Stückliste!P694","v":0},{"$f":"Stückliste!R694","v":0},{"$f":"Stückliste!T694","v":0},{"$f":"Stückliste!V694","v":0},{"$f":"Stückliste!X694","v":0},{"$f":"Stückliste!Z694","v":0},{"$f":"Stückliste!AB694","v":0},{"$f":"Stückliste!AD694","v":0},{"$f":"Stückliste!AH694","v":0},{"$f":"Stückliste!AJ694","v":0},{"$f":"Stückliste!AL694","v":0},{"$f":"Stückliste!AN694","v":0},{"$f":"Stückliste!AP694","v":0},{"$f":"Stückliste!AR694","v":0},{"$f":"Stückliste!AT694","v":0},{"$f":"Stückliste!AV694","v":0},{"$f":"Stückliste!AF694","v":0},{"$f":"Stückliste!AX694","v":0}]
[{"$f":"A641","v":0},0,8,{"$f":"Stückliste!A695","v":0},{"$f":"Stückliste!D695","v":0},{"$f":"Stückliste!H695","v":0},{"$f":"Stückliste!L695","v":0},{"$f":"Stückliste!P695","v":0},{"$f":"Stückliste!R695","v":0},{"$f":"Stückliste!T695","v":0},{"$f":"Stückliste!V695","v":0},{"$f":"Stückliste!X695","v":0},{"$f":"Stückliste!Z695","v":0},{"$f":"Stückliste!AB695","v":0},{"$f":"Stückliste!AD695","v":0},{"$f":"Stückliste!AH695","v":0},{"$f":"Stückliste!AJ695","v":0},{"$f":"Stückliste!AL695","v":0},{"$f":"Stückliste!AN695","v":0},{"$f":"Stückliste!AP695","v":0},{"$f":"Stückliste!AR695","v":0},{"$f":"Stückliste!AT695","v":0},{"$f":"Stückliste!AV695","v":0},{"$f":"Stückliste!AF695","v":0},{"$f":"Stückliste!AX695","v":0}]
[{"$f":"A642","v":0},0,8,{"$f":"Stückliste!A696","v":0},{"$f":"Stückliste!D696","v":0},{"$f":"Stückliste!H696","v":0},{"$f":"Stückliste!L696","v":0},{"$f":"Stückliste!P696","v":0},{"$f":"Stückliste!R696","v":0},{"$f":"Stückliste!T696","v":0},{"$f":"Stückliste!V696","v":0},{"$f":"Stückliste!X696","v":0},{"$f":"Stückliste!Z696","v":0},{"$f":"Stückliste!AB696","v":0},{"$f":"Stückliste!AD696","v":0},{"$f":"Stückliste!AH696","v":0},{"$f":"Stückliste!AJ696","v":0},{"$f":"Stückliste!AL696","v":0},{"$f":"Stückliste!AN696","v":0},{"$f":"Stückliste!AP696","v":0},{"$f":"Stückliste!AR696","v":0},{"$f":"Stückliste!AT696","v":0},{"$f":"Stückliste!AV696","v":0},{"$f":"Stückliste!AF696","v":0},{"$f":"Stückliste!AX696","v":0}]
[{"$f":"A643","v":0},0,8,{"$f":"Stückliste!A697","v":0},{"$f":"Stückliste!D697","v":0},{"$f":"Stückliste!H697","v":0},{"$f":"Stückliste!L697","v":0},{"$f":"Stückliste!P697","v":0},{"$f":"Stückliste!R697","v":0},{"$f":"Stückliste!T697","v":0},{"$f":"Stückliste!V697","v":0},{"$f":"Stückliste!X697","v":0},{"$f":"Stückliste!Z697","v":0},{"$f":"Stückliste!AB697","v":0},{"$f":"Stückliste!AD697","v":0},{"$f":"Stückliste!AH697","v":0},{"$f":"Stückliste!AJ697","v":0},{"$f":"Stückliste!AL697","v":0},{"$f":"Stückliste!AN697","v":0},{"$f":"Stückliste!AP697","v":0},{"$f":"Stückliste!AR697","v":0},{"$f":"Stückliste!AT697","v":0},{"$f":"Stückliste!AV697","v":0},{"$f":"Stückliste!AF697","v":0},{"$f":"Stückliste!AX697","v":0}]
[{"$f":"A644","v":0},0,8,{"$f":"Stückliste!A698","v":0},{"$f":"Stückliste!D698","v":0},{"$f":"Stückliste!H698","v":0},{"$f":"Stückliste!L698","v":0},{"$f":"Stückliste!P698","v":0},{"$f":"Stückliste!R698","v":0},{"$f":"Stückliste!T698","v":0},{"$f":"Stückliste!V698","v":0},{"$f":"Stückliste!X698","v":0},{"$f":"Stückliste!Z698","v":0},{"$f":"Stückliste!AB698","v":0},{"$f":"Stückliste!AD698","v":0},{"$f":"Stückliste!AH698","v":0},{"$f":"Stückliste!AJ698","v":0},{"$f":"Stückliste!AL698","v":0},{"$f":"Stückliste!AN698","v":0},{"$f":"Stückliste!AP698","v":0},{"$f":"Stückliste!AR698","v":0},{"$f":"Stückliste!AT698","v":0},{"$f":"Stückliste!AV698","v":0},{"$f":"Stückliste!AF698","v":0},{"$f":"Stückliste!AX698","v":0}]
[{"$f":"A645","v":0},0,8,{"$f":"Stückliste!A699","v":0},{"$f":"Stückliste!D699","v":0},{"$f":"Stückliste!H699","v":0},{"$f":"Stückliste!L699","v":0},{"$f":"Stückliste!P699","v":0},{"$f":"Stückliste!R699","v":0},{"$f":"Stückliste!T699","v":0},{"$f":"Stückliste!V699","v":0},{"$f":"Stückliste!X699","v":0},{"$f":"Stückliste!Z699","v":0},{"$f":"Stückliste!AB699","v":0},{"$f":"Stückliste!AD699","v":0},{"$f":"Stückliste!AH699","v":0},{"$f":"Stückliste!AJ699","v":0},{"$f":"Stückliste!AL699","v":0},{"$f":"Stückliste!AN699","v":0},{"$f":"Stückliste!AP699","v":0},{"$f":"Stückliste!AR699","v":0},{"$f":"Stückliste!AT699","v":0},{"$f":"Stückliste!AV699","v":0},{"$f":"Stückliste!AF699","v":0},{"$f":"Stückliste!AX699","v":0}]
[{"$f":"A646","v":0},0,8,{"$f":"Stückliste!A700","v":0},{"$f":"Stückliste!D700","v":0},{"$f":"Stückliste!H700","v":0},{"$f":"Stückliste!L700","v":0},{"$f":"Stückliste!P700","v":0},{"$f":"Stückliste!R700","v":0},{"$f":"Stückliste!T700","v":0},{"$f":"Stückliste!V700","v":0},{"$f":"Stückliste!X700","v":0},{"$f":"Stückliste!Z700","v":0},{"$f":"Stückliste!AB700","v":0},{"$f":"Stückliste!AD700","v":0},{"$f":"Stückliste!AH700","v":0},{"$f":"Stückliste!AJ700","v":0},{"$f":"Stückliste!AL700","v":0},{"$f":"Stückliste!AN700","v":0},{"$f":"Stückliste!AP700","v":0},{"$f":"Stückliste!AR700","v":0},{"$f":"Stückliste!AT700","v":0},{"$f":"Stückliste!AV700","v":0},{"$f":"Stückliste!AF700","v":0},{"$f":"Stückliste!AX700","v":0}]
[{"$f":"A647","v":0},0,8,{"$f":"Stückliste!A701","v":0},{"$f":"Stückliste!D701","v":0},{"$f":"Stückliste!H701","v":0},{"$f":"Stückliste!L701","v":0},{"$f":"Stückliste!P701","v":0},{"$f":"Stückliste!R701","v":0},{"$f":"Stückliste!T701","v":0},{"$f":"Stückliste!V701","v":0},{"$f":"Stückliste!X701","v":0},{"$f":"Stückliste!Z701","v":0},{"$f":"Stückliste!AB701","v":0},{"$f":"Stückliste!AD701","v":0},{"$f":"Stückliste!AH701","v":0},{"$f":"Stückliste!AJ701","v":0},{"$f":"Stückliste!AL701","v":0},{"$f":"Stückliste!AN701","v":0},{"$f":"Stückliste!AP701","v":0},{"$f":"Stückliste!AR701","v":0},{"$f":"Stückliste!AT701","v":0},{"$f":"Stückliste!AV701","v":0},{"$f":"Stückliste!AF701","v":0},{"$f":"Stückliste!AX701","v":0}]
[{"$f":"A648","v":0},0,8,{"$f":"Stückliste!A702","v":0},{"$f":"Stückliste!D702","v":0},{"$f":"Stückliste!H702","v":0},{"$f":"Stückliste!L702","v":0},{"$f":"Stückliste!P702","v":0},{"$f":"Stückliste!R702","v":0},{"$f":"Stückliste!T702","v":0},{"$f":"Stückliste!V702","v":0},{"$f":"Stückliste!X702","v":0},{"$f":"Stückliste!Z702","v":0},{"$f":"Stückliste!AB702","v":0},{"$f":"Stückliste!AD702","v":0},{"$f":"Stückliste!AH702","v":0},{"$f":"Stückliste!AJ702","v":0},{"$f":"Stückliste!AL702","v":0},{"$f":"Stückliste!AN702","v":0},{"$f":"Stückliste!AP702","v":0},{"$f":"Stückliste!AR702","v":0},{"$f":"Stückliste!AT702","v":0},{"$f":"Stückliste!AV702","v":0},{"$f":"Stückliste!AF702","v":0},{"$f":"Stückliste!AX702","v":0}]
[{"$f":"A649","v":0},0,8,{"$f":"Stückliste!A703","v":0},{"$f":"Stückliste!D703","v":0},{"$f":"Stückliste!H703","v":0},{"$f":"Stückliste!L703","v":0},{"$f":"Stückliste!P703","v":0},{"$f":"Stückliste!R703","v":0},{"$f":"Stückliste!T703","v":0},{"$f":"Stückliste!V703","v":0},{"$f":"Stückliste!X703","v":0},{"$f":"Stückliste!Z703","v":0},{"$f":"Stückliste!AB703","v":0},{"$f":"Stückliste!AD703","v":0},{"$f":"Stückliste!AH703","v":0},{"$f":"Stückliste!AJ703","v":0},{"$f":"Stückliste!AL703","v":0},{"$f":"Stückliste!AN703","v":0},{"$f":"Stückliste!AP703","v":0},{"$f":"Stückliste!AR703","v":0},{"$f":"Stückliste!AT703","v":0},{"$f":"Stückliste!AV703","v":0},{"$f":"Stückliste!AF703","v":0},{"$f":"Stückliste!AX703","v":0}]
[{"$f":"A650","v":0},0,8,{"$f":"Stückliste!A704","v":0},{"$f":"Stückliste!D704","v":0},{"$f":"Stückliste!H704","v":0},{"$f":"Stückliste!L704","v":0},{"$f":"Stückliste!P704","v":0},{"$f":"Stückliste!R704","v":0},{"$f":"Stückliste!T704","v":0},{"$f":"Stückliste!V704","v":0},{"$f":"Stückliste!X704","v":0},{"$f":"Stückliste!Z704","v":0},{"$f":"Stückliste!AB704","v":0},{"$f":"Stückliste!AD704","v":0},{"$f":"Stückliste!AH704","v":0},{"$f":"Stückliste!AJ704","v":0},{"$f":"Stückliste!AL704","v":0},{"$f":"Stückliste!AN704","v":0},{"$f":"Stückliste!AP704","v":0},{"$f":"Stückliste!AR704","v":0},{"$f":"Stückliste!AT704","v":0},{"$f":"Stückliste!AV704","v":0},{"$f":"Stückliste!AF704","v":0},{"$f":"Stückliste!AX704","v":0}]
[{"$f":"A651","v":0},0,8,{"$f":"Stückliste!A705","v":0},{"$f":"Stückliste!D705","v":0},{"$f":"Stückliste!H705","v":0},{"$f":"Stückliste!L705","v":0},{"$f":"Stückliste!P705","v":0},{"$f":"Stückliste!R705","v":0},{"$f":"Stückliste!T705","v":0},{"$f":"Stückliste!V705","v":0},{"$f":"Stückliste!X705","v":0},{"$f":"Stückliste!Z705","v":0},{"$f":"Stückliste!AB705","v":0},{"$f":"Stückliste!AD705","v":0},{"$f":"Stückliste!AH705","v":0},{"$f":"Stückliste!AJ705","v":0},{"$f":"Stückliste!AL705","v":0},{"$f":"Stückliste!AN705","v":0},{"$f":"Stückliste!AP705","v":0},{"$f":"Stückliste!AR705","v":0},{"$f":"Stückliste!AT705","v":0},{"$f":"Stückliste!AV705","v":0},{"$f":"Stückliste!AF705","v":0},{"$f":"Stückliste!AX705","v":0}]
[{"$f":"A652","v":0},0,8,{"$f":"Stückliste!A706","v":0},{"$f":"Stückliste!D706","v":0},{"$f":"Stückliste!H706","v":0},{"$f":"Stückliste!L706","v":0},{"$f":"Stückliste!P706","v":0},{"$f":"Stückliste!R706","v":0},{"$f":"Stückliste!T706","v":0},{"$f":"Stückliste!V706","v":0},{"$f":"Stückliste!X706","v":0},{"$f":"Stückliste!Z706","v":0},{"$f":"Stückliste!AB706","v":0},{"$f":"Stückliste!AD706","v":0},{"$f":"Stückliste!AH706","v":0},{"$f":"Stückliste!AJ706","v":0},{"$f":"Stückliste!AL706","v":0},{"$f":"Stückliste!AN706","v":0},{"$f":"Stückliste!AP706","v":0},{"$f":"Stückliste!AR706","v":0},{"$f":"Stückliste!AT706","v":0},{"$f":"Stückliste!AV706","v":0},{"$f":"Stückliste!AF706","v":0},{"$f":"Stückliste!AX706","v":0}]
[{"$f":"A653","v":0},0,8,{"$f":"Stückliste!A707","v":0},{"$f":"Stückliste!D707","v":0},{"$f":"Stückliste!H707","v":0},{"$f":"Stückliste!L707","v":0},{"$f":"Stückliste!P707","v":0},{"$f":"Stückliste!R707","v":0},{"$f":"Stückliste!T707","v":0},{"$f":"Stückliste!V707","v":0},{"$f":"Stückliste!X707","v":0},{"$f":"Stückliste!Z707","v":0},{"$f":"Stückliste!AB707","v":0},{"$f":"Stückliste!AD707","v":0},{"$f":"Stückliste!AH707","v":0},{"$f":"Stückliste!AJ707","v":0},{"$f":"Stückliste!AL707","v":0},{"$f":"Stückliste!AN707","v":0},{"$f":"Stückliste!AP707","v":0},{"$f":"Stückliste!AR707","v":0},{"$f":"Stückliste!AT707","v":0},{"$f":"Stückliste!AV707","v":0},{"$f":"Stückliste!AF707","v":0},{"$f":"Stückliste!AX707","v":0}]
[{"$f":"A654","v":0},0,8,{"$f":"Stückliste!A708","v":0},{"$f":"Stückliste!D708","v":0},{"$f":"Stückliste!H708","v":0},{"$f":"Stückliste!L708","v":0},{"$f":"Stückliste!P708","v":0},{"$f":"Stückliste!R708","v":0},{"$f":"Stückliste!T708","v":0},{"$f":"Stückliste!V708","v":0},{"$f":"Stückliste!X708","v":0},{"$f":"Stückliste!Z708","v":0},{"$f":"Stückliste!AB708","v":0},{"$f":"Stückliste!AD708","v":0},{"$f":"Stückliste!AH708","v":0},{"$f":"Stückliste!AJ708","v":0},{"$f":"Stückliste!AL708","v":0},{"$f":"Stückliste!AN708","v":0},{"$f":"Stückliste!AP708","v":0},{"$f":"Stückliste!AR708","v":0},{"$f":"Stückliste!AT708","v":0},{"$f":"Stückliste!AV708","v":0},{"$f":"Stückliste!AF708","v":0},{"$f":"Stückliste!AX708","v":0}]
[{"$f":"A655","v":0},0,8,{"$f":"Stückliste!A709","v":0},{"$f":"Stückliste!D709","v":0},{"$f":"Stückliste!H709","v":0},{"$f":"Stückliste!L709","v":0},{"$f":"Stückliste!P709","v":0},{"$f":"Stückliste!R709","v":0},{"$f":"Stückliste!T709","v":0},{"$f":"Stückliste!V709","v":0},{"$f":"Stückliste!X709","v":0},{"$f":"Stückliste!Z709","v":0},{"$f":"Stückliste!AB709","v":0},{"$f":"Stückliste!AD709","v":0},{"$f":"Stückliste!AH709","v":0},{"$f":"Stückliste!AJ709","v":0},{"$f":"Stückliste!AL709","v":0},{"$f":"Stückliste!AN709","v":0},{"$f":"Stückliste!AP709","v":0},{"$f":"Stückliste!AR709","v":0},{"$f":"Stückliste!AT709","v":0},{"$f":"Stückliste!AV709","v":0},{"$f":"Stückliste!AF709","v":0},{"$f":"Stückliste!AX709","v":0}]
[{"$f":"A656","v":0},0,8,{"$f":"Stückliste!A710","v":0},{"$f":"Stückliste!D710","v":0},{"$f":"Stückliste!H710","v":0},{"$f":"Stückliste!L710","v":0},{"$f":"Stückliste!P710","v":0},{"$f":"Stückliste!R710","v":0},{"$f":"Stückliste!T710","v":0},{"$f":"Stückliste!V710","v":0},{"$f":"Stückliste!X710","v":0},{"$f":"Stückliste!Z710","v":0},{"$f":"Stückliste!AB710","v":0},{"$f":"Stückliste!AD710","v":0},{"$f":"Stückliste!AH710","v":0},{"$f":"Stückliste!AJ710","v":0},{"$f":"Stückliste!AL710","v":0},{"$f":"Stückliste!AN710","v":0},{"$f":"Stückliste!AP710","v":0},{"$f":"Stückliste!AR710","v":0},{"$f":"Stückliste!AT710","v":0},{"$f":"Stückliste!AV710","v":0},{"$f":"Stückliste!AF710","v":0},{"$f":"Stückliste!AX710","v":0}]
[{"$f":"A657","v":0},0,8,{"$f":"Stückliste!A711","v":0},{"$f":"Stückliste!D711","v":0},{"$f":"Stückliste!H711","v":0},{"$f":"Stückliste!L711","v":0},{"$f":"Stückliste!P711","v":0},{"$f":"Stückliste!R711","v":0},{"$f":"Stückliste!T711","v":0},{"$f":"Stückliste!V711","v":0},{"$f":"Stückliste!X711","v":0},{"$f":"Stückliste!Z711","v":0},{"$f":"Stückliste!AB711","v":0},{"$f":"Stückliste!AD711","v":0},{"$f":"Stückliste!AH711","v":0},{"$f":"Stückliste!AJ711","v":0},{"$f":"Stückliste!AL711","v":0},{"$f":"Stückliste!AN711","v":0},{"$f":"Stückliste!AP711","v":0},{"$f":"Stückliste!AR711","v":0},{"$f":"Stückliste!AT711","v":0},{"$f":"Stückliste!AV711","v":0},{"$f":"Stückliste!AF711","v":0},{"$f":"Stückliste!AX711","v":0}]
[{"$f":"A658","v":0},0,8,{"$f":"Stückliste!A712","v":0},{"$f":"Stückliste!D712","v":0},{"$f":"Stückliste!H712","v":0},{"$f":"Stückliste!L712","v":0},{"$f":"Stückliste!P712","v":0},{"$f":"Stückliste!R712","v":0},{"$f":"Stückliste!T712","v":0},{"$f":"Stückliste!V712","v":0},{"$f":"Stückliste!X712","v":0},{"$f":"Stückliste!Z712","v":0},{"$f":"Stückliste!AB712","v":0},{"$f":"Stückliste!AD712","v":0},{"$f":"Stückliste!AH712","v":0},{"$f":"Stückliste!AJ712","v":0},{"$f":"Stückliste!AL712","v":0},{"$f":"Stückliste!AN712","v":0},{"$f":"Stückliste!AP712","v":0},{"$f":"Stückliste!AR712","v":0},{"$f":"Stückliste!AT712","v":0},{"$f":"Stückliste!AV712","v":0},{"$f":"Stückliste!AF712","v":0},{"$f":"Stückliste!AX712","v":0}]
[{"$f":"A659","v":0},0,8,{"$f":"Stückliste!A713","v":0},{"$f":"Stückliste!D713","v":0},{"$f":"Stückliste!H713","v":0},{"$f":"Stückliste!L713","v":0},{"$f":"Stückliste!P713","v":0},{"$f":"Stückliste!R713","v":0},{"$f":"Stückliste!T713","v":0},{"$f":"Stückliste!V713","v":0},{"$f":"Stückliste!X713","v":0},{"$f":"Stückliste!Z713","v":0},{"$f":"Stückliste!AB713","v":0},{"$f":"Stückliste!AD713","v":0},{"$f":"Stückliste!AH713","v":0},{"$f":"Stückliste!AJ713","v":0},{"$f":"Stückliste!AL713","v":0},{"$f":"Stückliste!AN713","v":0},{"$f":"Stückliste!AP713","v":0},{"$f":"Stückliste!AR713","v":0},{"$f":"Stückliste!AT713","v":0},{"$f":"Stückliste!AV713","v":0},{"$f":"Stückliste!AF713","v":0},{"$f":"Stückliste!AX713","v":0}]
[{"$f":"A660","v":0},0,8,{"$f":"Stückliste!A714","v":0},{"$f":"Stückliste!D714","v":0},{"$f":"Stückliste!H714","v":0},{"$f":"Stückliste!L714","v":0},{"$f":"Stückliste!P714","v":0},{"$f":"Stückliste!R714","v":0},{"$f":"Stückliste!T714","v":0},{"$f":"Stückliste!V714","v":0},{"$f":"Stückliste!X714","v":0},{"$f":"Stückliste!Z714","v":0},{"$f":"Stückliste!AB714","v":0},{"$f":"Stückliste!AD714","v":0},{"$f":"Stückliste!AH714","v":0},{"$f":"Stückliste!AJ714","v":0},{"$f":"Stückliste!AL714","v":0},{"$f":"Stückliste!AN714","v":0},{"$f":"Stückliste!AP714","v":0},{"$f":"Stückliste!AR714","v":0},{"$f":"Stückliste!AT714","v":0},{"$f":"Stückliste!AV714","v":0},{"$f":"Stückliste!AF714","v":0},{"$f":"Stückliste!AX714","v":0}]
[{"$f":"A661","v":0},0,8,{"$f":"Stückliste!A715","v":0},{"$f":"Stückliste!D715","v":0},{"$f":"Stückliste!H715","v":0},{"$f":"Stückliste!L715","v":0},{"$f":"Stückliste!P715","v":0},{"$f":"Stückliste!R715","v":0},{"$f":"Stückliste!T715","v":0},{"$f":"Stückliste!V715","v":0},{"$f":"Stückliste!X715","v":0},{"$f":"Stückliste!Z715","v":0},{"$f":"Stückliste!AB715","v":0},{"$f":"Stückliste!AD715","v":0},{"$f":"Stückliste!AH715","v":0},{"$f":"Stückliste!AJ715","v":0},{"$f":"Stückliste!AL715","v":0},{"$f":"Stückliste!AN715","v":0},{"$f":"Stückliste!AP715","v":0},{"$f":"Stückliste!AR715","v":0},{"$f":"Stückliste!AT715","v":0},{"$f":"Stückliste!AV715","v":0},{"$f":"Stückliste!AF715","v":0},{"$f":"Stückliste!AX715","v":0}]
[{"$f":"A662","v":0},0,8,{"$f":"Stückliste!A716","v":0},{"$f":"Stückliste!D716","v":0},{"$f":"Stückliste!H716","v":0},{"$f":"Stückliste!L716","v":0},{"$f":"Stückliste!P716","v":0},{"$f":"Stückliste!R716","v":0},{"$f":"Stückliste!T716","v":0},{"$f":"Stückliste!V716","v":0},{"$f":"Stückliste!X716","v":0},{"$f":"Stückliste!Z716","v":0},{"$f":"Stückliste!AB716","v":0},{"$f":"Stückliste!AD716","v":0},{"$f":"Stückliste!AH716","v":0},{"$f":"Stückliste!AJ716","v":0},{"$f":"Stückliste!AL716","v":0},{"$f":"Stückliste!AN716","v":0},{"$f":"Stückliste!AP716","v":0},{"$f":"Stückliste!AR716","v":0},{"$f":"Stückliste!AT716","v":0},{"$f":"Stückliste!AV716","v":0},{"$f":"Stückliste!AF716","v":0},{"$f":"Stückliste!AX716","v":0}]
[{"$f":"A663","v":0},0,8,{"$f":"Stückliste!A717","v":0},{"$f":"Stückliste!D717","v":0},{"$f":"Stückliste!H717","v":0},{"$f":"Stückliste!L717","v":0},{"$f":"Stückliste!P717","v":0},{"$f":"Stückliste!R717","v":0},{"$f":"Stückliste!T717","v":0},{"$f":"Stückliste!V717","v":0},{"$f":"Stückliste!X717","v":0},{"$f":"Stückliste!Z717","v":0},{"$f":"Stückliste!AB717","v":0},{"$f":"Stückliste!AD717","v":0},{"$f":"Stückliste!AH717","v":0},{"$f":"Stückliste!AJ717","v":0},{"$f":"Stückliste!AL717","v":0},{"$f":"Stückliste!AN717","v":0},{"$f":"Stückliste!AP717","v":0},{"$f":"Stückliste!AR717","v":0},{"$f":"Stückliste!AT717","v":0},{"$f":"Stückliste!AV717","v":0},{"$f":"Stückliste!AF717","v":0},{"$f":"Stückliste!AX717","v":0}]
[{"$f":"A664","v":0},0,8,{"$f":"Stückliste!A718","v":0},{"$f":"Stückliste!D718","v":0},{"$f":"Stückliste!H718","v":0},{"$f":"Stückliste!L718","v":0},{"$f":"Stückliste!P718","v":0},{"$f":"Stückliste!R718","v":0},{"$f":"Stückliste!T718","v":0},{"$f":"Stückliste!V718","v":0},{"$f":"Stückliste!X718","v":0},{"$f":"Stückliste!Z718","v":0},{"$f":"Stückliste!AB718","v":0},{"$f":"Stückliste!AD718","v":0},{"$f":"Stückliste!AH718","v":0},{"$f":"Stückliste!AJ718","v":0},{"$f":"Stückliste!AL718","v":0},{"$f":"Stückliste!AN718","v":0},{"$f":"Stückliste!AP718","v":0},{"$f":"Stückliste!AR718","v":0},{"$f":"Stückliste!AT718","v":0},{"$f":"Stückliste!AV718","v":0},{"$f":"Stückliste!AF718","v":0},{"$f":"Stückliste!AX718","v":0}]
[{"$f":"A665","v":0},0,8,{"$f":"Stückliste!A719","v":0},{"$f":"Stückliste!D719","v":0},{"$f":"Stückliste!H719","v":0},{"$f":"Stückliste!L719","v":0},{"$f":"Stückliste!P719","v":0},{"$f":"Stückliste!R719","v":0},{"$f":"Stückliste!T719","v":0},{"$f":"Stückliste!V719","v":0},{"$f":"Stückliste!X719","v":0},{"$f":"Stückliste!Z719","v":0},{"$f":"Stückliste!AB719","v":0},{"$f":"Stückliste!AD719","v":0},{"$f":"Stückliste!AH719","v":0},{"$f":"Stückliste!AJ719","v":0},{"$f":"Stückliste!AL719","v":0},{"$f":"Stückliste!AN719","v":0},{"$f":"Stückliste!AP719","v":0},{"$f":"Stückliste!AR719","v":0},{"$f":"Stückliste!AT719","v":0},{"$f":"Stückliste!AV719","v":0},{"$f":"Stückliste!AF719","v":0},{"$f":"Stückliste!AX719","v":0}]
[{"$f":"A666","v":0},0,8,{"$f":"Stückliste!A720","v":0},{"$f":"Stückliste!D720","v":0},{"$f":"Stückliste!H720","v":0},{"$f":"Stückliste!L720","v":0},{"$f":"Stückliste!P720","v":0},{"$f":"Stückliste!R720","v":0},{"$f":"Stückliste!T720","v":0},{"$f":"Stückliste!V720","v":0},{"$f":"Stückliste!X720","v":0},{"$f":"Stückliste!Z720","v":0},{"$f":"Stückliste!AB720","v":0},{"$f":"Stückliste!AD720","v":0},{"$f":"Stückliste!AH720","v":0},{"$f":"Stückliste!AJ720","v":0},{"$f":"Stückliste!AL720","v":0},{"$f":"Stückliste!AN720","v":0},{"$f":"Stückliste!AP720","v":0},{"$f":"Stückliste!AR720","v":0},{"$f":"Stückliste!AT720","v":0},{"$f":"Stückliste!AV720","v":0},{"$f":"Stückliste!AF720","v":0},{"$f":"Stückliste!AX720","v":0}]
[{"$f":"A667","v":0},0,8,{"$f":"Stückliste!A721","v":0},{"$f":"Stückliste!D721","v":0},{"$f":"Stückliste!H721","v":0},{"$f":"Stückliste!L721","v":0},{"$f":"Stückliste!P721","v":0},{"$f":"Stückliste!R721","v":0},{"$f":"Stückliste!T721","v":0},{"$f":"Stückliste!V721","v":0},{"$f":"Stückliste!X721","v":0},{"$f":"Stückliste!Z721","v":0},{"$f":"Stückliste!AB721","v":0},{"$f":"Stückliste!AD721","v":0},{"$f":"Stückliste!AH721","v":0},{"$f":"Stückliste!AJ721","v":0},{"$f":"Stückliste!AL721","v":0},{"$f":"Stückliste!AN721","v":0},{"$f":"Stückliste!AP721","v":0},{"$f":"Stückliste!AR721","v":0},{"$f":"Stückliste!AT721","v":0},{"$f":"Stückliste!AV721","v":0},{"$f":"Stückliste!AF721","v":0},{"$f":"Stückliste!AX721","v":0}]
[{"$f":"A668","v":0},0,8,{"$f":"Stückliste!A722","v":0},{"$f":"Stückliste!D722","v":0},{"$f":"Stückliste!H722","v":0},{"$f":"Stückliste!L722","v":0},{"$f":"Stückliste!P722","v":0},{"$f":"Stückliste!R722","v":0},{"$f":"Stückliste!T722","v":0},{"$f":"Stückliste!V722","v":0},{"$f":"Stückliste!X722","v":0},{"$f":"Stückliste!Z722","v":0},{"$f":"Stückliste!AB722","v":0},{"$f":"Stückliste!AD722","v":0},{"$f":"Stückliste!AH722","v":0},{"$f":"Stückliste!AJ722","v":0},{"$f":"Stückliste!AL722","v":0},{"$f":"Stückliste!AN722","v":0},{"$f":"Stückliste!AP722","v":0},{"$f":"Stückliste!AR722","v":0},{"$f":"Stückliste!AT722","v":0},{"$f":"Stückliste!AV722","v":0},{"$f":"Stückliste!AF722","v":0},{"$f":"Stückliste!AX722","v":0}]
[{"$f":"A669","v":0},0,8,{"$f":"Stückliste!A723","v":0},{"$f":"Stückliste!D723","v":0},{"$f":"Stückliste!H723","v":0},{"$f":"Stückliste!L723","v":0},{"$f":"Stückliste!P723","v":0},{"$f":"Stückliste!R723","v":0},{"$f":"Stückliste!T723","v":0},{"$f":"Stückliste!V723","v":0},{"$f":"Stückliste!X723","v":0},{"$f":"Stückliste!Z723","v":0},{"$f":"Stückliste!AB723","v":0},{"$f":"Stückliste!AD723","v":0},{"$f":"Stückliste!AH723","v":0},{"$f":"Stückliste!AJ723","v":0},{"$f":"Stückliste!AL723","v":0},{"$f":"Stückliste!AN723","v":0},{"$f":"Stückliste!AP723","v":0},{"$f":"Stückliste!AR723","v":0},{"$f":"Stückliste!AT723","v":0},{"$f":"Stückliste!AV723","v":0},{"$f":"Stückliste!AF723","v":0},{"$f":"Stückliste!AX723","v":0}]
[{"$f":"A670","v":0},0,8,{"$f":"Stückliste!A724","v":0},{"$f":"Stückliste!D724","v":0},{"$f":"Stückliste!H724","v":0},{"$f":"Stückliste!L724","v":0},{"$f":"Stückliste!P724","v":0},{"$f":"Stückliste!R724","v":0},{"$f":"Stückliste!T724","v":0},{"$f":"Stückliste!V724","v":0},{"$f":"Stückliste!X724","v":0},{"$f":"Stückliste!Z724","v":0},{"$f":"Stückliste!AB724","v":0},{"$f":"Stückliste!AD724","v":0},{"$f":"Stückliste!AH724","v":0},{"$f":"Stückliste!AJ724","v":0},{"$f":"Stückliste!AL724","v":0},{"$f":"Stückliste!AN724","v":0},{"$f":"Stückliste!AP724","v":0},{"$f":"Stückliste!AR724","v":0},{"$f":"Stückliste!AT724","v":0},{"$f":"Stückliste!AV724","v":0},{"$f":"Stückliste!AF724","v":0},{"$f":"Stückliste!AX724","v":0}]
[{"$f":"A671","v":0},0,8,{"$f":"Stückliste!A725","v":0},{"$f":"Stückliste!D725","v":0},{"$f":"Stückliste!H725","v":0},{"$f":"Stückliste!L725","v":0},{"$f":"Stückliste!P725","v":0},{"$f":"Stückliste!R725","v":0},{"$f":"Stückliste!T725","v":0},{"$f":"Stückliste!V725","v":0},{"$f":"Stückliste!X725","v":0},{"$f":"Stückliste!Z725","v":0},{"$f":"Stückliste!AB725","v":0},{"$f":"Stückliste!AD725","v":0},{"$f":"Stückliste!AH725","v":0},{"$f":"Stückliste!AJ725","v":0},{"$f":"Stückliste!AL725","v":0},{"$f":"Stückliste!AN725","v":0},{"$f":"Stückliste!AP725","v":0},{"$f":"Stückliste!AR725","v":0},{"$f":"Stückliste!AT725","v":0},{"$f":"Stückliste!AV725","v":0},{"$f":"Stückliste!AF725","v":0},{"$f":"Stückliste!AX725","v":0}]
[{"$f":"A672","v":0},0,8,{"$f":"Stückliste!A726","v":0},{"$f":"Stückliste!D726","v":0},{"$f":"Stückliste!H726","v":0},{"$f":"Stückliste!L726","v":0},{"$f":"Stückliste!P726","v":0},{"$f":"Stückliste!R726","v":0},{"$f":"Stückliste!T726","v":0},{"$f":"Stückliste!V726","v":0},{"$f":"Stückliste!X726","v":0},{"$f":"Stückliste!Z726","v":0},{"$f":"Stückliste!AB726","v":0},{"$f":"Stückliste!AD726","v":0},{"$f":"Stückliste!AH726","v":0},{"$f":"Stückliste!AJ726","v":0},{"$f":"Stückliste!AL726","v":0},{"$f":"Stückliste!AN726","v":0},{"$f":"Stückliste!AP726","v":0},{"$f":"Stückliste!AR726","v":0},{"$f":"Stückliste!AT726","v":0},{"$f":"Stückliste!AV726","v":0},{"$f":"Stückliste!AF726","v":0},{"$f":"Stückliste!AX726","v":0}]
[{"$f":"A673","v":0},0,8,{"$f":"Stückliste!A727","v":0},{"$f":"Stückliste!D727","v":0},{"$f":"Stückliste!H727","v":0},{"$f":"Stückliste!L727","v":0},{"$f":"Stückliste!P727","v":0},{"$f":"Stückliste!R727","v":0},{"$f":"Stückliste!T727","v":0},{"$f":"Stückliste!V727","v":0},{"$f":"Stückliste!X727","v":0},{"$f":"Stückliste!Z727","v":0},{"$f":"Stückliste!AB727","v":0},{"$f":"Stückliste!AD727","v":0},{"$f":"Stückliste!AH727","v":0},{"$f":"Stückliste!AJ727","v":0},{"$f":"Stückliste!AL727","v":0},{"$f":"Stückliste!AN727","v":0},{"$f":"Stückliste!AP727","v":0},{"$f":"Stückliste!AR727","v":0},{"$f":"Stückliste!AT727","v":0},{"$f":"Stückliste!AV727","v":0},{"$f":"Stückliste!AF727","v":0},{"$f":"Stückliste!AX727","v":0}]
[{"$f":"A674","v":0},0,8,{"$f":"Stückliste!A728","v":0},{"$f":"Stückliste!D728","v":0},{"$f":"Stückliste!H728","v":0},{"$f":"Stückliste!L728","v":0},{"$f":"Stückliste!P728","v":0},{"$f":"Stückliste!R728","v":0},{"$f":"Stückliste!T728","v":0},{"$f":"Stückliste!V728","v":0},{"$f":"Stückliste!X728","v":0},{"$f":"Stückliste!Z728","v":0},{"$f":"Stückliste!AB728","v":0},{"$f":"Stückliste!AD728","v":0},{"$f":"Stückliste!AH728","v":0},{"$f":"Stückliste!AJ728","v":0},{"$f":"Stückliste!AL728","v":0},{"$f":"Stückliste!AN728","v":0},{"$f":"Stückliste!AP728","v":0},{"$f":"Stückliste!AR728","v":0},{"$f":"Stückliste!AT728","v":0},{"$f":"Stückliste!AV728","v":0},{"$f":"Stückliste!AF728","v":0},{"$f":"Stückliste!AX728","v":0}]
[{"$f":"A675","v":0},0,8,{"$f":"Stückliste!A729","v":0},{"$f":"Stückliste!D729","v":0},{"$f":"Stückliste!H729","v":0},{"$f":"Stückliste!L729","v":0},{"$f":"Stückliste!P729","v":0},{"$f":"Stückliste!R729","v":0},{"$f":"Stückliste!T729","v":0},{"$f":"Stückliste!V729","v":0},{"$f":"Stückliste!X729","v":0},{"$f":"Stückliste!Z729","v":0},{"$f":"Stückliste!AB729","v":0},{"$f":"Stückliste!AD729","v":0},{"$f":"Stückliste!AH729","v":0},{"$f":"Stückliste!AJ729","v":0},{"$f":"Stückliste!AL729","v":0},{"$f":"Stückliste!AN729","v":0},{"$f":"Stückliste!AP729","v":0},{"$f":"Stückliste!AR729","v":0},{"$f":"Stückliste!AT729","v":0},{"$f":"Stückliste!AV729","v":0},{"$f":"Stückliste!AF729","v":0},{"$f":"Stückliste!AX729","v":0}]
[{"$f":"A676","v":0},0,8,{"$f":"Stückliste!A730","v":0},{"$f":"Stückliste!D730","v":0},{"$f":"Stückliste!H730","v":0},{"$f":"Stückliste!L730","v":0},{"$f":"Stückliste!P730","v":0},{"$f":"Stückliste!R730","v":0},{"$f":"Stückliste!T730","v":0},{"$f":"Stückliste!V730","v":0},{"$f":"Stückliste!X730","v":0},{"$f":"Stückliste!Z730","v":0},{"$f":"Stückliste!AB730","v":0},{"$f":"Stückliste!AD730","v":0},{"$f":"Stückliste!AH730","v":0},{"$f":"Stückliste!AJ730","v":0},{"$f":"Stückliste!AL730","v":0},{"$f":"Stückliste!AN730","v":0},{"$f":"Stückliste!AP730","v":0},{"$f":"Stückliste!AR730","v":0},{"$f":"Stückliste!AT730","v":0},{"$f":"Stückliste!AV730","v":0},{"$f":"Stückliste!AF730","v":0},{"$f":"Stückliste!AX730","v":0}]
[{"$f":"A677","v":0},0,8,{"$f":"Stückliste!A731","v":0},{"$f":"Stückliste!D731","v":0},{"$f":"Stückliste!H731","v":0},{"$f":"Stückliste!L731","v":0},{"$f":"Stückliste!P731","v":0},{"$f":"Stückliste!R731","v":0},{"$f":"Stückliste!T731","v":0},{"$f":"Stückliste!V731","v":0},{"$f":"Stückliste!X731","v":0},{"$f":"Stückliste!Z731","v":0},{"$f":"Stückliste!AB731","v":0},{"$f":"Stückliste!AD731","v":0},{"$f":"Stückliste!AH731","v":0},{"$f":"Stückliste!AJ731","v":0},{"$f":"Stückliste!AL731","v":0},{"$f":"Stückliste!AN731","v":0},{"$f":"Stückliste!AP731","v":0},{"$f":"Stückliste!AR731","v":0},{"$f":"Stückliste!AT731","v":0},{"$f":"Stückliste!AV731","v":0},{"$f":"Stückliste!AF731","v":0},{"$f":"Stückliste!AX731","v":0}]
[{"$f":"A678","v":0},0,8,{"$f":"Stückliste!A732","v":0},{"$f":"Stückliste!D732","v":0},{"$f":"Stückliste!H732","v":0},{"$f":"Stückliste!L732","v":0},{"$f":"Stückliste!P732","v":0},{"$f":"Stückliste!R732","v":0},{"$f":"Stückliste!T732","v":0},{"$f":"Stückliste!V732","v":0},{"$f":"Stückliste!X732","v":0},{"$f":"Stückliste!Z732","v":0},{"$f":"Stückliste!AB732","v":0},{"$f":"Stückliste!AD732","v":0},{"$f":"Stückliste!AH732","v":0},{"$f":"Stückliste!AJ732","v":0},{"$f":"Stückliste!AL732","v":0},{"$f":"Stückliste!AN732","v":0},{"$f":"Stückliste!AP732","v":0},{"$f":"Stückliste!AR732","v":0},{"$f":"Stückliste!AT732","v":0},{"$f":"Stückliste!AV732","v":0},{"$f":"Stückliste!AF732","v":0},{"$f":"Stückliste!AX732","v":0}]
[{"$f":"A679","v":0},0,8,{"$f":"Stückliste!A733","v":0},{"$f":"Stückliste!D733","v":0},{"$f":"Stückliste!H733","v":0},{"$f":"Stückliste!L733","v":0},{"$f":"Stückliste!P733","v":0},{"$f":"Stückliste!R733","v":0},{"$f":"Stückliste!T733","v":0},{"$f":"Stückliste!V733","v":0},{"$f":"Stückliste!X733","v":0},{"$f":"Stückliste!Z733","v":0},{"$f":"Stückliste!AB733","v":0},{"$f":"Stückliste!AD733","v":0},{"$f":"Stückliste!AH733","v":0},{"$f":"Stückliste!AJ733","v":0},{"$f":"Stückliste!AL733","v":0},{"$f":"Stückliste!AN733","v":0},{"$f":"Stückliste!AP733","v":0},{"$f":"Stückliste!AR733","v":0},{"$f":"Stückliste!AT733","v":0},{"$f":"Stückliste!AV733","v":0},{"$f":"Stückliste!AF733","v":0},{"$f":"Stückliste!AX733","v":0}]
[{"$f":"A680","v":0},0,8,{"$f":"Stückliste!A734","v":0},{"$f":"Stückliste!D734","v":0},{"$f":"Stückliste!H734","v":0},{"$f":"Stückliste!L734","v":0},{"$f":"Stückliste!P734","v":0},{"$f":"Stückliste!R734","v":0},{"$f":"Stückliste!T734","v":0},{"$f":"Stückliste!V734","v":0},{"$f":"Stückliste!X734","v":0},{"$f":"Stückliste!Z734","v":0},{"$f":"Stückliste!AB734","v":0},{"$f":"Stückliste!AD734","v":0},{"$f":"Stückliste!AH734","v":0},{"$f":"Stückliste!AJ734","v":0},{"$f":"Stückliste!AL734","v":0},{"$f":"Stückliste!AN734","v":0},{"$f":"Stückliste!AP734","v":0},{"$f":"Stückliste!AR734","v":0},{"$f":"Stückliste!AT734","v":0},{"$f":"Stückliste!AV734","v":0},{"$f":"Stückliste!AF734","v":0},{"$f":"Stückliste!AX734","v":0}]
[{"$f":"A681","v":0},0,8,{"$f":"Stückliste!A735","v":0},{"$f":"Stückliste!D735","v":0},{"$f":"Stückliste!H735","v":0},{"$f":"Stückliste!L735","v":0},{"$f":"Stückliste!P735","v":0},{"$f":"Stückliste!R735","v":0},{"$f":"Stückliste!T735","v":0},{"$f":"Stückliste!V735","v":0},{"$f":"Stückliste!X735","v":0},{"$f":"Stückliste!Z735","v":0},{"$f":"Stückliste!AB735","v":0},{"$f":"Stückliste!AD735","v":0},{"$f":"Stückliste!AH735","v":0},{"$f":"Stückliste!AJ735","v":0},{"$f":"Stückliste!AL735","v":0},{"$f":"Stückliste!AN735","v":0},{"$f":"Stückliste!AP735","v":0},{"$f":"Stückliste!AR735","v":0},{"$f":"Stückliste!AT735","v":0},{"$f":"Stückliste!AV735","v":0},{"$f":"Stückliste!AF735","v":0},{"$f":"Stückliste!AX735","v":0}]
[{"$f":"A682","v":0},0,8,{"$f":"Stückliste!A736","v":0},{"$f":"Stückliste!D736","v":0},{"$f":"Stückliste!H736","v":0},{"$f":"Stückliste!L736","v":0},{"$f":"Stückliste!P736","v":0},{"$f":"Stückliste!R736","v":0},{"$f":"Stückliste!T736","v":0},{"$f":"Stückliste!V736","v":0},{"$f":"Stückliste!X736","v":0},{"$f":"Stückliste!Z736","v":0},{"$f":"Stückliste!AB736","v":0},{"$f":"Stückliste!AD736","v":0},{"$f":"Stückliste!AH736","v":0},{"$f":"Stückliste!AJ736","v":0},{"$f":"Stückliste!AL736","v":0},{"$f":"Stückliste!AN736","v":0},{"$f":"Stückliste!AP736","v":0},{"$f":"Stückliste!AR736","v":0},{"$f":"Stückliste!AT736","v":0},{"$f":"Stückliste!AV736","v":0},{"$f":"Stückliste!AF736","v":0},{"$f":"Stückliste!AX736","v":0}]
[{"$f":"A683","v":0},0,8,{"$f":"Stückliste!A737","v":0},{"$f":"Stückliste!D737","v":0},{"$f":"Stückliste!H737","v":0},{"$f":"Stückliste!L737","v":0},{"$f":"Stückliste!P737","v":0},{"$f":"Stückliste!R737","v":0},{"$f":"Stückliste!T737","v":0},{"$f":"Stückliste!V737","v":0},{"$f":"Stückliste!X737","v":0},{"$f":"Stückliste!Z737","v":0},{"$f":"Stückliste!AB737","v":0},{"$f":"Stückliste!AD737","v":0},{"$f":"Stückliste!AH737","v":0},{"$f":"Stückliste!AJ737","v":0},{"$f":"Stückliste!AL737","v":0},{"$f":"Stückliste!AN737","v":0},{"$f":"Stückliste!AP737","v":0},{"$f":"Stückliste!AR737","v":0},{"$f":"Stückliste!AT737","v":0},{"$f":"Stückliste!AV737","v":0},{"$f":"Stückliste!AF737","v":0},{"$f":"Stückliste!AX737","v":0}]
[{"$f":"A684","v":0},0,8,{"$f":"Stückliste!A738","v":0},{"$f":"Stückliste!D738","v":0},{"$f":"Stückliste!H738","v":0},{"$f":"Stückliste!L738","v":0},{"$f":"Stückliste!P738","v":0},{"$f":"Stückliste!R738","v":0},{"$f":"Stückliste!T738","v":0},{"$f":"Stückliste!V738","v":0},{"$f":"Stückliste!X738","v":0},{"$f":"Stückliste!Z738","v":0},{"$f":"Stückliste!AB738","v":0},{"$f":"Stückliste!AD738","v":0},{"$f":"Stückliste!AH738","v":0},{"$f":"Stückliste!AJ738","v":0},{"$f":"Stückliste!AL738","v":0},{"$f":"Stückliste!AN738","v":0},{"$f":"Stückliste!AP738","v":0},{"$f":"Stückliste!AR738","v":0},{"$f":"Stückliste!AT738","v":0},{"$f":"Stückliste!AV738","v":0},{"$f":"Stückliste!AF738","v":0},{"$f":"Stückliste!AX738","v":0}]
[{"$f":"A685","v":0},0,8,{"$f":"Stückliste!A739","v":0},{"$f":"Stückliste!D739","v":0},{"$f":"Stückliste!H739","v":0},{"$f":"Stückliste!L739","v":0},{"$f":"Stückliste!P739","v":0},{"$f":"Stückliste!R739","v":0},{"$f":"Stückliste!T739","v":0},{"$f":"Stückliste!V739","v":0},{"$f":"Stückliste!X739","v":0},{"$f":"Stückliste!Z739","v":0},{"$f":"Stückliste!AB739","v":0},{"$f":"Stückliste!AD739","v":0},{"$f":"Stückliste!AH739","v":0},{"$f":"Stückliste!AJ739","v":0},{"$f":"Stückliste!AL739","v":0},{"$f":"Stückliste!AN739","v":0},{"$f":"Stückliste!AP739","v":0},{"$f":"Stückliste!AR739","v":0},{"$f":"Stückliste!AT739","v":0},{"$f":"Stückliste!AV739","v":0},{"$f":"Stückliste!AF739","v":0},{"$f":"Stückliste!AX739","v":0}]
[{"$f":"A686","v":0},0,8,{"$f":"Stückliste!A740","v":0},{"$f":"Stückliste!D740","v":0},{"$f":"Stückliste!H740","v":0},{"$f":"Stückliste!L740","v":0},{"$f":"Stückliste!P740","v":0},{"$f":"Stückliste!R740","v":0},{"$f":"Stückliste!T740","v":0},{"$f":"Stückliste!V740","v":0},{"$f":"Stückliste!X740","v":0},{"$f":"Stückliste!Z740","v":0},{"$f":"Stückliste!AB740","v":0},{"$f":"Stückliste!AD740","v":0},{"$f":"Stückliste!AH740","v":0},{"$f":"Stückliste!AJ740","v":0},{"$f":"Stückliste!AL740","v":0},{"$f":"Stückliste!AN740","v":0},{"$f":"Stückliste!AP740","v":0},{"$f":"Stückliste!AR740","v":0},{"$f":"Stückliste!AT740","v":0},{"$f":"Stückliste!AV740","v":0},{"$f":"Stückliste!AF740","v":0},{"$f":"Stückliste!AX740","v":0}]
[{"$f":"A687","v":0},0,8,{"$f":"Stückliste!A741","v":0},{"$f":"Stückliste!D741","v":0},{"$f":"Stückliste!H741","v":0},{"$f":"Stückliste!L741","v":0},{"$f":"Stückliste!P741","v":0},{"$f":"Stückliste!R741","v":0},{"$f":"Stückliste!T741","v":0},{"$f":"Stückliste!V741","v":0},{"$f":"Stückliste!X741","v":0},{"$f":"Stückliste!Z741","v":0},{"$f":"Stückliste!AB741","v":0},{"$f":"Stückliste!AD741","v":0},{"$f":"Stückliste!AH741","v":0},{"$f":"Stückliste!AJ741","v":0},{"$f":"Stückliste!AL741","v":0},{"$f":"Stückliste!AN741","v":0},{"$f":"Stückliste!AP741","v":0},{"$f":"Stückliste!AR741","v":0},{"$f":"Stückliste!AT741","v":0},{"$f":"Stückliste!AV741","v":0},{"$f":"Stückliste!AF741","v":0},{"$f":"Stückliste!AX741","v":0}]
[{"$f":"A688","v":0},0,8,{"$f":"Stückliste!A742","v":0},{"$f":"Stückliste!D742","v":0},{"$f":"Stückliste!H742","v":0},{"$f":"Stückliste!L742","v":0},{"$f":"Stückliste!P742","v":0},{"$f":"Stückliste!R742","v":0},{"$f":"Stückliste!T742","v":0},{"$f":"Stückliste!V742","v":0},{"$f":"Stückliste!X742","v":0},{"$f":"Stückliste!Z742","v":0},{"$f":"Stückliste!AB742","v":0},{"$f":"Stückliste!AD742","v":0},{"$f":"Stückliste!AH742","v":0},{"$f":"Stückliste!AJ742","v":0},{"$f":"Stückliste!AL742","v":0},{"$f":"Stückliste!AN742","v":0},{"$f":"Stückliste!AP742","v":0},{"$f":"Stückliste!AR742","v":0},{"$f":"Stückliste!AT742","v":0},{"$f":"Stückliste!AV742","v":0},{"$f":"Stückliste!AF742","v":0},{"$f":"Stückliste!AX742","v":0}]
[{"$f":"A689","v":0},0,8,{"$f":"Stückliste!A743","v":0},{"$f":"Stückliste!D743","v":0},{"$f":"Stückliste!H743","v":0},{"$f":"Stückliste!L743","v":0},{"$f":"Stückliste!P743","v":0},{"$f":"Stückliste!R743","v":0},{"$f":"Stückliste!T743","v":0},{"$f":"Stückliste!V743","v":0},{"$f":"Stückliste!X743","v":0},{"$f":"Stückliste!Z743","v":0},{"$f":"Stückliste!AB743","v":0},{"$f":"Stückliste!AD743","v":0},{"$f":"Stückliste!AH743","v":0},{"$f":"Stückliste!AJ743","v":0},{"$f":"Stückliste!AL743","v":0},{"$f":"Stückliste!AN743","v":0},{"$f":"Stückliste!AP743","v":0},{"$f":"Stückliste!AR743","v":0},{"$f":"Stückliste!AT743","v":0},{"$f":"Stückliste!AV743","v":0},{"$f":"Stückliste!AF743","v":0},{"$f":"Stückliste!AX743","v":0}]
[{"$f":"A690","v":0},0,8,{"$f":"Stückliste!A744","v":0},{"$f":"Stückliste!D744","v":0},{"$f":"Stückliste!H744","v":0},{"$f":"Stückliste!L744","v":0},{"$f":"Stückliste!P744","v":0},{"$f":"Stückliste!R744","v":0},{"$f":"Stückliste!T744","v":0},{"$f":"Stückliste!V744","v":0},{"$f":"Stückliste!X744","v":0},{"$f":"Stückliste!Z744","v":0},{"$f":"Stückliste!AB744","v":0},{"$f":"Stückliste!AD744","v":0},{"$f":"Stückliste!AH744","v":0},{"$f":"Stückliste!AJ744","v":0},{"$f":"Stückliste!AL744","v":0},{"$f":"Stückliste!AN744","v":0},{"$f":"Stückliste!AP744","v":0},{"$f":"Stückliste!AR744","v":0},{"$f":"Stückliste!AT744","v":0},{"$f":"Stückliste!AV744","v":0},{"$f":"Stückliste!AF744","v":0},{"$f":"Stückliste!AX744","v":0}]
[{"$f":"A691","v":0},0,8,{"$f":"Stückliste!A745","v":0},{"$f":"Stückliste!D745","v":0},{"$f":"Stückliste!H745","v":0},{"$f":"Stückliste!L745","v":0},{"$f":"Stückliste!P745","v":0},{"$f":"Stückliste!R745","v":0},{"$f":"Stückliste!T745","v":0},{"$f":"Stückliste!V745","v":0},{"$f":"Stückliste!X745","v":0},{"$f":"Stückliste!Z745","v":0},{"$f":"Stückliste!AB745","v":0},{"$f":"Stückliste!AD745","v":0},{"$f":"Stückliste!AH745","v":0},{"$f":"Stückliste!AJ745","v":0},{"$f":"Stückliste!AL745","v":0},{"$f":"Stückliste!AN745","v":0},{"$f":"Stückliste!AP745","v":0},{"$f":"Stückliste!AR745","v":0},{"$f":"Stückliste!AT745","v":0},{"$f":"Stückliste!AV745","v":0},{"$f":"Stückliste!AF745","v":0},{"$f":"Stückliste!AX745","v":0}]
[{"$f":"A692","v":0},0,8,{"$f":"Stückliste!A746","v":0},{"$f":"Stückliste!D746","v":0},{"$f":"Stückliste!H746","v":0},{"$f":"Stückliste!L746","v":0},{"$f":"Stückliste!P746","v":0},{"$f":"Stückliste!R746","v":0},{"$f":"Stückliste!T746","v":0},{"$f":"Stückliste!V746","v":0},{"$f":"Stückliste!X746","v":0},{"$f":"Stückliste!Z746","v":0},{"$f":"Stückliste!AB746","v":0},{"$f":"Stückliste!AD746","v":0},{"$f":"Stückliste!AH746","v":0},{"$f":"Stückliste!AJ746","v":0},{"$f":"Stückliste!AL746","v":0},{"$f":"Stückliste!AN746","v":0},{"$f":"Stückliste!AP746","v":0},{"$f":"Stückliste!AR746","v":0},{"$f":"Stückliste!AT746","v":0},{"$f":"Stückliste!AV746","v":0},{"$f":"Stückliste!AF746","v":0},{"$f":"Stückliste!AX746","v":0}]
[{"$f":"A693","v":0},0,8,{"$f":"Stückliste!A747","v":0},{"$f":"Stückliste!D747","v":0},{"$f":"Stückliste!H747","v":0},{"$f":"Stückliste!L747","v":0},{"$f":"Stückliste!P747","v":0},{"$f":"Stückliste!R747","v":0},{"$f":"Stückliste!T747","v":0},{"$f":"Stückliste!V747","v":0},{"$f":"Stückliste!X747","v":0},{"$f":"Stückliste!Z747","v":0},{"$f":"Stückliste!AB747","v":0},{"$f":"Stückliste!AD747","v":0},{"$f":"Stückliste!AH747","v":0},{"$f":"Stückliste!AJ747","v":0},{"$f":"Stückliste!AL747","v":0},{"$f":"Stückliste!AN747","v":0},{"$f":"Stückliste!AP747","v":0},{"$f":"Stückliste!AR747","v":0},{"$f":"Stückliste!AT747","v":0},{"$f":"Stückliste!AV747","v":0},{"$f":"Stückliste!AF747","v":0},{"$f":"Stückliste!AX747","v":0}]
[{"$f":"A694","v":0},0,8,{"$f":"Stückliste!A748","v":0},{"$f":"Stückliste!D748","v":0},{"$f":"Stückliste!H748","v":0},{"$f":"Stückliste!L748","v":0},{"$f":"Stückliste!P748","v":0},{"$f":"Stückliste!R748","v":0},{"$f":"Stückliste!T748","v":0},{"$f":"Stückliste!V748","v":0},{"$f":"Stückliste!X748","v":0},{"$f":"Stückliste!Z748","v":0},{"$f":"Stückliste!AB748","v":0},{"$f":"Stückliste!AD748","v":0},{"$f":"Stückliste!AH748","v":0},{"$f":"Stückliste!AJ748","v":0},{"$f":"Stückliste!AL748","v":0},{"$f":"Stückliste!AN748","v":0},{"$f":"Stückliste!AP748","v":0},{"$f":"Stückliste!AR748","v":0},{"$f":"Stückliste!AT748","v":0},{"$f":"Stückliste!AV748","v":0},{"$f":"Stückliste!AF748","v":0},{"$f":"Stückliste!AX748","v":0}]
[{"$f":"A695","v":0},0,8,{"$f":"Stückliste!A749","v":0},{"$f":"Stückliste!D749","v":0},{"$f":"Stückliste!H749","v":0},{"$f":"Stückliste!L749","v":0},{"$f":"Stückliste!P749","v":0},{"$f":"Stückliste!R749","v":0},{"$f":"Stückliste!T749","v":0},{"$f":"Stückliste!V749","v":0},{"$f":"Stückliste!X749","v":0},{"$f":"Stückliste!Z749","v":0},{"$f":"Stückliste!AB749","v":0},{"$f":"Stückliste!AD749","v":0},{"$f":"Stückliste!AH749","v":0},{"$f":"Stückliste!AJ749","v":0},{"$f":"Stückliste!AL749","v":0},{"$f":"Stückliste!AN749","v":0},{"$f":"Stückliste!AP749","v":0},{"$f":"Stückliste!AR749","v":0},{"$f":"Stückliste!AT749","v":0},{"$f":"Stückliste!AV749","v":0},{"$f":"Stückliste!AF749","v":0},{"$f":"Stückliste!AX749","v":0}]
[{"$f":"A696","v":0},0,8,{"$f":"Stückliste!A750","v":0},{"$f":"Stückliste!D750","v":0},{"$f":"Stückliste!H750","v":0},{"$f":"Stückliste!L750","v":0},{"$f":"Stückliste!P750","v":0},{"$f":"Stückliste!R750","v":0},{"$f":"Stückliste!T750","v":0},{"$f":"Stückliste!V750","v":0},{"$f":"Stückliste!X750","v":0},{"$f":"Stückliste!Z750","v":0},{"$f":"Stückliste!AB750","v":0},{"$f":"Stückliste!AD750","v":0},{"$f":"Stückliste!AH750","v":0},{"$f":"Stückliste!AJ750","v":0},{"$f":"Stückliste!AL750","v":0},{"$f":"Stückliste!AN750","v":0},{"$f":"Stückliste!AP750","v":0},{"$f":"Stückliste!AR750","v":0},{"$f":"Stückliste!AT750","v":0},{"$f":"Stückliste!AV750","v":0},{"$f":"Stückliste!AF750","v":0},{"$f":"Stückliste!AX750","v":0}]
[{"$f":"A697","v":0},0,8,{"$f":"Stückliste!A751","v":0},{"$f":"Stückliste!D751","v":0},{"$f":"Stückliste!H751","v":0},{"$f":"Stückliste!L751","v":0},{"$f":"Stückliste!P751","v":0},{"$f":"Stückliste!R751","v":0},{"$f":"Stückliste!T751","v":0},{"$f":"Stückliste!V751","v":0},{"$f":"Stückliste!X751","v":0},{"$f":"Stückliste!Z751","v":0},{"$f":"Stückliste!AB751","v":0},{"$f":"Stückliste!AD751","v":0},{"$f":"Stückliste!AH751","v":0},{"$f":"Stückliste!AJ751","v":0},{"$f":"Stückliste!AL751","v":0},{"$f":"Stückliste!AN751","v":0},{"$f":"Stückliste!AP751","v":0},{"$f":"Stückliste!AR751","v":0},{"$f":"Stückliste!AT751","v":0},{"$f":"Stückliste!AV751","v":0},{"$f":"Stückliste!AF751","v":0},{"$f":"Stückliste!AX751","v":0}]
[{"$f":"A698","v":0},0,8,{"$f":"Stückliste!A752","v":0},{"$f":"Stückliste!D752","v":0},{"$f":"Stückliste!H752","v":0},{"$f":"Stückliste!L752","v":0},{"$f":"Stückliste!P752","v":0},{"$f":"Stückliste!R752","v":0},{"$f":"Stückliste!T752","v":0},{"$f":"Stückliste!V752","v":0},{"$f":"Stückliste!X752","v":0},{"$f":"Stückliste!Z752","v":0},{"$f":"Stückliste!AB752","v":0},{"$f":"Stückliste!AD752","v":0},{"$f":"Stückliste!AH752","v":0},{"$f":"Stückliste!AJ752","v":0},{"$f":"Stückliste!AL752","v":0},{"$f":"Stückliste!AN752","v":0},{"$f":"Stückliste!AP752","v":0},{"$f":"Stückliste!AR752","v":0},{"$f":"Stückliste!AT752","v":0},{"$f":"Stückliste!AV752","v":0},{"$f":"Stückliste!AF752","v":0},{"$f":"Stückliste!AX752","v":0}]
[{"$f":"A699","v":0},0,8,{"$f":"Stückliste!A753","v":0},{"$f":"Stückliste!D753","v":0},{"$f":"Stückliste!H753","v":0},{"$f":"Stückliste!L753","v":0},{"$f":"Stückliste!P753","v":0},{"$f":"Stückliste!R753","v":0},{"$f":"Stückliste!T753","v":0},{"$f":"Stückliste!V753","v":0},{"$f":"Stückliste!X753","v":0},{"$f":"Stückliste!Z753","v":0},{"$f":"Stückliste!AB753","v":0},{"$f":"Stückliste!AD753","v":0},{"$f":"Stückliste!AH753","v":0},{"$f":"Stückliste!AJ753","v":0},{"$f":"Stückliste!AL753","v":0},{"$f":"Stückliste!AN753","v":0},{"$f":"Stückliste!AP753","v":0},{"$f":"Stückliste!AR753","v":0},{"$f":"Stückliste!AT753","v":0},{"$f":"Stückliste!AV753","v":0},{"$f":"Stückliste!AF753","v":0},{"$f":"Stückliste!AX753","v":0}]
[{"$f":"A700","v":0},0,8,{"$f":"Stückliste!A754","v":0},{"$f":"Stückliste!D754","v":0},{"$f":"Stückliste!H754","v":0},{"$f":"Stückliste!L754","v":0},{"$f":"Stückliste!P754","v":0},{"$f":"Stückliste!R754","v":0},{"$f":"Stückliste!T754","v":0},{"$f":"Stückliste!V754","v":0},{"$f":"Stückliste!X754","v":0},{"$f":"Stückliste!Z754","v":0},{"$f":"Stückliste!AB754","v":0},{"$f":"Stückliste!AD754","v":0},{"$f":"Stückliste!AH754","v":0},{"$f":"Stückliste!AJ754","v":0},{"$f":"Stückliste!AL754","v":0},{"$f":"Stückliste!AN754","v":0},{"$f":"Stückliste!AP754","v":0},{"$f":"Stückliste!AR754","v":0},{"$f":"Stückliste!AT754","v":0},{"$f":"Stückliste!AV754","v":0},{"$f":"Stückliste!AF754","v":0},{"$f":"Stückliste!AX754","v":0}]
[{"$f":"A701","v":0},0,8,{"$f":"Stückliste!A755","v":0},{"$f":"Stückliste!D755","v":0},{"$f":"Stückliste!H755","v":0},{"$f":"Stückliste!L755","v":0},{"$f":"Stückliste!P755","v":0},{"$f":"Stückliste!R755","v":0},{"$f":"Stückliste!T755","v":0},{"$f":"Stückliste!V755","v":0},{"$f":"Stückliste!X755","v":0},{"$f":"Stückliste!Z755","v":0},{"$f":"Stückliste!AB755","v":0},{"$f":"Stückliste!AD755","v":0},{"$f":"Stückliste!AH755","v":0},{"$f":"Stückliste!AJ755","v":0},{"$f":"Stückliste!AL755","v":0},{"$f":"Stückliste!AN755","v":0},{"$f":"Stückliste!AP755","v":0},{"$f":"Stückliste!AR755","v":0},{"$f":"Stückliste!AT755","v":0},{"$f":"Stückliste!AV755","v":0},{"$f":"Stückliste!AF755","v":0},{"$f":"Stückliste!AX755","v":0}]
[{"$f":"A702","v":0},0,8,{"$f":"Stückliste!A756","v":0},{"$f":"Stückliste!D756","v":0},{"$f":"Stückliste!H756","v":0},{"$f":"Stückliste!L756","v":0},{"$f":"Stückliste!P756","v":0},{"$f":"Stückliste!R756","v":0},{"$f":"Stückliste!T756","v":0},{"$f":"Stückliste!V756","v":0},{"$f":"Stückliste!X756","v":0},{"$f":"Stückliste!Z756","v":0},{"$f":"Stückliste!AB756","v":0},{"$f":"Stückliste!AD756","v":0},{"$f":"Stückliste!AH756","v":0},{"$f":"Stückliste!AJ756","v":0},{"$f":"Stückliste!AL756","v":0},{"$f":"Stückliste!AN756","v":0},{"$f":"Stückliste!AP756","v":0},{"$f":"Stückliste!AR756","v":0},{"$f":"Stückliste!AT756","v":0},{"$f":"Stückliste!AV756","v":0},{"$f":"Stückliste!AF756","v":0},{"$f":"Stückliste!AX756","v":0}]
[{"$f":"A703","v":0},0,8,{"$f":"Stückliste!A757","v":0},{"$f":"Stückliste!D757","v":0},{"$f":"Stückliste!H757","v":0},{"$f":"Stückliste!L757","v":0},{"$f":"Stückliste!P757","v":0},{"$f":"Stückliste!R757","v":0},{"$f":"Stückliste!T757","v":0},{"$f":"Stückliste!V757","v":0},{"$f":"Stückliste!X757","v":0},{"$f":"Stückliste!Z757","v":0},{"$f":"Stückliste!AB757","v":0},{"$f":"Stückliste!AD757","v":0},{"$f":"Stückliste!AH757","v":0},{"$f":"Stückliste!AJ757","v":0},{"$f":"Stückliste!AL757","v":0},{"$f":"Stückliste!AN757","v":0},{"$f":"Stückliste!AP757","v":0},{"$f":"Stückliste!AR757","v":0},{"$f":"Stückliste!AT757","v":0},{"$f":"Stückliste!AV757","v":0},{"$f":"Stückliste!AF757","v":0},{"$f":"Stückliste!AX757","v":0}]
[{"$f":"A704","v":0},0,8,{"$f":"Stückliste!A758","v":0},{"$f":"Stückliste!D758","v":0},{"$f":"Stückliste!H758","v":0},{"$f":"Stückliste!L758","v":0},{"$f":"Stückliste!P758","v":0},{"$f":"Stückliste!R758","v":0},{"$f":"Stückliste!T758","v":0},{"$f":"Stückliste!V758","v":0},{"$f":"Stückliste!X758","v":0},{"$f":"Stückliste!Z758","v":0},{"$f":"Stückliste!AB758","v":0},{"$f":"Stückliste!AD758","v":0},{"$f":"Stückliste!AH758","v":0},{"$f":"Stückliste!AJ758","v":0},{"$f":"Stückliste!AL758","v":0},{"$f":"Stückliste!AN758","v":0},{"$f":"Stückliste!AP758","v":0},{"$f":"Stückliste!AR758","v":0},{"$f":"Stückliste!AT758","v":0},{"$f":"Stückliste!AV758","v":0},{"$f":"Stückliste!AF758","v":0},{"$f":"Stückliste!AX758","v":0}]
[{"$f":"A705","v":0},0,8,{"$f":"Stückliste!A759","v":0},{"$f":"Stückliste!D759","v":0},{"$f":"Stückliste!H759","v":0},{"$f":"Stückliste!L759","v":0},{"$f":"Stückliste!P759","v":0},{"$f":"Stückliste!R759","v":0},{"$f":"Stückliste!T759","v":0},{"$f":"Stückliste!V759","v":0},{"$f":"Stückliste!X759","v":0},{"$f":"Stückliste!Z759","v":0},{"$f":"Stückliste!AB759","v":0},{"$f":"Stückliste!AD759","v":0},{"$f":"Stückliste!AH759","v":0},{"$f":"Stückliste!AJ759","v":0},{"$f":"Stückliste!AL759","v":0},{"$f":"Stückliste!AN759","v":0},{"$f":"Stückliste!AP759","v":0},{"$f":"Stückliste!AR759","v":0},{"$f":"Stückliste!AT759","v":0},{"$f":"Stückliste!AV759","v":0},{"$f":"Stückliste!AF759","v":0},{"$f":"Stückliste!AX759","v":0}]
[{"$f":"A706","v":0},0,8,{"$f":"Stückliste!A760","v":0},{"$f":"Stückliste!D760","v":0},{"$f":"Stückliste!H760","v":0},{"$f":"Stückliste!L760","v":0},{"$f":"Stückliste!P760","v":0},{"$f":"Stückliste!R760","v":0},{"$f":"Stückliste!T760","v":0},{"$f":"Stückliste!V760","v":0},{"$f":"Stückliste!X760","v":0},{"$f":"Stückliste!Z760","v":0},{"$f":"Stückliste!AB760","v":0},{"$f":"Stückliste!AD760","v":0},{"$f":"Stückliste!AH760","v":0},{"$f":"Stückliste!AJ760","v":0},{"$f":"Stückliste!AL760","v":0},{"$f":"Stückliste!AN760","v":0},{"$f":"Stückliste!AP760","v":0},{"$f":"Stückliste!AR760","v":0},{"$f":"Stückliste!AT760","v":0},{"$f":"Stückliste!AV760","v":0},{"$f":"Stückliste!AF760","v":0},{"$f":"Stückliste!AX760","v":0}]
[{"$f":"A707","v":0},0,8,{"$f":"Stückliste!A761","v":0},{"$f":"Stückliste!D761","v":0},{"$f":"Stückliste!H761","v":0},{"$f":"Stückliste!L761","v":0},{"$f":"Stückliste!P761","v":0},{"$f":"Stückliste!R761","v":0},{"$f":"Stückliste!T761","v":0},{"$f":"Stückliste!V761","v":0},{"$f":"Stückliste!X761","v":0},{"$f":"Stückliste!Z761","v":0},{"$f":"Stückliste!AB761","v":0},{"$f":"Stückliste!AD761","v":0},{"$f":"Stückliste!AH761","v":0},{"$f":"Stückliste!AJ761","v":0},{"$f":"Stückliste!AL761","v":0},{"$f":"Stückliste!AN761","v":0},{"$f":"Stückliste!AP761","v":0},{"$f":"Stückliste!AR761","v":0},{"$f":"Stückliste!AT761","v":0},{"$f":"Stückliste!AV761","v":0},{"$f":"Stückliste!AF761","v":0},{"$f":"Stückliste!AX761","v":0}]
[{"$f":"A708","v":0},0,8,{"$f":"Stückliste!A762","v":0},{"$f":"Stückliste!D762","v":0},{"$f":"Stückliste!H762","v":0},{"$f":"Stückliste!L762","v":0},{"$f":"Stückliste!P762","v":0},{"$f":"Stückliste!R762","v":0},{"$f":"Stückliste!T762","v":0},{"$f":"Stückliste!V762","v":0},{"$f":"Stückliste!X762","v":0},{"$f":"Stückliste!Z762","v":0},{"$f":"Stückliste!AB762","v":0},{"$f":"Stückliste!AD762","v":0},{"$f":"Stückliste!AH762","v":0},{"$f":"Stückliste!AJ762","v":0},{"$f":"Stückliste!AL762","v":0},{"$f":"Stückliste!AN762","v":0},{"$f":"Stückliste!AP762","v":0},{"$f":"Stückliste!AR762","v":0},{"$f":"Stückliste!AT762","v":0},{"$f":"Stückliste!AV762","v":0},{"$f":"Stückliste!AF762","v":0},{"$f":"Stückliste!AX762","v":0}]
[{"$f":"A709","v":0},0,8,{"$f":"Stückliste!A763","v":0},{"$f":"Stückliste!D763","v":0},{"$f":"Stückliste!H763","v":0},{"$f":"Stückliste!L763","v":0},{"$f":"Stückliste!P763","v":0},{"$f":"Stückliste!R763","v":0},{"$f":"Stückliste!T763","v":0},{"$f":"Stückliste!V763","v":0},{"$f":"Stückliste!X763","v":0},{"$f":"Stückliste!Z763","v":0},{"$f":"Stückliste!AB763","v":0},{"$f":"Stückliste!AD763","v":0},{"$f":"Stückliste!AH763","v":0},{"$f":"Stückliste!AJ763","v":0},{"$f":"Stückliste!AL763","v":0},{"$f":"Stückliste!AN763","v":0},{"$f":"Stückliste!AP763","v":0},{"$f":"Stückliste!AR763","v":0},{"$f":"Stückliste!AT763","v":0},{"$f":"Stückliste!AV763","v":0},{"$f":"Stückliste!AF763","v":0},{"$f":"Stückliste!AX763","v":0}]
[{"$f":"A710","v":0},0,8,{"$f":"Stückliste!A764","v":0},{"$f":"Stückliste!D764","v":0},{"$f":"Stückliste!H764","v":0},{"$f":"Stückliste!L764","v":0},{"$f":"Stückliste!P764","v":0},{"$f":"Stückliste!R764","v":0},{"$f":"Stückliste!T764","v":0},{"$f":"Stückliste!V764","v":0},{"$f":"Stückliste!X764","v":0},{"$f":"Stückliste!Z764","v":0},{"$f":"Stückliste!AB764","v":0},{"$f":"Stückliste!AD764","v":0},{"$f":"Stückliste!AH764","v":0},{"$f":"Stückliste!AJ764","v":0},{"$f":"Stückliste!AL764","v":0},{"$f":"Stückliste!AN764","v":0},{"$f":"Stückliste!AP764","v":0},{"$f":"Stückliste!AR764","v":0},{"$f":"Stückliste!AT764","v":0},{"$f":"Stückliste!AV764","v":0},{"$f":"Stückliste!AF764","v":0},{"$f":"Stückliste!AX764","v":0}]
[{"$f":"A711","v":0},0,8,{"$f":"Stückliste!A765","v":0},{"$f":"Stückliste!D765","v":0},{"$f":"Stückliste!H765","v":0},{"$f":"Stückliste!L765","v":0},{"$f":"Stückliste!P765","v":0},{"$f":"Stückliste!R765","v":0},{"$f":"Stückliste!T765","v":0},{"$f":"Stückliste!V765","v":0},{"$f":"Stückliste!X765","v":0},{"$f":"Stückliste!Z765","v":0},{"$f":"Stückliste!AB765","v":0},{"$f":"Stückliste!AD765","v":0},{"$f":"Stückliste!AH765","v":0},{"$f":"Stückliste!AJ765","v":0},{"$f":"Stückliste!AL765","v":0},{"$f":"Stückliste!AN765","v":0},{"$f":"Stückliste!AP765","v":0},{"$f":"Stückliste!AR765","v":0},{"$f":"Stückliste!AT765","v":0},{"$f":"Stückliste!AV765","v":0},{"$f":"Stückliste!AF765","v":0},{"$f":"Stückliste!AX765","v":0}]
[{"$f":"A712","v":0},0,8,{"$f":"Stückliste!A766","v":0},{"$f":"Stückliste!D766","v":0},{"$f":"Stückliste!H766","v":0},{"$f":"Stückliste!L766","v":0},{"$f":"Stückliste!P766","v":0},{"$f":"Stückliste!R766","v":0},{"$f":"Stückliste!T766","v":0},{"$f":"Stückliste!V766","v":0},{"$f":"Stückliste!X766","v":0},{"$f":"Stückliste!Z766","v":0},{"$f":"Stückliste!AB766","v":0},{"$f":"Stückliste!AD766","v":0},{"$f":"Stückliste!AH766","v":0},{"$f":"Stückliste!AJ766","v":0},{"$f":"Stückliste!AL766","v":0},{"$f":"Stückliste!AN766","v":0},{"$f":"Stückliste!AP766","v":0},{"$f":"Stückliste!AR766","v":0},{"$f":"Stückliste!AT766","v":0},{"$f":"Stückliste!AV766","v":0},{"$f":"Stückliste!AF766","v":0},{"$f":"Stückliste!AX766","v":0}]
[{"$f":"A713","v":0},0,8,{"$f":"Stückliste!A767","v":0},{"$f":"Stückliste!D767","v":0},{"$f":"Stückliste!H767","v":0},{"$f":"Stückliste!L767","v":0},{"$f":"Stückliste!P767","v":0},{"$f":"Stückliste!R767","v":0},{"$f":"Stückliste!T767","v":0},{"$f":"Stückliste!V767","v":0},{"$f":"Stückliste!X767","v":0},{"$f":"Stückliste!Z767","v":0},{"$f":"Stückliste!AB767","v":0},{"$f":"Stückliste!AD767","v":0},{"$f":"Stückliste!AH767","v":0},{"$f":"Stückliste!AJ767","v":0},{"$f":"Stückliste!AL767","v":0},{"$f":"Stückliste!AN767","v":0},{"$f":"Stückliste!AP767","v":0},{"$f":"Stückliste!AR767","v":0},{"$f":"Stückliste!AT767","v":0},{"$f":"Stückliste!AV767","v":0},{"$f":"Stückliste!AF767","v":0},{"$f":"Stückliste!AX767","v":0}]
[{"$f":"A714","v":0},0,8,{"$f":"Stückliste!A768","v":0},{"$f":"Stückliste!D768","v":0},{"$f":"Stückliste!H768","v":0},{"$f":"Stückliste!L768","v":0},{"$f":"Stückliste!P768","v":0},{"$f":"Stückliste!R768","v":0},{"$f":"Stückliste!T768","v":0},{"$f":"Stückliste!V768","v":0},{"$f":"Stückliste!X768","v":0},{"$f":"Stückliste!Z768","v":0},{"$f":"Stückliste!AB768","v":0},{"$f":"Stückliste!AD768","v":0},{"$f":"Stückliste!AH768","v":0},{"$f":"Stückliste!AJ768","v":0},{"$f":"Stückliste!AL768","v":0},{"$f":"Stückliste!AN768","v":0},{"$f":"Stückliste!AP768","v":0},{"$f":"Stückliste!AR768","v":0},{"$f":"Stückliste!AT768","v":0},{"$f":"Stückliste!AV768","v":0},{"$f":"Stückliste!AF768","v":0},{"$f":"Stückliste!AX768","v":0}]
[{"$f":"A715","v":0},0,8,{"$f":"Stückliste!A769","v":0},{"$f":"Stückliste!D769","v":0},{"$f":"Stückliste!H769","v":0},{"$f":"Stückliste!L769","v":0},{"$f":"Stückliste!P769","v":0},{"$f":"Stückliste!R769","v":0},{"$f":"Stückliste!T769","v":0},{"$f":"Stückliste!V769","v":0},{"$f":"Stückliste!X769","v":0},{"$f":"Stückliste!Z769","v":0},{"$f":"Stückliste!AB769","v":0},{"$f":"Stückliste!AD769","v":0},{"$f":"Stückliste!AH769","v":0},{"$f":"Stückliste!AJ769","v":0},{"$f":"Stückliste!AL769","v":0},{"$f":"Stückliste!AN769","v":0},{"$f":"Stückliste!AP769","v":0},{"$f":"Stückliste!AR769","v":0},{"$f":"Stückliste!AT769","v":0},{"$f":"Stückliste!AV769","v":0},{"$f":"Stückliste!AF769","v":0},{"$f":"Stückliste!AX769","v":0}]
[{"$f":"A716","v":0},0,8,{"$f":"Stückliste!A770","v":0},{"$f":"Stückliste!D770","v":0},{"$f":"Stückliste!H770","v":0},{"$f":"Stückliste!L770","v":0},{"$f":"Stückliste!P770","v":0},{"$f":"Stückliste!R770","v":0},{"$f":"Stückliste!T770","v":0},{"$f":"Stückliste!V770","v":0},{"$f":"Stückliste!X770","v":0},{"$f":"Stückliste!Z770","v":0},{"$f":"Stückliste!AB770","v":0},{"$f":"Stückliste!AD770","v":0},{"$f":"Stückliste!AH770","v":0},{"$f":"Stückliste!AJ770","v":0},{"$f":"Stückliste!AL770","v":0},{"$f":"Stückliste!AN770","v":0},{"$f":"Stückliste!AP770","v":0},{"$f":"Stückliste!AR770","v":0},{"$f":"Stückliste!AT770","v":0},{"$f":"Stückliste!AV770","v":0},{"$f":"Stückliste!AF770","v":0},{"$f":"Stückliste!AX770","v":0}]
[{"$f":"A717","v":0},0,8,{"$f":"Stückliste!A771","v":0},{"$f":"Stückliste!D771","v":0},{"$f":"Stückliste!H771","v":0},{"$f":"Stückliste!L771","v":0},{"$f":"Stückliste!P771","v":0},{"$f":"Stückliste!R771","v":0},{"$f":"Stückliste!T771","v":0},{"$f":"Stückliste!V771","v":0},{"$f":"Stückliste!X771","v":0},{"$f":"Stückliste!Z771","v":0},{"$f":"Stückliste!AB771","v":0},{"$f":"Stückliste!AD771","v":0},{"$f":"Stückliste!AH771","v":0},{"$f":"Stückliste!AJ771","v":0},{"$f":"Stückliste!AL771","v":0},{"$f":"Stückliste!AN771","v":0},{"$f":"Stückliste!AP771","v":0},{"$f":"Stückliste!AR771","v":0},{"$f":"Stückliste!AT771","v":0},{"$f":"Stückliste!AV771","v":0},{"$f":"Stückliste!AF771","v":0},{"$f":"Stückliste!AX771","v":0}]
[{"$f":"A718","v":0},0,8,{"$f":"Stückliste!A772","v":0},{"$f":"Stückliste!D772","v":0},{"$f":"Stückliste!H772","v":0},{"$f":"Stückliste!L772","v":0},{"$f":"Stückliste!P772","v":0},{"$f":"Stückliste!R772","v":0},{"$f":"Stückliste!T772","v":0},{"$f":"Stückliste!V772","v":0},{"$f":"Stückliste!X772","v":0},{"$f":"Stückliste!Z772","v":0},{"$f":"Stückliste!AB772","v":0},{"$f":"Stückliste!AD772","v":0},{"$f":"Stückliste!AH772","v":0},{"$f":"Stückliste!AJ772","v":0},{"$f":"Stückliste!AL772","v":0},{"$f":"Stückliste!AN772","v":0},{"$f":"Stückliste!AP772","v":0},{"$f":"Stückliste!AR772","v":0},{"$f":"Stückliste!AT772","v":0},{"$f":"Stückliste!AV772","v":0},{"$f":"Stückliste!AF772","v":0},{"$f":"Stückliste!AX772","v":0}]
[{"$f":"A719","v":0},0,8,{"$f":"Stückliste!A773","v":0},{"$f":"Stückliste!D773","v":0},{"$f":"Stückliste!H773","v":0},{"$f":"Stückliste!L773","v":0},{"$f":"Stückliste!P773","v":0},{"$f":"Stückliste!R773","v":0},{"$f":"Stückliste!T773","v":0},{"$f":"Stückliste!V773","v":0},{"$f":"Stückliste!X773","v":0},{"$f":"Stückliste!Z773","v":0},{"$f":"Stückliste!AB773","v":0},{"$f":"Stückliste!AD773","v":0},{"$f":"Stückliste!AH773","v":0},{"$f":"Stückliste!AJ773","v":0},{"$f":"Stückliste!AL773","v":0},{"$f":"Stückliste!AN773","v":0},{"$f":"Stückliste!AP773","v":0},{"$f":"Stückliste!AR773","v":0},{"$f":"Stückliste!AT773","v":0},{"$f":"Stückliste!AV773","v":0},{"$f":"Stückliste!AF773","v":0},{"$f":"Stückliste!AX773","v":0}]
[{"$f":"A720","v":0},0,8,{"$f":"Stückliste!A774","v":0},{"$f":"Stückliste!D774","v":0},{"$f":"Stückliste!H774","v":0},{"$f":"Stückliste!L774","v":0},{"$f":"Stückliste!P774","v":0},{"$f":"Stückliste!R774","v":0},{"$f":"Stückliste!T774","v":0},{"$f":"Stückliste!V774","v":0},{"$f":"Stückliste!X774","v":0},{"$f":"Stückliste!Z774","v":0},{"$f":"Stückliste!AB774","v":0},{"$f":"Stückliste!AD774","v":0},{"$f":"Stückliste!AH774","v":0},{"$f":"Stückliste!AJ774","v":0},{"$f":"Stückliste!AL774","v":0},{"$f":"Stückliste!AN774","v":0},{"$f":"Stückliste!AP774","v":0},{"$f":"Stückliste!AR774","v":0},{"$f":"Stückliste!AT774","v":0},{"$f":"Stückliste!AV774","v":0},{"$f":"Stückliste!AF774","v":0},{"$f":"Stückliste!AX774","v":0}]
[{"$f":"A721","v":0},0,8,{"$f":"Stückliste!A775","v":0},{"$f":"Stückliste!D775","v":0},{"$f":"Stückliste!H775","v":0},{"$f":"Stückliste!L775","v":0},{"$f":"Stückliste!P775","v":0},{"$f":"Stückliste!R775","v":0},{"$f":"Stückliste!T775","v":0},{"$f":"Stückliste!V775","v":0},{"$f":"Stückliste!X775","v":0},{"$f":"Stückliste!Z775","v":0},{"$f":"Stückliste!AB775","v":0},{"$f":"Stückliste!AD775","v":0},{"$f":"Stückliste!AH775","v":0},{"$f":"Stückliste!AJ775","v":0},{"$f":"Stückliste!AL775","v":0},{"$f":"Stückliste!AN775","v":0},{"$f":"Stückliste!AP775","v":0},{"$f":"Stückliste!AR775","v":0},{"$f":"Stückliste!AT775","v":0},{"$f":"Stückliste!AV775","v":0},{"$f":"Stückliste!AF775","v":0},{"$f":"Stückliste!AX775","v":0}]
[{"$f":"A722","v":0},0,8,{"$f":"Stückliste!A776","v":0},{"$f":"Stückliste!D776","v":0},{"$f":"Stückliste!H776","v":0},{"$f":"Stückliste!L776","v":0},{"$f":"Stückliste!P776","v":0},{"$f":"Stückliste!R776","v":0},{"$f":"Stückliste!T776","v":0},{"$f":"Stückliste!V776","v":0},{"$f":"Stückliste!X776","v":0},{"$f":"Stückliste!Z776","v":0},{"$f":"Stückliste!AB776","v":0},{"$f":"Stückliste!AD776","v":0},{"$f":"Stückliste!AH776","v":0},{"$f":"Stückliste!AJ776","v":0},{"$f":"Stückliste!AL776","v":0},{"$f":"Stückliste!AN776","v":0},{"$f":"Stückliste!AP776","v":0},{"$f":"Stückliste!AR776","v":0},{"$f":"Stückliste!AT776","v":0},{"$f":"Stückliste!AV776","v":0},{"$f":"Stückliste!AF776","v":0},{"$f":"Stückliste!AX776","v":0}]
[{"$f":"A723","v":0},0,8,{"$f":"Stückliste!A777","v":0},{"$f":"Stückliste!D777","v":0},{"$f":"Stückliste!H777","v":0},{"$f":"Stückliste!L777","v":0},{"$f":"Stückliste!P777","v":0},{"$f":"Stückliste!R777","v":0},{"$f":"Stückliste!T777","v":0},{"$f":"Stückliste!V777","v":0},{"$f":"Stückliste!X777","v":0},{"$f":"Stückliste!Z777","v":0},{"$f":"Stückliste!AB777","v":0},{"$f":"Stückliste!AD777","v":0},{"$f":"Stückliste!AH777","v":0},{"$f":"Stückliste!AJ777","v":0},{"$f":"Stückliste!AL777","v":0},{"$f":"Stückliste!AN777","v":0},{"$f":"Stückliste!AP777","v":0},{"$f":"Stückliste!AR777","v":0},{"$f":"Stückliste!AT777","v":0},{"$f":"Stückliste!AV777","v":0},{"$f":"Stückliste!AF777","v":0},{"$f":"Stückliste!AX777","v":0}]
[{"$f":"A724","v":0},0,8,{"$f":"Stückliste!A778","v":0},{"$f":"Stückliste!D778","v":0},{"$f":"Stückliste!H778","v":0},{"$f":"Stückliste!L778","v":0},{"$f":"Stückliste!P778","v":0},{"$f":"Stückliste!R778","v":0},{"$f":"Stückliste!T778","v":0},{"$f":"Stückliste!V778","v":0},{"$f":"Stückliste!X778","v":0},{"$f":"Stückliste!Z778","v":0},{"$f":"Stückliste!AB778","v":0},{"$f":"Stückliste!AD778","v":0},{"$f":"Stückliste!AH778","v":0},{"$f":"Stückliste!AJ778","v":0},{"$f":"Stückliste!AL778","v":0},{"$f":"Stückliste!AN778","v":0},{"$f":"Stückliste!AP778","v":0},{"$f":"Stückliste!AR778","v":0},{"$f":"Stückliste!AT778","v":0},{"$f":"Stückliste!AV778","v":0},{"$f":"Stückliste!AF778","v":0},{"$f":"Stückliste!AX778","v":0}]
[{"$f":"A725","v":0},0,8,{"$f":"Stückliste!A779","v":0},{"$f":"Stückliste!D779","v":0},{"$f":"Stückliste!H779","v":0},{"$f":"Stückliste!L779","v":0},{"$f":"Stückliste!P779","v":0},{"$f":"Stückliste!R779","v":0},{"$f":"Stückliste!T779","v":0},{"$f":"Stückliste!V779","v":0},{"$f":"Stückliste!X779","v":0},{"$f":"Stückliste!Z779","v":0},{"$f":"Stückliste!AB779","v":0},{"$f":"Stückliste!AD779","v":0},{"$f":"Stückliste!AH779","v":0},{"$f":"Stückliste!AJ779","v":0},{"$f":"Stückliste!AL779","v":0},{"$f":"Stückliste!AN779","v":0},{"$f":"Stückliste!AP779","v":0},{"$f":"Stückliste!AR779","v":0},{"$f":"Stückliste!AT779","v":0},{"$f":"Stückliste!AV779","v":0},{"$f":"Stückliste!AF779","v":0},{"$f":"Stückliste!AX779","v":0}]
[{"$f":"A726","v":0},0,8,{"$f":"Stückliste!A780","v":0},{"$f":"Stückliste!D780","v":0},{"$f":"Stückliste!H780","v":0},{"$f":"Stückliste!L780","v":0},{"$f":"Stückliste!P780","v":0},{"$f":"Stückliste!R780","v":0},{"$f":"Stückliste!T780","v":0},{"$f":"Stückliste!V780","v":0},{"$f":"Stückliste!X780","v":0},{"$f":"Stückliste!Z780","v":0},{"$f":"Stückliste!AB780","v":0},{"$f":"Stückliste!AD780","v":0},{"$f":"Stückliste!AH780","v":0},{"$f":"Stückliste!AJ780","v":0},{"$f":"Stückliste!AL780","v":0},{"$f":"Stückliste!AN780","v":0},{"$f":"Stückliste!AP780","v":0},{"$f":"Stückliste!AR780","v":0},{"$f":"Stückliste!AT780","v":0},{"$f":"Stückliste!AV780","v":0},{"$f":"Stückliste!AF780","v":0},{"$f":"Stückliste!AX780","v":0}]
[{"$f":"A727","v":0},0,8,{"$f":"Stückliste!A781","v":0},{"$f":"Stückliste!D781","v":0},{"$f":"Stückliste!H781","v":0},{"$f":"Stückliste!L781","v":0},{"$f":"Stückliste!P781","v":0},{"$f":"Stückliste!R781","v":0},{"$f":"Stückliste!T781","v":0},{"$f":"Stückliste!V781","v":0},{"$f":"Stückliste!X781","v":0},{"$f":"Stückliste!Z781","v":0},{"$f":"Stückliste!AB781","v":0},{"$f":"Stückliste!AD781","v":0},{"$f":"Stückliste!AH781","v":0},{"$f":"Stückliste!AJ781","v":0},{"$f":"Stückliste!AL781","v":0},{"$f":"Stückliste!AN781","v":0},{"$f":"Stückliste!AP781","v":0},{"$f":"Stückliste!AR781","v":0},{"$f":"Stückliste!AT781","v":0},{"$f":"Stückliste!AV781","v":0},{"$f":"Stückliste!AF781","v":0},{"$f":"Stückliste!AX781","v":0}]
[{"$f":"A728","v":0},0,8,{"$f":"Stückliste!A782","v":0},{"$f":"Stückliste!D782","v":0},{"$f":"Stückliste!H782","v":0},{"$f":"Stückliste!L782","v":0},{"$f":"Stückliste!P782","v":0},{"$f":"Stückliste!R782","v":0},{"$f":"Stückliste!T782","v":0},{"$f":"Stückliste!V782","v":0},{"$f":"Stückliste!X782","v":0},{"$f":"Stückliste!Z782","v":0},{"$f":"Stückliste!AB782","v":0},{"$f":"Stückliste!AD782","v":0},{"$f":"Stückliste!AH782","v":0},{"$f":"Stückliste!AJ782","v":0},{"$f":"Stückliste!AL782","v":0},{"$f":"Stückliste!AN782","v":0},{"$f":"Stückliste!AP782","v":0},{"$f":"Stückliste!AR782","v":0},{"$f":"Stückliste!AT782","v":0},{"$f":"Stückliste!AV782","v":0},{"$f":"Stückliste!AF782","v":0},{"$f":"Stückliste!AX782","v":0}]
[{"$f":"A729","v":0},0,8,{"$f":"Stückliste!A783","v":0},{"$f":"Stückliste!D783","v":0},{"$f":"Stückliste!H783","v":0},{"$f":"Stückliste!L783","v":0},{"$f":"Stückliste!P783","v":0},{"$f":"Stückliste!R783","v":0},{"$f":"Stückliste!T783","v":0},{"$f":"Stückliste!V783","v":0},{"$f":"Stückliste!X783","v":0},{"$f":"Stückliste!Z783","v":0},{"$f":"Stückliste!AB783","v":0},{"$f":"Stückliste!AD783","v":0},{"$f":"Stückliste!AH783","v":0},{"$f":"Stückliste!AJ783","v":0},{"$f":"Stückliste!AL783","v":0},{"$f":"Stückliste!AN783","v":0},{"$f":"Stückliste!AP783","v":0},{"$f":"Stückliste!AR783","v":0},{"$f":"Stückliste!AT783","v":0},{"$f":"Stückliste!AV783","v":0},{"$f":"Stückliste!AF783","v":0},{"$f":"Stückliste!AX783","v":0}]
[{"$f":"A730","v":0},0,8,{"$f":"Stückliste!A784","v":0},{"$f":"Stückliste!D784","v":0},{"$f":"Stückliste!H784","v":0},{"$f":"Stückliste!L784","v":0},{"$f":"Stückliste!P784","v":0},{"$f":"Stückliste!R784","v":0},{"$f":"Stückliste!T784","v":0},{"$f":"Stückliste!V784","v":0},{"$f":"Stückliste!X784","v":0},{"$f":"Stückliste!Z784","v":0},{"$f":"Stückliste!AB784","v":0},{"$f":"Stückliste!AD784","v":0},{"$f":"Stückliste!AH784","v":0},{"$f":"Stückliste!AJ784","v":0},{"$f":"Stückliste!AL784","v":0},{"$f":"Stückliste!AN784","v":0},{"$f":"Stückliste!AP784","v":0},{"$f":"Stückliste!AR784","v":0},{"$f":"Stückliste!AT784","v":0},{"$f":"Stückliste!AV784","v":0},{"$f":"Stückliste!AF784","v":0},{"$f":"Stückliste!AX784","v":0}]
[{"$f":"A731","v":0},0,8,{"$f":"Stückliste!A785","v":0},{"$f":"Stückliste!D785","v":0},{"$f":"Stückliste!H785","v":0},{"$f":"Stückliste!L785","v":0},{"$f":"Stückliste!P785","v":0},{"$f":"Stückliste!R785","v":0},{"$f":"Stückliste!T785","v":0},{"$f":"Stückliste!V785","v":0},{"$f":"Stückliste!X785","v":0},{"$f":"Stückliste!Z785","v":0},{"$f":"Stückliste!AB785","v":0},{"$f":"Stückliste!AD785","v":0},{"$f":"Stückliste!AH785","v":0},{"$f":"Stückliste!AJ785","v":0},{"$f":"Stückliste!AL785","v":0},{"$f":"Stückliste!AN785","v":0},{"$f":"Stückliste!AP785","v":0},{"$f":"Stückliste!AR785","v":0},{"$f":"Stückliste!AT785","v":0},{"$f":"Stückliste!AV785","v":0},{"$f":"Stückliste!AF785","v":0},{"$f":"Stückliste!AX785","v":0}]
[{"$f":"A732","v":0},0,8,{"$f":"Stückliste!A786","v":0},{"$f":"Stückliste!D786","v":0},{"$f":"Stückliste!H786","v":0},{"$f":"Stückliste!L786","v":0},{"$f":"Stückliste!P786","v":0},{"$f":"Stückliste!R786","v":0},{"$f":"Stückliste!T786","v":0},{"$f":"Stückliste!V786","v":0},{"$f":"Stückliste!X786","v":0},{"$f":"Stückliste!Z786","v":0},{"$f":"Stückliste!AB786","v":0},{"$f":"Stückliste!AD786","v":0},{"$f":"Stückliste!AH786","v":0},{"$f":"Stückliste!AJ786","v":0},{"$f":"Stückliste!AL786","v":0},{"$f":"Stückliste!AN786","v":0},{"$f":"Stückliste!AP786","v":0},{"$f":"Stückliste!AR786","v":0},{"$f":"Stückliste!AT786","v":0},{"$f":"Stückliste!AV786","v":0},{"$f":"Stückliste!AF786","v":0},{"$f":"Stückliste!AX786","v":0}]
[{"$f":"A733","v":0},0,8,{"$f":"Stückliste!A787","v":0},{"$f":"Stückliste!D787","v":0},{"$f":"Stückliste!H787","v":0},{"$f":"Stückliste!L787","v":0},{"$f":"Stückliste!P787","v":0},{"$f":"Stückliste!R787","v":0},{"$f":"Stückliste!T787","v":0},{"$f":"Stückliste!V787","v":0},{"$f":"Stückliste!X787","v":0},{"$f":"Stückliste!Z787","v":0},{"$f":"Stückliste!AB787","v":0},{"$f":"Stückliste!AD787","v":0},{"$f":"Stückliste!AH787","v":0},{"$f":"Stückliste!AJ787","v":0},{"$f":"Stückliste!AL787","v":0},{"$f":"Stückliste!AN787","v":0},{"$f":"Stückliste!AP787","v":0},{"$f":"Stückliste!AR787","v":0},{"$f":"Stückliste!AT787","v":0},{"$f":"Stückliste!AV787","v":0},{"$f":"Stückliste!AF787","v":0},{"$f":"Stückliste!AX787","v":0}]
[{"$f":"A734","v":0},0,8,{"$f":"Stückliste!A788","v":0},{"$f":"Stückliste!D788","v":0},{"$f":"Stückliste!H788","v":0},{"$f":"Stückliste!L788","v":0},{"$f":"Stückliste!P788","v":0},{"$f":"Stückliste!R788","v":0},{"$f":"Stückliste!T788","v":0},{"$f":"Stückliste!V788","v":0},{"$f":"Stückliste!X788","v":0},{"$f":"Stückliste!Z788","v":0},{"$f":"Stückliste!AB788","v":0},{"$f":"Stückliste!AD788","v":0},{"$f":"Stückliste!AH788","v":0},{"$f":"Stückliste!AJ788","v":0},{"$f":"Stückliste!AL788","v":0},{"$f":"Stückliste!AN788","v":0},{"$f":"Stückliste!AP788","v":0},{"$f":"Stückliste!AR788","v":0},{"$f":"Stückliste!AT788","v":0},{"$f":"Stückliste!AV788","v":0},{"$f":"Stückliste!AF788","v":0},{"$f":"Stückliste!AX788","v":0}]
[{"$f":"A735","v":0},0,8,{"$f":"Stückliste!A789","v":0},{"$f":"Stückliste!D789","v":0},{"$f":"Stückliste!H789","v":0},{"$f":"Stückliste!L789","v":0},{"$f":"Stückliste!P789","v":0},{"$f":"Stückliste!R789","v":0},{"$f":"Stückliste!T789","v":0},{"$f":"Stückliste!V789","v":0},{"$f":"Stückliste!X789","v":0},{"$f":"Stückliste!Z789","v":0},{"$f":"Stückliste!AB789","v":0},{"$f":"Stückliste!AD789","v":0},{"$f":"Stückliste!AH789","v":0},{"$f":"Stückliste!AJ789","v":0},{"$f":"Stückliste!AL789","v":0},{"$f":"Stückliste!AN789","v":0},{"$f":"Stückliste!AP789","v":0},{"$f":"Stückliste!AR789","v":0},{"$f":"Stückliste!AT789","v":0},{"$f":"Stückliste!AV789","v":0},{"$f":"Stückliste!AF789","v":0},{"$f":"Stückliste!AX789","v":0}]
[{"$f":"A736","v":0},0,8,{"$f":"Stückliste!A790","v":0},{"$f":"Stückliste!D790","v":0},{"$f":"Stückliste!H790","v":0},{"$f":"Stückliste!L790","v":0},{"$f":"Stückliste!P790","v":0},{"$f":"Stückliste!R790","v":0},{"$f":"Stückliste!T790","v":0},{"$f":"Stückliste!V790","v":0},{"$f":"Stückliste!X790","v":0},{"$f":"Stückliste!Z790","v":0},{"$f":"Stückliste!AB790","v":0},{"$f":"Stückliste!AD790","v":0},{"$f":"Stückliste!AH790","v":0},{"$f":"Stückliste!AJ790","v":0},{"$f":"Stückliste!AL790","v":0},{"$f":"Stückliste!AN790","v":0},{"$f":"Stückliste!AP790","v":0},{"$f":"Stückliste!AR790","v":0},{"$f":"Stückliste!AT790","v":0},{"$f":"Stückliste!AV790","v":0},{"$f":"Stückliste!AF790","v":0},{"$f":"Stückliste!AX790","v":0}]
[{"$f":"A737","v":0},0,8,{"$f":"Stückliste!A791","v":0},{"$f":"Stückliste!D791","v":0},{"$f":"Stückliste!H791","v":0},{"$f":"Stückliste!L791","v":0},{"$f":"Stückliste!P791","v":0},{"$f":"Stückliste!R791","v":0},{"$f":"Stückliste!T791","v":0},{"$f":"Stückliste!V791","v":0},{"$f":"Stückliste!X791","v":0},{"$f":"Stückliste!Z791","v":0},{"$f":"Stückliste!AB791","v":0},{"$f":"Stückliste!AD791","v":0},{"$f":"Stückliste!AH791","v":0},{"$f":"Stückliste!AJ791","v":0},{"$f":"Stückliste!AL791","v":0},{"$f":"Stückliste!AN791","v":0},{"$f":"Stückliste!AP791","v":0},{"$f":"Stückliste!AR791","v":0},{"$f":"Stückliste!AT791","v":0},{"$f":"Stückliste!AV791","v":0},{"$f":"Stückliste!AF791","v":0},{"$f":"Stückliste!AX791","v":0}]
[{"$f":"A738","v":0},0,8,{"$f":"Stückliste!A792","v":0},{"$f":"Stückliste!D792","v":0},{"$f":"Stückliste!H792","v":0},{"$f":"Stückliste!L792","v":0},{"$f":"Stückliste!P792","v":0},{"$f":"Stückliste!R792","v":0},{"$f":"Stückliste!T792","v":0},{"$f":"Stückliste!V792","v":0},{"$f":"Stückliste!X792","v":0},{"$f":"Stückliste!Z792","v":0},{"$f":"Stückliste!AB792","v":0},{"$f":"Stückliste!AD792","v":0},{"$f":"Stückliste!AH792","v":0},{"$f":"Stückliste!AJ792","v":0},{"$f":"Stückliste!AL792","v":0},{"$f":"Stückliste!AN792","v":0},{"$f":"Stückliste!AP792","v":0},{"$f":"Stückliste!AR792","v":0},{"$f":"Stückliste!AT792","v":0},{"$f":"Stückliste!AV792","v":0},{"$f":"Stückliste!AF792","v":0},{"$f":"Stückliste!AX792","v":0}]
[{"$f":"A739","v":0},0,8,{"$f":"Stückliste!A793","v":0},{"$f":"Stückliste!D793","v":0},{"$f":"Stückliste!H793","v":0},{"$f":"Stückliste!L793","v":0},{"$f":"Stückliste!P793","v":0},{"$f":"Stückliste!R793","v":0},{"$f":"Stückliste!T793","v":0},{"$f":"Stückliste!V793","v":0},{"$f":"Stückliste!X793","v":0},{"$f":"Stückliste!Z793","v":0},{"$f":"Stückliste!AB793","v":0},{"$f":"Stückliste!AD793","v":0},{"$f":"Stückliste!AH793","v":0},{"$f":"Stückliste!AJ793","v":0},{"$f":"Stückliste!AL793","v":0},{"$f":"Stückliste!AN793","v":0},{"$f":"Stückliste!AP793","v":0},{"$f":"Stückliste!AR793","v":0},{"$f":"Stückliste!AT793","v":0},{"$f":"Stückliste!AV793","v":0},{"$f":"Stückliste!AF793","v":0},{"$f":"Stückliste!AX793","v":0}]
[{"$f":"A740","v":0},0,8,{"$f":"Stückliste!A794","v":0},{"$f":"Stückliste!D794","v":0},{"$f":"Stückliste!H794","v":0},{"$f":"Stückliste!L794","v":0},{"$f":"Stückliste!P794","v":0},{"$f":"Stückliste!R794","v":0},{"$f":"Stückliste!T794","v":0},{"$f":"Stückliste!V794","v":0},{"$f":"Stückliste!X794","v":0},{"$f":"Stückliste!Z794","v":0},{"$f":"Stückliste!AB794","v":0},{"$f":"Stückliste!AD794","v":0},{"$f":"Stückliste!AH794","v":0},{"$f":"Stückliste!AJ794","v":0},{"$f":"Stückliste!AL794","v":0},{"$f":"Stückliste!AN794","v":0},{"$f":"Stückliste!AP794","v":0},{"$f":"Stückliste!AR794","v":0},{"$f":"Stückliste!AT794","v":0},{"$f":"Stückliste!AV794","v":0},{"$f":"Stückliste!AF794","v":0},{"$f":"Stückliste!AX794","v":0}]
[{"$f":"A741","v":0},0,8,{"$f":"Stückliste!A795","v":0},{"$f":"Stückliste!D795","v":0},{"$f":"Stückliste!H795","v":0},{"$f":"Stückliste!L795","v":0},{"$f":"Stückliste!P795","v":0},{"$f":"Stückliste!R795","v":0},{"$f":"Stückliste!T795","v":0},{"$f":"Stückliste!V795","v":0},{"$f":"Stückliste!X795","v":0},{"$f":"Stückliste!Z795","v":0},{"$f":"Stückliste!AB795","v":0},{"$f":"Stückliste!AD795","v":0},{"$f":"Stückliste!AH795","v":0},{"$f":"Stückliste!AJ795","v":0},{"$f":"Stückliste!AL795","v":0},{"$f":"Stückliste!AN795","v":0},{"$f":"Stückliste!AP795","v":0},{"$f":"Stückliste!AR795","v":0},{"$f":"Stückliste!AT795","v":0},{"$f":"Stückliste!AV795","v":0},{"$f":"Stückliste!AF795","v":0},{"$f":"Stückliste!AX795","v":0}]
[{"$f":"A742","v":0},0,8,{"$f":"Stückliste!A796","v":0},{"$f":"Stückliste!D796","v":0},{"$f":"Stückliste!H796","v":0},{"$f":"Stückliste!L796","v":0},{"$f":"Stückliste!P796","v":0},{"$f":"Stückliste!R796","v":0},{"$f":"Stückliste!T796","v":0},{"$f":"Stückliste!V796","v":0},{"$f":"Stückliste!X796","v":0},{"$f":"Stückliste!Z796","v":0},{"$f":"Stückliste!AB796","v":0},{"$f":"Stückliste!AD796","v":0},{"$f":"Stückliste!AH796","v":0},{"$f":"Stückliste!AJ796","v":0},{"$f":"Stückliste!AL796","v":0},{"$f":"Stückliste!AN796","v":0},{"$f":"Stückliste!AP796","v":0},{"$f":"Stückliste!AR796","v":0},{"$f":"Stückliste!AT796","v":0},{"$f":"Stückliste!AV796","v":0},{"$f":"Stückliste!AF796","v":0},{"$f":"Stückliste!AX796","v":0}]
[{"$f":"A743","v":0},0,8,{"$f":"Stückliste!A797","v":0},{"$f":"Stückliste!D797","v":0},{"$f":"Stückliste!H797","v":0},{"$f":"Stückliste!L797","v":0},{"$f":"Stückliste!P797","v":0},{"$f":"Stückliste!R797","v":0},{"$f":"Stückliste!T797","v":0},{"$f":"Stückliste!V797","v":0},{"$f":"Stückliste!X797","v":0},{"$f":"Stückliste!Z797","v":0},{"$f":"Stückliste!AB797","v":0},{"$f":"Stückliste!AD797","v":0},{"$f":"Stückliste!AH797","v":0},{"$f":"Stückliste!AJ797","v":0},{"$f":"Stückliste!AL797","v":0},{"$f":"Stückliste!AN797","v":0},{"$f":"Stückliste!AP797","v":0},{"$f":"Stückliste!AR797","v":0},{"$f":"Stückliste!AT797","v":0},{"$f":"Stückliste!AV797","v":0},{"$f":"Stückliste!AF797","v":0},{"$f":"Stückliste!AX797","v":0}]
[{"$f":"A744","v":0},0,8,{"$f":"Stückliste!A798","v":0},{"$f":"Stückliste!D798","v":0},{"$f":"Stückliste!H798","v":0},{"$f":"Stückliste!L798","v":0},{"$f":"Stückliste!P798","v":0},{"$f":"Stückliste!R798","v":0},{"$f":"Stückliste!T798","v":0},{"$f":"Stückliste!V798","v":0},{"$f":"Stückliste!X798","v":0},{"$f":"Stückliste!Z798","v":0},{"$f":"Stückliste!AB798","v":0},{"$f":"Stückliste!AD798","v":0},{"$f":"Stückliste!AH798","v":0},{"$f":"Stückliste!AJ798","v":0},{"$f":"Stückliste!AL798","v":0},{"$f":"Stückliste!AN798","v":0},{"$f":"Stückliste!AP798","v":0},{"$f":"Stückliste!AR798","v":0},{"$f":"Stückliste!AT798","v":0},{"$f":"Stückliste!AV798","v":0},{"$f":"Stückliste!AF798","v":0},{"$f":"Stückliste!AX798","v":0}]
[{"$f":"A745","v":0},0,8,{"$f":"Stückliste!A799","v":0},{"$f":"Stückliste!D799","v":0},{"$f":"Stückliste!H799","v":0},{"$f":"Stückliste!L799","v":0},{"$f":"Stückliste!P799","v":0},{"$f":"Stückliste!R799","v":0},{"$f":"Stückliste!T799","v":0},{"$f":"Stückliste!V799","v":0},{"$f":"Stückliste!X799","v":0},{"$f":"Stückliste!Z799","v":0},{"$f":"Stückliste!AB799","v":0},{"$f":"Stückliste!AD799","v":0},{"$f":"Stückliste!AH799","v":0},{"$f":"Stückliste!AJ799","v":0},{"$f":"Stückliste!AL799","v":0},{"$f":"Stückliste!AN799","v":0},{"$f":"Stückliste!AP799","v":0},{"$f":"Stückliste!AR799","v":0},{"$f":"Stückliste!AT799","v":0},{"$f":"Stückliste!AV799","v":0},{"$f":"Stückliste!AF799","v":0},{"$f":"Stückliste!AX799","v":0}]
[{"$f":"A746","v":0},0,8,{"$f":"Stückliste!A800","v":0},{"$f":"Stückliste!D800","v":0},{"$f":"Stückliste!H800","v":0},{"$f":"Stückliste!L800","v":0},{"$f":"Stückliste!P800","v":0},{"$f":"Stückliste!R800","v":0},{"$f":"Stückliste!T800","v":0},{"$f":"Stückliste!V800","v":0},{"$f":"Stückliste!X800","v":0},{"$f":"Stückliste!Z800","v":0},{"$f":"Stückliste!AB800","v":0},{"$f":"Stückliste!AD800","v":0},{"$f":"Stückliste!AH800","v":0},{"$f":"Stückliste!AJ800","v":0},{"$f":"Stückliste!AL800","v":0},{"$f":"Stückliste!AN800","v":0},{"$f":"Stückliste!AP800","v":0},{"$f":"Stückliste!AR800","v":0},{"$f":"Stückliste!AT800","v":0},{"$f":"Stückliste!AV800","v":0},{"$f":"Stückliste!AF800","v":0},{"$f":"Stückliste!AX800","v":0}]
[{"$f":"A747","v":0},0,8,{"$f":"Stückliste!A801","v":0},{"$f":"Stückliste!D801","v":0},{"$f":"Stückliste!H801","v":0},{"$f":"Stückliste!L801","v":0},{"$f":"Stückliste!P801","v":0},{"$f":"Stückliste!R801","v":0},{"$f":"Stückliste!T801","v":0},{"$f":"Stückliste!V801","v":0},{"$f":"Stückliste!X801","v":0},{"$f":"Stückliste!Z801","v":0},{"$f":"Stückliste!AB801","v":0},{"$f":"Stückliste!AD801","v":0},{"$f":"Stückliste!AH801","v":0},{"$f":"Stückliste!AJ801","v":0},{"$f":"Stückliste!AL801","v":0},{"$f":"Stückliste!AN801","v":0},{"$f":"Stückliste!AP801","v":0},{"$f":"Stückliste!AR801","v":0},{"$f":"Stückliste!AT801","v":0},{"$f":"Stückliste!AV801","v":0},{"$f":"Stückliste!AF801","v":0},{"$f":"Stückliste!AX801","v":0}]
[{"$f":"A748","v":0},0,8,{"$f":"Stückliste!A802","v":0},{"$f":"Stückliste!D802","v":0},{"$f":"Stückliste!H802","v":0},{"$f":"Stückliste!L802","v":0},{"$f":"Stückliste!P802","v":0},{"$f":"Stückliste!R802","v":0},{"$f":"Stückliste!T802","v":0},{"$f":"Stückliste!V802","v":0},{"$f":"Stückliste!X802","v":0},{"$f":"Stückliste!Z802","v":0},{"$f":"Stückliste!AB802","v":0},{"$f":"Stückliste!AD802","v":0},{"$f":"Stückliste!AH802","v":0},{"$f":"Stückliste!AJ802","v":0},{"$f":"Stückliste!AL802","v":0},{"$f":"Stückliste!AN802","v":0},{"$f":"Stückliste!AP802","v":0},{"$f":"Stückliste!AR802","v":0},{"$f":"Stückliste!AT802","v":0},{"$f":"Stückliste!AV802","v":0},{"$f":"Stückliste!AF802","v":0},{"$f":"Stückliste!AX802","v":0}]
[{"$f":"A749","v":0},0,8,{"$f":"Stückliste!A803","v":0},{"$f":"Stückliste!D803","v":0},{"$f":"Stückliste!H803","v":0},{"$f":"Stückliste!L803","v":0},{"$f":"Stückliste!P803","v":0},{"$f":"Stückliste!R803","v":0},{"$f":"Stückliste!T803","v":0},{"$f":"Stückliste!V803","v":0},{"$f":"Stückliste!X803","v":0},{"$f":"Stückliste!Z803","v":0},{"$f":"Stückliste!AB803","v":0},{"$f":"Stückliste!AD803","v":0},{"$f":"Stückliste!AH803","v":0},{"$f":"Stückliste!AJ803","v":0},{"$f":"Stückliste!AL803","v":0},{"$f":"Stückliste!AN803","v":0},{"$f":"Stückliste!AP803","v":0},{"$f":"Stückliste!AR803","v":0},{"$f":"Stückliste!AT803","v":0},{"$f":"Stückliste!AV803","v":0},{"$f":"Stückliste!AF803","v":0},{"$f":"Stückliste!AX803","v":0}]
[{"$f":"A750","v":0},0,8,{"$f":"Stückliste!A804","v":0},{"$f":"Stückliste!D804","v":0},{"$f":"Stückliste!H804","v":0},{"$f":"Stückliste!L804","v":0},{"$f":"Stückliste!P804","v":0},{"$f":"Stückliste!R804","v":0},{"$f":"Stückliste!T804","v":0},{"$f":"Stückliste!V804","v":0},{"$f":"Stückliste!X804","v":0},{"$f":"Stückliste!Z804","v":0},{"$f":"Stückliste!AB804","v":0},{"$f":"Stückliste!AD804","v":0},{"$f":"Stückliste!AH804","v":0},{"$f":"Stückliste!AJ804","v":0},{"$f":"Stückliste!AL804","v":0},{"$f":"Stückliste!AN804","v":0},{"$f":"Stückliste!AP804","v":0},{"$f":"Stückliste!AR804","v":0},{"$f":"Stückliste!AT804","v":0},{"$f":"Stückliste!AV804","v":0},{"$f":"Stückliste!AF804","v":0},{"$f":"Stückliste!AX804","v":0}]
[{"$f":"A751","v":0},0,8,{"$f":"Stückliste!A805","v":0},{"$f":"Stückliste!D805","v":0},{"$f":"Stückliste!H805","v":0},{"$f":"Stückliste!L805","v":0},{"$f":"Stückliste!P805","v":0},{"$f":"Stückliste!R805","v":0},{"$f":"Stückliste!T805","v":0},{"$f":"Stückliste!V805","v":0},{"$f":"Stückliste!X805","v":0},{"$f":"Stückliste!Z805","v":0},{"$f":"Stückliste!AB805","v":0},{"$f":"Stückliste!AD805","v":0},{"$f":"Stückliste!AH805","v":0},{"$f":"Stückliste!AJ805","v":0},{"$f":"Stückliste!AL805","v":0},{"$f":"Stückliste!AN805","v":0},{"$f":"Stückliste!AP805","v":0},{"$f":"Stückliste!AR805","v":0},{"$f":"Stückliste!AT805","v":0},{"$f":"Stückliste!AV805","v":0},{"$f":"Stückliste!AF805","v":0},{"$f":"Stückliste!AX805","v":0}]
[{"$f":"A752","v":0},0,8,{"$f":"Stückliste!A806","v":0},{"$f":"Stückliste!D806","v":0},{"$f":"Stückliste!H806","v":0},{"$f":"Stückliste!L806","v":0},{"$f":"Stückliste!P806","v":0},{"$f":"Stückliste!R806","v":0},{"$f":"Stückliste!T806","v":0},{"$f":"Stückliste!V806","v":0},{"$f":"Stückliste!X806","v":0},{"$f":"Stückliste!Z806","v":0},{"$f":"Stückliste!AB806","v":0},{"$f":"Stückliste!AD806","v":0},{"$f":"Stückliste!AH806","v":0},{"$f":"Stückliste!AJ806","v":0},{"$f":"Stückliste!AL806","v":0},{"$f":"Stückliste!AN806","v":0},{"$f":"Stückliste!AP806","v":0},{"$f":"Stückliste!AR806","v":0},{"$f":"Stückliste!AT806","v":0},{"$f":"Stückliste!AV806","v":0},{"$f":"Stückliste!AF806","v":0},{"$f":"Stückliste!AX806","v":0}]
[{"$f":"A753","v":0},0,8,{"$f":"Stückliste!A807","v":0},{"$f":"Stückliste!D807","v":0},{"$f":"Stückliste!H807","v":0},{"$f":"Stückliste!L807","v":0},{"$f":"Stückliste!P807","v":0},{"$f":"Stückliste!R807","v":0},{"$f":"Stückliste!T807","v":0},{"$f":"Stückliste!V807","v":0},{"$f":"Stückliste!X807","v":0},{"$f":"Stückliste!Z807","v":0},{"$f":"Stückliste!AB807","v":0},{"$f":"Stückliste!AD807","v":0},{"$f":"Stückliste!AH807","v":0},{"$f":"Stückliste!AJ807","v":0},{"$f":"Stückliste!AL807","v":0},{"$f":"Stückliste!AN807","v":0},{"$f":"Stückliste!AP807","v":0},{"$f":"Stückliste!AR807","v":0},{"$f":"Stückliste!AT807","v":0},{"$f":"Stückliste!AV807","v":0},{"$f":"Stückliste!AF807","v":0},{"$f":"Stückliste!AX807","v":0}]
[{"$f":"A754","v":0},0,8,{"$f":"Stückliste!A808","v":0},{"$f":"Stückliste!D808","v":0},{"$f":"Stückliste!H808","v":0},{"$f":"Stückliste!L808","v":0},{"$f":"Stückliste!P808","v":0},{"$f":"Stückliste!R808","v":0},{"$f":"Stückliste!T808","v":0},{"$f":"Stückliste!V808","v":0},{"$f":"Stückliste!X808","v":0},{"$f":"Stückliste!Z808","v":0},{"$f":"Stückliste!AB808","v":0},{"$f":"Stückliste!AD808","v":0},{"$f":"Stückliste!AH808","v":0},{"$f":"Stückliste!AJ808","v":0},{"$f":"Stückliste!AL808","v":0},{"$f":"Stückliste!AN808","v":0},{"$f":"Stückliste!AP808","v":0},{"$f":"Stückliste!AR808","v":0},{"$f":"Stückliste!AT808","v":0},{"$f":"Stückliste!AV808","v":0},{"$f":"Stückliste!AF808","v":0},{"$f":"Stückliste!AX808","v":0}]
[{"$f":"A755","v":0},0,8,{"$f":"Stückliste!A809","v":0},{"$f":"Stückliste!D809","v":0},{"$f":"Stückliste!H809","v":0},{"$f":"Stückliste!L809","v":0},{"$f":"Stückliste!P809","v":0},{"$f":"Stückliste!R809","v":0},{"$f":"Stückliste!T809","v":0},{"$f":"Stückliste!V809","v":0},{"$f":"Stückliste!X809","v":0},{"$f":"Stückliste!Z809","v":0},{"$f":"Stückliste!AB809","v":0},{"$f":"Stückliste!AD809","v":0},{"$f":"Stückliste!AH809","v":0},{"$f":"Stückliste!AJ809","v":0},{"$f":"Stückliste!AL809","v":0},{"$f":"Stückliste!AN809","v":0},{"$f":"Stückliste!AP809","v":0},{"$f":"Stückliste!AR809","v":0},{"$f":"Stückliste!AT809","v":0},{"$f":"Stückliste!AV809","v":0},{"$f":"Stückliste!AF809","v":0},{"$f":"Stückliste!AX809","v":0}]
[{"$f":"A756","v":0},0,8,{"$f":"Stückliste!A810","v":0},{"$f":"Stückliste!D810","v":0},{"$f":"Stückliste!H810","v":0},{"$f":"Stückliste!L810","v":0},{"$f":"Stückliste!P810","v":0},{"$f":"Stückliste!R810","v":0},{"$f":"Stückliste!T810","v":0},{"$f":"Stückliste!V810","v":0},{"$f":"Stückliste!X810","v":0},{"$f":"Stückliste!Z810","v":0},{"$f":"Stückliste!AB810","v":0},{"$f":"Stückliste!AD810","v":0},{"$f":"Stückliste!AH810","v":0},{"$f":"Stückliste!AJ810","v":0},{"$f":"Stückliste!AL810","v":0},{"$f":"Stückliste!AN810","v":0},{"$f":"Stückliste!AP810","v":0},{"$f":"Stückliste!AR810","v":0},{"$f":"Stückliste!AT810","v":0},{"$f":"Stückliste!AV810","v":0},{"$f":"Stückliste!AF810","v":0},{"$f":"Stückliste!AX810","v":0}]
[{"$f":"A757","v":0},0,8,{"$f":"Stückliste!A811","v":0},{"$f":"Stückliste!D811","v":0},{"$f":"Stückliste!H811","v":0},{"$f":"Stückliste!L811","v":0},{"$f":"Stückliste!P811","v":0},{"$f":"Stückliste!R811","v":0},{"$f":"Stückliste!T811","v":0},{"$f":"Stückliste!V811","v":0},{"$f":"Stückliste!X811","v":0},{"$f":"Stückliste!Z811","v":0},{"$f":"Stückliste!AB811","v":0},{"$f":"Stückliste!AD811","v":0},{"$f":"Stückliste!AH811","v":0},{"$f":"Stückliste!AJ811","v":0},{"$f":"Stückliste!AL811","v":0},{"$f":"Stückliste!AN811","v":0},{"$f":"Stückliste!AP811","v":0},{"$f":"Stückliste!AR811","v":0},{"$f":"Stückliste!AT811","v":0},{"$f":"Stückliste!AV811","v":0},{"$f":"Stückliste!AF811","v":0},{"$f":"Stückliste!AX811","v":0}]
[{"$f":"A758","v":0},0,8,{"$f":"Stückliste!A812","v":0},{"$f":"Stückliste!D812","v":0},{"$f":"Stückliste!H812","v":0},{"$f":"Stückliste!L812","v":0},{"$f":"Stückliste!P812","v":0},{"$f":"Stückliste!R812","v":0},{"$f":"Stückliste!T812","v":0},{"$f":"Stückliste!V812","v":0},{"$f":"Stückliste!X812","v":0},{"$f":"Stückliste!Z812","v":0},{"$f":"Stückliste!AB812","v":0},{"$f":"Stückliste!AD812","v":0},{"$f":"Stückliste!AH812","v":0},{"$f":"Stückliste!AJ812","v":0},{"$f":"Stückliste!AL812","v":0},{"$f":"Stückliste!AN812","v":0},{"$f":"Stückliste!AP812","v":0},{"$f":"Stückliste!AR812","v":0},{"$f":"Stückliste!AT812","v":0},{"$f":"Stückliste!AV812","v":0},{"$f":"Stückliste!AF812","v":0},{"$f":"Stückliste!AX812","v":0}]
[{"$f":"A759","v":0},0,8,{"$f":"Stückliste!A813","v":0},{"$f":"Stückliste!D813","v":0},{"$f":"Stückliste!H813","v":0},{"$f":"Stückliste!L813","v":0},{"$f":"Stückliste!P813","v":0},{"$f":"Stückliste!R813","v":0},{"$f":"Stückliste!T813","v":0},{"$f":"Stückliste!V813","v":0},{"$f":"Stückliste!X813","v":0},{"$f":"Stückliste!Z813","v":0},{"$f":"Stückliste!AB813","v":0},{"$f":"Stückliste!AD813","v":0},{"$f":"Stückliste!AH813","v":0},{"$f":"Stückliste!AJ813","v":0},{"$f":"Stückliste!AL813","v":0},{"$f":"Stückliste!AN813","v":0},{"$f":"Stückliste!AP813","v":0},{"$f":"Stückliste!AR813","v":0},{"$f":"Stückliste!AT813","v":0},{"$f":"Stückliste!AV813","v":0},{"$f":"Stückliste!AF813","v":0},{"$f":"Stückliste!AX813","v":0}]
[{"$f":"A760","v":0},0,8,{"$f":"Stückliste!A814","v":0},{"$f":"Stückliste!D814","v":0},{"$f":"Stückliste!H814","v":0},{"$f":"Stückliste!L814","v":0},{"$f":"Stückliste!P814","v":0},{"$f":"Stückliste!R814","v":0},{"$f":"Stückliste!T814","v":0},{"$f":"Stückliste!V814","v":0},{"$f":"Stückliste!X814","v":0},{"$f":"Stückliste!Z814","v":0},{"$f":"Stückliste!AB814","v":0},{"$f":"Stückliste!AD814","v":0},{"$f":"Stückliste!AH814","v":0},{"$f":"Stückliste!AJ814","v":0},{"$f":"Stückliste!AL814","v":0},{"$f":"Stückliste!AN814","v":0},{"$f":"Stückliste!AP814","v":0},{"$f":"Stückliste!AR814","v":0},{"$f":"Stückliste!AT814","v":0},{"$f":"Stückliste!AV814","v":0},{"$f":"Stückliste!AF814","v":0},{"$f":"Stückliste!AX814","v":0}]
[{"$f":"A761","v":0},0,8,{"$f":"Stückliste!A815","v":0},{"$f":"Stückliste!D815","v":0},{"$f":"Stückliste!H815","v":0},{"$f":"Stückliste!L815","v":0},{"$f":"Stückliste!P815","v":0},{"$f":"Stückliste!R815","v":0},{"$f":"Stückliste!T815","v":0},{"$f":"Stückliste!V815","v":0},{"$f":"Stückliste!X815","v":0},{"$f":"Stückliste!Z815","v":0},{"$f":"Stückliste!AB815","v":0},{"$f":"Stückliste!AD815","v":0},{"$f":"Stückliste!AH815","v":0},{"$f":"Stückliste!AJ815","v":0},{"$f":"Stückliste!AL815","v":0},{"$f":"Stückliste!AN815","v":0},{"$f":"Stückliste!AP815","v":0},{"$f":"Stückliste!AR815","v":0},{"$f":"Stückliste!AT815","v":0},{"$f":"Stückliste!AV815","v":0},{"$f":"Stückliste!AF815","v":0},{"$f":"Stückliste!AX815","v":0}]
[{"$f":"A762","v":0},0,8,{"$f":"Stückliste!A816","v":0},{"$f":"Stückliste!D816","v":0},{"$f":"Stückliste!H816","v":0},{"$f":"Stückliste!L816","v":0},{"$f":"Stückliste!P816","v":0},{"$f":"Stückliste!R816","v":0},{"$f":"Stückliste!T816","v":0},{"$f":"Stückliste!V816","v":0},{"$f":"Stückliste!X816","v":0},{"$f":"Stückliste!Z816","v":0},{"$f":"Stückliste!AB816","v":0},{"$f":"Stückliste!AD816","v":0},{"$f":"Stückliste!AH816","v":0},{"$f":"Stückliste!AJ816","v":0},{"$f":"Stückliste!AL816","v":0},{"$f":"Stückliste!AN816","v":0},{"$f":"Stückliste!AP816","v":0},{"$f":"Stückliste!AR816","v":0},{"$f":"Stückliste!AT816","v":0},{"$f":"Stückliste!AV816","v":0},{"$f":"Stückliste!AF816","v":0},{"$f":"Stückliste!AX816","v":0}]
[{"$f":"A763","v":0},0,8,{"$f":"Stückliste!A817","v":0},{"$f":"Stückliste!D817","v":0},{"$f":"Stückliste!H817","v":0},{"$f":"Stückliste!L817","v":0},{"$f":"Stückliste!P817","v":0},{"$f":"Stückliste!R817","v":0},{"$f":"Stückliste!T817","v":0},{"$f":"Stückliste!V817","v":0},{"$f":"Stückliste!X817","v":0},{"$f":"Stückliste!Z817","v":0},{"$f":"Stückliste!AB817","v":0},{"$f":"Stückliste!AD817","v":0},{"$f":"Stückliste!AH817","v":0},{"$f":"Stückliste!AJ817","v":0},{"$f":"Stückliste!AL817","v":0},{"$f":"Stückliste!AN817","v":0},{"$f":"Stückliste!AP817","v":0},{"$f":"Stückliste!AR817","v":0},{"$f":"Stückliste!AT817","v":0},{"$f":"Stückliste!AV817","v":0},{"$f":"Stückliste!AF817","v":0},{"$f":"Stückliste!AX817","v":0}]
[{"$f":"A764","v":0},0,8,{"$f":"Stückliste!A818","v":0},{"$f":"Stückliste!D818","v":0},{"$f":"Stückliste!H818","v":0},{"$f":"Stückliste!L818","v":0},{"$f":"Stückliste!P818","v":0},{"$f":"Stückliste!R818","v":0},{"$f":"Stückliste!T818","v":0},{"$f":"Stückliste!V818","v":0},{"$f":"Stückliste!X818","v":0},{"$f":"Stückliste!Z818","v":0},{"$f":"Stückliste!AB818","v":0},{"$f":"Stückliste!AD818","v":0},{"$f":"Stückliste!AH818","v":0},{"$f":"Stückliste!AJ818","v":0},{"$f":"Stückliste!AL818","v":0},{"$f":"Stückliste!AN818","v":0},{"$f":"Stückliste!AP818","v":0},{"$f":"Stückliste!AR818","v":0},{"$f":"Stückliste!AT818","v":0},{"$f":"Stückliste!AV818","v":0},{"$f":"Stückliste!AF818","v":0},{"$f":"Stückliste!AX818","v":0}]
[{"$f":"A765","v":0},0,8,{"$f":"Stückliste!A819","v":0},{"$f":"Stückliste!D819","v":0},{"$f":"Stückliste!H819","v":0},{"$f":"Stückliste!L819","v":0},{"$f":"Stückliste!P819","v":0},{"$f":"Stückliste!R819","v":0},{"$f":"Stückliste!T819","v":0},{"$f":"Stückliste!V819","v":0},{"$f":"Stückliste!X819","v":0},{"$f":"Stückliste!Z819","v":0},{"$f":"Stückliste!AB819","v":0},{"$f":"Stückliste!AD819","v":0},{"$f":"Stückliste!AH819","v":0},{"$f":"Stückliste!AJ819","v":0},{"$f":"Stückliste!AL819","v":0},{"$f":"Stückliste!AN819","v":0},{"$f":"Stückliste!AP819","v":0},{"$f":"Stückliste!AR819","v":0},{"$f":"Stückliste!AT819","v":0},{"$f":"Stückliste!AV819","v":0},{"$f":"Stückliste!AF819","v":0},{"$f":"Stückliste!AX819","v":0}]
[{"$f":"A766","v":0},0,8,{"$f":"Stückliste!A820","v":0},{"$f":"Stückliste!D820","v":0},{"$f":"Stückliste!H820","v":0},{"$f":"Stückliste!L820","v":0},{"$f":"Stückliste!P820","v":0},{"$f":"Stückliste!R820","v":0},{"$f":"Stückliste!T820","v":0},{"$f":"Stückliste!V820","v":0},{"$f":"Stückliste!X820","v":0},{"$f":"Stückliste!Z820","v":0},{"$f":"Stückliste!AB820","v":0},{"$f":"Stückliste!AD820","v":0},{"$f":"Stückliste!AH820","v":0},{"$f":"Stückliste!AJ820","v":0},{"$f":"Stückliste!AL820","v":0},{"$f":"Stückliste!AN820","v":0},{"$f":"Stückliste!AP820","v":0},{"$f":"Stückliste!AR820","v":0},{"$f":"Stückliste!AT820","v":0},{"$f":"Stückliste!AV820","v":0},{"$f":"Stückliste!AF820","v":0},{"$f":"Stückliste!AX820","v":0}]
[{"$f":"A767","v":0},0,8,{"$f":"Stückliste!A821","v":0},{"$f":"Stückliste!D821","v":0},{"$f":"Stückliste!H821","v":0},{"$f":"Stückliste!L821","v":0},{"$f":"Stückliste!P821","v":0},{"$f":"Stückliste!R821","v":0},{"$f":"Stückliste!T821","v":0},{"$f":"Stückliste!V821","v":0},{"$f":"Stückliste!X821","v":0},{"$f":"Stückliste!Z821","v":0},{"$f":"Stückliste!AB821","v":0},{"$f":"Stückliste!AD821","v":0},{"$f":"Stückliste!AH821","v":0},{"$f":"Stückliste!AJ821","v":0},{"$f":"Stückliste!AL821","v":0},{"$f":"Stückliste!AN821","v":0},{"$f":"Stückliste!AP821","v":0},{"$f":"Stückliste!AR821","v":0},{"$f":"Stückliste!AT821","v":0},{"$f":"Stückliste!AV821","v":0},{"$f":"Stückliste!AF821","v":0},{"$f":"Stückliste!AX821","v":0}]
[{"$f":"A768","v":0},0,8,{"$f":"Stückliste!A822","v":0},{"$f":"Stückliste!D822","v":0},{"$f":"Stückliste!H822","v":0},{"$f":"Stückliste!L822","v":0},{"$f":"Stückliste!P822","v":0},{"$f":"Stückliste!R822","v":0},{"$f":"Stückliste!T822","v":0},{"$f":"Stückliste!V822","v":0},{"$f":"Stückliste!X822","v":0},{"$f":"Stückliste!Z822","v":0},{"$f":"Stückliste!AB822","v":0},{"$f":"Stückliste!AD822","v":0},{"$f":"Stückliste!AH822","v":0},{"$f":"Stückliste!AJ822","v":0},{"$f":"Stückliste!AL822","v":0},{"$f":"Stückliste!AN822","v":0},{"$f":"Stückliste!AP822","v":0},{"$f":"Stückliste!AR822","v":0},{"$f":"Stückliste!AT822","v":0},{"$f":"Stückliste!AV822","v":0},{"$f":"Stückliste!AF822","v":0},{"$f":"Stückliste!AX822","v":0}]
[{"$f":"A769","v":0},0,8,{"$f":"Stückliste!A823","v":0},{"$f":"Stückliste!D823","v":0},{"$f":"Stückliste!H823","v":0},{"$f":"Stückliste!L823","v":0},{"$f":"Stückliste!P823","v":0},{"$f":"Stückliste!R823","v":0},{"$f":"Stückliste!T823","v":0},{"$f":"Stückliste!V823","v":0},{"$f":"Stückliste!X823","v":0},{"$f":"Stückliste!Z823","v":0},{"$f":"Stückliste!AB823","v":0},{"$f":"Stückliste!AD823","v":0},{"$f":"Stückliste!AH823","v":0},{"$f":"Stückliste!AJ823","v":0},{"$f":"Stückliste!AL823","v":0},{"$f":"Stückliste!AN823","v":0},{"$f":"Stückliste!AP823","v":0},{"$f":"Stückliste!AR823","v":0},{"$f":"Stückliste!AT823","v":0},{"$f":"Stückliste!AV823","v":0},{"$f":"Stückliste!AF823","v":0},{"$f":"Stückliste!AX823","v":0}]
[{"$f":"A770","v":0},0,8,{"$f":"Stückliste!A824","v":0},{"$f":"Stückliste!D824","v":0},{"$f":"Stückliste!H824","v":0},{"$f":"Stückliste!L824","v":0},{"$f":"Stückliste!P824","v":0},{"$f":"Stückliste!R824","v":0},{"$f":"Stückliste!T824","v":0},{"$f":"Stückliste!V824","v":0},{"$f":"Stückliste!X824","v":0},{"$f":"Stückliste!Z824","v":0},{"$f":"Stückliste!AB824","v":0},{"$f":"Stückliste!AD824","v":0},{"$f":"Stückliste!AH824","v":0},{"$f":"Stückliste!AJ824","v":0},{"$f":"Stückliste!AL824","v":0},{"$f":"Stückliste!AN824","v":0},{"$f":"Stückliste!AP824","v":0},{"$f":"Stückliste!AR824","v":0},{"$f":"Stückliste!AT824","v":0},{"$f":"Stückliste!AV824","v":0},{"$f":"Stückliste!AF824","v":0},{"$f":"Stückliste!AX824","v":0}]
[{"$f":"A771","v":0},0,8,{"$f":"Stückliste!A825","v":0},{"$f":"Stückliste!D825","v":0},{"$f":"Stückliste!H825","v":0},{"$f":"Stückliste!L825","v":0},{"$f":"Stückliste!P825","v":0},{"$f":"Stückliste!R825","v":0},{"$f":"Stückliste!T825","v":0},{"$f":"Stückliste!V825","v":0},{"$f":"Stückliste!X825","v":0},{"$f":"Stückliste!Z825","v":0},{"$f":"Stückliste!AB825","v":0},{"$f":"Stückliste!AD825","v":0},{"$f":"Stückliste!AH825","v":0},{"$f":"Stückliste!AJ825","v":0},{"$f":"Stückliste!AL825","v":0},{"$f":"Stückliste!AN825","v":0},{"$f":"Stückliste!AP825","v":0},{"$f":"Stückliste!AR825","v":0},{"$f":"Stückliste!AT825","v":0},{"$f":"Stückliste!AV825","v":0},{"$f":"Stückliste!AF825","v":0},{"$f":"Stückliste!AX825","v":0}]
[{"$f":"A772","v":0},0,8,{"$f":"Stückliste!A826","v":0},{"$f":"Stückliste!D826","v":0},{"$f":"Stückliste!H826","v":0},{"$f":"Stückliste!L826","v":0},{"$f":"Stückliste!P826","v":0},{"$f":"Stückliste!R826","v":0},{"$f":"Stückliste!T826","v":0},{"$f":"Stückliste!V826","v":0},{"$f":"Stückliste!X826","v":0},{"$f":"Stückliste!Z826","v":0},{"$f":"Stückliste!AB826","v":0},{"$f":"Stückliste!AD826","v":0},{"$f":"Stückliste!AH826","v":0},{"$f":"Stückliste!AJ826","v":0},{"$f":"Stückliste!AL826","v":0},{"$f":"Stückliste!AN826","v":0},{"$f":"Stückliste!AP826","v":0},{"$f":"Stückliste!AR826","v":0},{"$f":"Stückliste!AT826","v":0},{"$f":"Stückliste!AV826","v":0},{"$f":"Stückliste!AF826","v":0},{"$f":"Stückliste!AX826","v":0}]
[{"$f":"A773","v":0},0,8,{"$f":"Stückliste!A827","v":0},{"$f":"Stückliste!D827","v":0},{"$f":"Stückliste!H827","v":0},{"$f":"Stückliste!L827","v":0},{"$f":"Stückliste!P827","v":0},{"$f":"Stückliste!R827","v":0},{"$f":"Stückliste!T827","v":0},{"$f":"Stückliste!V827","v":0},{"$f":"Stückliste!X827","v":0},{"$f":"Stückliste!Z827","v":0},{"$f":"Stückliste!AB827","v":0},{"$f":"Stückliste!AD827","v":0},{"$f":"Stückliste!AH827","v":0},{"$f":"Stückliste!AJ827","v":0},{"$f":"Stückliste!AL827","v":0},{"$f":"Stückliste!AN827","v":0},{"$f":"Stückliste!AP827","v":0},{"$f":"Stückliste!AR827","v":0},{"$f":"Stückliste!AT827","v":0},{"$f":"Stückliste!AV827","v":0},{"$f":"Stückliste!AF827","v":0},{"$f":"Stückliste!AX827","v":0}]
[{"$f":"A774","v":0},0,8,{"$f":"Stückliste!A828","v":0},{"$f":"Stückliste!D828","v":0},{"$f":"Stückliste!H828","v":0},{"$f":"Stückliste!L828","v":0},{"$f":"Stückliste!P828","v":0},{"$f":"Stückliste!R828","v":0},{"$f":"Stückliste!T828","v":0},{"$f":"Stückliste!V828","v":0},{"$f":"Stückliste!X828","v":0},{"$f":"Stückliste!Z828","v":0},{"$f":"Stückliste!AB828","v":0},{"$f":"Stückliste!AD828","v":0},{"$f":"Stückliste!AH828","v":0},{"$f":"Stückliste!AJ828","v":0},{"$f":"Stückliste!AL828","v":0},{"$f":"Stückliste!AN828","v":0},{"$f":"Stückliste!AP828","v":0},{"$f":"Stückliste!AR828","v":0},{"$f":"Stückliste!AT828","v":0},{"$f":"Stückliste!AV828","v":0},{"$f":"Stückliste!AF828","v":0},{"$f":"Stückliste!AX828","v":0}]
[{"$f":"A775","v":0},0,8,{"$f":"Stückliste!A829","v":0},{"$f":"Stückliste!D829","v":0},{"$f":"Stückliste!H829","v":0},{"$f":"Stückliste!L829","v":0},{"$f":"Stückliste!P829","v":0},{"$f":"Stückliste!R829","v":0},{"$f":"Stückliste!T829","v":0},{"$f":"Stückliste!V829","v":0},{"$f":"Stückliste!X829","v":0},{"$f":"Stückliste!Z829","v":0},{"$f":"Stückliste!AB829","v":0},{"$f":"Stückliste!AD829","v":0},{"$f":"Stückliste!AH829","v":0},{"$f":"Stückliste!AJ829","v":0},{"$f":"Stückliste!AL829","v":0},{"$f":"Stückliste!AN829","v":0},{"$f":"Stückliste!AP829","v":0},{"$f":"Stückliste!AR829","v":0},{"$f":"Stückliste!AT829","v":0},{"$f":"Stückliste!AV829","v":0},{"$f":"Stückliste!AF829","v":0},{"$f":"Stückliste!AX829","v":0}]
[{"$f":"A776","v":0},0,8,{"$f":"Stückliste!A830","v":0},{"$f":"Stückliste!D830","v":0},{"$f":"Stückliste!H830","v":0},{"$f":"Stückliste!L830","v":0},{"$f":"Stückliste!P830","v":0},{"$f":"Stückliste!R830","v":0},{"$f":"Stückliste!T830","v":0},{"$f":"Stückliste!V830","v":0},{"$f":"Stückliste!X830","v":0},{"$f":"Stückliste!Z830","v":0},{"$f":"Stückliste!AB830","v":0},{"$f":"Stückliste!AD830","v":0},{"$f":"Stückliste!AH830","v":0},{"$f":"Stückliste!AJ830","v":0},{"$f":"Stückliste!AL830","v":0},{"$f":"Stückliste!AN830","v":0},{"$f":"Stückliste!AP830","v":0},{"$f":"Stückliste!AR830","v":0},{"$f":"Stückliste!AT830","v":0},{"$f":"Stückliste!AV830","v":0},{"$f":"Stückliste!AF830","v":0},{"$f":"Stückliste!AX830","v":0}]
[{"$f":"A777","v":0},0,8,{"$f":"Stückliste!A831","v":0},{"$f":"Stückliste!D831","v":0},{"$f":"Stückliste!H831","v":0},{"$f":"Stückliste!L831","v":0},{"$f":"Stückliste!P831","v":0},{"$f":"Stückliste!R831","v":0},{"$f":"Stückliste!T831","v":0},{"$f":"Stückliste!V831","v":0},{"$f":"Stückliste!X831","v":0},{"$f":"Stückliste!Z831","v":0},{"$f":"Stückliste!AB831","v":0},{"$f":"Stückliste!AD831","v":0},{"$f":"Stückliste!AH831","v":0},{"$f":"Stückliste!AJ831","v":0},{"$f":"Stückliste!AL831","v":0},{"$f":"Stückliste!AN831","v":0},{"$f":"Stückliste!AP831","v":0},{"$f":"Stückliste!AR831","v":0},{"$f":"Stückliste!AT831","v":0},{"$f":"Stückliste!AV831","v":0},{"$f":"Stückliste!AF831","v":0},{"$f":"Stückliste!AX831","v":0}]
[{"$f":"A778","v":0},0,8,{"$f":"Stückliste!A832","v":0},{"$f":"Stückliste!D832","v":0},{"$f":"Stückliste!H832","v":0},{"$f":"Stückliste!L832","v":0},{"$f":"Stückliste!P832","v":0},{"$f":"Stückliste!R832","v":0},{"$f":"Stückliste!T832","v":0},{"$f":"Stückliste!V832","v":0},{"$f":"Stückliste!X832","v":0},{"$f":"Stückliste!Z832","v":0},{"$f":"Stückliste!AB832","v":0},{"$f":"Stückliste!AD832","v":0},{"$f":"Stückliste!AH832","v":0},{"$f":"Stückliste!AJ832","v":0},{"$f":"Stückliste!AL832","v":0},{"$f":"Stückliste!AN832","v":0},{"$f":"Stückliste!AP832","v":0},{"$f":"Stückliste!AR832","v":0},{"$f":"Stückliste!AT832","v":0},{"$f":"Stückliste!AV832","v":0},{"$f":"Stückliste!AF832","v":0},{"$f":"Stückliste!AX832","v":0}]
[{"$f":"A779","v":0},0,8,{"$f":"Stückliste!A833","v":0},{"$f":"Stückliste!D833","v":0},{"$f":"Stückliste!H833","v":0},{"$f":"Stückliste!L833","v":0},{"$f":"Stückliste!P833","v":0},{"$f":"Stückliste!R833","v":0},{"$f":"Stückliste!T833","v":0},{"$f":"Stückliste!V833","v":0},{"$f":"Stückliste!X833","v":0},{"$f":"Stückliste!Z833","v":0},{"$f":"Stückliste!AB833","v":0},{"$f":"Stückliste!AD833","v":0},{"$f":"Stückliste!AH833","v":0},{"$f":"Stückliste!AJ833","v":0},{"$f":"Stückliste!AL833","v":0},{"$f":"Stückliste!AN833","v":0},{"$f":"Stückliste!AP833","v":0},{"$f":"Stückliste!AR833","v":0},{"$f":"Stückliste!AT833","v":0},{"$f":"Stückliste!AV833","v":0},{"$f":"Stückliste!AF833","v":0},{"$f":"Stückliste!AX833","v":0}]
[{"$f":"A780","v":0},0,8,{"$f":"Stückliste!A834","v":0},{"$f":"Stückliste!D834","v":0},{"$f":"Stückliste!H834","v":0},{"$f":"Stückliste!L834","v":0},{"$f":"Stückliste!P834","v":0},{"$f":"Stückliste!R834","v":0},{"$f":"Stückliste!T834","v":0},{"$f":"Stückliste!V834","v":0},{"$f":"Stückliste!X834","v":0},{"$f":"Stückliste!Z834","v":0},{"$f":"Stückliste!AB834","v":0},{"$f":"Stückliste!AD834","v":0},{"$f":"Stückliste!AH834","v":0},{"$f":"Stückliste!AJ834","v":0},{"$f":"Stückliste!AL834","v":0},{"$f":"Stückliste!AN834","v":0},{"$f":"Stückliste!AP834","v":0},{"$f":"Stückliste!AR834","v":0},{"$f":"Stückliste!AT834","v":0},{"$f":"Stückliste!AV834","v":0},{"$f":"Stückliste!AF834","v":0},{"$f":"Stückliste!AX834","v":0}]
[{"$f":"A781","v":0},0,8,{"$f":"Stückliste!A835","v":0},{"$f":"Stückliste!D835","v":0},{"$f":"Stückliste!H835","v":0},{"$f":"Stückliste!L835","v":0},{"$f":"Stückliste!P835","v":0},{"$f":"Stückliste!R835","v":0},{"$f":"Stückliste!T835","v":0},{"$f":"Stückliste!V835","v":0},{"$f":"Stückliste!X835","v":0},{"$f":"Stückliste!Z835","v":0},{"$f":"Stückliste!AB835","v":0},{"$f":"Stückliste!AD835","v":0},{"$f":"Stückliste!AH835","v":0},{"$f":"Stückliste!AJ835","v":0},{"$f":"Stückliste!AL835","v":0},{"$f":"Stückliste!AN835","v":0},{"$f":"Stückliste!AP835","v":0},{"$f":"Stückliste!AR835","v":0},{"$f":"Stückliste!AT835","v":0},{"$f":"Stückliste!AV835","v":0},{"$f":"Stückliste!AF835","v":0},{"$f":"Stückliste!AX835","v":0}]
[{"$f":"A782","v":0},0,8,{"$f":"Stückliste!A836","v":0},{"$f":"Stückliste!D836","v":0},{"$f":"Stückliste!H836","v":0},{"$f":"Stückliste!L836","v":0},{"$f":"Stückliste!P836","v":0},{"$f":"Stückliste!R836","v":0},{"$f":"Stückliste!T836","v":0},{"$f":"Stückliste!V836","v":0},{"$f":"Stückliste!X836","v":0},{"$f":"Stückliste!Z836","v":0},{"$f":"Stückliste!AB836","v":0},{"$f":"Stückliste!AD836","v":0},{"$f":"Stückliste!AH836","v":0},{"$f":"Stückliste!AJ836","v":0},{"$f":"Stückliste!AL836","v":0},{"$f":"Stückliste!AN836","v":0},{"$f":"Stückliste!AP836","v":0},{"$f":"Stückliste!AR836","v":0},{"$f":"Stückliste!AT836","v":0},{"$f":"Stückliste!AV836","v":0},{"$f":"Stückliste!AF836","v":0},{"$f":"Stückliste!AX836","v":0}]
[{"$f":"A783","v":0},0,8,{"$f":"Stückliste!A837","v":0},{"$f":"Stückliste!D837","v":0},{"$f":"Stückliste!H837","v":0},{"$f":"Stückliste!L837","v":0},{"$f":"Stückliste!P837","v":0},{"$f":"Stückliste!R837","v":0},{"$f":"Stückliste!T837","v":0},{"$f":"Stückliste!V837","v":0},{"$f":"Stückliste!X837","v":0},{"$f":"Stückliste!Z837","v":0},{"$f":"Stückliste!AB837","v":0},{"$f":"Stückliste!AD837","v":0},{"$f":"Stückliste!AH837","v":0},{"$f":"Stückliste!AJ837","v":0},{"$f":"Stückliste!AL837","v":0},{"$f":"Stückliste!AN837","v":0},{"$f":"Stückliste!AP837","v":0},{"$f":"Stückliste!AR837","v":0},{"$f":"Stückliste!AT837","v":0},{"$f":"Stückliste!AV837","v":0},{"$f":"Stückliste!AF837","v":0},{"$f":"Stückliste!AX837","v":0}]
[{"$f":"A784","v":0},0,8,{"$f":"Stückliste!A838","v":0},{"$f":"Stückliste!D838","v":0},{"$f":"Stückliste!H838","v":0},{"$f":"Stückliste!L838","v":0},{"$f":"Stückliste!P838","v":0},{"$f":"Stückliste!R838","v":0},{"$f":"Stückliste!T838","v":0},{"$f":"Stückliste!V838","v":0},{"$f":"Stückliste!X838","v":0},{"$f":"Stückliste!Z838","v":0},{"$f":"Stückliste!AB838","v":0},{"$f":"Stückliste!AD838","v":0},{"$f":"Stückliste!AH838","v":0},{"$f":"Stückliste!AJ838","v":0},{"$f":"Stückliste!AL838","v":0},{"$f":"Stückliste!AN838","v":0},{"$f":"Stückliste!AP838","v":0},{"$f":"Stückliste!AR838","v":0},{"$f":"Stückliste!AT838","v":0},{"$f":"Stückliste!AV838","v":0},{"$f":"Stückliste!AF838","v":0},{"$f":"Stückliste!AX838","v":0}]
[{"$f":"A785","v":0},0,8,{"$f":"Stückliste!A839","v":0},{"$f":"Stückliste!D839","v":0},{"$f":"Stückliste!H839","v":0},{"$f":"Stückliste!L839","v":0},{"$f":"Stückliste!P839","v":0},{"$f":"Stückliste!R839","v":0},{"$f":"Stückliste!T839","v":0},{"$f":"Stückliste!V839","v":0},{"$f":"Stückliste!X839","v":0},{"$f":"Stückliste!Z839","v":0},{"$f":"Stückliste!AB839","v":0},{"$f":"Stückliste!AD839","v":0},{"$f":"Stückliste!AH839","v":0},{"$f":"Stückliste!AJ839","v":0},{"$f":"Stückliste!AL839","v":0},{"$f":"Stückliste!AN839","v":0},{"$f":"Stückliste!AP839","v":0},{"$f":"Stückliste!AR839","v":0},{"$f":"Stückliste!AT839","v":0},{"$f":"Stückliste!AV839","v":0},{"$f":"Stückliste!AF839","v":0},{"$f":"Stückliste!AX839","v":0}]
[{"$f":"A786","v":0},0,8,{"$f":"Stückliste!A840","v":0},{"$f":"Stückliste!D840","v":0},{"$f":"Stückliste!H840","v":0},{"$f":"Stückliste!L840","v":0},{"$f":"Stückliste!P840","v":0},{"$f":"Stückliste!R840","v":0},{"$f":"Stückliste!T840","v":0},{"$f":"Stückliste!V840","v":0},{"$f":"Stückliste!X840","v":0},{"$f":"Stückliste!Z840","v":0},{"$f":"Stückliste!AB840","v":0},{"$f":"Stückliste!AD840","v":0},{"$f":"Stückliste!AH840","v":0},{"$f":"Stückliste!AJ840","v":0},{"$f":"Stückliste!AL840","v":0},{"$f":"Stückliste!AN840","v":0},{"$f":"Stückliste!AP840","v":0},{"$f":"Stückliste!AR840","v":0},{"$f":"Stückliste!AT840","v":0},{"$f":"Stückliste!AV840","v":0},{"$f":"Stückliste!AF840","v":0},{"$f":"Stückliste!AX840","v":0}]
[{"$f":"A787","v":0},0,8,{"$f":"Stückliste!A841","v":0},{"$f":"Stückliste!D841","v":0},{"$f":"Stückliste!H841","v":0},{"$f":"Stückliste!L841","v":0},{"$f":"Stückliste!P841","v":0},{"$f":"Stückliste!R841","v":0},{"$f":"Stückliste!T841","v":0},{"$f":"Stückliste!V841","v":0},{"$f":"Stückliste!X841","v":0},{"$f":"Stückliste!Z841","v":0},{"$f":"Stückliste!AB841","v":0},{"$f":"Stückliste!AD841","v":0},{"$f":"Stückliste!AH841","v":0},{"$f":"Stückliste!AJ841","v":0},{"$f":"Stückliste!AL841","v":0},{"$f":"Stückliste!AN841","v":0},{"$f":"Stückliste!AP841","v":0},{"$f":"Stückliste!AR841","v":0},{"$f":"Stückliste!AT841","v":0},{"$f":"Stückliste!AV841","v":0},{"$f":"Stückliste!AF841","v":0},{"$f":"Stückliste!AX841","v":0}]
[{"$f":"A788","v":0},0,8,{"$f":"Stückliste!A842","v":0},{"$f":"Stückliste!D842","v":0},{"$f":"Stückliste!H842","v":0},{"$f":"Stückliste!L842","v":0},{"$f":"Stückliste!P842","v":0},{"$f":"Stückliste!R842","v":0},{"$f":"Stückliste!T842","v":0},{"$f":"Stückliste!V842","v":0},{"$f":"Stückliste!X842","v":0},{"$f":"Stückliste!Z842","v":0},{"$f":"Stückliste!AB842","v":0},{"$f":"Stückliste!AD842","v":0},{"$f":"Stückliste!AH842","v":0},{"$f":"Stückliste!AJ842","v":0},{"$f":"Stückliste!AL842","v":0},{"$f":"Stückliste!AN842","v":0},{"$f":"Stückliste!AP842","v":0},{"$f":"Stückliste!AR842","v":0},{"$f":"Stückliste!AT842","v":0},{"$f":"Stückliste!AV842","v":0},{"$f":"Stückliste!AF842","v":0},{"$f":"Stückliste!AX842","v":0}]
[{"$f":"A789","v":0},0,8,{"$f":"Stückliste!A843","v":0},{"$f":"Stückliste!D843","v":0},{"$f":"Stückliste!H843","v":0},{"$f":"Stückliste!L843","v":0},{"$f":"Stückliste!P843","v":0},{"$f":"Stückliste!R843","v":0},{"$f":"Stückliste!T843","v":0},{"$f":"Stückliste!V843","v":0},{"$f":"Stückliste!X843","v":0},{"$f":"Stückliste!Z843","v":0},{"$f":"Stückliste!AB843","v":0},{"$f":"Stückliste!AD843","v":0},{"$f":"Stückliste!AH843","v":0},{"$f":"Stückliste!AJ843","v":0},{"$f":"Stückliste!AL843","v":0},{"$f":"Stückliste!AN843","v":0},{"$f":"Stückliste!AP843","v":0},{"$f":"Stückliste!AR843","v":0},{"$f":"Stückliste!AT843","v":0},{"$f":"Stückliste!AV843","v":0},{"$f":"Stückliste!AF843","v":0},{"$f":"Stückliste!AX843","v":0}]
[{"$f":"A790","v":0},0,8,{"$f":"Stückliste!A844","v":0},{"$f":"Stückliste!D844","v":0},{"$f":"Stückliste!H844","v":0},{"$f":"Stückliste!L844","v":0},{"$f":"Stückliste!P844","v":0},{"$f":"Stückliste!R844","v":0},{"$f":"Stückliste!T844","v":0},{"$f":"Stückliste!V844","v":0},{"$f":"Stückliste!X844","v":0},{"$f":"Stückliste!Z844","v":0},{"$f":"Stückliste!AB844","v":0},{"$f":"Stückliste!AD844","v":0},{"$f":"Stückliste!AH844","v":0},{"$f":"Stückliste!AJ844","v":0},{"$f":"Stückliste!AL844","v":0},{"$f":"Stückliste!AN844","v":0},{"$f":"Stückliste!AP844","v":0},{"$f":"Stückliste!AR844","v":0},{"$f":"Stückliste!AT844","v":0},{"$f":"Stückliste!AV844","v":0},{"$f":"Stückliste!AF844","v":0},{"$f":"Stückliste!AX844","v":0}]
[{"$f":"A791","v":0},0,8,{"$f":"Stückliste!A845","v":0},{"$f":"Stückliste!D845","v":0},{"$f":"Stückliste!H845","v":0},{"$f":"Stückliste!L845","v":0},{"$f":"Stückliste!P845","v":0},{"$f":"Stückliste!R845","v":0},{"$f":"Stückliste!T845","v":0},{"$f":"Stückliste!V845","v":0},{"$f":"Stückliste!X845","v":0},{"$f":"Stückliste!Z845","v":0},{"$f":"Stückliste!AB845","v":0},{"$f":"Stückliste!AD845","v":0},{"$f":"Stückliste!AH845","v":0},{"$f":"Stückliste!AJ845","v":0},{"$f":"Stückliste!AL845","v":0},{"$f":"Stückliste!AN845","v":0},{"$f":"Stückliste!AP845","v":0},{"$f":"Stückliste!AR845","v":0},{"$f":"Stückliste!AT845","v":0},{"$f":"Stückliste!AV845","v":0},{"$f":"Stückliste!AF845","v":0},{"$f":"Stückliste!AX845","v":0}]
[{"$f":"A792","v":0},0,8,{"$f":"Stückliste!A846","v":0},{"$f":"Stückliste!D846","v":0},{"$f":"Stückliste!H846","v":0},{"$f":"Stückliste!L846","v":0},{"$f":"Stückliste!P846","v":0},{"$f":"Stückliste!R846","v":0},{"$f":"Stückliste!T846","v":0},{"$f":"Stückliste!V846","v":0},{"$f":"Stückliste!X846","v":0},{"$f":"Stückliste!Z846","v":0},{"$f":"Stückliste!AB846","v":0},{"$f":"Stückliste!AD846","v":0},{"$f":"Stückliste!AH846","v":0},{"$f":"Stückliste!AJ846","v":0},{"$f":"Stückliste!AL846","v":0},{"$f":"Stückliste!AN846","v":0},{"$f":"Stückliste!AP846","v":0},{"$f":"Stückliste!AR846","v":0},{"$f":"Stückliste!AT846","v":0},{"$f":"Stückliste!AV846","v":0},{"$f":"Stückliste!AF846","v":0},{"$f":"Stückliste!AX846","v":0}]
[{"$f":"A793","v":0},0,8,{"$f":"Stückliste!A847","v":0},{"$f":"Stückliste!D847","v":0},{"$f":"Stückliste!H847","v":0},{"$f":"Stückliste!L847","v":0},{"$f":"Stückliste!P847","v":0},{"$f":"Stückliste!R847","v":0},{"$f":"Stückliste!T847","v":0},{"$f":"Stückliste!V847","v":0},{"$f":"Stückliste!X847","v":0},{"$f":"Stückliste!Z847","v":0},{"$f":"Stückliste!AB847","v":0},{"$f":"Stückliste!AD847","v":0},{"$f":"Stückliste!AH847","v":0},{"$f":"Stückliste!AJ847","v":0},{"$f":"Stückliste!AL847","v":0},{"$f":"Stückliste!AN847","v":0},{"$f":"Stückliste!AP847","v":0},{"$f":"Stückliste!AR847","v":0},{"$f":"Stückliste!AT847","v":0},{"$f":"Stückliste!AV847","v":0},{"$f":"Stückliste!AF847","v":0},{"$f":"Stückliste!AX847","v":0}]
[{"$f":"A794","v":0},0,8,{"$f":"Stückliste!A848","v":0},{"$f":"Stückliste!D848","v":0},{"$f":"Stückliste!H848","v":0},{"$f":"Stückliste!L848","v":0},{"$f":"Stückliste!P848","v":0},{"$f":"Stückliste!R848","v":0},{"$f":"Stückliste!T848","v":0},{"$f":"Stückliste!V848","v":0},{"$f":"Stückliste!X848","v":0},{"$f":"Stückliste!Z848","v":0},{"$f":"Stückliste!AB848","v":0},{"$f":"Stückliste!AD848","v":0},{"$f":"Stückliste!AH848","v":0},{"$f":"Stückliste!AJ848","v":0},{"$f":"Stückliste!AL848","v":0},{"$f":"Stückliste!AN848","v":0},{"$f":"Stückliste!AP848","v":0},{"$f":"Stückliste!AR848","v":0},{"$f":"Stückliste!AT848","v":0},{"$f":"Stückliste!AV848","v":0},{"$f":"Stückliste!AF848","v":0},{"$f":"Stückliste!AX848","v":0}]
[{"$f":"A795","v":0},0,8,{"$f":"Stückliste!A849","v":0},{"$f":"Stückliste!D849","v":0},{"$f":"Stückliste!H849","v":0},{"$f":"Stückliste!L849","v":0},{"$f":"Stückliste!P849","v":0},{"$f":"Stückliste!R849","v":0},{"$f":"Stückliste!T849","v":0},{"$f":"Stückliste!V849","v":0},{"$f":"Stückliste!X849","v":0},{"$f":"Stückliste!Z849","v":0},{"$f":"Stückliste!AB849","v":0},{"$f":"Stückliste!AD849","v":0},{"$f":"Stückliste!AH849","v":0},{"$f":"Stückliste!AJ849","v":0},{"$f":"Stückliste!AL849","v":0},{"$f":"Stückliste!AN849","v":0},{"$f":"Stückliste!AP849","v":0},{"$f":"Stückliste!AR849","v":0},{"$f":"Stückliste!AT849","v":0},{"$f":"Stückliste!AV849","v":0},{"$f":"Stückliste!AF849","v":0},{"$f":"Stückliste!AX849","v":0}]
[{"$f":"A796","v":0},0,8,{"$f":"Stückliste!A850","v":0},{"$f":"Stückliste!D850","v":0},{"$f":"Stückliste!H850","v":0},{"$f":"Stückliste!L850","v":0},{"$f":"Stückliste!P850","v":0},{"$f":"Stückliste!R850","v":0},{"$f":"Stückliste!T850","v":0},{"$f":"Stückliste!V850","v":0},{"$f":"Stückliste!X850","v":0},{"$f":"Stückliste!Z850","v":0},{"$f":"Stückliste!AB850","v":0},{"$f":"Stückliste!AD850","v":0},{"$f":"Stückliste!AH850","v":0},{"$f":"Stückliste!AJ850","v":0},{"$f":"Stückliste!AL850","v":0},{"$f":"Stückliste!AN850","v":0},{"$f":"Stückliste!AP850","v":0},{"$f":"Stückliste!AR850","v":0},{"$f":"Stückliste!AT850","v":0},{"$f":"Stückliste!AV850","v":0},{"$f":"Stückliste!AF850","v":0},{"$f":"Stückliste!AX850","v":0}]
[{"$f":"A797","v":0},0,8,{"$f":"Stückliste!A851","v":0},{"$f":"Stückliste!D851","v":0},{"$f":"Stückliste!H851","v":0},{"$f":"Stückliste!L851","v":0},{"$f":"Stückliste!P851","v":0},{"$f":"Stückliste!R851","v":0},{"$f":"Stückliste!T851","v":0},{"$f":"Stückliste!V851","v":0},{"$f":"Stückliste!X851","v":0},{"$f":"Stückliste!Z851","v":0},{"$f":"Stückliste!AB851","v":0},{"$f":"Stückliste!AD851","v":0},{"$f":"Stückliste!AH851","v":0},{"$f":"Stückliste!AJ851","v":0},{"$f":"Stückliste!AL851","v":0},{"$f":"Stückliste!AN851","v":0},{"$f":"Stückliste!AP851","v":0},{"$f":"Stückliste!AR851","v":0},{"$f":"Stückliste!AT851","v":0},{"$f":"Stückliste!AV851","v":0},{"$f":"Stückliste!AF851","v":0},{"$f":"Stückliste!AX851","v":0}]
[{"$f":"A798","v":0},0,8,{"$f":"Stückliste!A852","v":0},{"$f":"Stückliste!D852","v":0},{"$f":"Stückliste!H852","v":0},{"$f":"Stückliste!L852","v":0},{"$f":"Stückliste!P852","v":0},{"$f":"Stückliste!R852","v":0},{"$f":"Stückliste!T852","v":0},{"$f":"Stückliste!V852","v":0},{"$f":"Stückliste!X852","v":0},{"$f":"Stückliste!Z852","v":0},{"$f":"Stückliste!AB852","v":0},{"$f":"Stückliste!AD852","v":0},{"$f":"Stückliste!AH852","v":0},{"$f":"Stückliste!AJ852","v":0},{"$f":"Stückliste!AL852","v":0},{"$f":"Stückliste!AN852","v":0},{"$f":"Stückliste!AP852","v":0},{"$f":"Stückliste!AR852","v":0},{"$f":"Stückliste!AT852","v":0},{"$f":"Stückliste!AV852","v":0},{"$f":"Stückliste!AF852","v":0},{"$f":"Stückliste!AX852","v":0}]
[{"$f":"A799","v":0},0,8,{"$f":"Stückliste!A853","v":0},{"$f":"Stückliste!D853","v":0},{"$f":"Stückliste!H853","v":0},{"$f":"Stückliste!L853","v":0},{"$f":"Stückliste!P853","v":0},{"$f":"Stückliste!R853","v":0},{"$f":"Stückliste!T853","v":0},{"$f":"Stückliste!V853","v":0},{"$f":"Stückliste!X853","v":0},{"$f":"Stückliste!Z853","v":0},{"$f":"Stückliste!AB853","v":0},{"$f":"Stückliste!AD853","v":0},{"$f":"Stückliste!AH853","v":0},{"$f":"Stückliste!AJ853","v":0},{"$f":"Stückliste!AL853","v":0},{"$f":"Stückliste!AN853","v":0},{"$f":"Stückliste!AP853","v":0},{"$f":"Stückliste!AR853","v":0},{"$f":"Stückliste!AT853","v":0},{"$f":"Stückliste!AV853","v":0},{"$f":"Stückliste!AF853","v":0},{"$f":"Stückliste!AX853","v":0}]
[{"$f":"A800","v":0},0,8,{"$f":"Stückliste!A854","v":0},{"$f":"Stückliste!D854","v":0},{"$f":"Stückliste!H854","v":0},{"$f":"Stückliste!L854","v":0},{"$f":"Stückliste!P854","v":0},{"$f":"Stückliste!R854","v":0},{"$f":"Stückliste!T854","v":0},{"$f":"Stückliste!V854","v":0},{"$f":"Stückliste!X854","v":0},{"$f":"Stückliste!Z854","v":0},{"$f":"Stückliste!AB854","v":0},{"$f":"Stückliste!AD854","v":0},{"$f":"Stückliste!AH854","v":0},{"$f":"Stückliste!AJ854","v":0},{"$f":"Stückliste!AL854","v":0},{"$f":"Stückliste!AN854","v":0},{"$f":"Stückliste!AP854","v":0},{"$f":"Stückliste!AR854","v":0},{"$f":"Stückliste!AT854","v":0},{"$f":"Stückliste!AV854","v":0},{"$f":"Stückliste!AF854","v":0},{"$f":"Stückliste!AX854","v":0}]
[{"$f":"A801","v":0},0,8,{"$f":"Stückliste!A855","v":0},{"$f":"Stückliste!D855","v":0},{"$f":"Stückliste!H855","v":0},{"$f":"Stückliste!L855","v":0},{"$f":"Stückliste!P855","v":0},{"$f":"Stückliste!R855","v":0},{"$f":"Stückliste!T855","v":0},{"$f":"Stückliste!V855","v":0},{"$f":"Stückliste!X855","v":0},{"$f":"Stückliste!Z855","v":0},{"$f":"Stückliste!AB855","v":0},{"$f":"Stückliste!AD855","v":0},{"$f":"Stückliste!AH855","v":0},{"$f":"Stückliste!AJ855","v":0},{"$f":"Stückliste!AL855","v":0},{"$f":"Stückliste!AN855","v":0},{"$f":"Stückliste!AP855","v":0},{"$f":"Stückliste!AR855","v":0},{"$f":"Stückliste!AT855","v":0},{"$f":"Stückliste!AV855","v":0},{"$f":"Stückliste!AF855","v":0},{"$f":"Stückliste!AX855","v":0}]
[{"$f":"A802","v":0},0,8,{"$f":"Stückliste!A856","v":0},{"$f":"Stückliste!D856","v":0},{"$f":"Stückliste!H856","v":0},{"$f":"Stückliste!L856","v":0},{"$f":"Stückliste!P856","v":0},{"$f":"Stückliste!R856","v":0},{"$f":"Stückliste!T856","v":0},{"$f":"Stückliste!V856","v":0},{"$f":"Stückliste!X856","v":0},{"$f":"Stückliste!Z856","v":0},{"$f":"Stückliste!AB856","v":0},{"$f":"Stückliste!AD856","v":0},{"$f":"Stückliste!AH856","v":0},{"$f":"Stückliste!AJ856","v":0},{"$f":"Stückliste!AL856","v":0},{"$f":"Stückliste!AN856","v":0},{"$f":"Stückliste!AP856","v":0},{"$f":"Stückliste!AR856","v":0},{"$f":"Stückliste!AT856","v":0},{"$f":"Stückliste!AV856","v":0},{"$f":"Stückliste!AF856","v":0},{"$f":"Stückliste!AX856","v":0}]
[{"$f":"A803","v":0},0,8,{"$f":"Stückliste!A857","v":0},{"$f":"Stückliste!D857","v":0},{"$f":"Stückliste!H857","v":0},{"$f":"Stückliste!L857","v":0},{"$f":"Stückliste!P857","v":0},{"$f":"Stückliste!R857","v":0},{"$f":"Stückliste!T857","v":0},{"$f":"Stückliste!V857","v":0},{"$f":"Stückliste!X857","v":0},{"$f":"Stückliste!Z857","v":0},{"$f":"Stückliste!AB857","v":0},{"$f":"Stückliste!AD857","v":0},{"$f":"Stückliste!AH857","v":0},{"$f":"Stückliste!AJ857","v":0},{"$f":"Stückliste!AL857","v":0},{"$f":"Stückliste!AN857","v":0},{"$f":"Stückliste!AP857","v":0},{"$f":"Stückliste!AR857","v":0},{"$f":"Stückliste!AT857","v":0},{"$f":"Stückliste!AV857","v":0},{"$f":"Stückliste!AF857","v":0},{"$f":"Stückliste!AX857","v":0}]
[{"$f":"A804","v":0},0,8,{"$f":"Stückliste!A858","v":0},{"$f":"Stückliste!D858","v":0},{"$f":"Stückliste!H858","v":0},{"$f":"Stückliste!L858","v":0},{"$f":"Stückliste!P858","v":0},{"$f":"Stückliste!R858","v":0},{"$f":"Stückliste!T858","v":0},{"$f":"Stückliste!V858","v":0},{"$f":"Stückliste!X858","v":0},{"$f":"Stückliste!Z858","v":0},{"$f":"Stückliste!AB858","v":0},{"$f":"Stückliste!AD858","v":0},{"$f":"Stückliste!AH858","v":0},{"$f":"Stückliste!AJ858","v":0},{"$f":"Stückliste!AL858","v":0},{"$f":"Stückliste!AN858","v":0},{"$f":"Stückliste!AP858","v":0},{"$f":"Stückliste!AR858","v":0},{"$f":"Stückliste!AT858","v":0},{"$f":"Stückliste!AV858","v":0},{"$f":"Stückliste!AF858","v":0},{"$f":"Stückliste!AX858","v":0}]
[{"$f":"A805","v":0},0,8,{"$f":"Stückliste!A859","v":0},{"$f":"Stückliste!D859","v":0},{"$f":"Stückliste!H859","v":0},{"$f":"Stückliste!L859","v":0},{"$f":"Stückliste!P859","v":0},{"$f":"Stückliste!R859","v":0},{"$f":"Stückliste!T859","v":0},{"$f":"Stückliste!V859","v":0},{"$f":"Stückliste!X859","v":0},{"$f":"Stückliste!Z859","v":0},{"$f":"Stückliste!AB859","v":0},{"$f":"Stückliste!AD859","v":0},{"$f":"Stückliste!AH859","v":0},{"$f":"Stückliste!AJ859","v":0},{"$f":"Stückliste!AL859","v":0},{"$f":"Stückliste!AN859","v":0},{"$f":"Stückliste!AP859","v":0},{"$f":"Stückliste!AR859","v":0},{"$f":"Stückliste!AT859","v":0},{"$f":"Stückliste!AV859","v":0},{"$f":"Stückliste!AF859","v":0},{"$f":"Stückliste!AX859","v":0}]
[{"$f":"A806","v":0},0,8,{"$f":"Stückliste!A860","v":0},{"$f":"Stückliste!D860","v":0},{"$f":"Stückliste!H860","v":0},{"$f":"Stückliste!L860","v":0},{"$f":"Stückliste!P860","v":0},{"$f":"Stückliste!R860","v":0},{"$f":"Stückliste!T860","v":0},{"$f":"Stückliste!V860","v":0},{"$f":"Stückliste!X860","v":0},{"$f":"Stückliste!Z860","v":0},{"$f":"Stückliste!AB860","v":0},{"$f":"Stückliste!AD860","v":0},{"$f":"Stückliste!AH860","v":0},{"$f":"Stückliste!AJ860","v":0},{"$f":"Stückliste!AL860","v":0},{"$f":"Stückliste!AN860","v":0},{"$f":"Stückliste!AP860","v":0},{"$f":"Stückliste!AR860","v":0},{"$f":"Stückliste!AT860","v":0},{"$f":"Stückliste!AV860","v":0},{"$f":"Stückliste!AF860","v":0},{"$f":"Stückliste!AX860","v":0}]
[{"$f":"A807","v":0},0,8,{"$f":"Stückliste!A861","v":0},{"$f":"Stückliste!D861","v":0},{"$f":"Stückliste!H861","v":0},{"$f":"Stückliste!L861","v":0},{"$f":"Stückliste!P861","v":0},{"$f":"Stückliste!R861","v":0},{"$f":"Stückliste!T861","v":0},{"$f":"Stückliste!V861","v":0},{"$f":"Stückliste!X861","v":0},{"$f":"Stückliste!Z861","v":0},{"$f":"Stückliste!AB861","v":0},{"$f":"Stückliste!AD861","v":0},{"$f":"Stückliste!AH861","v":0},{"$f":"Stückliste!AJ861","v":0},{"$f":"Stückliste!AL861","v":0},{"$f":"Stückliste!AN861","v":0},{"$f":"Stückliste!AP861","v":0},{"$f":"Stückliste!AR861","v":0},{"$f":"Stückliste!AT861","v":0},{"$f":"Stückliste!AV861","v":0},{"$f":"Stückliste!AF861","v":0},{"$f":"Stückliste!AX861","v":0}]
[{"$f":"A808","v":0},0,8,{"$f":"Stückliste!A862","v":0},{"$f":"Stückliste!D862","v":0},{"$f":"Stückliste!H862","v":0},{"$f":"Stückliste!L862","v":0},{"$f":"Stückliste!P862","v":0},{"$f":"Stückliste!R862","v":0},{"$f":"Stückliste!T862","v":0},{"$f":"Stückliste!V862","v":0},{"$f":"Stückliste!X862","v":0},{"$f":"Stückliste!Z862","v":0},{"$f":"Stückliste!AB862","v":0},{"$f":"Stückliste!AD862","v":0},{"$f":"Stückliste!AH862","v":0},{"$f":"Stückliste!AJ862","v":0},{"$f":"Stückliste!AL862","v":0},{"$f":"Stückliste!AN862","v":0},{"$f":"Stückliste!AP862","v":0},{"$f":"Stückliste!AR862","v":0},{"$f":"Stückliste!AT862","v":0},{"$f":"Stückliste!AV862","v":0},{"$f":"Stückliste!AF862","v":0},{"$f":"Stückliste!AX862","v":0}]
[{"$f":"A809","v":0},0,8,{"$f":"Stückliste!A863","v":0},{"$f":"Stückliste!D863","v":0},{"$f":"Stückliste!H863","v":0},{"$f":"Stückliste!L863","v":0},{"$f":"Stückliste!P863","v":0},{"$f":"Stückliste!R863","v":0},{"$f":"Stückliste!T863","v":0},{"$f":"Stückliste!V863","v":0},{"$f":"Stückliste!X863","v":0},{"$f":"Stückliste!Z863","v":0},{"$f":"Stückliste!AB863","v":0},{"$f":"Stückliste!AD863","v":0},{"$f":"Stückliste!AH863","v":0},{"$f":"Stückliste!AJ863","v":0},{"$f":"Stückliste!AL863","v":0},{"$f":"Stückliste!AN863","v":0},{"$f":"Stückliste!AP863","v":0},{"$f":"Stückliste!AR863","v":0},{"$f":"Stückliste!AT863","v":0},{"$f":"Stückliste!AV863","v":0},{"$f":"Stückliste!AF863","v":0},{"$f":"Stückliste!AX863","v":0}]
[{"$f":"A810","v":0},0,8,{"$f":"Stückliste!A864","v":0},{"$f":"Stückliste!D864","v":0},{"$f":"Stückliste!H864","v":0},{"$f":"Stückliste!L864","v":0},{"$f":"Stückliste!P864","v":0},{"$f":"Stückliste!R864","v":0},{"$f":"Stückliste!T864","v":0},{"$f":"Stückliste!V864","v":0},{"$f":"Stückliste!X864","v":0},{"$f":"Stückliste!Z864","v":0},{"$f":"Stückliste!AB864","v":0},{"$f":"Stückliste!AD864","v":0},{"$f":"Stückliste!AH864","v":0},{"$f":"Stückliste!AJ864","v":0},{"$f":"Stückliste!AL864","v":0},{"$f":"Stückliste!AN864","v":0},{"$f":"Stückliste!AP864","v":0},{"$f":"Stückliste!AR864","v":0},{"$f":"Stückliste!AT864","v":0},{"$f":"Stückliste!AV864","v":0},{"$f":"Stückliste!AF864","v":0},{"$f":"Stückliste!AX864","v":0}]
[{"$f":"A811","v":0},0,8,{"$f":"Stückliste!A865","v":0},{"$f":"Stückliste!D865","v":0},{"$f":"Stückliste!H865","v":0},{"$f":"Stückliste!L865","v":0},{"$f":"Stückliste!P865","v":0},{"$f":"Stückliste!R865","v":0},{"$f":"Stückliste!T865","v":0},{"$f":"Stückliste!V865","v":0},{"$f":"Stückliste!X865","v":0},{"$f":"Stückliste!Z865","v":0},{"$f":"Stückliste!AB865","v":0},{"$f":"Stückliste!AD865","v":0},{"$f":"Stückliste!AH865","v":0},{"$f":"Stückliste!AJ865","v":0},{"$f":"Stückliste!AL865","v":0},{"$f":"Stückliste!AN865","v":0},{"$f":"Stückliste!AP865","v":0},{"$f":"Stückliste!AR865","v":0},{"$f":"Stückliste!AT865","v":0},{"$f":"Stückliste!AV865","v":0},{"$f":"Stückliste!AF865","v":0},{"$f":"Stückliste!AX865","v":0}]
[{"$f":"A812","v":0},0,8,{"$f":"Stückliste!A866","v":0},{"$f":"Stückliste!D866","v":0},{"$f":"Stückliste!H866","v":0},{"$f":"Stückliste!L866","v":0},{"$f":"Stückliste!P866","v":0},{"$f":"Stückliste!R866","v":0},{"$f":"Stückliste!T866","v":0},{"$f":"Stückliste!V866","v":0},{"$f":"Stückliste!X866","v":0},{"$f":"Stückliste!Z866","v":0},{"$f":"Stückliste!AB866","v":0},{"$f":"Stückliste!AD866","v":0},{"$f":"Stückliste!AH866","v":0},{"$f":"Stückliste!AJ866","v":0},{"$f":"Stückliste!AL866","v":0},{"$f":"Stückliste!AN866","v":0},{"$f":"Stückliste!AP866","v":0},{"$f":"Stückliste!AR866","v":0},{"$f":"Stückliste!AT866","v":0},{"$f":"Stückliste!AV866","v":0},{"$f":"Stückliste!AF866","v":0},{"$f":"Stückliste!AX866","v":0}]
[{"$f":"A813","v":0},0,8,{"$f":"Stückliste!A867","v":0},{"$f":"Stückliste!D867","v":0},{"$f":"Stückliste!H867","v":0},{"$f":"Stückliste!L867","v":0},{"$f":"Stückliste!P867","v":0},{"$f":"Stückliste!R867","v":0},{"$f":"Stückliste!T867","v":0},{"$f":"Stückliste!V867","v":0},{"$f":"Stückliste!X867","v":0},{"$f":"Stückliste!Z867","v":0},{"$f":"Stückliste!AB867","v":0},{"$f":"Stückliste!AD867","v":0},{"$f":"Stückliste!AH867","v":0},{"$f":"Stückliste!AJ867","v":0},{"$f":"Stückliste!AL867","v":0},{"$f":"Stückliste!AN867","v":0},{"$f":"Stückliste!AP867","v":0},{"$f":"Stückliste!AR867","v":0},{"$f":"Stückliste!AT867","v":0},{"$f":"Stückliste!AV867","v":0},{"$f":"Stückliste!AF867","v":0},{"$f":"Stückliste!AX867","v":0}]
[{"$f":"A814","v":0},0,8,{"$f":"Stückliste!A868","v":0},{"$f":"Stückliste!D868","v":0},{"$f":"Stückliste!H868","v":0},{"$f":"Stückliste!L868","v":0},{"$f":"Stückliste!P868","v":0},{"$f":"Stückliste!R868","v":0},{"$f":"Stückliste!T868","v":0},{"$f":"Stückliste!V868","v":0},{"$f":"Stückliste!X868","v":0},{"$f":"Stückliste!Z868","v":0},{"$f":"Stückliste!AB868","v":0},{"$f":"Stückliste!AD868","v":0},{"$f":"Stückliste!AH868","v":0},{"$f":"Stückliste!AJ868","v":0},{"$f":"Stückliste!AL868","v":0},{"$f":"Stückliste!AN868","v":0},{"$f":"Stückliste!AP868","v":0},{"$f":"Stückliste!AR868","v":0},{"$f":"Stückliste!AT868","v":0},{"$f":"Stückliste!AV868","v":0},{"$f":"Stückliste!AF868","v":0},{"$f":"Stückliste!AX868","v":0}]
[{"$f":"A815","v":0},0,8,{"$f":"Stückliste!A869","v":0},{"$f":"Stückliste!D869","v":0},{"$f":"Stückliste!H869","v":0},{"$f":"Stückliste!L869","v":0},{"$f":"Stückliste!P869","v":0},{"$f":"Stückliste!R869","v":0},{"$f":"Stückliste!T869","v":0},{"$f":"Stückliste!V869","v":0},{"$f":"Stückliste!X869","v":0},{"$f":"Stückliste!Z869","v":0},{"$f":"Stückliste!AB869","v":0},{"$f":"Stückliste!AD869","v":0},{"$f":"Stückliste!AH869","v":0},{"$f":"Stückliste!AJ869","v":0},{"$f":"Stückliste!AL869","v":0},{"$f":"Stückliste!AN869","v":0},{"$f":"Stückliste!AP869","v":0},{"$f":"Stückliste!AR869","v":0},{"$f":"Stückliste!AT869","v":0},{"$f":"Stückliste!AV869","v":0},{"$f":"Stückliste!AF869","v":0},{"$f":"Stückliste!AX869","v":0}]
[{"$f":"A816","v":0},0,8,{"$f":"Stückliste!A870","v":0},{"$f":"Stückliste!D870","v":0},{"$f":"Stückliste!H870","v":0},{"$f":"Stückliste!L870","v":0},{"$f":"Stückliste!P870","v":0},{"$f":"Stückliste!R870","v":0},{"$f":"Stückliste!T870","v":0},{"$f":"Stückliste!V870","v":0},{"$f":"Stückliste!X870","v":0},{"$f":"Stückliste!Z870","v":0},{"$f":"Stückliste!AB870","v":0},{"$f":"Stückliste!AD870","v":0},{"$f":"Stückliste!AH870","v":0},{"$f":"Stückliste!AJ870","v":0},{"$f":"Stückliste!AL870","v":0},{"$f":"Stückliste!AN870","v":0},{"$f":"Stückliste!AP870","v":0},{"$f":"Stückliste!AR870","v":0},{"$f":"Stückliste!AT870","v":0},{"$f":"Stückliste!AV870","v":0},{"$f":"Stückliste!AF870","v":0},{"$f":"Stückliste!AX870","v":0}]
[{"$f":"A817","v":0},0,8,{"$f":"Stückliste!A871","v":0},{"$f":"Stückliste!D871","v":0},{"$f":"Stückliste!H871","v":0},{"$f":"Stückliste!L871","v":0},{"$f":"Stückliste!P871","v":0},{"$f":"Stückliste!R871","v":0},{"$f":"Stückliste!T871","v":0},{"$f":"Stückliste!V871","v":0},{"$f":"Stückliste!X871","v":0},{"$f":"Stückliste!Z871","v":0},{"$f":"Stückliste!AB871","v":0},{"$f":"Stückliste!AD871","v":0},{"$f":"Stückliste!AH871","v":0},{"$f":"Stückliste!AJ871","v":0},{"$f":"Stückliste!AL871","v":0},{"$f":"Stückliste!AN871","v":0},{"$f":"Stückliste!AP871","v":0},{"$f":"Stückliste!AR871","v":0},{"$f":"Stückliste!AT871","v":0},{"$f":"Stückliste!AV871","v":0},{"$f":"Stückliste!AF871","v":0},{"$f":"Stückliste!AX871","v":0}]
[{"$f":"A818","v":0},0,8,{"$f":"Stückliste!A872","v":0},{"$f":"Stückliste!D872","v":0},{"$f":"Stückliste!H872","v":0},{"$f":"Stückliste!L872","v":0},{"$f":"Stückliste!P872","v":0},{"$f":"Stückliste!R872","v":0},{"$f":"Stückliste!T872","v":0},{"$f":"Stückliste!V872","v":0},{"$f":"Stückliste!X872","v":0},{"$f":"Stückliste!Z872","v":0},{"$f":"Stückliste!AB872","v":0},{"$f":"Stückliste!AD872","v":0},{"$f":"Stückliste!AH872","v":0},{"$f":"Stückliste!AJ872","v":0},{"$f":"Stückliste!AL872","v":0},{"$f":"Stückliste!AN872","v":0},{"$f":"Stückliste!AP872","v":0},{"$f":"Stückliste!AR872","v":0},{"$f":"Stückliste!AT872","v":0},{"$f":"Stückliste!AV872","v":0},{"$f":"Stückliste!AF872","v":0},{"$f":"Stückliste!AX872","v":0}]
[{"$f":"A819","v":0},0,8,{"$f":"Stückliste!A873","v":0},{"$f":"Stückliste!D873","v":0},{"$f":"Stückliste!H873","v":0},{"$f":"Stückliste!L873","v":0},{"$f":"Stückliste!P873","v":0},{"$f":"Stückliste!R873","v":0},{"$f":"Stückliste!T873","v":0},{"$f":"Stückliste!V873","v":0},{"$f":"Stückliste!X873","v":0},{"$f":"Stückliste!Z873","v":0},{"$f":"Stückliste!AB873","v":0},{"$f":"Stückliste!AD873","v":0},{"$f":"Stückliste!AH873","v":0},{"$f":"Stückliste!AJ873","v":0},{"$f":"Stückliste!AL873","v":0},{"$f":"Stückliste!AN873","v":0},{"$f":"Stückliste!AP873","v":0},{"$f":"Stückliste!AR873","v":0},{"$f":"Stückliste!AT873","v":0},{"$f":"Stückliste!AV873","v":0},{"$f":"Stückliste!AF873","v":0},{"$f":"Stückliste!AX873","v":0}]
[{"$f":"A820","v":0},0,8,{"$f":"Stückliste!A874","v":0},{"$f":"Stückliste!D874","v":0},{"$f":"Stückliste!H874","v":0},{"$f":"Stückliste!L874","v":0},{"$f":"Stückliste!P874","v":0},{"$f":"Stückliste!R874","v":0},{"$f":"Stückliste!T874","v":0},{"$f":"Stückliste!V874","v":0},{"$f":"Stückliste!X874","v":0},{"$f":"Stückliste!Z874","v":0},{"$f":"Stückliste!AB874","v":0},{"$f":"Stückliste!AD874","v":0},{"$f":"Stückliste!AH874","v":0},{"$f":"Stückliste!AJ874","v":0},{"$f":"Stückliste!AL874","v":0},{"$f":"Stückliste!AN874","v":0},{"$f":"Stückliste!AP874","v":0},{"$f":"Stückliste!AR874","v":0},{"$f":"Stückliste!AT874","v":0},{"$f":"Stückliste!AV874","v":0},{"$f":"Stückliste!AF874","v":0},{"$f":"Stückliste!AX874","v":0}]
[{"$f":"A821","v":0},0,8,{"$f":"Stückliste!A875","v":0},{"$f":"Stückliste!D875","v":0},{"$f":"Stückliste!H875","v":0},{"$f":"Stückliste!L875","v":0},{"$f":"Stückliste!P875","v":0},{"$f":"Stückliste!R875","v":0},{"$f":"Stückliste!T875","v":0},{"$f":"Stückliste!V875","v":0},{"$f":"Stückliste!X875","v":0},{"$f":"Stückliste!Z875","v":0},{"$f":"Stückliste!AB875","v":0},{"$f":"Stückliste!AD875","v":0},{"$f":"Stückliste!AH875","v":0},{"$f":"Stückliste!AJ875","v":0},{"$f":"Stückliste!AL875","v":0},{"$f":"Stückliste!AN875","v":0},{"$f":"Stückliste!AP875","v":0},{"$f":"Stückliste!AR875","v":0},{"$f":"Stückliste!AT875","v":0},{"$f":"Stückliste!AV875","v":0},{"$f":"Stückliste!AF875","v":0},{"$f":"Stückliste!AX875","v":0}]
[{"$f":"A822","v":0},0,8,{"$f":"Stückliste!A876","v":0},{"$f":"Stückliste!D876","v":0},{"$f":"Stückliste!H876","v":0},{"$f":"Stückliste!L876","v":0},{"$f":"Stückliste!P876","v":0},{"$f":"Stückliste!R876","v":0},{"$f":"Stückliste!T876","v":0},{"$f":"Stückliste!V876","v":0},{"$f":"Stückliste!X876","v":0},{"$f":"Stückliste!Z876","v":0},{"$f":"Stückliste!AB876","v":0},{"$f":"Stückliste!AD876","v":0},{"$f":"Stückliste!AH876","v":0},{"$f":"Stückliste!AJ876","v":0},{"$f":"Stückliste!AL876","v":0},{"$f":"Stückliste!AN876","v":0},{"$f":"Stückliste!AP876","v":0},{"$f":"Stückliste!AR876","v":0},{"$f":"Stückliste!AT876","v":0},{"$f":"Stückliste!AV876","v":0},{"$f":"Stückliste!AF876","v":0},{"$f":"Stückliste!AX876","v":0}]
[{"$f":"A823","v":0},0,8,{"$f":"Stückliste!A877","v":0},{"$f":"Stückliste!D877","v":0},{"$f":"Stückliste!H877","v":0},{"$f":"Stückliste!L877","v":0},{"$f":"Stückliste!P877","v":0},{"$f":"Stückliste!R877","v":0},{"$f":"Stückliste!T877","v":0},{"$f":"Stückliste!V877","v":0},{"$f":"Stückliste!X877","v":0},{"$f":"Stückliste!Z877","v":0},{"$f":"Stückliste!AB877","v":0},{"$f":"Stückliste!AD877","v":0},{"$f":"Stückliste!AH877","v":0},{"$f":"Stückliste!AJ877","v":0},{"$f":"Stückliste!AL877","v":0},{"$f":"Stückliste!AN877","v":0},{"$f":"Stückliste!AP877","v":0},{"$f":"Stückliste!AR877","v":0},{"$f":"Stückliste!AT877","v":0},{"$f":"Stückliste!AV877","v":0},{"$f":"Stückliste!AF877","v":0},{"$f":"Stückliste!AX877","v":0}]
[{"$f":"A824","v":0},0,8,{"$f":"Stückliste!A878","v":0},{"$f":"Stückliste!D878","v":0},{"$f":"Stückliste!H878","v":0},{"$f":"Stückliste!L878","v":0},{"$f":"Stückliste!P878","v":0},{"$f":"Stückliste!R878","v":0},{"$f":"Stückliste!T878","v":0},{"$f":"Stückliste!V878","v":0},{"$f":"Stückliste!X878","v":0},{"$f":"Stückliste!Z878","v":0},{"$f":"Stückliste!AB878","v":0},{"$f":"Stückliste!AD878","v":0},{"$f":"Stückliste!AH878","v":0},{"$f":"Stückliste!AJ878","v":0},{"$f":"Stückliste!AL878","v":0},{"$f":"Stückliste!AN878","v":0},{"$f":"Stückliste!AP878","v":0},{"$f":"Stückliste!AR878","v":0},{"$f":"Stückliste!AT878","v":0},{"$f":"Stückliste!AV878","v":0},{"$f":"Stückliste!AF878","v":0},{"$f":"Stückliste!AX878","v":0}]
[{"$f":"A825","v":0},0,8,{"$f":"Stückliste!A879","v":0},{"$f":"Stückliste!D879","v":0},{"$f":"Stückliste!H879","v":0},{"$f":"Stückliste!L879","v":0},{"$f":"Stückliste!P879","v":0},{"$f":"Stückliste!R879","v":0},{"$f":"Stückliste!T879","v":0},{"$f":"Stückliste!V879","v":0},{"$f":"Stückliste!X879","v":0},{"$f":"Stückliste!Z879","v":0},{"$f":"Stückliste!AB879","v":0},{"$f":"Stückliste!AD879","v":0},{"$f":"Stückliste!AH879","v":0},{"$f":"Stückliste!AJ879","v":0},{"$f":"Stückliste!AL879","v":0},{"$f":"Stückliste!AN879","v":0},{"$f":"Stückliste!AP879","v":0},{"$f":"Stückliste!AR879","v":0},{"$f":"Stückliste!AT879","v":0},{"$f":"Stückliste!AV879","v":0},{"$f":"Stückliste!AF879","v":0},{"$f":"Stückliste!AX879","v":0}]
[{"$f":"A826","v":0},0,8,{"$f":"Stückliste!A880","v":0},{"$f":"Stückliste!D880","v":0},{"$f":"Stückliste!H880","v":0},{"$f":"Stückliste!L880","v":0},{"$f":"Stückliste!P880","v":0},{"$f":"Stückliste!R880","v":0},{"$f":"Stückliste!T880","v":0},{"$f":"Stückliste!V880","v":0},{"$f":"Stückliste!X880","v":0},{"$f":"Stückliste!Z880","v":0},{"$f":"Stückliste!AB880","v":0},{"$f":"Stückliste!AD880","v":0},{"$f":"Stückliste!AH880","v":0},{"$f":"Stückliste!AJ880","v":0},{"$f":"Stückliste!AL880","v":0},{"$f":"Stückliste!AN880","v":0},{"$f":"Stückliste!AP880","v":0},{"$f":"Stückliste!AR880","v":0},{"$f":"Stückliste!AT880","v":0},{"$f":"Stückliste!AV880","v":0},{"$f":"Stückliste!AF880","v":0},{"$f":"Stückliste!AX880","v":0}]
[{"$f":"A827","v":0},0,8,{"$f":"Stückliste!A881","v":0},{"$f":"Stückliste!D881","v":0},{"$f":"Stückliste!H881","v":0},{"$f":"Stückliste!L881","v":0},{"$f":"Stückliste!P881","v":0},{"$f":"Stückliste!R881","v":0},{"$f":"Stückliste!T881","v":0},{"$f":"Stückliste!V881","v":0},{"$f":"Stückliste!X881","v":0},{"$f":"Stückliste!Z881","v":0},{"$f":"Stückliste!AB881","v":0},{"$f":"Stückliste!AD881","v":0},{"$f":"Stückliste!AH881","v":0},{"$f":"Stückliste!AJ881","v":0},{"$f":"Stückliste!AL881","v":0},{"$f":"Stückliste!AN881","v":0},{"$f":"Stückliste!AP881","v":0},{"$f":"Stückliste!AR881","v":0},{"$f":"Stückliste!AT881","v":0},{"$f":"Stückliste!AV881","v":0},{"$f":"Stückliste!AF881","v":0},{"$f":"Stückliste!AX881","v":0}]
[{"$f":"A828","v":0},0,8,{"$f":"Stückliste!A882","v":0},{"$f":"Stückliste!D882","v":0},{"$f":"Stückliste!H882","v":0},{"$f":"Stückliste!L882","v":0},{"$f":"Stückliste!P882","v":0},{"$f":"Stückliste!R882","v":0},{"$f":"Stückliste!T882","v":0},{"$f":"Stückliste!V882","v":0},{"$f":"Stückliste!X882","v":0},{"$f":"Stückliste!Z882","v":0},{"$f":"Stückliste!AB882","v":0},{"$f":"Stückliste!AD882","v":0},{"$f":"Stückliste!AH882","v":0},{"$f":"Stückliste!AJ882","v":0},{"$f":"Stückliste!AL882","v":0},{"$f":"Stückliste!AN882","v":0},{"$f":"Stückliste!AP882","v":0},{"$f":"Stückliste!AR882","v":0},{"$f":"Stückliste!AT882","v":0},{"$f":"Stückliste!AV882","v":0},{"$f":"Stückliste!AF882","v":0},{"$f":"Stückliste!AX882","v":0}]
[{"$f":"A829","v":0},0,8,{"$f":"Stückliste!A883","v":0},{"$f":"Stückliste!D883","v":0},{"$f":"Stückliste!H883","v":0},{"$f":"Stückliste!L883","v":0},{"$f":"Stückliste!P883","v":0},{"$f":"Stückliste!R883","v":0},{"$f":"Stückliste!T883","v":0},{"$f":"Stückliste!V883","v":0},{"$f":"Stückliste!X883","v":0},{"$f":"Stückliste!Z883","v":0},{"$f":"Stückliste!AB883","v":0},{"$f":"Stückliste!AD883","v":0},{"$f":"Stückliste!AH883","v":0},{"$f":"Stückliste!AJ883","v":0},{"$f":"Stückliste!AL883","v":0},{"$f":"Stückliste!AN883","v":0},{"$f":"Stückliste!AP883","v":0},{"$f":"Stückliste!AR883","v":0},{"$f":"Stückliste!AT883","v":0},{"$f":"Stückliste!AV883","v":0},{"$f":"Stückliste!AF883","v":0},{"$f":"Stückliste!AX883","v":0}]

{"sheet":"Stückliste","index":1,"n_rows":581,"n_cols":88,"rows_kept":581,"cut":false,"hidden":false,"merged":[[288,43,288,44],[287,29,287,30],[287,31,287,32],[288,45,288,46],[288,31,288,32],[288,33,288,34],[288,35,288,36],[288,37,288,38],[288,39,288,40],[284,41,284,42],[284,43,284,44],[284,37,284,38],[284,39,284,40],[285,43,285,44],[285,45,285,46],[284,33,284,34],[284,35,284,36],[286,43,286,44],[286,45,286,46],[286,29,286,30],[286,41,286,42],[286,35,286,36],[286,37,286,38],[286,39,286,40],[287,43,287,44],[287,37,287,38],[287,39,287,40],[287,35,287,36],[287,45,287,46],[287,41,287,42],[286,0,286,2],[286,3,286,6],[286,7,286,10],[286,11,286,14],[285,31,285,32],[285,33,285,34],[285,35,285,36],[285,37,285,38],[285,39,285,40],[285,41,285,42],[288,21,288,22],[288,25,288,26],[288,19,288,20],[288,23,288,24],[288,27,288,28],[288,29,288,30],[288,41,288,42],[287,0,287,2],[287,3,287,6],[287,7,287,10],[287,11,287,14],[286,25,286,26],[286,27,286,28],[287,25,287,26],[287,27,287,28],[287,23,287,24],[287,19,287,20],[287,15,287,16],[286,33,286,34],[286,31,286,32],[286,15,286,16],[286,17,286,18],[286,21,286,22],[286,23,286,24],[287,33,287,34],[287,21,287,22],[284,25,284,26],[284,27,284,28],[284,29,284,30],[284,31,284,32],[284,23,284,24],[284,19,284,20],[284,45,284,46],[285,0,285,2],[285,3,285,6],[285,7,285,10],[285,11,285,14],[285,15,285,16],[285,17,285,18],[285,21,285,22],[283,23,283,24],[283,25,283,26],[283,27,283,28],[283,29,283,30],[284,3,284,6],[284,7,284,10],[284,11,284,14],[284,15,284,16],[284,17,284,18],[284,21,284,22],[283,45,283,46],[283,31,283,32],[283,33,283,34],[283,35,283,36],[283,37,283,38],[283,39,283,40],[283,41,283,42],[283,0,283,2],[283,21,283,22],[283,43,283,44],[285,23,285,24],[285,25,285,26],[285,27,285,28],[285,29,285,30],[283,19,283,20],[285,19,285,20],[283,15,283,16],[283,17,283,18],[286,19,286,20],[287,17,287,18],[282,7,282,10],[282,11,282,14],[282,15,282,16],[282,17,282,18],[281,37,281,38],[281,23,281,24],[281,25,281,26],[281,27,281,28],[281,29,281,30],[280,37,280,38],[281,21,281,22],[280,23,280,24],[280,19,280,20],[281,31,281,32],[281,33,281,34],[281,35,281,36],[281,0,281,2],[281,3,281,6],[281,7,281,10],[281,11,281,14],[281,15,281,16],[281,17,281,18],[280,33,280,34],[280,35,280,36],[280,29,280,30],[280,31,280,32],[281,19,281,20],[282,31,282,32],[282,33,282,34],[282,35,282,36],[282,37,282,38],[282,39,282,40],[282,41,282,42],[282,21,282,22],[282,23,282,24],[282,19,282,20],[282,25,282,26],[282,27,282,28],[282,29,282,30],[281,39,281,40],[281,41,281,42],[279,45,279,46],[279,31,279,32],[279,33,279,34],[279,35,279,36],[279,37,279,38],[279,39,279,40],[279,29,279,30],[278,0,278,2],[278,3,278,6],[278,7,278,10],[278,11,278,14],[278,15,278,16],[277,43,277,44],[278,39,278,40],[278,41,278,42],[278,43,278,44],[278,25,278,26],[278,23,278,24],[278,29,278,30],[278,31,278,32],[278,33,278,34],[278,27,278,28],[277,21,277,22],[277,23,277,24],[277,25,277,26],[277,27,277,28],[277,29,277,30],[277,31,277,32],[277,35,277,36],[277,37,277,38],[277,39,277,40],[277,15,277,16],[282,45,282,46],[280,45,280,46],[280,39,280,40],[280,41,280,42],[280,43,280,44],[280,15,280,16],[280,17,280,18],[280,25,280,26],[280,27,280,28],[279,25,279,26],[279,27,279,28],[280,21,280,22],[279,0,279,2],[279,3,279,6],[279,41,279,42],[279,7,279,10],[279,11,279,14],[280,0,280,2],[280,3,280,6],[280,7,280,10],[280,11,280,14],[279,43,279,44],[279,23,279,24],[279,15,279,16],[279,17,279,18],[279,19,279,20],[279,21,279,22],[282,43,282,44],[281,43,281,44],[281,45,281,46],[282,0,282,2],[282,3,282,6],[276,0,276,2],[276,3,276,6],[276,7,276,10],[276,11,276,14],[276,15,276,16],[276,17,276,18],[276,19,276,20],[275,41,275,42],[275,43,275,44],[275,21,275,22],[275,23,275,24],[275,33,275,34],[275,35,275,36],[275,29,275,30],[275,31,275,32],[275,25,275,26],[275,27,275,28],[277,0,277,2],[277,3,277,6],[277,7,277,10],[277,11,277,14],[277,17,277,18],[277,19,277,20],[278,17,278,18],[276,45,276,46],[276,41,276,42],[276,43,276,44],[276,37,276,38],[276,39,276,40],[277,45,277,46],[278,37,278,38],[278,19,278,20],[278,21,278,22],[278,45,278,46],[277,41,277,42],[277,33,277,34],[278,35,278,36],[276,21,276,22],[276,23,276,24],[276,25,276,26],[276,27,276,28],[276,29,276,30],[276,31,276,32],[276,33,276,34],[276,35,276,36],[273,35,273,36],[273,0,273,2],[273,3,273,6],[273,7,273,10],[273,11,273,14],[273,37,273,38],[273,23,273,24],[272,35,272,36],[273,21,273,22],[273,15,273,16],[273,17,273,18],[272,17,272,18],[272,19,272,20],[271,15,271,16],[274,41,274,42],[274,43,274,44],[274,45,274,46],[275,0,275,2],[275,3,275,6],[275,7,275,10],[275,11,275,14],[275,15,275,16],[275,17,275,18],[275,19,275,20],[274,29,274,30],[274,31,274,32],[274,33,274,34],[274,35,274,36],[274,37,274,38],[274,39,274,40],[273,41,273,42],[273,43,273,44],[273,45,273,46],[274,15,274,16],[274,17,274,18],[274,19,274,20],[274,21,274,22],[274,23,274,24],[274,25,274,26],[274,27,274,28],[274,0,274,2],[274,3,274,6],[274,7,274,10],[274,11,274,14],[275,37,275,38],[275,39,275,40],[275,45,275,46],[271,41,271,42],[271,43,271,44],[272,41,272,42],[272,43,272,44],[272,37,272,38],[272,0,272,2],[272,3,272,6],[272,7,272,10],[272,11,272,14],[271,45,271,46],[271,35,271,36],[272,29,272,30],[272,39,272,40],[272,45,272,46],[271,37,271,38],[272,21,272,22],[271,33,271,34],[271,29,271,30],[271,31,271,32],[271,25,271,26],[271,27,271,28],[271,21,271,22],[271,23,271,24],[272,31,272,32],[272,33,272,34],[271,0,271,2],[271,3,271,6],[271,7,271,10],[271,11,271,14],[271,39,271,40],[271,19,271,20],[272,15,272,16],[272,23,272,24],[272,25,272,26],[272,27,272,28],[270,0,270,2],[270,3,270,6],[270,7,270,10],[270,11,270,14],[270,23,270,24],[269,33,269,34],[269,35,269,36],[269,25,269,26],[269,27,269,28],[269,29,269,30],[269,31,269,32],[268,39,268,40],[268,41,268,42],[268,43,268,44],[268,45,268,46],[269,0,269,2],[269,3,269,6],[269,7,269,10],[269,11,269,14],[269,21,269,22],[269,23,269,24],[270,17,270,18],[270,15,270,16],[270,19,270,20],[270,21,270,22],[270,25,270,26],[270,27,270,28],[270,29,270,30],[270,43,270,44],[270,45,270,46],[270,31,270,32],[270,33,270,34],[270,35,270,36],[270,37,270,38],[270,41,270,42],[270,39,270,40],[269,43,269,44],[269,45,269,46],[269,41,269,42],[269,37,269,38],[269,39,269,40],[271,17,271,18],[269,15,269,16],[269,17,269,18],[269,19,269,20],[267,0,267,2],[267,3,267,6],[267,7,267,10],[267,11,267,14],[267,15,267,16],[267,17,267,18],[267,21,267,22],[266,21,266,22],[266,43,266,44],[266,45,266,46],[266,31,266,32],[266,33,266,34],[266,35,266,36],[266,37,266,38],[266,39,266,40],[266,41,266,42],[266,23,266,24],[266,19,266,20],[267,37,267,38],[267,39,267,40],[268,23,268,24],[268,25,268,26],[268,27,268,28],[268,29,268,30],[268,31,268,32],[268,33,268,34],[268,35,268,36],[268,37,268,38],[267,45,267,46],[268,0,268,2],[268,3,268,6],[268,7,268,10],[268,11,268,14],[268,15,268,16],[268,17,268,18],[268,21,268,22],[267,41,267,42],[267,43,267,44],[267,23,267,24],[267,19,267,20],[267,33,267,34],[267,35,267,36],[267,29,267,30],[267,31,267,32],[267,25,267,26],[267,27,267,28],[265,37,265,38],[265,39,265,40],[265,41,265,42],[265,43,265,44],[265,45,265,46],[266,0,266,2],[266,3,266,6],[266,7,266,10],[266,11,266,14],[266,15,266,16],[265,25,265,26],[265,27,265,28],[265,29,265,30],[265,31,265,32],[265,33,265,34],[265,35,265,36],[264,45,264,46],[265,0,265,2],[265,3,265,6],[265,7,265,10],[265,11,265,14],[265,15,265,16],[265,17,265,18],[265,21,265,22],[265,23,265,24],[265,19,265,20],[264,33,264,34],[264,35,264,36],[264,37,264,38],[264,39,264,40],[264,41,264,42],[264,43,264,44],[266,25,266,26],[266,27,266,28],[266,29,266,30],[266,17,266,18],[263,19,263,20],[262,27,262,28],[263,25,263,26],[263,27,263,28],[263,21,263,22],[263,23,263,24],[262,21,262,22],[262,29,262,30],[262,43,262,44],[262,45,262,46],[262,31,262,32],[262,33,262,34],[262,35,262,36],[262,37,262,38],[262,39,262,40],[262,41,262,42],[264,21,264,22],[263,41,263,42],[263,43,263,44],[263,37,263,38],[263,39,263,40],[264,23,264,24],[264,25,264,26],[264,27,264,28],[264,29,264,30],[264,31,264,32],[263,33,263,34],[263,35,263,36],[263,29,263,30],[263,31,263,32],[263,45,263,46],[264,0,264,2],[264,3,264,6],[264,7,264,10],[264,11,264,14],[264,15,264,16],[263,0,263,2],[263,3,263,6],[263,7,263,10],[263,11,263,14],[263,15,263,16],[263,17,263,18],[264,17,264,18],[260,19,260,20],[260,21,260,22],[260,23,260,24],[260,25,260,26],[260,27,260,28],[260,29,260,30],[259,15,259,16],[259,17,259,18],[259,19,259,20],[259,21,259,22],[260,0,260,2],[260,3,260,6],[260,7,260,10],[260,11,260,14],[260,15,260,16],[260,17,260,18],[259,43,259,44],[261,37,261,38],[261,39,261,40],[261,41,261,42],[261,43,261,44],[261,45,261,46],[262,0,262,2],[262,3,262,6],[262,7,262,10],[262,11,262,14],[262,15,262,16],[261,25,261,26],[261,27,261,28],[261,29,261,30],[261,31,261,32],[261,33,261,34],[261,35,261,36],[260,43,260,44],[260,45,260,46],[261,0,261,2],[261,3,261,6],[261,7,261,10],[261,11,261,14],[261,15,261,16],[261,17,261,18],[261,21,261,22],[261,23,261,24],[260,31,260,32],[260,33,260,34],[260,35,260,36],[260,37,260,38],[260,39,260,40],[260,41,260,42],[262,23,262,24],[262,25,262,26],[262,17,262,18],[258,37,258,38],[258,39,258,40],[258,41,258,42],[257,19,257,20],[257,21,257,22],[257,27,257,28],[257,29,257,30],[257,43,257,44],[257,45,257,46],[257,31,257,32],[257,33,257,34],[257,35,257,36],[257,37,257,38],[257,39,257,40],[257,41,257,42],[256,0,256,2],[256,3,256,6],[256,7,256,10],[256,11,256,14],[257,0,257,2],[257,3,257,6],[257,7,257,10],[257,11,257,14],[256,27,256,28],[256,29,256,30],[256,43,256,44],[256,45,256,46],[256,31,256,32],[256,33,256,34],[256,35,256,36],[256,37,256,38],[256,39,256,40],[259,45,259,46],[259,31,259,32],[259,33,259,34],[259,35,259,36],[259,37,259,38],[259,39,259,40],[259,41,259,42],[258,27,258,28],[258,29,258,30],[259,0,259,2],[259,3,259,6],[259,7,259,10],[259,11,259,14],[259,27,259,28],[259,29,259,30],[259,23,259,24],[259,25,259,26],[258,0,258,2],[258,3,258,6],[258,7,258,10],[258,11,258,14],[258,23,258,24],[258,25,258,26],[258,15,258,16],[258,17,258,18],[258,19,258,20],[258,21,258,22],[258,43,258,44],[258,45,258,46],[258,31,258,32],[258,33,258,34],[258,35,258,36],[254,0,254,2],[254,3,254,6],[254,7,254,10],[254,11,254,14],[255,0,255,2],[255,3,255,6],[255,7,255,10],[255,11,255,14],[254,27,254,28],[254,29,254,30],[254,43,254,44],[254,45,254,46],[254,31,254,32],[254,33,254,34],[254,35,254,36],[254,37,254,38],[254,39,254,40],[254,41,254,42],[255,19,255,20],[255,21,255,22],[255,23,255,24],[255,25,255,26],[255,27,255,28],[255,29,255,30],[254,15,254,16],[254,17,254,18],[254,19,254,20],[254,21,254,22],[254,23,254,24],[254,25,254,26],[256,41,256,42],[257,23,257,24],[257,25,257,26],[256,15,256,16],[256,17,256,18],[256,19,256,20],[256,21,256,22],[256,23,256,24],[256,25,256,26],[255,43,255,44],[255,45,255,46],[255,31,255,32],[255,33,255,34],[255,35,255,36],[255,37,255,38],[255,39,255,40],[255,41,255,42],[255,15,255,16],[255,17,255,18],[257,15,257,16],[257,17,257,18],[253,27,253,28],[253,29,253,30],[253,43,253,44],[253,45,253,46],[253,31,253,32],[253,33,253,34],[253,35,253,36],[253,37,253,38],[253,39,253,40],[253,41,253,42],[253,15,253,16],[253,17,253,18],[252,0,252,2],[252,3,252,6],[252,7,252,10],[252,11,252,14],[253,0,253,2],[253,3,253,6],[253,7,253,10],[253,11,253,14],[252,27,252,28],[252,29,252,30],[252,43,252,44],[252,45,252,46],[252,31,252,32],[252,33,252,34],[252,35,252,36],[252,37,252,38],[252,39,252,40],[252,41,252,42],[253,19,253,20],[253,21,253,22],[253,23,253,24],[253,25,253,26],[252,15,252,16],[252,17,252,18],[252,19,252,20],[252,21,252,22],[252,23,252,24],[252,25,252,26],[250,0,250,2],[250,3,250,6],[250,7,250,10],[250,11,250,14],[251,0,251,2],[251,3,251,6],[251,7,251,10],[251,11,251,14],[250,27,250,28],[250,29,250,30],[250,43,250,44],[250,45,250,46],[250,31,250,32],[250,33,250,34],[250,35,250,36],[250,37,250,38],[250,39,250,40],[250,41,250,42],[251,19,251,20],[251,21,251,22],[251,23,251,24],[251,25,251,26],[250,15,250,16],[250,17,250,18],[250,19,250,20],[250,21,250,22],[250,23,250,24],[250,25,250,26],[251,27,251,28],[251,29,251,30],[251,43,251,44],[251,45,251,46],[251,31,251,32],[251,33,251,34],[251,35,251,36],[251,37,251,38],[251,39,251,40],[251,41,251,42],[251,15,251,16],[251,17,251,18],[249,27,249,28],[249,29,249,30],[249,43,249,44],[249,45,249,46],[249,31,249,32],[249,33,249,34],[249,35,249,36],[249,37,249,38],[249,39,249,40],[249,41,249,42],[249,15,249,16],[249,17,249,18],[248,0,248,2],[248,3,248,6],[248,7,248,10],[248,11,248,14],[249,0,249,2],[249,3,249,6],[249,7,249,10],[249,11,249,14],[248,27,248,28],[248,29,248,30],[248,43,248,44],[248,45,248,46],[248,31,248,32],[248,33,248,34],[248,35,248,36],[248,37,248,38],[248,39,248,40],[248,41,248,42],[249,19,249,20],[249,21,249,22],[249,23,249,24],[249,25,249,26],[248,15,248,16],[248,17,248,18],[248,19,248,20],[248,21,248,22],[248,23,248,24],[248,25,248,26],[246,0,246,2],[246,3,246,6],[246,7,246,10],[246,11,246,14],[247,0,247,2],[247,3,247,6],[247,7,247,10],[247,11,247,14],[246,27,246,28],[246,29,246,30],[246,43,246,44],[246,45,246,46],[246,31,246,32],[246,33,246,34],[246,35,246,36],[246,37,246,38],[246,39,246,40],[246,41,246,42],[247,19,247,20],[247,21,247,22],[247,23,247,24],[247,25,247,26],[246,15,246,16],[246,17,246,18],[246,19,246,20],[246,21,246,22],[246,23,246,24],[246,25,246,26],[247,27,247,28],[247,29,247,30],[247,43,247,44],[247,45,247,46],[247,31,247,32],[247,33,247,34],[247,35,247,36],[247,37,247,38],[247,39,247,40],[247,41,247,42],[247,15,247,16],[247,17,247,18],[245,27,245,28],[245,29,245,30],[245,43,245,44],[245,45,245,46],[245,31,245,32],[245,33,245,34],[245,35,245,36],[245,37,245,38],[245,39,245,40],[245,41,245,42],[245,15,245,16],[245,17,245,18],[244,0,244,2],[244,3,244,6],[244,7,244,10],[244,11,244,14],[245,0,245,2],[245,3,245,6],[245,7,245,10],[245,11,245,14],[244,27,244,28],[244,29,244,30],[244,43,244,44],[244,45,244,46],[244,31,244,32],[244,33,244,34],[244,35,244,36],[244,37,244,38],[244,39,244,40],[244,41,244,42],[245,19,245,20],[245,21,245,22],[245,23,245,24],[245,25,245,26],[244,15,244,16],[244,17,244,18],[244,19,244,20],[244,21,244,22],[244,23,244,24],[244,25,244,26],[242,0,242,2],[242,3,242,6],[242,7,242,10],[242,11,242,14],[243,0,243,2],[243,3,243,6],[243,7,243,10],[243,11,243,14],[242,27,242,28],[242,29,242,30],[242,43,242,44],[242,45,242,46],[242,31,242,32],[242,33,242,34],[242,35,242,36],[242,37,242,38],[242,39,242,40],[242,41,242,42],[243,19,243,20],[243,21,243,22],[243,23,243,24],[243,25,243,26],[242,15,242,16],[242,17,242,18],[242,19,242,20],[242,21,242,22],[242,23,242,24],[242,25,242,26],[243,27,243,28],[243,29,243,30],[243,43,243,44],[243,45,243,46],[243,31,243,32],[243,33,243,34],[243,35,243,36],[243,37,243,38],[243,39,243,40],[243,41,243,42],[243,15,243,16],[243,17,243,18],[241,27,241,28],[241,29,241,30],[241,43,241,44],[241,45,241,46],[241,31,241,32],[241,33,241,34],[241,35,241,36],[241,37,241,38],[241,39,241,40],[241,41,241,42],[241,15,241,16],[241,17,241,18],[240,0,240,2],[240,3,240,6],[240,7,240,10],[240,11,240,14],[241,0,241,2],[241,3,241,6],[241,7,241,10],[241,11,241,14],[240,27,240,28],[240,29,240,30],[240,43,240,44],[240,45,240,46],[240,31,240,32],[240,33,240,34],[240,35,240,36],[240,37,240,38],[240,39,240,40],[240,41,240,42],[241,19,241,20],[241,21,241,22],[241,23,241,24],[241,25,241,26],[240,15,240,16],[240,17,240,18],[240,19,240,20],[240,21,240,22],[240,23,240,24],[240,25,240,26],[238,0,238,2],[238,3,238,6],[238,7,238,10],[238,11,238,14],[239,0,239,2],[239,3,239,6],[239,7,239,10],[239,11,239,14],[238,27,238,28],[238,29,238,30],[238,43,238,44],[238,45,238,46],[238,31,238,32],[238,33,238,34],[238,35,238,36],[238,37,238,38],[238,39,238,40],[238,41,238,42],[239,19,239,20],[239,21,239,22],[239,23,239,24],[239,25,239,26],[238,15,238,16],[238,17,238,18],[238,19,238,20],[238,21,238,22],[238,23,238,24],[238,25,238,26],[239,27,239,28],[239,29,239,30],[239,43,239,44],[239,45,239,46],[239,31,239,32],[239,33,239,34],[239,35,239,36],[239,37,239,38],[239,39,239,40],[239,41,239,42],[239,15,239,16],[239,17,239,18],[237,27,237,28]],"merged_total":11632,"flags":["merged_cut"]}
[null,null,null,null,null,null,null,null,null,null,null,null,null,null,null,null,null,null,null,null,null,null,null,null,null,null,null,null,null,"Auftrags-Nr.: ",null,null,null,null,null,{"$f":"Originalbestellung!O14","v":0}]
[]
["x",null,null,null,"Bestellung",null,null,null,null,null,null,null,null,null,null,null,null,"Offerte",null,null,null,null,null,null,"Josias Gasser Baumaterialien AG"]
[]
[null,null,null,null,null,null,null,null,null,null,null,null,null,null,null,null,null,null,null,null,null,null,null,null,"Zuschnitt- und Bearbeitung"]
["Kunde:",null,null,null,null,null,null,null,null,null,null,null,null,null,null,null,null,null,null,null,null,null,null,null,"Haldensteinstrasse 44"]
["                 ",null,null,null,null,null,null,null,null,null,null,null,null,null,null,null,null,null,null,null,null,null,null,null,"7001 Chur"]
[null,null,null,null,null,null,null,null,null,null,null,null,null,null,null,null,null,null,null,null,null,null,null,null,"Telefon 081 / 354 11 11 "]
["       ",null,null,null,null,null,null,null,null,null,null,null,null,null,null,null,null,null,null,null,null,null,null,null,"Telefax 081 / 354 11 10"]
[null,null,null,null,null,null,null,null,null,null,null,null,null,null,null,null,null,null,null,null,null,null,null,null,"mailto:zuschnitt@gasser.ch"]
[]
["Ort:",null,null,null,null,null,null,null,null,null,null,null,null,null,null,null,null,null,null,null,null,null,null,null,"Objekt:"]
[]
["SB/Tel.:",null,null,null,null,null,null,null,null,null,null,null,null,null,null,null,null,null,null,null,null,null,null,null,"Lieferort:"]
[]
[]
["Datum:",null,null,null,null,null,null,null,null,null,null,null,null,null,null,null,null,null,null,null,null,null,null,null,"Lieferdatum (Wunsch):"]
[]
[]
["Liste:",null,null,null,null,null,null,null,null,null,null,null,null,null,null,null,null,null,null,null,null,null,null,null,null,"Letzte Stückliste des Objektes"]
[]
[null,null,null,null,null,null,null,null,null,null,null,null,null,null,null,null,null,null,null,null,null,null,null,null,null,null,null,null,null,null,null,null,null,null,null,null,null,null,null,null,null,null,8]
["Plattenmat.:",null,null,null,null,null,null,null,null,null,null,null,null,null,null,null,null,null,null,null,null,"Farbe:",null,null,null,null,null,null,null,null,null,null,null,null,null,null,null,null,null,"Dicke:",null,null,null,null,null,"mm"]
[]
["Beschriftung:",null,null,null,null,null,null,null,"Ettiketten auf der Rückseite",null,null,null,null,null,null,null,null,null,null,null,null,null,null,"Filzstift auf Längskante"]
[]
["Bohrlöcher:",null,null,null,null,null,null,null,5.5,null,"mm",null,"(Befestigung auf Holz)",null,null,null,null,null,null,null,null,"Fugenband:"]
[]
[null,null,null,null,null,null,null,null,9.5,null,"mm",null,"(Befestigung auf Alu)",null,null,null,null,null,null,null,null,null,"60 mm",null,null,null,null,null,"m¹"]
[]
[null,null,null,null,null,null,null,null,null,null,"mm",null,null,null,null,null,null,null,null,null,null,null,"120 mm",null,null,null,null,null,"m¹"]
[]
["Schnittreste:",null,null,null,null,null,null,null,"  mitliefern",null,null,null,null,null,null,null,null,null,null,null,null,null,"150 mm",null,null,null,null,null,"m¹"]
[]
[null,null,null,null,null,null,null,null,"  entsorgen"]
[]
["Schrauben:",null,null,null,null,null,null,null,null,null,null,null,"Stk. ",null,"4.8 x 30 mm"]
[null,null,null,null,null,null,null,null,null,null,null,null,"Stk. ",null,"4.8 x 38 mm"]
[null,null,null,null,null,null,null,null,null,null,null,null,"Stk.",null,"4.8 x 44 mm"]
[null,null,null,null,null,null,null,null,null,null,null,null,"Stk.",null,"4.8 x 60 mm",null,null,null,null,null,null,"Sonder-Zubehör:"]
[]
["Nieten:",null,null,null,null,null,null,null,null,null,null,null,"Stk.  4 x 18 mm K 15 ",null,null,null,null,null,null,null,null,null,null,"Fugenblech "]
[null,null,null,null,null,null,null,null,null,null,null,null,"Stk.  4 x 30 mm K 15"]
[]
[null,null,null,null,null,null,null,null,null,"Blank",null,null,null,null,null,null,null," m. Dichtung"]
[null,null,null,null,null,null,null,null,null,"Farbig",null,null,null,null,null,null,null," m. Dichtung",null,null,null,"Bemerkungen:"]
[]
["Unterschrift:"]
[]
[]
[null,null,null,null,null,null,null,null,null,null,null,null,null,"definitive Stückliste",null,null,null,null,null,null,null,null,null,null,null,null,null,null,null,null,null,null,null,null,null,null,"  provisorische Stückliste"]
[]
["Auswertung:",null,null,null,null,null,null,"Fläche",null,null,{"$f":"BD581","v":0},null,null,null,"m2",null,null,"Gewicht:",null,null,null,{"$f":"K53*15.7","v":0},null,null,null,"Kg",null,null,null,null,null,"Kantenschnitt:",null,{"$f":"BF581","v":0},null,null,null,"m1",null,null,null,null,null,"Anzahl Löcher:",null,{"$f":"BB581","v":0},null,null,null,"Stk."]
["*",null,null,null,null,null,null,null,null,null,null,null,null,null,null,"Raster X",null,null,null,null,null,null,null,null,null,null,null,null,null,null,null,"Total",null,"Raster Y",null,null,null,null,null,null,null,null,null,null,null,null,null,null,null,"Total"]
["Pos.",null,null,"Stk.",null,null,null,"X",null,null,null,"Y",null,null,null,"XA",null,"X1",null,"X2",null,"X3",null,"X4",null,"X5",null,"X6",null,"XB",null,"XL",null,"YA",null,"Y1",null,"Y2",null,"Y3",null,"Y4",null,"Y5",null,"Y6",null,"YB",null,"YL"]
[null,null,null,null,null,null,null,null,null,null,null,null,null,null,null,null,null,null,null,null,null,null,null,null,null,null,null,null,null,null,null,{"$f":"COUNT(P56,AD56)+IF(BA56>0,BA56)","v":0},null,null,null,null,null,null,null,null,null,null,null,null,null,null,null,null,null,{"$f":"COUNT(AH56,AV56)+IF(AZ56>0,AZ56)","v":0},null,{"$f":"COUNTA(AJ56:AU56)-1","v":-1},{"$f":"COUNTA(R56:AC56)-1","v":-1},{"$f":"D56*(AF56*AX56)","v":0},null,{"$f":"((H56/1000)*(L56/1000))*D56","v":0},null,{"$f":"(((H56+L56)*2)/1000)*D56","v":0},null,{"$f":"IF(P56,1,0)","v":0},{"$f":"IF(R56,1,0)","v":0},{"$f":"IF(T56,1,0)","v":0},{"$f":"IF(V56,1,0)","v":0},{"$f":"IF(X56,1,0)","v":0},{"$f":"IF(Z56,1,0)","v":0},{"$f":"IF(AB56,1,0)","v":0},{"$f":"IF(AD56,1,0)","v":0},{"$f":"SUM(BH56:BO56)-1","v":-1},null,null,{"$f":"IF(AH56,1,0)","v":0},{"$f":"IF(AJ56,1,0)","v":0},{"$f":"IF(AL56,1,0)","v":0},{"$f":"IF(AN56,1,0)","v":0},{"$f":"IF(AP56,1,0)","v":0},{"$f":"IF(AR56,1,0)","v":0},{"$f":"IF(AT56,1,0)","v":0},{"$f":"IF(AV56,1,0)","v":0},{"$f":"SUM(BS56:BZ56)-1","v":-1},null,null,{"$f":"(CA56*BP56)*D56","v":0},{"$f":"SUM(P56:AE56)","v":0},{"$f":"SUM(AH56:AW56)","v":0}]
[null,null,null,null,null,null,null,null,null,null,null,null,null,null,null,null,null,null,null,null,null,null,null,null,null,null,null,null,null,null,null,{"$f":"COUNT(P57,AD57)+IF(BA57>0,BA57)","v":0},null,null,null,null,null,null,null,null,null,null,null,null,null,null,null,null,null,{"$f":"COUNT(AH57,AV57)+IF(AZ57>0,AZ57)","v":0},null,-1,-1,{"$f":"D57*(AF57*AX57)","v":0},null,0,null,0,null,0,0,0,0,0,0,0,0,{"$f":"SUM(BH57:BO57)-1","v":-1},null,null,0,0,0,0,0,0,0,0,{"$f":"SUM(BS57:BZ57)-1","v":-1},null,null,0,0,0]
[null,null,null,null,null,null,null,null,null,null,null,null,null,null,null,null,null,null,null,null,null,null,null,null,null,null,null,null,null,null,null,0,null,null,null,null,null,null,null,null,null,null,null,null,null,null,null,null,null,0,null,-1,-1,0,null,0,null,0,null,0,0,0,0,0,0,0,0,-1,null,null,0,0,0,0,0,0,0,0,-1,null,null,0,0,0]
[null,null,null,null,null,null,null,null,null,null,null,null,null,null,null,null,null,null,null,null,null,null,null,null,null,null,null,null,null,null,null,0,null,null,null,null,null,null,null,null,null,null,null,null,null,null,null,null,null,0,null,-1,-1,0,null,0,null,0,null,0,0,0,0,0,0,0,0,-1,null,null,0,0,0,0,0,0,0,0,-1,null,null,0,0,0]
[null,null,null,null,null,null,null,null,null,null,null,null,null,null,null,null,null,null,null,null,null,null,null,null,null,null,null,null,null,null,null,0,null,null,null,null,null,null,null,null,null,null,null,null,null,null,null,null,null,0,null,-1,-1,0,null,0,null,0,null,0,0,0,0,0,0,0,0,-1,null,null,0,0,0,0,0,0,0,0,-1,null,null,0,0,0]
[null,null,null,null,null,null,null,null,null,null,null,null,null,null,null,null,null,null,null,null,null,null,null,null,null,null,null,null,null,null,null,0,null,null,null,null,null,null,null,null,null,null,null,null,null,null,null,null,null,0,null,-1,-1,0,null,0,null,0,null,0,0,0,0,0,0,0,0,-1,null,null,0,0,0,0,0,0,0,0,-1,null,null,0,0,0]
[null,null,null,null,null,null,null,null,null,null,null,null,null,null,null,null,null,null,null,null,null,null,null,null,null,null,null,null,null,null,null,0,null,null,null,null,null,null,null,null,null,null,null,null,null,null,null,null,null,0,null,-1,-1,0,null,0,null,0,null,0,0,0,0,0,0,0,0,-1,null,null,0,0,0,0,0,0,0,0,-1,null,null,0,0,0]
[null,null,null,null,null,null,null,null,null,null,null,null,null,null,null,null,null,null,null,null,null,null,null,null,null,null,null,null,null,null,null,0,null,null,null,null,null,null,null,null,null,null,null,null,null,null,null,null,null,0,null,-1,-1,0,null,0,null,0,null,0,0,0,0,0,0,0,0,-1,null,null,0,0,0,0,0,0,0,0,-1,null,null,0,0,0]
[null,null,null,null,null,null,null,null,null,null,null,null,null,null,null,null,null,null,null,null,null,null,null,null,null,null,null,null,null,null,null,0,null,null,null,null,null,null,null,null,null,null,null,null,null,null,null,null,null,0,null,-1,-1,0,null,0,null,0,null,0,0,0,0,0,0,0,0,-1,null,null,0,0,0,0,0,0,0,0,-1,null,null,0,0,0]
[null,null,null,null,null,null,null,null,null,null,null,null,null,null,null,null,null,null,null,null,null,null,null,null,null,null,null,null,null,null,null,0,null,null,null,null,null,null,null,null,null,null,null,null,null,null,null,null,null,0,null,-1,-1,0,null,0,null,0,null,0,0,0,0,0,0,0,0,-1,null,null,0,0,0,0,0,0,0,0,-1,null,null,0,0,0]
[null,null,null,null,null,null,null,null,null,null,null,null,null,null,null,null,null,null,null,null,null,null,null,null,null,null,null,null,null,null,null,0,null,null,null,null,null,null,null,null,null,null,null,null,null,null,null,null,null,0,null,-1,-1,0,null,0,null,0,null,0,0,0,0,0,0,0,0,-1,null,null,0,0,0,0,0,0,0,0,-1,null,null,0,0,0]
[null,null,null,null,null,null,null,null,null,null,null,null,null,null,null,null,null,null,null,null,null,null,null,null,null,null,null,null,null,null,null,0,null,null,null,null,null,null,null,null,null,null,null,null,null,null,null,null,null,0,null,-1,-1,0,null,0,null,0,null,0,0,0,0,0,0,0,0,-1,null,null,0,0,0,0,0,0,0,0,-1,null,null,0,0,0]
[null,null,null,null,null,null,null,null,null,null,null,null,null,null,null,null,null,null,null,null,null,null,null,null,null,null,null,null,null,null,null,0,null,null,null,null,null,null,null,null,null,null,null,null,null,null,null,null,null,0,null,-1,-1,0,null,0,null,0,null,0,0,0,0,0,0,0,0,-1,null,null,0,0,0,0,0,0,0,0,-1,null,null,0,0,0]
[null,null,null,null,null,null,null,null,null,null,null,null,null,null,null,null,null,null,null,null,null,null,null,null,null,null,null,null,null,null,null,0,null,null,null,null,null,null,null,null,null,null,null,null,null,null,null,null,null,0,null,-1,-1,0,null,0,null,0,null,0,0,0,0,0,0,0,0,-1,null,null,0,0,0,0,0,0,0,0,-1,null,null,0,0,0]
[null,null,null,null,null,null,null,null,null,null,null,null,null,null,null,null,null,null,null,null,null,null,null,null,null,null,null,null,null,null,null,0,null,null,null,null,null,null,null,null,null,null,null,null,null,null,null,null,null,0,null,-1,-1,0,null,0,null,0,null,0,0,0,0,0,0,0,0,-1,null,null,0,0,0,0,0,0,0,0,-1,null,null,0,0,0]
[null,null,null,null,null,null,null,null,null,null,null,null,null,null,null,null,null,null,null,null,null,null,null,null,null,null,null,null,null,null,null,0,null,null,null,null,null,null,null,null,null,null,null,null,null,null,null,null,null,0,null,-1,-1,0,null,0,null,0,null,0,0,0,0,0,0,0,0,-1,null,null,0,0,0,0,0,0,0,0,-1,null,null,0,0,0]
[null,null,null,null,null,null,null,null,null,null,null,null,null,null,null,null,null,null,null,null,null,null,null,null,null,null,null,null,null,null,null,0,null,null,null,null,null,null,null,null,null,null,null,null,null,null,null,null,null,0,null,-1,-1,0,null,0,null,0,null,0,0,0,0,0,0,0,0,-1,null,null,0,0,0,0,0,0,0,0,-1,null,null,0,0,0]
[null,null,null,null,null,null,null,null,null,null,null,null,null,null,null,null,null,null,null,null,null,null,null,null,null,null,null,null,null,null,null,0,null,null,null,null,null,null,null,null,null,null,null,null,null,null,null,null,null,0,null,-1,-1,0,null,0,null,0,null,0,0,0,0,0,0,0,0,-1,null,null,0,0,0,0,0,0,0,0,-1,null,null,0,0,0]
[null,null,null,null,null,null,null,null,null,null,null,null,null,null,null,null,null,null,null,null,null,null,null,null,null,null,null,null,null,null,null,0,null,null,null,null,null,null,null,null,null,null,null,null,null,null,null,null,null,0,null,-1,-1,0,null,0,null,0,null,0,0,0,0,0,0,0,0,-1,null,null,0,0,0,0,0,0,0,0,-1,null,null,0,0,0]
[null,null,null,null,null,null,null,null,null,null,null,null,null,null,null,null,null,null,null,null,null,null,null,null,null,null,null,null,null,null,null,0,null,null,null,null,null,null,null,null,null,null,null,null,null,null,null,null,null,0,null,-1,-1,0,null,0,null,0,null,0,0,0,0,0,0,0,0,-1,null,null,0,0,0,0,0,0,0,0,-1,null,null,0,0,0]
[null,null,null,null,null,null,null,null,null,null,null,null,null,null,null,null,null,null,null,null,null,null,null,null,null,null,null,null,null,null,null,0,null,null,null,null,null,null,null,null,null,null,null,null,null,null,null,null,null,0,null,-1,-1,0,null,0,null,0,null,0,0,0,0,0,0,0,0,-1,null,null,0,0,0,0,0,0,0,0,-1,null,null,0,0,0]
[null,null,null,null,null,null,null,null,null,null,null,null,null,null,null,null,null,null,null,null,null,null,null,null,null,null,null,null,null,null,null,0,null,null,null,null,null,null,null,null,null,null,null,null,null,null,null,null,null,0,null,-1,-1,0,null,0,null,0,null,0,0,0,0,0,0,0,0,-1,null,null,0,0,0,0,0,0,0,0,-1,null,null,0,0,0]
[null,null,null,null,null,null,null,null,null,null,null,null,null,null,null,null,null,null,null,null,null,null,null,null,null,null,null,null,null,null,null,0,null,null,null,null,null,null,null,null,null,null,null,null,null,null,null,null,null,0,null,-1,-1,0,null,0,null,0,null,0,0,0,0,0,0,0,0,-1,null,null,0,0,0,0,0,0,0,0,-1,null,null,0,0,0]
[null,null,null,null,null,null,null,null,null,null,null,null,null,null,null,null,null,null,null,null,null,null,null,null,null,null,null,null,null,null,null,0,null,null,null,null,null,null,null,null,null,null,null,null,null,null,null,null,null,0,null,-1,-1,0,null,0,null,0,null,0,0,0,0,0,0,0,0,-1,null,null,0,0,0,0,0,0,0,0,-1,null,null,0,0,0]
[null,null,null,null,null,null,null,null,null,null,null,null,null,null,null,null,null,null,null,null,null,null,null,null,null,null,null,null,null,null,null,0,null,null,null,null,null,null,null,null,null,null,null,null,null,null,null,null,null,0,null,-1,-1,0,null,0,null,0,null,0,0,0,0,0,0,0,0,-1,null,null,0,0,0,0,0,0,0,0,-1,null,null,0,0,0]
[null,null,null,null,null,null,null,null,null,null,null,null,null,null,null,null,null,null,null,null,null,null,null,null,null,null,null,null,null,null,null,0,null,null,null,null,null,null,null,null,null,null,null,null,null,null,null,null,null,0,null,-1,-1,0,null,0,null,0,null,0,0,0,0,0,0,0,0,-1,null,null,0,0,0,0,0,0,0,0,-1,null,null,0,0,0]
[null,null,null,null,null,null,null,null,null,null,null,null,null,null,null,null,null,null,null,null,null,null,null,null,null,null,null,null,null,null,null,0,null,null,null,null,null,null,null,null,null,null,null,null,null,null,null,null,null,0,null,-1,-1,0,null,0,null,0,null,0,0,0,0,0,0,0,0,-1,null,null,0,0,0,0,0,0,0,0,-1,null,null,0,0,0]
[null,null,null,null,null,null,null,null,null,null,null,null,null,null,null,null,null,null,null,null,null,null,null,null,null,null,null,null,null,null,null,0,null,null,null,null,null,null,null,null,null,null,null,null,null,null,null,null,null,0,null,-1,-1,0,null,0,null,0,null,0,0,0,0,0,0,0,0,-1,null,null,0,0,0,0,0,0,0,0,-1,null,null,0,0,0]
[null,null,null,null,null,null,null,null,null,null,null,null,null,null,null,null,null,null,null,null,null,null,null,null,null,null,null,null,null,null,null,0,null,null,null,null,null,null,null,null,null,null,null,null,null,null,null,null,null,0,null,-1,-1,0,null,0,null,0,null,0,0,0,0,0,0,0,0,-1,null,null,0,0,0,0,0,0,0,0,-1,null,null,0,0,0]
[null,null,null,null,null,null,null,null,null,null,null,null,null,null,null,null,null,null,null,null,null,null,null,null,null,null,null,null,null,null,null,0,null,null,null,null,null,null,null,null,null,null,null,null,null,null,null,null,null,0,null,-1,-1,0,null,0,null,0,null,0,0,0,0,0,0,0,0,-1,null,null,0,0,0,0,0,0,0,0,-1,null,null,0,0,0]
[null,null,null,null,null,null,null,null,null,null,null,null,null,null,null,null,null,null,null,null,null,null,null,null,null,null,null,null,null,null,null,0,null,null,null,null,null,null,null,null,null,null,null,null,null,null,null,null,null,0,null,-1,-1,0,null,0,null,0,null,0,0,0,0,0,0,0,0,-1,null,null,0,0,0,0,0,0,0,0,-1,null,null,0,0,0]
[null,null,null,null,null,null,null,null,null,null,null,null,null,null,null,null,null,null,null,null,null,null,null,null,null,null,null,null,null,null,null,0,null,null,null,null,null,null,null,null,null,null,null,null,null,null,null,null,null,0,null,-1,-1,0,null,0,null,0,null,0,0,0,0,0,0,0,0,-1,null,null,0,0,0,0,0,0,0,0,-1,null,null,0,0,0]
[null,null,null,null,null,null,null,null,null,null,null,null,null,null,null,null,null,null,null,null,null,null,null,null,null,null,null,null,null,null,null,0,null,null,null,null,null,null,null,null,null,null,null,null,null,null,null,null,null,0,null,-1,-1,0,null,0,null,0,null,0,0,0,0,0,0,0,0,-1,null,null,0,0,0,0,0,0,0,0,-1,null,null,0,0,0]
[null,null,null,null,null,null,null,null,null,null,null,null,null,null,null,null,null,null,null,null,null,null,null,null,null,null,null,null,null,null,null,0,null,null,null,null,null,null,null,null,null,null,null,null,null,null,null,null,null,0,null,-1,-1,0,null,0,null,0,null,0,0,0,0,0,0,0,0,-1,null,null,0,0,0,0,0,0,0,0,-1,null,null,0,0,0]
[null,null,null,null,null,null,null,null,null,null,null,null,null,null,null,null,null,null,null,null,null,null,null,null,null,null,null,null,null,null,null,0,null,null,null,null,null,null,null,null,null,null,null,null,null,null,null,null,null,0,null,-1,-1,0,null,0,null,0,null,0,0,0,0,0,0,0,0,-1,null,null,0,0,0,0,0,0,0,0,-1,null,null,0,0,0]
[null,null,null,null,null,null,null,null,null,null,null,null,null,null,null,null,null,null,null,null,null,null,null,null,null,null,null,null,null,null,null,0,null,null,null,null,null,null,null,null,null,null,null,null,null,null,null,null,null,0,null,-1,-1,0,null,0,null,0,null,0,0,0,0,0,0,0,0,-1,null,null,0,0,0,0,0,0,0,0,-1,null,null,0,0,0]
[null,null,null,null,null,null,null,null,null,null,null,null,null,null,null,null,null,null,null,null,null,null,null,null,null,null,null,null,null,null,null,0,null,null,null,null,null,null,null,null,null,null,null,null,null,null,null,null,null,0,null,-1,-1,0,null,0,null,0,null,0,0,0,0,0,0,0,0,-1,null,null,0,0,0,0,0,0,0,0,-1,null,null,0,0,0]
[null,null,null,null,null,null,null,null,null,null,null,null,null,null,null,null,null,null,null,null,null,null,null,null,null,null,null,null,null,null,null,0,null,null,null,null,null,null,null,null,null,null,null,null,null,null,null,null,null,0,null,-1,-1,0,null,0,null,0,null,0,0,0,0,0,0,0,0,-1,null,null,0,0,0,0,0,0,0,0,-1,null,null,0,0,0]
[null,null,null,null,null,null,null,null,null,null,null,null,null,null,null,null,null,null,null,null,null,null,null,null,null,null,null,null,null,null,null,0,null,null,null,null,null,null,null,null,null,null,null,null,null,null,null,null,null,0,null,-1,-1,0,null,0,null,0,null,0,0,0,0,0,0,0,0,-1,null,null,0,0,0,0,0,0,0,0,-1,null,null,0,0,0]
[null,null,null,null,null,null,null,null,null,null,null,null,null,null,null,null,null,null,null,null,null,null,null,null,null,null,null,null,null,null,null,0,null,null,null,null,null,null,null,null,null,null,null,null,null,null,null,null,null,0,null,-1,-1,0,null,0,null,0,null,0,0,0,0,0,0,0,0,-1,null,null,0,0,0,0,0,0,0,0,-1,null,null,0,0,0]
[null,null,null,null,null,null,null,null,null,null,null,null,null,null,null,null,null,null,null,null,null,null,null,null,null,null,null,null,null,null,null,0,null,null,null,null,null,null,null,null,null,null,null,null,null,null,null,null,null,0,null,-1,-1,0,null,0,null,0,null,0,0,0,0,0,0,0,0,-1,null,null,0,0,0,0,0,0,0,0,-1,null,null,0,0,0]
[null,null,null,null,null,null,null,null,null,null,null,null,null,null,null,null,null,null,null,null,null,null,null,null,null,null,null,null,null,null,null,0,null,null,null,null,null,null,null,null,null,null,null,null,null,null,null,null,null,0,null,-1,-1,0,null,0,null,0,null,0,0,0,0,0,0,0,0,-1,null,null,0,0,0,0,0,0,0,0,-1,null,null,0,0,0]
[null,null,null,null,null,null,null,null,null,null,null,null,null,null,null,null,null,null,null,null,null,null,null,null,null,null,null,null,null,null,null,0,null,null,null,null,null,null,null,null,null,null,null,null,null,null,null,null,null,0,null,-1,-1,0,null,0,null,0,null,0,0,0,0,0,0,0,0,-1,null,null,0,0,0,0,0,0,0,0,-1,null,null,0,0,0]
[null,null,null,null,null,null,null,null,null,null,null,null,null,null,null,null,null,null,null,null,null,null,null,null,null,null,null,null,null,null,null,0,null,null,null,null,null,null,null,null,null,null,null,null,null,null,null,null,null,0,null,-1,-1,0,null,0,null,0,null,0,0,0,0,0,0,0,0,-1,null,null,0,0,0,0,0,0,0,0,-1,null,null,0,0,0]
[null,null,null,null,null,null,null,null,null,null,null,null,null,null,null,null,null,null,null,null,null,null,null,null,null,null,null,null,null,null,null,0,null,null,null,null,null,null,null,null,null,null,null,null,null,null,null,null,null,0,null,-1,-1,0,null,0,null,0,null,0,0,0,0,0,0,0,0,-1,null,null,0,0,0,0,0,0,0,0,-1,null,null,0,0,0]
[null,null,null,null,null,null,null,null,null,null,null,null,null,null,null,null,null,null,null,null,null,null,null,null,null,null,null,null,null,null,null,0,null,null,null,null,null,null,null,null,null,null,null,null,null,null,null,null,null,0,null,-1,-1,0,null,0,null,0,null,0,0,0,0,0,0,0,0,-1,null,null,0,0,0,0,0,0,0,0,-1,null,null,0,0,0]
[null,null,null,null,null,null,null,null,null,null,null,null,null,null,null,null,null,null,null,null,null,null,null,null,null,null,null,null,null,null,null,0,null,null,null,null,null,null,null,null,null,null,null,null,null,null,null,null,null,0,null,-1,-1,0,null,0,null,0,null,0,0,0,0,0,0,0,0,-1,null,null,0,0,0,0,0,0,0,0,-1,null,null,0,0,0]
[null,null,null,null,null,null,null,null,null,null,null,null,null,null,null,null,null,null,null,null,null,null,null,null,null,null,null,null,null,null,null,0,null,null,null,null,null,null,null,null,null,null,null,null,null,null,null,null,null,0,null,-1,-1,0,null,0,null,0,null,0,0,0,0,0,0,0,0,-1,null,null,0,0,0,0,0,0,0,0,-1,null,null,0,0,0]
[null,null,null,null,null,null,null,null,null,null,null,null,null,null,null,null,null,null,null,null,null,null,null,null,null,null,null,null,null,null,null,0,null,null,null,null,null,null,null,null,null,null,null,null,null,null,null,null,null,0,null,-1,-1,0,null,0,null,0,null,0,0,0,0,0,0,0,0,-1,null,null,0,0,0,0,0,0,0,0,-1,null,null,0,0,0]
[null,null,null,null,null,null,null,null,null,null,null,null,null,null,null,null,null,null,null,null,null,null,null,null,null,null,null,null,null,null,null,0,null,null,null,null,null,null,null,null,null,null,null,null,null,null,null,null,null,0,null,-1,-1,0,null,0,null,0,null,0,0,0,0,0,0,0,0,-1,null,null,0,0,0,0,0,0,0,0,-1,null,null,0,0,0]
[null,null,null,null,null,null,null,null,null,null,null,null,null,null,null,null,null,null,null,null,null,null,null,null,null,null,null,null,null,null,null,0,null,null,null,null,null,null,null,null,null,null,null,null,null,null,null,null,null,0,null,-1,-1,0,null,0,null,0,null,0,0,0,0,0,0,0,0,-1,null,null,0,0,0,0,0,0,0,0,-1,null,null,0,0,0]
[null,null,null,null,null,null,null,null,null,null,null,null,null,null,null,null,null,null,null,null,null,null,null,null,null,null,null,null,null,null,null,0,null,null,null,null,null,null,null,null,null,null,null,null,null,null,null,null,null,0,null,-1,-1,0,null,0,null,0,null,0,0,0,0,0,0,0,0,-1,null,null,0,0,0,0,0,0,0,0,-1,null,null,0,0,0]
[null,null,null,null,null,null,null,null,null,null,null,null,null,null,null,null,null,null,null,null,null,null,null,null,null,null,null,null,null,null,null,0,null,null,null,null,null,null,null,null,null,null,null,null,null,null,null,null,null,0,null,-1,-1,0,null,0,null,0,null,0,0,0,0,0,0,0,0,-1,null,null,0,0,0,0,0,0,0,0,-1,null,null,0,0,0]
[null,null,null,null,null,null,null,null,null,null,null,null,null,null,null,null,null,null,null,null,null,null,null,null,null,null,null,null,null,null,null,0,null,null,null,null,null,null,null,null,null,null,null,null,null,null,null,null,null,0,null,-1,-1,0,null,0,null,0,null,0,0,0,0,0,0,0,0,-1,null,null,0,0,0,0,0,0,0,0,-1,null,null,0,0,0]
[null,null,null,null,null,null,null,null,null,null,null,null,null,null,null,null,null,null,null,null,null,null,null,null,null,null,null,null,null,null,null,0,null,null,null,null,null,null,null,null,null,null,null,null,null,null,null,null,null,0,null,-1,-1,0,null,0,null,0,null,0,0,0,0,0,0,0,0,-1,null,null,0,0,0,0,0,0,0,0,-1,null,null,0,0,0]
[null,null,null,null,null,null,null,null,null,null,null,null,null,null,null,null,null,null,null,null,null,null,null,null,null,null,null,null,null,null,null,0,null,null,null,null,null,null,null,null,null,null,null,null,null,null,null,null,null,0,null,-1,-1,0,null,0,null,0,null,0,0,0,0,0,0,0,0,-1,null,null,0,0,0,0,0,0,0,0,-1,null,null,0,0,0]
[null,null,null,null,null,null,null,null,null,null,null,null,null,null,null,null,null,null,null,null,null,null,null,null,null,null,null,null,null,null,null,0,null,null,null,null,null,null,null,null,null,null,null,null,null,null,null,null,null,0,null,-1,-1,0,null,0,null,0,null,0,0,0,0,0,0,0,0,-1,null,null,0,0,0,0,0,0,0,0,-1,null,null,0,0,0]
[null,null,null,null,null,null,null,null,null,null,null,null,null,null,null,null,null,null,null,null,null,null,null,null,null,null,null,null,null,null,null,0,null,null,null,null,null,null,null,null,null,null,null,null,null,null,null,null,null,0,null,-1,-1,0,null,0,null,0,null,0,0,0,0,0,0,0,0,-1,null,null,0,0,0,0,0,0,0,0,-1,null,null,0,0,0]
[null,null,null,null,null,null,null,null,null,null,null,null,null,null,null,null,null,null,null,null,null,null,null,null,null,null,null,null,null,null,null,0,null,null,null,null,null,null,null,null,null,null,null,null,null,null,null,null,null,0,null,-1,-1,0,null,0,null,0,null,0,0,0,0,0,0,0,0,-1,null,null,0,0,0,0,0,0,0,0,-1,null,null,0,0,0]
[null,null,null,null,null,null,null,null,null,null,null,null,null,null,null,null,null,null,null,null,null,null,null,null,null,null,null,null,null,null,null,0,null,null,null,null,null,null,null,null,null,null,null,null,null,null,null,null,null,0,null,-1,-1,0,null,0,null,0,null,0,0,0,0,0,0,0,0,-1,null,null,0,0,0,0,0,0,0,0,-1,null,null,0,0,0]
[null,null,null,null,null,null,null,null,null,null,null,null,null,null,null,null,null,null,null,null,null,null,null,null,null,null,null,null,null,null,null,0,null,null,null,null,null,null,null,null,null,null,null,null,null,null,null,null,null,0,null,-1,-1,0,null,0,null,0,null,0,0,0,0,0,0,0,0,-1,null,null,0,0,0,0,0,0,0,0,-1,null,null,0,0,0]
[null,null,null,null,null,null,null,null,null,null,null,null,null,null,null,null,null,null,null,null,null,null,null,null,null,null,null,null,null,null,null,0,null,null,null,null,null,null,null,null,null,null,null,null,null,null,null,null,null,0,null,-1,-1,0,null,0,null,0,null,0,0,0,0,0,0,0,0,-1,null,null,0,0,0,0,0,0,0,0,-1,null,null,0,0,0]
[null,null,null,null,null,null,null,null,null,null,null,null,null,null,null,null,null,null,null,null,null,null,null,null,null,null,null,null,null,null,null,0,null,null,null,null,null,null,null,null,null,null,null,null,null,null,null,null,null,0,null,-1,-1,0,null,0,null,0,null,0,0,0,0,0,0,0,0,-1,null,null,0,0,0,0,0,0,0,0,-1,null,null,0,0,0]
[null,null,null,null,null,null,null,null,null,null,null,null,null,null,null,null,null,null,null,null,null,null,null,null,null,null,null,null,null,null,null,0,null,null,null,null,null,null,null,null,null,null,null,null,null,null,null,null,null,0,null,-1,-1,0,null,0,null,0,null,0,0,0,0,0,0,0,0,-1,null,null,0,0,0,0,0,0,0,0,-1,null,null,0,0,0]
[null,null,null,null,null,null,null,null,null,null,null,null,null,null,null,null,null,null,null,null,null,null,null,null,null,null,null,null,null,null,null,0,null,null,null,null,null,null,null,null,null,null,null,null,null,null,null,null,null,0,null,{"$f":"COUNTA(AJ120:AU120)-1","v":-1},{"$f":"COUNTA(R120:AC120)-1","v":-1},0,null,{"$f":"((H120/1000)*(L120/1000))*D120","v":0},null,{"$f":"(((H120+L120)*2)/1000)*D120","v":0},null,{"$f":"IF(P120,1,0)","v":0},{"$f":"IF(R120,1,0)","v":0},{"$f":"IF(T120,1,0)","v":0},{"$f":"IF(V120,1,0)","v":0},{"$f":"IF(X120,1,0)","v":0},{"$f":"IF(Z120,1,0)","v":0},{"$f":"IF(AB120,1,0)","v":0},{"$f":"IF(AD120,1,0)","v":0},-1,null,null,{"$f":"IF(AH120,1,0)","v":0},{"$f":"IF(AJ120,1,0)","v":0},{"$f":"IF(AL120,1,0)","v":0},{"$f":"IF(AN120,1,0)","v":0},{"$f":"IF(AP120,1,0)","v":0},{"$f":"IF(AR120,1,0)","v":0},{"$f":"IF(AT120,1,0)","v":0},{"$f":"IF(AV120,1,0)","v":0},-1,null,null,{"$f":"(CA120*BP120)*D120","v":0},{"$f":"SUM(P120:AE120)","v":0},{"$f":"SUM(AH120:AW120)","v":0}]
[null,null,null,null,null,null,null,null,null,null,null,null,null,null,null,null,null,null,null,null,null,null,null,null,null,null,null,null,null,null,null,{"$f":"COUNT(P121,AD121)+IF(BA121>0,BA121)","v":0},null,null,null,null,null,null,null,null,null,null,null,null,null,null,null,null,null,{"$f":"COUNT(AH121,AV121)+IF(AZ121>0,AZ121)","v":0},null,-1,-1,{"$f":"D121*(AF121*AX121)","v":0},null,0,null,0,null,0,0,0,0,0,0,0,0,{"$f":"SUM(BH121:BO121)-1","v":-1},null,null,0,0,0,0,0,0,0,0,{"$f":"SUM(BS121:BZ121)-1","v":-1},null,null,0,0,0]
[null,null,null,null,null,null,null,null,null,null,null,null,null,null,null,null,null,null,null,null,null,null,null,null,null,null,null,null,null,null,null,0,null,null,null,null,null,null,null,null,null,null,null,null,null,null,null,null,null,0,null,-1,-1,0,null,0,null,0,null,0,0,0,0,0,0,0,0,-1,null,null,0,0,0,0,0,0,0,0,-1,null,null,0,0,0]
[null,null,null,null,null,null,null,null,null,null,null,null,null,null,null,null,null,null,null,null,null,null,null,null,null,null,null,null,null,null,null,0,null,null,null,null,null,null,null,null,null,null,null,null,null,null,null,null,null,0,null,-1,-1,0,null,0,null,0,null,0,0,0,0,0,0,0,0,-1,null,null,0,0,0,0,0,0,0,0,-1,null,null,0,0,0]
[null,null,null,null,null,null,null,null,null,null,null,null,null,null,null,null,null,null,null,null,null,null,null,null,null,null,null,null,null,null,null,0,null,null,null,null,null,null,null,null,null,null,null,null,null,null,null,null,null,0,null,-1,-1,0,null,0,null,0,null,0,0,0,0,0,0,0,0,-1,null,null,0,0,0,0,0,0,0,0,-1,null,null,0,0,0]
[null,null,null,null,null,null,null,null,null,null,null,null,null,null,null,null,null,null,null,null,null,null,null,null,null,null,null,null,null,null,null,0,null,null,null,null,null,null,null,null,null,null,null,null,null,null,null,null,null,0,null,-1,-1,0,null,0,null,0,null,0,0,0,0,0,0,0,0,-1,null,null,0,0,0,0,0,0,0,0,-1,null,null,0,0,0]
[null,null,null,null,null,null,null,null,null,null,null,null,null,null,null,null,null,null,null,null,null,null,null,null,null,null,null,null,null,null,null,0,null,null,null,null,null,null,null,null,null,null,null,null,null,null,null,null,null,0,null,-1,-1,0,null,0,null,0,null,0,0,0,0,0,0,0,0,-1,null,null,0,0,0,0,0,0,0,0,-1,null,null,0,0,0]
[null,null,null,null,null,null,null,null,null,null,null,null,null,null,null,null,null,null,null,null,null,null,null,null,null,null,null,null,null,null,null,0,null,null,null,null,null,null,null,null,null,null,null,null,null,null,null,null,null,0,null,-1,-1,0,null,0,null,0,null,0,0,0,0,0,0,0,0,-1,null,null,0,0,0,0,0,0,0,0,-1,null,null,0,0,0]
[null,null,null,null,null,null,null,null,null,null,null,null,null,null,null,null,null,null,null,null,null,null,null,null,null,null,null,null,null,null,null,0,null,null,null,null,null,null,null,null,null,null,null,null,null,null,null,null,null,0,null,-1,-1,0,null,0,null,0,null,0,0,0,0,0,0,0,0,-1,null,null,0,0,0,0,0,0,0,0,-1,null,null,0,0,0]
[null,null,null,null,null,null,null,null,null,null,null,null,null,null,null,null,null,null,null,null,null,null,null,null,null,null,null,null,null,null,null,0,null,null,null,null,null,null,null,null,null,null,null,null,null,null,null,null,null,0,null,-1,-1,0,null,0,null,0,null,0,0,0,0,0,0,0,0,-1,null,null,0,0,0,0,0,0,0,0,-1,null,null,0,0,0]
[null,null,null,null,null,null,null,null,null,null,null,null,null,null,null,null,null,null,null,null,null,null,null,null,null,null,null,null,null,null,null,0,null,null,null,null,null,null,null,null,null,null,null,null,null,null,null,null,null,0,null,-1,-1,0,null,0,null,0,null,0,0,0,0,0,0,0,0,-1,null,null,0,0,0,0,0,0,0,0,-1,null,null,0,0,0]
[null,null,null,null,null,null,null,null,null,null,null,null,null,null,null,null,null,null,null,null,null,null,null,null,null,null,null,null,null,null,null,0,null,null,null,null,null,null,null,null,null,null,null,null,null,null,null,null,null,0,null,-1,-1,0,null,0,null,0,null,0,0,0,0,0,0,0,0,-1,null,null,0,0,0,0,0,0,0,0,-1,null,null,0,0,0]
[null,null,null,null,null,null,null,null,null,null,null,null,null,null,null,null,null,null,null,null,null,null,null,null,null,null,null,null,null,null,null,0,null,null,null,null,null,null,null,null,null,null,null,null,null,null,null,null,null,0,null,-1,-1,0,null,0,null,0,null,0,0,0,0,0,0,0,0,-1,null,null,0,0,0,0,0,0,0,0,-1,null,null,0,0,0]
[null,null,null,null,null,null,null,null,null,null,null,null,null,null,null,null,null,null,null,null,null,null,null,null,null,null,null,null,null,null,null,0,null,null,null,null,null,null,null,null,null,null,null,null,null,null,null,null,null,0,null,-1,-1,0,null,0,null,0,null,0,0,0,0,0,0,0,0,-1,null,null,0,0,0,0,0,0,0,0,-1,null,null,0,0,0]
[null,null,null,null,null,null,null,null,null,null,null,null,null,null,null,null,null,null,null,null,null,null,null,null,null,null,null,null,null,null,null,0,null,null,null,null,null,null,null,null,null,null,null,null,null,null,null,null,null,0,null,-1,-1,0,null,0,null,0,null,0,0,0,0,0,0,0,0,-1,null,null,0,0,0,0,0,0,0,0,-1,null,null,0,0,0]
[null,null,null,null,null,null,null,null,null,null,null,null,null,null,null,null,null,null,null,null,null,null,null,null,null,null,null,null,null,null,null,0,null,null,null,null,null,null,null,null,null,null,null,null,null,null,null,null,null,0,null,-1,-1,0,null,0,null,0,null,0,0,0,0,0,0,0,0,-1,null,null,0,0,0,0,0,0,0,0,-1,null,null,0,0,0]
[null,null,null,null,null,null,null,null,null,null,null,null,null,null,null,null,null,null,null,null,null,null,null,null,null,null,null,null,null,null,null,0,null,null,null,null,null,null,null,null,null,null,null,null,null,null,null,null,null,0,null,-1,-1,0,null,0,null,0,null,0,0,0,0,0,0,0,0,-1,null,null,0,0,0,0,0,0,0,0,-1,null,null,0,0,0]
[null,null,null,null,null,null,null,null,null,null,null,null,null,null,null,null,null,null,null,null,null,null,null,null,null,null,null,null,null,null,null,0,null,null,null,null,null,null,null,null,null,null,null,null,null,null,null,null,null,0,null,-1,-1,0,null,0,null,0,null,0,0,0,0,0,0,0,0,-1,null,null,0,0,0,0,0,0,0,0,-1,null,null,0,0,0]
[null,null,null,null,null,null,null,null,null,null,null,null,null,null,null,null,null,null,null,null,null,null,null,null,null,null,null,null,null,null,null,0,null,null,null,null,null,null,null,null,null,null,null,null,null,null,null,null,null,0,null,-1,-1,0,null,0,null,0,null,0,0,0,0,0,0,0,0,-1,null,null,0,0,0,0,0,0,0,0,-1,null,null,0,0,0]
[null,null,null,null,null,null,null,null,null,null,null,null,null,null,null,null,null,null,null,null,null,null,null,null,null,null,null,null,null,null,null,0,null,null,null,null,null,null,null,null,null,null,null,null,null,null,null,null,null,0,null,-1,-1,0,null,0,null,0,null,0,0,0,0,0,0,0,0,-1,null,null,0,0,0,0,0,0,0,0,-1,null,null,0,0,0]
[null,null,null,null,null,null,null,null,null,null,null,null,null,null,null,null,null,null,null,null,null,null,null,null,null,null,null,null,null,null,null,0,null,null,null,null,null,null,null,null,null,null,null,null,null,null,null,null,null,0,null,-1,-1,0,null,0,null,0,null,0,0,0,0,0,0,0,0,-1,null,null,0,0,0,0,0,0,0,0,-1,null,null,0,0,0]
[null,null,null,null,null,null,null,null,null,null,null,null,null,null,null,null,null,null,null,null,null,null,null,null,null,null,null,null,null,null,null,0,null,null,null,null,null,null,null,null,null,null,null,null,null,null,null,null,null,0,null,-1,-1,0,null,0,null,0,null,0,0,0,0,0,0,0,0,-1,null,null,0,0,0,0,0,0,0,0,-1,null,null,0,0,0]
[null,null,null,null,null,null,null,null,null,null,null,null,null,null,null,null,null,null,null,null,null,null,null,null,null,null,null,null,null,null,null,0,null,null,null,null,null,null,null,null,null,null,null,null,null,null,null,null,null,0,null,-1,-1,0,null,0,null,0,null,0,0,0,0,0,0,0,0,-1,null,null,0,0,0,0,0,0,0,0,-1,null,null,0,0,0]
[null,null,null,null,null,null,null,null,null,null,null,null,null,null,null,null,null,null,null,null,null,null,null,null,null,null,null,null,null,null,null,0,null,null,null,null,null,null,null,null,null,null,null,null,null,null,null,null,null,0,null,-1,-1,0,null,0,null,0,null,0,0,0,0,0,0,0,0,-1,null,null,0,0,0,0,0,0,0,0,-1,null,null,0,0,0]
[null,null,null,null,null,null,null,null,null,null,null,null,null,null,null,null,null,null,null,null,null,null,null,null,null,null,null,null,null,null,null,0,null,null,null,null,null,null,null,null,null,null,null,null,null,null,null,null,null,0,null,-1,-1,0,null,0,null,0,null,0,0,0,0,0,0,0,0,-1,null,null,0,0,0,0,0,0,0,0,-1,null,null,0,0,0]
[null,null,null,null,null,null,null,null,null,null,null,null,null,null,null,null,null,null,null,null,null,null,null,null,null,null,null,null,null,null,null,0,null,null,null,null,null,null,null,null,null,null,null,null,null,null,null,null,null,0,null,-1,-1,0,null,0,null,0,null,0,0,0,0,0,0,0,0,-1,null,null,0,0,0,0,0,0,0,0,-1,null,null,0,0,0]
[null,null,null,null,null,null,null,null,null,null,null,null,null,null,null,null,null,null,null,null,null,null,null,null,null,null,null,null,null,null,null,0,null,null,null,null,null,null,null,null,null,null,null,null,null,null,null,null,null,0,null,-1,-1,0,null,0,null,0,null,0,0,0,0,0,0,0,0,-1,null,null,0,0,0,0,0,0,0,0,-1,null,null,0,0,0]
[null,null,null,null,null,null,null,null,null,null,null,null,null,null,null,null,null,null,null,null,null,null,null,null,null,null,null,null,null,null,null,0,null,null,null,null,null,null,null,null,null,null,null,null,null,null,null,null,null,0,null,-1,-1,0,null,0,null,0,null,0,0,0,0,0,0,0,0,-1,null,null,0,0,0,0,0,0,0,0,-1,null,null,0,0,0]
[null,null,null,null,null,null,null,null,null,null,null,null,null,null,null,null,null,null,null,null,null,null,null,null,null,null,null,null,null,null,null,0,null,null,null,null,null,null,null,null,null,null,null,null,null,null,null,null,null,0,null,-1,-1,0,null,0,null,0,null,0,0,0,0,0,0,0,0,-1,null,null,0,0,0,0,0,0,0,0,-1,null,null,0,0,0]
[null,null,null,null,null,null,null,null,null,null,null,null,null,null,null,null,null,null,null,null,null,null,null,null,null,null,null,null,null,null,null,0,null,null,null,null,null,null,null,null,null,null,null,null,null,null,null,null,null,0,null,-1,-1,0,null,0,null,0,null,0,0,0,0,0,0,0,0,-1,null,null,0,0,0,0,0,0,0,0,-1,null,null,0,0,0]
[null,null,null,null,null,null,null,null,null,null,null,null,null,null,null,null,null,null,null,null,null,null,null,null,null,null,null,null,null,null,null,0,null,null,null,null,null,null,null,null,null,null,null,null,null,null,null,null,null,0,null,-1,-1,0,null,0,null,0,null,0,0,0,0,0,0,0,0,-1,null,null,0,0,0,0,0,0,0,0,-1,null,null,0,0,0]
[null,null,null,null,null,null,null,null,null,null,null,null,null,null,null,null,null,null,null,null,null,null,null,null,null,null,null,null,null,null,null,0,null,null,null,null,null,null,null,null,null,null,null,null,null,null,null,null,null,0,null,-1,-1,0,null,0,null,0,null,0,0,0,0,0,0,0,0,-1,null,null,0,0,0,0,0,0,0,0,-1,null,null,0,0,0]
[null,null,null,null,null,null,null,null,null,null,null,null,null,null,null,null,null,null,null,null,null,null,null,null,null,null,null,null,null,null,null,0,null,null,null,null,null,null,null,null,null,null,null,null,null,null,null,null,null,0,null,-1,-1,0,null,0,null,0,null,0,0,0,0,0,0,0,0,-1,null,null,0,0,0,0,0,0,0,0,-1,null,null,0,0,0]
[null,null,null,null,null,null,null,null,null,null,null,null,null,null,null,null,null,null,null,null,null,null,null,null,null,null,null,null,null,null,null,0,null,null,null,null,null,null,null,null,null,null,null,null,null,null,null,null,null,0,null,-1,-1,0,null,0,null,0,null,0,0,0,0,0,0,0,0,-1,null,null,0,0,0,0,0,0,0,0,-1,null,null,0,0,0]
[null,null,null,null,null,null,null,null,null,null,null,null,null,null,null,null,null,null,null,null,null,null,null,null,null,null,null,null,null,null,null,0,null,null,null,null,null,null,null,null,null,null,null,null,null,null,null,null,null,0,null,-1,-1,0,null,0,null,0,null,0,0,0,0,0,0,0,0,-1,null,null,0,0,0,0,0,0,0,0,-1,null,null,0,0,0]
[null,null,null,null,null,null,null,null,null,null,null,null,null,null,null,null,null,null,null,null,null,null,null,null,null,null,null,null,null,null,null,0,null,null,null,null,null,null,null,null,null,null,null,null,null,null,null,null,null,0,null,-1,-1,0,null,0,null,0,null,0,0,0,0,0,0,0,0,-1,null,null,0,0,0,0,0,0,0,0,-1,null,null,0,0,0]
[null,null,null,null,null,null,null,null,null,null,null,null,null,null,null,null,null,null,null,null,null,null,null,null,null,null,null,null,null,null,null,0,null,null,null,null,null,null,null,null,null,null,null,null,null,null,null,null,null,0,null,-1,-1,0,null,0,null,0,null,0,0,0,0,0,0,0,0,-1,null,null,0,0,0,0,0,0,0,0,-1,null,null,0,0,0]
[null,null,null,null,null,null,null,null,null,null,null,null,null,null,null,null,null,null,null,null,null,null,null,null,null,null,null,null,null,null,null,0,null,null,null,null,null,null,null,null,null,null,null,null,null,null,null,null,null,0,null,-1,-1,0,null,0,null,0,null,0,0,0,0,0,0,0,0,-1,null,null,0,0,0,0,0,0,0,0,-1,null,null,0,0,0]
[null,null,null,null,null,null,null,null,null,null,null,null,null,null,null,null,null,null,null,null,null,null,null,null,null,null,null,null,null,null,null,0,null,null,null,null,null,null,null,null,null,null,null,null,null,null,null,null,null,0,null,-1,-1,0,null,0,null,0,null,0,0,0,0,0,0,0,0,-1,null,null,0,0,0,0,0,0,0,0,-1,null,null,0,0,0]
[null,null,null,null,null,null,null,null,null,null,null,null,null,null,null,null,null,null,null,null,null,null,null,null,null,null,null,null,null,null,null,0,null,null,null,null,null,null,null,null,null,null,null,null,null,null,null,null,null,0,null,-1,-1,0,null,0,null,0,null,0,0,0,0,0,0,0,0,-1,null,null,0,0,0,0,0,0,0,0,-1,null,null,0,0,0]
[null,null,null,null,null,null,null,null,null,null,null,null,null,null,null,null,null,null,null,null,null,null,null,null,null,null,null,null,null,null,null,0,null,null,null,null,null,null,null,null,null,null,null,null,null,null,null,null,null,0,null,-1,-1,0,null,0,null,0,null,0,0,0,0,0,0,0,0,-1,null,null,0,0,0,0,0,0,0,0,-1,null,null,0,0,0]
[null,null,null,null,null,null,null,null,null,null,null,null,null,null,null,null,null,null,null,null,null,null,null,null,null,null,null,null,null,null,null,0,null,null,null,null,null,null,null,null,null,null,null,null,null,null,null,null,null,0,null,-1,-1,0,null,0,null,0,null,0,0,0,0,0,0,0,0,-1,null,null,0,0,0,0,0,0,0,0,-1,null,null,0,0,0]
[null,null,null,null,null,null,null,null,null,null,null,null,null,null,null,null,null,null,null,null,null,null,null,null,null,null,null,null,null,null,null,0,null,null,null,null,null,null,null,null,null,null,null,null,null,null,null,null,null,0,null,-1,-1,0,null,0,null,0,null,0,0,0,0,0,0,0,0,-1,null,null,0,0,0,0,0,0,0,0,-1,null,null,0,0,0]
[null,null,null,null,null,null,null,null,null,null,null,null,null,null,null,null,null,null,null,null,null,null,null,null,null,null,null,null,null,null,null,0,null,null,null,null,null,null,null,null,null,null,null,null,null,null,null,null,null,0,null,-1,-1,0,null,0,null,0,null,0,0,0,0,0,0,0,0,-1,null,null,0,0,0,0,0,0,0,0,-1,null,null,0,0,0]
[null,null,null,null,null,null,null,null,null,null,null,null,null,null,null,null,null,null,null,null,null,null,null,null,null,null,null,null,null,null,null,0,null,null,null,null,null,null,null,null,null,null,null,null,null,null,null,null,null,0,null,-1,-1,0,null,0,null,0,null,0,0,0,0,0,0,0,0,-1,null,null,0,0,0,0,0,0,0,0,-1,null,null,0,0,0]
[null,null,null,null,null,null,null,null,null,null,null,null,null,null,null,null,null,null,null,null,null,null,null,null,null,null,null,null,null,null,null,0,null,null,null,null,null,null,null,null,null,null,null,null,null,null,null,null,null,0,null,-1,-1,0,null,0,null,0,null,0,0,0,0,0,0,0,0,-1,null,null,0,0,0,0,0,0,0,0,-1,null,null,0,0,0]
[null,null,null,null,null,null,null,null,null,null,null,null,null,null,null,null,null,null,null,null,null,null,null,null,null,null,null,null,null,null,null,0,null,null,null,null,null,null,null,null,null,null,null,null,null,null,null,null,null,0,null,-1,-1,0,null,0,null,0,null,0,0,0,0,0,0,0,0,-1,null,null,0,0,0,0,0,0,0,0,-1,null,null,0,0,0]
[null,null,null,null,null,null,null,null,null,null,null,null,null,null,null,null,null,null,null,null,null,null,null,null,null,null,null,null,null,null,null,0,null,null,null,null,null,null,null,null,null,null,null,null,null,null,null,null,null,0,null,-1,-1,0,null,0,null,0,null,0,0,0,0,0,0,0,0,-1,null,null,0,0,0,0,0,0,0,0,-1,null,null,0,0,0]
[null,null,null,null,null,null,null,null,null,null,null,null,null,null,null,null,null,null,null,null,null,null,null,null,null,null,null,null,null,null,null,0,null,null,null,null,null,null,null,null,null,null,null,null,null,null,null,null,null,0,null,-1,-1,0,null,0,null,0,null,0,0,0,0,0,0,0,0,-1,null,null,0,0,0,0,0,0,0,0,-1,null,null,0,0,0]
[null,null,null,null,null,null,null,null,null,null,null,null,null,null,null,null,null,null,null,null,null,null,null,null,null,null,null,null,null,null,null,0,null,null,null,null,null,null,null,null,null,null,null,null,null,null,null,null,null,0,null,-1,-1,0,null,0,null,0,null,0,0,0,0,0,0,0,0,-1,null,null,0,0,0,0,0,0,0,0,-1,null,null,0,0,0]
[null,null,null,null,null,null,null,null,null,null,null,null,null,null,null,null,null,null,null,null,null,null,null,null,null,null,null,null,null,null,null,0,null,null,null,null,null,null,null,null,null,null,null,null,null,null,null,null,null,0,null,-1,-1,0,null,0,null,0,null,0,0,0,0,0,0,0,0,-1,null,null,0,0,0,0,0,0,0,0,-1,null,null,0,0,0]
[null,null,null,null,null,null,null,null,null,null,null,null,null,null,null,null,null,null,null,null,null,null,null,null,null,null,null,null,null,null,null,0,null,null,null,null,null,null,null,null,null,null,null,null,null,null,null,null,null,0,null,-1,-1,0,null,0,null,0,null,0,0,0,0,0,0,0,0,-1,null,null,0,0,0,0,0,0,0,0,-1,null,null,0,0,0]
[null,null,null,null,null,null,null,null,null,null,null,null,null,null,null,null,null,null,null,null,null,null,null,null,null,null,null,null,null,null,null,0,null,null,null,null,null,null,null,null,null,null,null,null,null,null,null,null,null,0,null,-1,-1,0,null,0,null,0,null,0,0,0,0,0,0,0,0,-1,null,null,0,0,0,0,0,0,0,0,-1,null,null,0,0,0]
[null,null,null,null,null,null,null,null,null,null,null,null,null,null,null,null,null,null,null,null,null,null,null,null,null,null,null,null,null,null,null,0,null,null,null,null,null,null,null,null,null,null,null,null,null,null,null,null,null,0,null,-1,-1,0,null,0,null,0,null,0,0,0,0,0,0,0,0,-1,null,null,0,0,0,0,0,0,0,0,-1,null,null,0,0,0]
[null,null,null,null,null,null,null,null,null,null,null,null,null,null,null,null,null,null,null,null,null,null,null,null,null,null,null,null,null,null,null,0,null,null,null,null,null,null,null,null,null,null,null,null,null,null,null,null,null,0,null,-1,-1,0,null,0,null,0,null,0,0,0,0,0,0,0,0,-1,null,null,0,0,0,0,0,0,0,0,-1,null,null,0,0,0]
[null,null,null,null,null,null,null,null,null,null,null,null,null,null,null,null,null,null,null,null,null,null,null,null,null,null,null,null,null,null,null,0,null,null,null,null,null,null,null,null,null,null,null,null,null,null,null,null,null,0,null,-1,-1,0,null,0,null,0,null,0,0,0,0,0,0,0,0,-1,null,null,0,0,0,0,0,0,0,0,-1,null,null,0,0,0]
[null,null,null,null,null,null,null,null,null,null,null,null,null,null,null,null,null,null,null,null,null,null,null,null,null,null,null,null,null,null,null,0,null,null,null,null,null,null,null,null,null,null,null,null,null,null,null,null,null,0,null,-1,-1,0,null,0,null,0,null,0,0,0,0,0,0,0,0,-1,null,null,0,0,0,0,0,0,0,0,-1,null,null,0,0,0]
[null,null,null,null,null,null,null,null,null,null,null,null,null,null,null,null,null,null,null,null,null,null,null,null,null,null,null,null,null,null,null,0,null,null,null,null,null,null,null,null,null,null,null,null,null,null,null,null,null,0,null,-1,-1,0,null,0,null,0,null,0,0,0,0,0,0,0,0,-1,null,null,0,0,0,0,0,0,0,0,-1,null,null,0,0,0]
[null,null,null,null,null,null,null,null,null,null,null,null,null,null,null,null,null,null,null,null,null,null,null,null,null,null,null,null,null,null,null,0,null,null,null,null,null,null,null,null,null,null,null,null,null,null,null,null,null,0,null,-1,-1,0,null,0,null,0,null,0,0,0,0,0,0,0,0,-1,null,null,0,0,0,0,0,0,0,0,-1,null,null,0,0,0]
[null,null,null,null,null,null,null,null,null,null,null,null,null,null,null,null,null,null,null,null,null,null,null,null,null,null,null,null,null,null,null,0,null,null,null,null,null,null,null,null,null,null,null,null,null,null,null,null,null,0,null,-1,-1,0,null,0,null,0,null,0,0,0,0,0,0,0,0,-1,null,null,0,0,0,0,0,0,0,0,-1,null,null,0,0,0]
[null,null,null,null,null,null,null,null,null,null,null,null,null,null,null,null,null,null,null,null,null,null,null,null,null,null,null,null,null,null,null,0,null,null,null,null,null,null,null,null,null,null,null,null,null,null,null,null,null,0,null,-1,-1,0,null,0,null,0,null,0,0,0,0,0,0,0,0,-1,null,null,0,0,0,0,0,0,0,0,-1,null,null,0,0,0]
[null,null,null,null,null,null,null,null,null,null,null,null,null,null,null,null,null,null,null,null,null,null,null,null,null,null,null,null,null,null,null,0,null,null,null,null,null,null,null,null,null,null,null,null,null,null,null,null,null,0,null,-1,-1,0,null,0,null,0,null,0,0,0,0,0,0,0,0,-1,null,null,0,0,0,0,0,0,0,0,-1,null,null,0,0,0]
[null,null,null,null,null,null,null,null,null,null,null,null,null,null,null,null,null,null,null,null,null,null,null,null,null,null,null,null,null,null,null,0,null,null,null,null,null,null,null,null,null,null,null,null,null,null,null,null,null,0,null,-1,-1,0,null,0,null,0,null,0,0,0,0,0,0,0,0,-1,null,null,0,0,0,0,0,0,0,0,-1,null,null,0,0,0]
[null,null,null,null,null,null,null,null,null,null,null,null,null,null,null,null,null,null,null,null,null,null,null,null,null,null,null,null,null,null,null,0,null,null,null,null,null,null,null,null,null,null,null,null,null,null,null,null,null,0,null,-1,-1,0,null,0,null,0,null,0,0,0,0,0,0,0,0,-1,null,null,0,0,0,0,0,0,0,0,-1,null,null,0,0,0]
[null,null,null,null,null,null,null,null,null,null,null,null,null,null,null,null,null,null,null,null,null,null,null,null,null,null,null,null,null,null,null,0,null,null,null,null,null,null,null,null,null,null,null,null,null,null,null,null,null,0,null,{"$f":"COUNTA(AJ184:AU184)-1","v":-1},{"$f":"COUNTA(R184:AC184)-1","v":-1},0,null,{"$f":"((H184/1000)*(L184/1000))*D184","v":0},null,{"$f":"(((H184+L184)*2)/1000)*D184","v":0},null,{"$f":"IF(P184,1,0)","v":0},{"$f":"IF(R184,1,0)","v":0},{"$f":"IF(T184,1,0)","v":0},{"$f":"IF(V184,1,0)","v":0},{"$f":"IF(X184,1,0)","v":0},{"$f":"IF(Z184,1,0)","v":0},{"$f":"IF(AB184,1,0)","v":0},{"$f":"IF(AD184,1,0)","v":0},-1,null,null,{"$f":"IF(AH184,1,0)","v":0},{"$f":"IF(AJ184,1,0)","v":0},{"$f":"IF(AL184,1,0)","v":0},{"$f":"IF(AN184,1,0)","v":0},{"$f":"IF(AP184,1,0)","v":0},{"$f":"IF(AR184,1,0)","v":0},{"$f":"IF(AT184,1,0)","v":0},{"$f":"IF(AV184,1,0)","v":0},-1,null,null,{"$f":"(CA184*BP184)*D184","v":0},{"$f":"SUM(P184:AE184)","v":0},{"$f":"SUM(AH184:AW184)","v":0}]
[null,null,null,null,null,null,null,null,null,null,null,null,null,null,null,null,null,null,null,null,null,null,null,null,null,null,null,null,null,null,null,{"$f":"COUNT(P185,AD185)+IF(BA185>0,BA185)","v":0},null,null,null,null,null,null,null,null,null,null,null,null,null,null,null,null,null,{"$f":"COUNT(AH185,AV185)+IF(AZ185>0,AZ185)","v":0},null,-1,-1,{"$f":"D185*(AF185*AX185)","v":0},null,0,null,0,null,0,0,0,0,0,0,0,0,{"$f":"SUM(BH185:BO185)-1","v":-1},null,null,0,0,0,0,0,0,0,0,{"$f":"SUM(BS185:BZ185)-1","v":-1},null,null,0,0,0]
[null,null,null,null,null,null,null,null,null,null,null,null,null,null,null,null,null,null,null,null,null,null,null,null,null,null,null,null,null,null,null,0,null,null,null,null,null,null,null,null,null,null,null,null,null,null,null,null,null,0,null,-1,-1,0,null,0,null,0,null,0,0,0,0,0,0,0,0,-1,null,null,0,0,0,0,0,0,0,0,-1,null,null,0,0,0]
[null,null,null,null,null,null,null,null,null,null,null,null,null,null,null,null,null,null,null,null,null,null,null,null,null,null,null,null,null,null,null,0,null,null,null,null,null,null,null,null,null,null,null,null,null,null,null,null,null,0,null,-1,-1,0,null,0,null,0,null,0,0,0,0,0,0,0,0,-1,null,null,0,0,0,0,0,0,0,0,-1,null,null,0,0,0]
[null,null,null,null,null,null,null,null,null,null,null,null,null,null,null,null,null,null,null,null,null,null,null,null,null,null,null,null,null,null,null,0,null,null,null,null,null,null,null,null,null,null,null,null,null,null,null,null,null,0,null,-1,-1,0,null,0,null,0,null,0,0,0,0,0,0,0,0,-1,null,null,0,0,0,0,0,0,0,0,-1,null,null,0,0,0]
[null,null,null,null,null,null,null,null,null,null,null,null,null,null,null,null,null,null,null,null,null,null,null,null,null,null,null,null,null,null,null,0,null,null,null,null,null,null,null,null,null,null,null,null,null,null,null,null,null,0,null,-1,-1,0,null,0,null,0,null,0,0,0,0,0,0,0,0,-1,null,null,0,0,0,0,0,0,0,0,-1,null,null,0,0,0]
[null,null,null,null,null,null,null,null,null,null,null,null,null,null,null,null,null,null,null,null,null,null,null,null,null,null,null,null,null,null,null,0,null,null,null,null,null,null,null,null,null,null,null,null,null,null,null,null,null,0,null,-1,-1,0,null,0,null,0,null,0,0,0,0,0,0,0,0,-1,null,null,0,0,0,0,0,0,0,0,-1,null,null,0,0,0]
[null,null,null,null,null,null,null,null,null,null,null,null,null,null,null,null,null,null,null,null,null,null,null,null,null,null,null,null,null,null,null,0,null,null,null,null,null,null,null,null,null,null,null,null,null,null,null,null,null,0,null,-1,-1,0,null,0,null,0,null,0,0,0,0,0,0,0,0,-1,null,null,0,0,0,0,0,0,0,0,-1,null,null,0,0,0]
[null,null,null,null,null,null,null,null,null,null,null,null,null,null,null,null,null,null,null,null,null,null,null,null,null,null,null,null,null,null,null,0,null,null,null,null,null,null,null,null,null,null,null,null,null,null,null,null,null,0,null,-1,-1,0,null,0,null,0,null,0,0,0,0,0,0,0,0,-1,null,null,0,0,0,0,0,0,0,0,-1,null,null,0,0,0]
[null,null,null,null,null,null,null,null,null,null,null,null,null,null,null,null,null,null,null,null,null,null,null,null,null,null,null,null,null,null,null,0,null,null,null,null,null,null,null,null,null,null,null,null,null,null,null,null,null,0,null,-1,-1,0,null,0,null,0,null,0,0,0,0,0,0,0,0,-1,null,null,0,0,0,0,0,0,0,0,-1,null,null,0,0,0]
[null,null,null,null,null,null,null,null,null,null,null,null,null,null,null,null,null,null,null,null,null,null,null,null,null,null,null,null,null,null,null,0,null,null,null,null,null,null,null,null,null,null,null,null,null,null,null,null,null,0,null,-1,-1,0,null,0,null,0,null,0,0,0,0,0,0,0,0,-1,null,null,0,0,0,0,0,0,0,0,-1,null,null,0,0,0]
[null,null,null,null,null,null,null,null,null,null,null,null,null,null,null,null,null,null,null,null,null,null,null,null,null,null,null,null,null,null,null,0,null,null,null,null,null,null,null,null,null,null,null,null,null,null,null,null,null,0,null,-1,-1,0,null,0,null,0,null,0,0,0,0,0,0,0,0,-1,null,null,0,0,0,0,0,0,0,0,-1,null,null,0,0,0]
[null,null,null,null,null,null,null,null,null,null,null,null,null,null,null,null,null,null,null,null,null,null,null,null,null,null,null,null,null,null,null,0,null,null,null,null,null,null,null,null,null,null,null,null,null,null,null,null,null,0,null,-1,-1,0,null,0,null,0,null,0,0,0,0,0,0,0,0,-1,null,null,0,0,0,0,0,0,0,0,-1,null,null,0,0,0]
[null,null,null,null,null,null,null,null,null,null,null,null,null,null,null,null,null,null,null,null,null,null,null,null,null,null,null,null,null,null,null,0,null,null,null,null,null,null,null,null,null,null,null,null,null,null,null,null,null,0,null,-1,-1,0,null,0,null,0,null,0,0,0,0,0,0,0,0,-1,null,null,0,0,0,0,0,0,0,0,-1,null,null,0,0,0]
[null,null,null,null,null,null,null,null,null,null,null,null,null,null,null,null,null,null,null,null,null,null,null,null,null,null,null,null,null,null,null,0,null,null,null,null,null,null,null,null,null,null,null,null,null,null,null,null,null,0,null,-1,-1,0,null,0,null,0,null,0,0,0,0,0,0,0,0,-1,null,null,0,0,0,0,0,0,0,0,-1,null,null,0,0,0]
[null,null,null,null,null,null,null,null,null,null,null,null,null,null,null,null,null,null,null,null,null,null,null,null,null,null,null,null,null,null,null,0,null,null,null,null,null,null,null,null,null,null,null,null,null,null,null,null,null,0,null,-1,-1,0,null,0,null,0,null,0,0,0,0,0,0,0,0,-1,null,null,0,0,0,0,0,0,0,0,-1,null,null,0,0,0]
[null,null,null,null,null,null,null,null,null,null,null,null,null,null,null,null,null,null,null,null,null,null,null,null,null,null,null,null,null,null,null,0,null,null,null,null,null,null,null,null,null,null,null,null,null,null,null,null,null,0,null,-1,-1,0,null,0,null,0,null,0,0,0,0,0,0,0,0,-1,null,null,0,0,0,0,0,0,0,0,-1,null,null,0,0,0]
[null,null,null,null,null,null,null,null,null,null,null,null,null,null,null,null,null,null,null,null,null,null,null,null,null,null,null,null,null,null,null,0,null,null,null,null,null,null,null,null,null,null,null,null,null,null,null,null,null,0,null,-1,-1,0,null,0,null,0,null,0,0,0,0,0,0,0,0,-1,null,null,0,0,0,0,0,0,0,0,-1,null,null,0,0,0]
[null,null,null,null,null,null,null,null,null,null,null,null,null,null,null,null,null,null,null,null,null,null,null,null,null,null,null,null,null,null,null,0,null,null,null,null,null,null,null,null,null,null,null,null,null,null,null,null,null,0,null,-1,-1,0,null,0,null,0,null,0,0,0,0,0,0,0,0,-1,null,null,0,0,0,0,0,0,0,0,-1,null,null,0,0,0]
[null,null,null,null,null,null,null,null,null,null,null,null,null,null,null,null,null,null,null,null,null,null,null,null,null,null,null,null,null,null,null,0,null,null,null,null,null,null,null,null,null,null,null,null,null,null,null,null,null,0,null,-1,-1,0,null,0,null,0,null,0,0,0,0,0,0,0,0,-1,null,null,0,0,0,0,0,0,0,0,-1,null,null,0,0,0]
[null,null,null,null,null,null,null,null,null,null,null,null,null,null,null,null,null,null,null,null,null,null,null,null,null,null,null,null,null,null,null,0,null,null,null,null,null,null,null,null,null,null,null,null,null,null,null,null,null,0,null,-1,-1,0,null,0,null,0,null,0,0,0,0,0,0,0,0,-1,null,null,0,0,0,0,0,0,0,0,-1,null,null,0,0,0]
[null,null,null,null,null,null,null,null,null,null,null,null,null,null,null,null,null,null,null,null,null,null,null,null,null,null,null,null,null,null,null,0,null,null,null,null,null,null,null,null,null,null,null,null,null,null,null,null,null,0,null,-1,-1,0,null,0,null,0,null,0,0,0,0,0,0,0,0,-1,null,null,0,0,0,0,0,0,0,0,-1,null,null,0,0,0]
[null,null,null,null,null,null,null,null,null,null,null,null,null,null,null,null,null,null,null,null,null,null,null,null,null,null,null,null,null,null,null,0,null,null,null,null,null,null,null,null,null,null,null,null,null,null,null,null,null,0,null,-1,-1,0,null,0,null,0,null,0,0,0,0,0,0,0,0,-1,null,null,0,0,0,0,0,0,0,0,-1,null,null,0,0,0]
[null,null,null,null,null,null,null,null,null,null,null,null,null,null,null,null,null,null,null,null,null,null,null,null,null,null,null,null,null,null,null,0,null,null,null,null,null,null,null,null,null,null,null,null,null,null,null,null,null,0,null,-1,-1,0,null,0,null,0,null,0,0,0,0,0,0,0,0,-1,null,null,0,0,0,0,0,0,0,0,-1,null,null,0,0,0]
[null,null,null,null,null,null,null,null,null,null,null,null,null,null,null,null,null,null,null,null,null,null,null,null,null,null,null,null,null,null,null,0,null,null,null,null,null,null,null,null,null,null,null,null,null,null,null,null,null,0,null,-1,-1,0,null,0,null,0,null,0,0,0,0,0,0,0,0,-1,null,null,0,0,0,0,0,0,0,0,-1,null,null,0,0,0]
[null,null,null,null,null,null,null,null,null,null,null,null,null,null,null,null,null,null,null,null,null,null,null,null,null,null,null,null,null,null,null,0,null,null,null,null,null,null,null,null,null,null,null,null,null,null,null,null,null,0,null,-1,-1,0,null,0,null,0,null,0,0,0,0,0,0,0,0,-1,null,null,0,0,0,0,0,0,0,0,-1,null,null,0,0,0]
[null,null,null,null,null,null,null,null,null,null,null,null,null,null,null,null,null,null,null,null,null,null,null,null,null,null,null,null,null,null,null,0,null,null,null,null,null,null,null,null,null,null,null,null,null,null,null,null,null,0,null,-1,-1,0,null,0,null,0,null,0,0,0,0,0,0,0,0,-1,null,null,0,0,0,0,0,0,0,0,-1,null,null,0,0,0]
[null,null,null,null,null,null,null,null,null,null,null,null,null,null,null,null,null,null,null,null,null,null,null,null,null,null,null,null,null,null,null,0,null,null,null,null,null,null,null,null,null,null,null,null,null,null,null,null,null,0,null,-1,-1,0,null,0,null,0,null,0,0,0,0,0,0,0,0,-1,null,null,0,0,0,0,0,0,0,0,-1,null,null,0,0,0]
[null,null,null,null,null,null,null,null,null,null,null,null,null,null,null,null,null,null,null,null,null,null,null,null,null,null,null,null,null,null,null,0,null,null,null,null,null,null,null,null,null,null,null,null,null,null,null,null,null,0,null,-1,-1,0,null,0,null,0,null,0,0,0,0,0,0,0,0,-1,null,null,0,0,0,0,0,0,0,0,-1,null,null,0,0,0]
[null,null,null,null,null,null,null,null,null,null,null,null,null,null,null,null,null,null,null,null,null,null,null,null,null,null,null,null,null,null,null,0,null,null,null,null,null,null,null,null,null,null,null,null,null,null,null,null,null,0,null,-1,-1,0,null,0,null,0,null,0,0,0,0,0,0,0,0,-1,null,null,0,0,0,0,0,0,0,0,-1,null,null,0,0,0]
[null,null,null,null,null,null,null,null,null,null,null,null,null,null,null,null,null,null,null,null,null,null,null,null,null,null,null,null,null,null,null,0,null,null,null,null,null,null,null,null,null,null,null,null,null,null,null,null,null,0,null,-1,-1,0,null,0,null,0,null,0,0,0,0,0,0,0,0,-1,null,null,0,0,0,0,0,0,0,0,-1,null,null,0,0,0]
[null,null,null,null,null,null,null,null,null,null,null,null,null,null,null,null,null,null,null,null,null,null,null,null,null,null,null,null,null,null,null,0,null,null,null,null,null,null,null,null,null,null,null,null,null,null,null,null,null,0,null,-1,-1,0,null,0,null,0,null,0,0,0,0,0,0,0,0,-1,null,null,0,0,0,0,0,0,0,0,-1,null,null,0,0,0]
[null,null,null,null,null,null,null,null,null,null,null,null,null,null,null,null,null,null,null,null,null,null,null,null,null,null,null,null,null,null,null,0,null,null,null,null,null,null,null,null,null,null,null,null,null,null,null,null,null,0,null,-1,-1,0,null,0,null,0,null,0,0,0,0,0,0,0,0,-1,null,null,0,0,0,0,0,0,0,0,-1,null,null,0,0,0]
[null,null,null,null,null,null,null,null,null,null,null,null,null,null,null,null,null,null,null,null,null,null,null,null,null,null,null,null,null,null,null,0,null,null,null,null,null,null,null,null,null,null,null,null,null,null,null,null,null,0,null,-1,-1,0,null,0,null,0,null,0,0,0,0,0,0,0,0,-1,null,null,0,0,0,0,0,0,0,0,-1,null,null,0,0,0]
[null,null,null,null,null,null,null,null,null,null,null,null,null,null,null,null,null,null,null,null,null,null,null,null,null,null,null,null,null,null,null,0,null,null,null,null,null,null,null,null,null,null,null,null,null,null,null,null,null,0,null,-1,-1,0,null,0,null,0,null,0,0,0,0,0,0,0,0,-1,null,null,0,0,0,0,0,0,0,0,-1,null,null,0,0,0]
[null,null,null,null,null,null,null,null,null,null,null,null,null,null,null,null,null,null,null,null,null,null,null,null,null,null,null,null,null,null,null,0,null,null,null,null,null,null,null,null,null,null,null,null,null,null,null,null,null,0,null,-1,-1,0,null,0,null,0,null,0,0,0,0,0,0,0,0,-1,null,null,0,0,0,0,0,0,0,0,-1,null,null,0,0,0]
[null,null,null,null,null,null,null,null,null,null,null,null,null,null,null,null,null,null,null,null,null,null,null,null,null,null,null,null,null,null,null,0,null,null,null,null,null,null,null,null,null,null,null,null,null,null,null,null,null,0,null,-1,-1,0,null,0,null,0,null,0,0,0,0,0,0,0,0,-1,null,null,0,0,0,0,0,0,0,0,-1,null,null,0,0,0]
[null,null,null,null,null,null,null,null,null,null,null,null,null,null,null,null,null,null,null,null,null,null,null,null,null,null,null,null,null,null,null,0,null,null,null,null,null,null,null,null,null,null,null,null,null,null,null,null,null,0,null,-1,-1,0,null,0,null,0,null,0,0,0,0,0,0,0,0,-1,null,null,0,0,0,0,0,0,0,0,-1,null,null,0,0,0]
[null,null,null,null,null,null,null,null,null,null,null,null,null,null,null,null,null,null,null,null,null,null,null,null,null,null,null,null,null,null,null,0,null,null,null,null,null,null,null,null,null,null,null,null,null,null,null,null,null,0,null,-1,-1,0,null,0,null,0,null,0,0,0,0,0,0,0,0,-1,null,null,0,0,0,0,0,0,0,0,-1,null,null,0,0,0]
[null,null,null,null,null,null,null,null,null,null,null,null,null,null,null,null,null,null,null,null,null,null,null,null,null,null,null,null,null,null,null,0,null,null,null,null,null,null,null,null,null,null,null,null,null,null,null,null,null,0,null,-1,-1,0,null,0,null,0,null,0,0,0,0,0,0,0,0,-1,null,null,0,0,0,0,0,0,0,0,-1,null,null,0,0,0]
[null,null,null,null,null,null,null,null,null,null,null,null,null,null,null,null,null,null,null,null,null,null,null,null,null,null,null,null,null,null,null,0,null,null,null,null,null,null,null,null,null,null,null,null,null,null,null,null,null,0,null,-1,-1,0,null,0,null,0,null,0,0,0,0,0,0,0,0,-1,null,null,0,0,0,0,0,0,0,0,-1,null,null,0,0,0]
[null,null,null,null,null,null,null,null,null,null,null,null,null,null,null,null,null,null,null,null,null,null,null,null,null,null,null,null,null,null,null,0,null,null,null,null,null,null,null,null,null,null,null,null,null,null,null,null,null,0,null,-1,-1,0,null,0,null,0,null,0,0,0,0,0,0,0,0,-1,null,null,0,0,0,0,0,0,0,0,-1,null,null,0,0,0]
[null,null,null,null,null,null,null,null,null,null,null,null,null,null,null,null,null,null,null,null,null,null,null,null,null,null,null,null,null,null,null,0,null,null,null,null,null,null,null,null,null,null,null,null,null,null,null,null,null,0,null,-1,-1,0,null,0,null,0,null,0,0,0,0,0,0,0,0,-1,null,null,0,0,0,0,0,0,0,0,-1,null,null,0,0,0]
[null,null,null,null,null,null,null,null,null,null,null,null,null,null,null,null,null,null,null,null,null,null,null,null,null,null,null,null,null,null,null,0,null,null,null,null,null,null,null,null,null,null,null,null,null,null,null,null,null,0,null,-1,-1,0,null,0,null,0,null,0,0,0,0,0,0,0,0,-1,null,null,0,0,0,0,0,0,0,0,-1,null,null,0,0,0]
[null,null,null,null,null,null,null,null,null,null,null,null,null,null,null,null,null,null,null,null,null,null,null,null,null,null,null,null,null,null,null,0,null,null,null,null,null,null,null,null,null,null,null,null,null,null,null,null,null,0,null,-1,-1,0,null,0,null,0,null,0,0,0,0,0,0,0,0,-1,null,null,0,0,0,0,0,0,0,0,-1,null,null,0,0,0]
[null,null,null,null,null,null,null,null,null,null,null,null,null,null,null,null,null,null,null,null,null,null,null,null,null,null,null,null,null,null,null,0,null,null,null,null,null,null,null,null,null,null,null,null,null,null,null,null,null,0,null,-1,-1,0,null,0,null,0,null,0,0,0,0,0,0,0,0,-1,null,null,0,0,0,0,0,0,0,0,-1,null,null,0,0,0]
[null,null,null,null,null,null,null,null,null,null,null,null,null,null,null,null,null,null,null,null,null,null,null,null,null,null,null,null,null,null,null,0,null,null,null,null,null,null,null,null,null,null,null,null,null,null,null,null,null,0,null,-1,-1,0,null,0,null,0,null,0,0,0,0,0,0,0,0,-1,null,null,0,0,0,0,0,0,0,0,-1,null,null,0,0,0]
[null,null,null,null,null,null,null,null,null,null,null,null,null,null,null,null,null,null,null,null,null,null,null,null,null,null,null,null,null,null,null,0,null,null,null,null,null,null,null,null,null,null,null,null,null,null,null,null,null,0,null,-1,-1,0,null,0,null,0,null,0,0,0,0,0,0,0,0,-1,null,null,0,0,0,0,0,0,0,0,-1,null,null,0,0,0]
[null,null,null,null,null,null,null,null,null,null,null,null,null,null,null,null,null,null,null,null,null,null,null,null,null,null,null,null,null,null,null,0,null,null,null,null,null,null,null,null,null,null,null,null,null,null,null,null,null,0,null,-1,-1,0,null,0,null,0,null,0,0,0,0,0,0,0,0,-1,null,null,0,0,0,0,0,0,0,0,-1,null,null,0,0,0]
[null,null,null,null,null,null,null,null,null,null,null,null,null,null,null,null,null,null,null,null,null,null,null,null,null,null,null,null,null,null,null,0,null,null,null,null,null,null,null,null,null,null,null,null,null,null,null,null,null,0,null,-1,-1,0,null,0,null,0,null,0,0,0,0,0,0,0,0,-1,null,null,0,0,0,0,0,0,0,0,-1,null,null,0,0,0]
[null,null,null,null,null,null,null,null,null,null,null,null,null,null,null,null,null,null,null,null,null,null,null,null,null,null,null,null,null,null,null,0,null,null,null,null,null,null,null,null,null,null,null,null,null,null,null,null,null,0,null,-1,-1,0,null,0,null,0,null,0,0,0,0,0,0,0,0,-1,null,null,0,0,0,0,0,0,0,0,-1,null,null,0,0,0]
[null,null,null,null,null,null,null,null,null,null,null,null,null,null,null,null,null,null,null,null,null,null,null,null,null,null,null,null,null,null,null,0,null,null,null,null,null,null,null,null,null,null,null,null,null,null,null,null,null,0,null,-1,-1,0,null,0,null,0,null,0,0,0,0,0,0,0,0,-1,null,null,0,0,0,0,0,0,0,0,-1,null,null,0,0,0]
[null,null,null,null,null,null,null,null,null,null,null,null,null,null,null,null,null,null,null,null,null,null,null,null,null,null,null,null,null,null,null,0,null,null,null,null,null,null,null,null,null,null,null,null,null,null,null,null,null,0,null,-1,-1,0,null,0,null,0,null,0,0,0,0,0,0,0,0,-1,null,null,0,0,0,0,0,0,0,0,-1,null,null,0,0,0]
[null,null,null,null,null,null,null,null,null,null,null,null,null,null,null,null,null,null,null,null,null,null,null,null,null,null,null,null,null,null,null,0,null,null,null,null,null,null,null,null,null,null,null,null,null,null,null,null,null,0,null,-1,-1,0,null,0,null,0,null,0,0,0,0,0,0,0,0,-1,null,null,0,0,0,0,0,0,0,0,-1,null,null,0,0,0]
[null,null,null,null,null,null,null,null,null,null,null,null,null,null,null,null,null,null,null,null,null,null,null,null,null,null,null,null,null,null,null,0,null,null,null,null,null,null,null,null,null,null,null,null,null,null,null,null,null,0,null,-1,-1,0,null,0,null,0,null,0,0,0,0,0,0,0,0,-1,null,null,0,0,0,0,0,0,0,0,-1,null,null,0,0,0]
[null,null,null,null,null,null,null,null,null,null,null,null,null,null,null,null,null,null,null,null,null,null,null,null,null,null,null,null,null,null,null,0,null,null,null,null,null,null,null,null,null,null,null,null,null,null,null,null,null,0,null,-1,-1,0,null,0,null,0,null,0,0,0,0,0,0,0,0,-1,null,null,0,0,0,0,0,0,0,0,-1,null,null,0,0,0]
[null,null,null,null,null,null,null,null,null,null,null,null,null,null,null,null,null,null,null,null,null,null,null,null,null,null,null,null,null,null,null,0,null,null,null,null,null,null,null,null,null,null,null,null,null,null,null,null,null,0,null,-1,-1,0,null,0,null,0,null,0,0,0,0,0,0,0,0,-1,null,null,0,0,0,0,0,0,0,0,-1,null,null,0,0,0]
[null,null,null,null,null,null,null,null,null,null,null,null,null,null,null,null,null,null,null,null,null,null,null,null,null,null,null,null,null,null,null,0,null,null,null,null,null,null,null,null,null,null,null,null,null,null,null,null,null,0,null,-1,-1,0,null,0,null,0,null,0,0,0,0,0,0,0,0,-1,null,null,0,0,0,0,0,0,0,0,-1,null,null,0,0,0]
[null,null,null,null,null,null,null,null,null,null,null,null,null,null,null,null,null,null,null,null,null,null,null,null,null,null,null,null,null,null,null,0,null,null,null,null,null,null,null,null,null,null,null,null,null,null,null,null,null,0,null,-1,-1,0,null,0,null,0,null,0,0,0,0,0,0,0,0,-1,null,null,0,0,0,0,0,0,0,0,-1,null,null,0,0,0]
[null,null,null,null,null,null,null,null,null,null,null,null,null,null,null,null,null,null,null,null,null,null,null,null,null,null,null,null,null,null,null,0,null,null,null,null,null,null,null,null,null,null,null,null,null,null,null,null,null,0,null,-1,-1,0,null,0,null,0,null,0,0,0,0,0,0,0,0,-1,null,null,0,0,0,0,0,0,0,0,-1,null,null,0,0,0]
[null,null,null,null,null,null,null,null,null,null,null,null,null,null,null,null,null,null,null,null,null,null,null,null,null,null,null,null,null,null,null,0,null,null,null,null,null,null,null,null,null,null,null,null,null,null,null,null,null,0,null,-1,-1,0,null,0,null,0,null,0,0,0,0,0,0,0,0,-1,null,null,0,0,0,0,0,0,0,0,-1,null,null,0,0,0]
[null,null,null,null,null,null,null,null,null,null,null,null,null,null,null,null,null,null,null,null,null,null,null,null,null,null,null,null,null,null,null,0,null,null,null,null,null,null,null,null,null,null,null,null,null,null,null,null,null,0,null,-1,-1,0,null,0,null,0,null,0,0,0,0,0,0,0,0,-1,null,null,0,0,0,0,0,0,0,0,-1,null,null,0,0,0]
[null,null,null,null,null,null,null,null,null,null,null,null,null,null,null,null,null,null,null,null,null,null,null,null,null,null,null,null,null,null,null,0,null,null,null,null,null,null,null,null,null,null,null,null,null,null,null,null,null,0,null,-1,-1,0,null,0,null,0,null,0,0,0,0,0,0,0,0,-1,null,null,0,0,0,0,0,0,0,0,-1,null,null,0,0,0]
[null,null,null,null,null,null,null,null,null,null,null,null,null,null,null,null,null,null,null,null,null,null,null,null,null,null,null,null,null,null,null,0,null,null,null,null,null,null,null,null,null,null,null,null,null,null,null,null,null,0,null,-1,-1,0,null,0,null,0,null,0,0,0,0,0,0,0,0,-1,null,null,0,0,0,0,0,0,0,0,-1,null,null,0,0,0]
[null,null,null,null,null,null,null,null,null,null,null,null,null,null,null,null,null,null,null,null,null,null,null,null,null,null,null,null,null,null,null,0,null,null,null,null,null,null,null,null,null,null,null,null,null,null,null,null,null,0,null,{"$f":"COUNTA(AJ248:AU248)-1","v":-1},{"$f":"COUNTA(R248:AC248)-1","v":-1},0,null,{"$f":"((H248/1000)*(L248/1000))*D248","v":0},null,{"$f":"(((H248+L248)*2)/1000)*D248","v":0},null,{"$f":"IF(P248,1,0)","v":0},{"$f":"IF(R248,1,0)","v":0},{"$f":"IF(T248,1,0)","v":0},{"$f":"IF(V248,1,0)","v":0},{"$f":"IF(X248,1,0)","v":0},{"$f":"IF(Z248,1,0)","v":0},{"$f":"IF(AB248,1,0)","v":0},{"$f":"IF(AD248,1,0)","v":0},-1,null,null,{"$f":"IF(AH248,1,0)","v":0},{"$f":"IF(AJ248,1,0)","v":0},{"$f":"IF(AL248,1,0)","v":0},{"$f":"IF(AN248,1,0)","v":0},{"$f":"IF(AP248,1,0)","v":0},{"$f":"IF(AR248,1,0)","v":0},{"$f":"IF(AT248,1,0)","v":0},{"$f":"IF(AV248,1,0)","v":0},-1,null,null,{"$f":"(CA248*BP248)*D248","v":0},{"$f":"SUM(P248:AE248)","v":0},{"$f":"SUM(AH248:AW248)","v":0}]
[null,null,null,null,null,null,null,null,null,null,null,null,null,null,null,null,null,null,null,null,null,null,null,null,null,null,null,null,null,null,null,{"$f":"COUNT(P249,AD249)+IF(BA249>0,BA249)","v":0},null,null,null,null,null,null,null,null,null,null,null,null,null,null,null,null,null,{"$f":"COUNT(AH249,AV249)+IF(AZ249>0,AZ249)","v":0},null,-1,-1,{"$f":"D249*(AF249*AX249)","v":0},null,0,null,0,null,0,0,0,0,0,0,0,0,{"$f":"SUM(BH249:BO249)-1","v":-1},null,null,0,0,0,0,0,0,0,0,{"$f":"SUM(BS249:BZ249)-1","v":-1},null,null,0,0,0]
[null,null,null,null,null,null,null,null,null,null,null,null,null,null,null,null,null,null,null,null,null,null,null,null,null,null,null,null,null,null,null,0,null,null,null,null,null,null,null,null,null,null,null,null,null,null,null,null,null,0,null,-1,-1,0,null,0,null,0,null,0,0,0,0,0,0,0,0,-1,null,null,0,0,0,0,0,0,0,0,-1,null,null,0,0,0]
[null,null,null,null,null,null,null,null,null,null,null,null,null,null,null,null,null,null,null,null,null,null,null,null,null,null,null,null,null,null,null,0,null,null,null,null,null,null,null,null,null,null,null,null,null,null,null,null,null,0,null,-1,-1,0,null,0,null,0,null,0,0,0,0,0,0,0,0,-1,null,null,0,0,0,0,0,0,0,0,-1,null,null,0,0,0]
[null,null,null,null,null,null,null,null,null,null,null,null,null,null,null,null,null,null,null,null,null,null,null,null,null,null,null,null,null,null,null,0,null,null,null,null,null,null,null,null,null,null,null,null,null,null,null,null,null,0,null,-1,-1,0,null,0,null,0,null,0,0,0,0,0,0,0,0,-1,null,null,0,0,0,0,0,0,0,0,-1,null,null,0,0,0]
[null,null,null,null,null,null,null,null,null,null,null,null,null,null,null,null,null,null,null,null,null,null,null,null,null,null,null,null,null,null,null,0,null,null,null,null,null,null,null,null,null,null,null,null,null,null,null,null,null,0,null,-1,-1,0,null,0,null,0,null,0,0,0,0,0,0,0,0,-1,null,null,0,0,0,0,0,0,0,0,-1,null,null,0,0,0]
[null,null,null,null,null,null,null,null,null,null,null,null,null,null,null,null,null,null,null,null,null,null,null,null,null,null,null,null,null,null,null,0,null,null,null,null,null,null,null,null,null,null,null,null,null,null,null,null,null,0,null,-1,-1,0,null,0,null,0,null,0,0,0,0,0,0,0,0,-1,null,null,0,0,0,0,0,0,0,0,-1,null,null,0,0,0]
[null,null,null,null,null,null,null,null,null,null,null,null,null,null,null,null,null,null,null,null,null,null,null,null,null,null,null,null,null,null,null,0,null,null,null,null,null,null,null,null,null,null,null,null,null,null,null,null,null,0,null,-1,-1,0,null,0,null,0,null,0,0,0,0,0,0,0,0,-1,null,null,0,0,0,0,0,0,0,0,-1,null,null,0,0,0]
[null,null,null,null,null,null,null,null,null,null,null,null,null,null,null,null,null,null,null,null,null,null,null,null,null,null,null,null,null,null,null,0,null,null,null,null,null,null,null,null,null,null,null,null,null,null,null,null,null,0,null,-1,-1,0,null,0,null,0,null,0,0,0,0,0,0,0,0,-1,null,null,0,0,0,0,0,0,0,0,-1,null,null,0,0,0]
[null,null,null,null,null,null,null,null,null,null,null,null,null,null,null,null,null,null,null,null,null,null,null,null,null,null,null,null,null,null,null,0,null,null,null,null,null,null,null,null,null,null,null,null,null,null,null,null,null,0,null,-1,-1,0,null,0,null,0,null,0,0,0,0,0,0,0,0,-1,null,null,0,0,0,0,0,0,0,0,-1,null,null,0,0,0]
[null,null,null,null,null,null,null,null,null,null,null,null,null,null,null,null,null,null,null,null,null,null,null,null,null,null,null,null,null,null,null,0,null,null,null,null,null,null,null,null,null,null,null,null,null,null,null,null,null,0,null,-1,-1,0,null,0,null,0,null,0,0,0,0,0,0,0,0,-1,null,null,0,0,0,0,0,0,0,0,-1,null,null,0,0,0]
[null,null,null,null,null,null,null,null,null,null,null,null,null,null,null,null,null,null,null,null,null,null,null,null,null,null,null,null,null,null,null,0,null,null,null,null,null,null,null,null,null,null,null,null,null,null,null,null,null,0,null,-1,-1,0,null,0,null,0,null,0,0,0,0,0,0,0,0,-1,null,null,0,0,0,0,0,0,0,0,-1,null,null,0,0,0]
[null,null,null,null,null,null,null,null,null,null,null,null,null,null,null,null,null,null,null,null,null,null,null,null,null,null,null,null,null,null,null,0,null,null,null,null,null,null,null,null,null,null,null,null,null,null,null,null,null,0,null,-1,-1,0,null,0,null,0,null,0,0,0,0,0,0,0,0,-1,null,null,0,0,0,0,0,0,0,0,-1,null,null,0,0,0]
[null,null,null,null,null,null,null,null,null,null,null,null,null,null,null,null,null,null,null,null,null,null,null,null,null,null,null,null,null,null,null,0,null,null,null,null,null,null,null,null,null,null,null,null,null,null,null,null,null,0,null,-1,-1,0,null,0,null,0,null,0,0,0,0,0,0,0,0,-1,null,null,0,0,0,0,0,0,0,0,-1,null,null,0,0,0]
[null,null,null,null,null,null,null,null,null,null,null,null,null,null,null,null,null,null,null,null,null,null,null,null,null,null,null,null,null,null,null,0,null,null,null,null,null,null,null,null,null,null,null,null,null,null,null,null,null,0,null,-1,-1,0,null,0,null,0,null,0,0,0,0,0,0,0,0,-1,null,null,0,0,0,0,0,0,0,0,-1,null,null,0,0,0]
[null,null,null,null,null,null,null,null,null,null,null,null,null,null,null,null,null,null,null,null,null,null,null,null,null,null,null,null,null,null,null,0,null,null,null,null,null,null,null,null,null,null,null,null,null,null,null,null,null,0,null,-1,-1,0,null,0,null,0,null,0,0,0,0,0,0,0,0,-1,null,null,0,0,0,0,0,0,0,0,-1,null,null,0,0,0]
[null,null,null,null,null,null,null,null,null,null,null,null,null,null,null,null,null,null,null,null,null,null,null,null,null,null,null,null,null,null,null,0,null,null,null,null,null,null,null,null,null,null,null,null,null,null,null,null,null,0,null,-1,-1,0,null,0,null,0,null,0,0,0,0,0,0,0,0,-1,null,null,0,0,0,0,0,0,0,0,-1,null,null,0,0,0]
[null,null,null,null,null,null,null,null,null,null,null,null,null,null,null,null,null,null,null,null,null,null,null,null,null,null,null,null,null,null,null,0,null,null,null,null,null,null,null,null,null,null,null,null,null,null,null,null,null,0,null,-1,-1,0,null,0,null,0,null,0,0,0,0,0,0,0,0,-1,null,null,0,0,0,0,0,0,0,0,-1,null,null,0,0,0]
[null,null,null,null,null,null,null,null,null,null,null,null,null,null,null,null,null,null,null,null,null,null,null,null,null,null,null,null,null,null,null,0,null,null,null,null,null,null,null,null,null,null,null,null,null,null,null,null,null,0,null,-1,-1,0,null,0,null,0,null,0,0,0,0,0,0,0,0,-1,null,null,0,0,0,0,0,0,0,0,-1,null,null,0,0,0]
[null,null,null,null,null,null,null,null,null,null,null,null,null,null,null,null,null,null,null,null,null,null,null,null,null,null,null,null,null,null,null,0,null,null,null,null,null,null,null,null,null,null,null,null,null,null,null,null,null,0,null,-1,-1,0,null,0,null,0,null,0,0,0,0,0,0,0,0,-1,null,null,0,0,0,0,0,0,0,0,-1,null,null,0,0,0]
[null,null,null,null,null,null,null,null,null,null,null,null,null,null,null,null,null,null,null,null,null,null,null,null,null,null,null,null,null,null,null,0,null,null,null,null,null,null,null,null,null,null,null,null,null,null,null,null,null,0,null,-1,-1,0,null,0,null,0,null,0,0,0,0,0,0,0,0,-1,null,null,0,0,0,0,0,0,0,0,-1,null,null,0,0,0]
[null,null,null,null,null,null,null,null,null,null,null,null,null,null,null,null,null,null,null,null,null,null,null,null,null,null,null,null,null,null,null,0,null,null,null,null,null,null,null,null,null,null,null,null,null,null,null,null,null,0,null,-1,-1,0,null,0,null,0,null,0,0,0,0,0,0,0,0,-1,null,null,0,0,0,0,0,0,0,0,-1,null,null,0,0,0]
[null,null,null,null,null,null,null,null,null,null,null,null,null,null,null,null,null,null,null,null,null,null,null,null,null,null,null,null,null,null,null,0,null,null,null,null,null,null,null,null,null,null,null,null,null,null,null,null,null,0,null,-1,-1,0,null,0,null,0,null,0,0,0,0,0,0,0,0,-1,null,null,0,0,0,0,0,0,0,0,-1,null,null,0,0,0]
[null,null,null,null,null,null,null,null,null,null,null,null,null,null,null,null,null,null,null,null,null,null,null,null,null,null,null,null,null,null,null,0,null,null,null,null,null,null,null,null,null,null,null,null,null,null,null,null,null,0,null,-1,-1,0,null,0,null,0,null,0,0,0,0,0,0,0,0,-1,null,null,0,0,0,0,0,0,0,0,-1,null,null,0,0,0]
[null,null,null,null,null,null,null,null,null,null,null,null,null,null,null,null,null,null,null,null,null,null,null,null,null,null,null,null,null,null,null,0,null,null,null,null,null,null,null,null,null,null,null,null,null,null,null,null,null,0,null,-1,-1,0,null,0,null,0,null,0,0,0,0,0,0,0,0,-1,null,null,0,0,0,0,0,0,0,0,-1,null,null,0,0,0]
[null,null,null,null,null,null,null,null,null,null,null,null,null,null,null,null,null,null,null,null,null,null,null,null,null,null,null,null,null,null,null,0,null,null,null,null,null,null,null,null,null,null,null,null,null,null,null,null,null,0,null,-1,-1,0,null,0,null,0,null,0,0,0,0,0,0,0,0,-1,null,null,0,0,0,0,0,0,0,0,-1,null,null,0,0,0]
[null,null,null,null,null,null,null,null,null,null,null,null,null,null,null,null,null,null,null,null,null,null,null,null,null,null,null,null,null,null,null,0,null,null,null,null,null,null,null,null,null,null,null,null,null,null,null,null,null,0,null,-1,-1,0,null,0,null,0,null,0,0,0,0,0,0,0,0,-1,null,null,0,0,0,0,0,0,0,0,-1,null,null,0,0,0]
[null,null,null,null,null,null,null,null,null,null,null,null,null,null,null,null,null,null,null,null,null,null,null,null,null,null,null,null,null,null,null,0,null,null,null,null,null,null,null,null,null,null,null,null,null,null,null,null,null,0,null,-1,-1,0,null,0,null,0,null,0,0,0,0,0,0,0,0,-1,null,null,0,0,0,0,0,0,0,0,-1,null,null,0,0,0]
[null,null,null,null,null,null,null,null,null,null,null,null,null,null,null,null,null,null,null,null,null,null,null,null,null,null,null,null,null,null,null,0,null,null,null,null,null,null,null,null,null,null,null,null,null,null,null,null,null,0,null,-1,-1,0,null,0,null,0,null,0,0,0,0,0,0,0,0,-1,null,null,0,0,0,0,0,0,0,0,-1,null,null,0,0,0]
[null,null,null,null,null,null,null,null,null,null,null,null,null,null,null,null,null,null,null,null,null,null,null,null,null,null,null,null,null,null,null,0,null,null,null,null,null,null,null,null,null,null,null,null,null,null,null,null,null,0,null,-1,-1,0,null,0,null,0,null,0,0,0,0,0,0,0,0,-1,null,null,0,0,0,0,0,0,0,0,-1,null,null,0,0,0]
[null,null,null,null,null,null,null,null,null,null,null,null,null,null,null,null,null,null,null,null,null,null,null,null,null,null,null,null,null,null,null,0,null,null,null,null,null,null,null,null,null,null,null,null,null,null,null,null,null,0,null,-1,-1,0,null,0,null,0,null,0,0,0,0,0,0,0,0,-1,null,null,0,0,0,0,0,0,0,0,-1,null,null,0,0,0]
[null,null,null,null,null,null,null,null,null,null,null,null,null,null,null,null,null,null,null,null,null,null,null,null,null,null,null,null,null,null,null,0,null,null,null,null,null,null,null,null,null,null,null,null,null,null,null,null,null,0,null,-1,-1,0,null,0,null,0,null,0,0,0,0,0,0,0,0,-1,null,null,0,0,0,0,0,0,0,0,-1,null,null,0,0,0]
[null,null,null,null,null,null,null,null,null,null,null,null,null,null,null,null,null,null,null,null,null,null,null,null,null,null,null,null,null,null,null,0,null,null,null,null,null,null,null,null,null,null,null,null,null,null,null,null,null,0,null,-1,-1,0,null,0,null,0,null,0,0,0,0,0,0,0,0,-1,null,null,0,0,0,0,0,0,0,0,-1,null,null,0,0,0]
[null,null,null,null,null,null,null,null,null,null,null,null,null,null,null,null,null,null,null,null,null,null,null,null,null,null,null,null,null,null,null,0,null,null,null,null,null,null,null,null,null,null,null,null,null,null,null,null,null,0,null,-1,-1,0,null,0,null,0,null,0,0,0,0,0,0,0,0,-1,null,null,0,0,0,0,0,0,0,0,-1,null,null,0,0,0]
[null,null,null,null,null,null,null,null,null,null,null,null,null,null,null,null,null,null,null,null,null,null,null,null,null,null,null,null,null,null,null,0,null,null,null,null,null,null,null,null,null,null,null,null,null,null,null,null,null,0,null,-1,-1,0,null,0,null,0,null,0,0,0,0,0,0,0,0,-1,null,null,0,0,0,0,0,0,0,0,-1,null,null,0,0,0]
[null,null,null,null,null,null,null,null,null,null,null,null,null,null,null,null,null,null,null,null,null,null,null,null,null,null,null,null,null,null,null,0,null,null,null,null,null,null,null,null,null,null,null,null,null,null,null,null,null,0,null,-1,-1,0,null,0,null,0,null,0,0,0,0,0,0,0,0,-1,null,null,0,0,0,0,0,0,0,0,-1,null,null,0,0,0]
[null,null,null,null,null,null,null,null,null,null,null,null,null,null,null,null,null,null,null,null,null,null,null,null,null,null,null,null,null,null,null,0,null,null,null,null,null,null,null,null,null,null,null,null,null,null,null,null,null,0,null,-1,-1,0,null,0,null,0,null,0,0,0,0,0,0,0,0,-1,null,null,0,0,0,0,0,0,0,0,-1,null,null,0,0,0]
[null,null,null,null,null,null,null,null,null,null,null,null,null,null,null,null,null,null,null,null,null,null,null,null,null,null,null,null,null,null,null,0,null,null,null,null,null,null,null,null,null,null,null,null,null,null,null,null,null,0,null,-1,-1,0,null,0,null,0,null,0,0,0,0,0,0,0,0,-1,null,null,0,0,0,0,0,0,0,0,-1,null,null,0,0,0]
[null,null,null,null,null,null,null,null,null,null,null,null,null,null,null,null,null,null,null,null,null,null,null,null,null,null,null,null,null,null,null,0,null,null,null,null,null,null,null,null,null,null,null,null,null,null,null,null,null,0,null,-1,-1,0,null,0,null,0,null,0,0,0,0,0,0,0,0,-1,null,null,0,0,0,0,0,0,0,0,-1,null,null,0,0,0]
[null,null,null,null,null,null,null,null,null,null,null,null,null,null,null,null,null,null,null,null,null,null,null,null,null,null,null,null,null,null,null,0,null,null,null,null,null,null,null,null,null,null,null,null,null,null,null,null,null,0,null,-1,-1,0,null,0,null,0,null,0,0,0,0,0,0,0,0,-1,null,null,0,0,0,0,0,0,0,0,-1,null,null,0,0,0]
[null,null,null,null,null,null,null,null,null,null,null,null,null,null,null,null,null,null,null,null,null,null,null,null,null,null,null,null,null,null,null,0,null,null,null,null,null,null,null,null,null,null,null,null,null,null,null,null,null,0,null,-1,-1,0,null,0,null,0,null,0,0,0,0,0,0,0,0,-1,null,null,0,0,0,0,0,0,0,0,-1,null,null,0,0,0]
[null,null,null,null,null,null,null,null,null,null,null,null,null,null,null,null,null,null,null,null,null,null,null,null,null,null,null,null,null,null,null,0,null,null,null,null,null,null,null,null,null,null,null,null,null,null,null,null,null,0,null,-1,-1,0,null,0,null,0,null,0,0,0,0,0,0,0,0,-1,null,null,0,0,0,0,0,0,0,0,-1,null,null,0,0,0]
[null,null,null,null,null,null,null,null,null,null,null,null,null,null,null,null,null,null,null,null,null,null,null,null,null,null,null,null,null,null,null,0,null,null,null,null,null,null,null,null,null,null,null,null,null,null,null,null,null,0,null,-1,-1,0,null,0,null,0,null,0,0,0,0,0,0,0,0,-1,null,null,0,0,0,0,0,0,0,0,-1,null,null,0,0,0]
[null,null,null,null,null,null,null,null,null,null,null,null,null,null,null,null,null,null,null,null,null,null,null,null,null,null,null,null,null,null,null,0,null,null,null,null,null,null,null,null,null,null,null,null,null,null,null,null,null,0,null,-1,-1,0,null,0,null,0,null,0,0,0,0,0,0,0,0,-1,null,null,0,0,0,0,0,0,0,0,-1,null,null,0,0,0]
[null,null,null,null,null,null,null,null,null,null,null,null,null,null,null,null,null,null,null,null,null,null,null,null,null,null,null,null,null,null,null,0,null,null,null,null,null,null,null,null,null,null,null,null,null,null,null,null,null,0,null,-1,-1,0,null,0,null,0,null,0,0,0,0,0,0,0,0,-1,null,null,0,0,0,0,0,0,0,0,-1,null,null,0,0,0]
[null,null,null,null,null,null,null,null,null,null,null,null,null,null,null,null,null,null,null,null,null,null,null,null,null,null,null,null,null,null,null,0,null,null,null,null,null,null,null,null,null,null,null,null,null,null,null,null,null,0,null,-1,-1,0,null,0,null,0,null,0,0,0,0,0,0,0,0,-1,null,null,0,0,0,0,0,0,0,0,-1,null,null,0,0,0]
[null,null,null,null,null,null,null,null,null,null,null,null,null,null,null,null,null,null,null,null,null,null,null,null,null,null,null,null,null,null,null,0,null,null,null,null,null,null,null,null,null,null,null,null,null,null,null,null,null,0,null,-1,-1,0,null,0,null,0,null,0,0,0,0,0,0,0,0,-1,null,null,0,0,0,0,0,0,0,0,-1,null,null,0,0,0]
[null,null,null,null,null,null,null,null,null,null,null,null,null,null,null,null,null,null,null,null,null,null,null,null,null,null,null,null,null,null,null,0,null,null,null,null,null,null,null,null,null,null,null,null,null,null,null,null,null,0,null,-1,-1,0,null,0,null,0,null,0,0,0,0,0,0,0,0,-1,null,null,0,0,0,0,0,0,0,0,-1,null,null,0,0,0]
[null,null,null,null,null,null,null,null,null,null,null,null,null,null,null,null,null,null,null,null,null,null,null,null,null,null,null,null,null,null,null,0,null,null,null,null,null,null,null,null,null,null,null,null,null,null,null,null,null,0,null,-1,-1,0,null,0,null,0,null,0,0,0,0,0,0,0,0,-1,null,null,0,0,0,0,0,0,0,0,-1,null,null,0,0,0]
[null,null,null,null,null,null,null,null,null,null,null,null,null,null,null,null,null,null,null,null,null,null,null,null,null,null,null,null,null,null,null,0,null,null,null,null,null,null,null,null,null,null,null,null,null,null,null,null,null,0,null,-1,-1,0,null,0,null,0,null,0,0,0,0,0,0,0,0,-1,null,null,0,0,0,0,0,0,0,0,-1,null,null,0,0,0]
[null,null,null,null,null,null,null,null,null,null,null,null,null,null,null,null,null,null,null,null,null,null,null,null,null,null,null,null,null,null,null,0,null,null,null,null,null,null,null,null,null,null,null,null,null,null,null,null,null,0,null,-1,-1,0,null,0,null,0,null,0,0,0,0,0,0,0,0,-1,null,null,0,0,0,0,0,0,0,0,-1,null,null,0,0,0]
[null,null,null,null,null,null,null,null,null,null,null,null,null,null,null,null,null,null,null,null,null,null,null,null,null,null,null,null,null,null,null,0,null,null,null,null,null,null,null,null,null,null,null,null,null,null,null,null,null,0,null,-1,-1,0,null,0,null,0,null,0,0,0,0,0,0,0,0,-1,null,null,0,0,0,0,0,0,0,0,-1,null,null,0,0,0]
[null,null,null,null,null,null,null,null,null,null,null,null,null,null,null,null,null,null,null,null,null,null,null,null,null,null,null,null,null,null,null,0,null,null,null,null,null,null,null,null,null,null,null,null,null,null,null,null,null,0,null,-1,-1,0,null,0,null,0,null,0,0,0,0,0,0,0,0,-1,null,null,0,0,0,0,0,0,0,0,-1,null,null,0,0,0]
[null,null,null,null,null,null,null,null,null,null,null,null,null,null,null,null,null,null,null,null,null,null,null,null,null,null,null,null,null,null,null,0,null,null,null,null,null,null,null,null,null,null,null,null,null,null,null,null,null,0,null,-1,-1,0,null,0,null,0,null,0,0,0,0,0,0,0,0,-1,null,null,0,0,0,0,0,0,0,0,-1,null,null,0,0,0]
[null,null,null,null,null,null,null,null,null,null,null,null,null,null,null,null,null,null,null,null,null,null,null,null,null,null,null,null,null,null,null,0,null,null,null,null,null,null,null,null,null,null,null,null,null,null,null,null,null,0,null,-1,-1,0,null,0,null,0,null,0,0,0,0,0,0,0,0,-1,null,null,0,0,0,0,0,0,0,0,-1,null,null,0,0,0]
[null,null,null,null,null,null,null,null,null,null,null,null,null,null,null,null,null,null,null,null,null,null,null,null,null,null,null,null,null,null,null,0,null,null,null,null,null,null,null,null,null,null,null,null,null,null,null,null,null,0,null,-1,-1,0,null,0,null,0,null,0,0,0,0,0,0,0,0,-1,null,null,0,0,0,0,0,0,0,0,-1,null,null,0,0,0]
[null,null,null,null,null,null,null,null,null,null,null,null,null,null,null,null,null,null,null,null,null,null,null,null,null,null,null,null,null,null,null,0,null,null,null,null,null,null,null,null,null,null,null,null,null,null,null,null,null,0,null,-1,-1,0,null,0,null,0,null,0,0,0,0,0,0,0,0,-1,null,null,0,0,0,0,0,0,0,0,-1,null,null,0,0,0]
[null,null,null,null,null,null,null,null,null,null,null,null,null,null,null,null,null,null,null,null,null,null,null,null,null,null,null,null,null,null,null,0,null,null,null,null,null,null,null,null,null,null,null,null,null,null,null,null,null,0,null,-1,-1,0,null,0,null,0,null,0,0,0,0,0,0,0,0,-1,null,null,0,0,0,0,0,0,0,0,-1,null,null,0,0,0]
[null,null,null,null,null,null,null,null,null,null,null,null,null,null,null,null,null,null,null,null,null,null,null,null,null,null,null,null,null,null,null,0,null,null,null,null,null,null,null,null,null,null,null,null,null,null,null,null,null,0,null,-1,-1,0,null,0,null,0,null,0,0,0,0,0,0,0,0,-1,null,null,0,0,0,0,0,0,0,0,-1,null,null,0,0,0]
[null,null,null,null,null,null,null,null,null,null,null,null,null,null,null,null,null,null,null,null,null,null,null,null,null,null,null,null,null,null,null,0,null,null,null,null,null,null,null,null,null,null,null,null,null,null,null,null,null,0,null,-1,-1,0,null,0,null,0,null,0,0,0,0,0,0,0,0,-1,null,null,0,0,0,0,0,0,0,0,-1,null,null,0,0,0]
[null,null,null,null,null,null,null,null,null,null,null,null,null,null,null,null,null,null,null,null,null,null,null,null,null,null,null,null,null,null,null,0,null,null,null,null,null,null,null,null,null,null,null,null,null,null,null,null,null,0,null,-1,-1,0,null,0,null,0,null,0,0,0,0,0,0,0,0,-1,null,null,0,0,0,0,0,0,0,0,-1,null,null,0,0,0]
[null,null,null,null,null,null,null,null,null,null,null,null,null,null,null,null,null,null,null,null,null,null,null,null,null,null,null,null,null,null,null,0,null,null,null,null,null,null,null,null,null,null,null,null,null,null,null,null,null,0,null,-1,-1,0,null,0,null,0,null,0,0,0,0,0,0,0,0,-1,null,null,0,0,0,0,0,0,0,0,-1,null,null,0,0,0]
[null,null,null,null,null,null,null,null,null,null,null,null,null,null,null,null,null,null,null,null,null,null,null,null,null,null,null,null,null,null,null,0,null,null,null,null,null,null,null,null,null,null,null,null,null,null,null,null,null,0,null,-1,-1,0,null,0,null,0,null,0,0,0,0,0,0,0,0,-1,null,null,0,0,0,0,0,0,0,0,-1,null,null,0,0,0]
[null,null,null,null,null,null,null,null,null,null,null,null,null,null,null,null,null,null,null,null,null,null,null,null,null,null,null,null,null,null,null,0,null,null,null,null,null,null,null,null,null,null,null,null,null,null,null,null,null,0,null,-1,-1,0,null,0,null,0,null,0,0,0,0,0,0,0,0,-1,null,null,0,0,0,0,0,0,0,0,-1,null,null,0,0,0]
[null,null,null,null,null,null,null,null,null,null,null,null,null,null,null,null,null,null,null,null,null,null,null,null,null,null,null,null,null,null,null,0,null,null,null,null,null,null,null,null,null,null,null,null,null,null,null,null,null,0,null,{"$f":"COUNTA(AJ312:AU312)-1","v":-1},{"$f":"COUNTA(R312:AC312)-1","v":-1},0,null,{"$f":"((H312/1000)*(L312/1000))*D312","v":0},null,{"$f":"(((H312+L312)*2)/1000)*D312","v":0},null,{"$f":"IF(P312,1,0)","v":0},{"$f":"IF(R312,1,0)","v":0},{"$f":"IF(T312,1,0)","v":0},{"$f":"IF(V312,1,0)","v":0},{"$f":"IF(X312,1,0)","v":0},{"$f":"IF(Z312,1,0)","v":0},{"$f":"IF(AB312,1,0)","v":0},{"$f":"IF(AD312,1,0)","v":0},-1,null,null,{"$f":"IF(AH312,1,0)","v":0},{"$f":"IF(AJ312,1,0)","v":0},{"$f":"IF(AL312,1,0)","v":0},{"$f":"IF(AN312,1,0)","v":0},{"$f":"IF(AP312,1,0)","v":0},{"$f":"IF(AR312,1,0)","v":0},{"$f":"IF(AT312,1,0)","v":0},{"$f":"IF(AV312,1,0)","v":0},-1,null,null,{"$f":"(CA312*BP312)*D312","v":0},{"$f":"SUM(P312:AE312)","v":0},{"$f":"SUM(AH312:AW312)","v":0}]
[null,null,null,null,null,null,null,null,null,null,null,null,null,null,null,null,null,null,null,null,null,null,null,null,null,null,null,null,null,null,null,{"$f":"COUNT(P313,AD313)+IF(BA313>0,BA313)","v":0},null,null,null,null,null,null,null,null,null,null,null,null,null,null,null,null,null,{"$f":"COUNT(AH313,AV313)+IF(AZ313>0,AZ313)","v":0},null,-1,-1,{"$f":"D313*(AF313*AX313)","v":0},null,0,null,0,null,0,0,0,0,0,0,0,0,{"$f":"SUM(BH313:BO313)-1","v":-1},null,null,0,0,0,0,0,0,0,0,{"$f":"SUM(BS313:BZ313)-1","v":-1},null,null,0,0,0]
[null,null,null,null,null,null,null,null,null,null,null,null,null,null,null,null,null,null,null,null,null,null,null,null,null,null,null,null,null,null,null,0,null,null,null,null,null,null,null,null,null,null,null,null,null,null,null,null,null,0,null,-1,-1,0,null,0,null,0,null,0,0,0,0,0,0,0,0,-1,null,null,0,0,0,0,0,0,0,0,-1,null,null,0,0,0]
[null,null,null,null,null,null,null,null,null,null,null,null,null,null,null,null,null,null,null,null,null,null,null,null,null,null,null,null,null,null,null,0,null,null,null,null,null,null,null,null,null,null,null,null,null,null,null,null,null,0,null,-1,-1,0,null,0,null,0,null,0,0,0,0,0,0,0,0,-1,null,null,0,0,0,0,0,0,0,0,-1,null,null,0,0,0]
[null,null,null,null,null,null,null,null,null,null,null,null,null,null,null,null,null,null,null,null,null,null,null,null,null,null,null,null,null,null,null,0,null,null,null,null,null,null,null,null,null,null,null,null,null,null,null,null,null,0,null,-1,-1,0,null,0,null,0,null,0,0,0,0,0,0,0,0,-1,null,null,0,0,0,0,0,0,0,0,-1,null,null,0,0,0]
[null,null,null,null,null,null,null,null,null,null,null,null,null,null,null,null,null,null,null,null,null,null,null,null,null,null,null,null,null,null,null,0,null,null,null,null,null,null,null,null,null,null,null,null,null,null,null,null,null,0,null,-1,-1,0,null,0,null,0,null,0,0,0,0,0,0,0,0,-1,null,null,0,0,0,0,0,0,0,0,-1,null,null,0,0,0]
[null,null,null,null,null,null,null,null,null,null,null,null,null,null,null,null,null,null,null,null,null,null,null,null,null,null,null,null,null,null,null,0,null,null,null,null,null,null,null,null,null,null,null,null,null,null,null,null,null,0,null,-1,-1,0,null,0,null,0,null,0,0,0,0,0,0,0,0,-1,null,null,0,0,0,0,0,0,0,0,-1,null,null,0,0,0]
[null,null,null,null,null,null,null,null,null,null,null,null,null,null,null,null,null,null,null,null,null,null,null,null,null,null,null,null,null,null,null,0,null,null,null,null,null,null,null,null,null,null,null,null,null,null,null,null,null,0,null,-1,-1,0,null,0,null,0,null,0,0,0,0,0,0,0,0,-1,null,null,0,0,0,0,0,0,0,0,-1,null,null,0,0,0]
[null,null,null,null,null,null,null,null,null,null,null,null,null,null,null,null,null,null,null,null,null,null,null,null,null,null,null,null,null,null,null,0,null,null,null,null,null,null,null,null,null,null,null,null,null,null,null,null,null,0,null,-1,-1,0,null,0,null,0,null,0,0,0,0,0,0,0,0,-1,null,null,0,0,0,0,0,0,0,0,-1,null,null,0,0,0]
[null,null,null,null,null,null,null,null,null,null,null,null,null,null,null,null,null,null,null,null,null,null,null,null,null,null,null,null,null,null,null,0,null,null,null,null,null,null,null,null,null,null,null,null,null,null,null,null,null,0,null,-1,-1,0,null,0,null,0,null,0,0,0,0,0,0,0,0,-1,null,null,0,0,0,0,0,0,0,0,-1,null,null,0,0,0]
[null,null,null,null,null,null,null,null,null,null,null,null,null,null,null,null,null,null,null,null,null,null,null,null,null,null,null,null,null,null,null,0,null,null,null,null,null,null,null,null,null,null,null,null,null,null,null,null,null,0,null,-1,-1,0,null,0,null,0,null,0,0,0,0,0,0,0,0,-1,null,null,0,0,0,0,0,0,0,0,-1,null,null,0,0,0]
[null,null,null,null,null,null,null,null,null,null,null,null,null,null,null,null,null,null,null,null,null,null,null,null,null,null,null,null,null,null,null,0,null,null,null,null,null,null,null,null,null,null,null,null,null,null,null,null,null,0,null,-1,-1,0,null,0,null,0,null,0,0,0,0,0,0,0,0,-1,null,null,0,0,0,0,0,0,0,0,-1,null,null,0,0,0]
[null,null,null,null,null,null,null,null,null,null,null,null,null,null,null,null,null,null,null,null,null,null,null,null,null,null,null,null,null,null,null,0,null,null,null,null,null,null,null,null,null,null,null,null,null,null,null,null,null,0,null,-1,-1,0,null,0,null,0,null,0,0,0,0,0,0,0,0,-1,null,null,0,0,0,0,0,0,0,0,-1,null,null,0,0,0]
[null,null,null,null,null,null,null,null,null,null,null,null,null,null,null,null,null,null,null,null,null,null,null,null,null,null,null,null,null,null,null,0,null,null,null,null,null,null,null,null,null,null,null,null,null,null,null,null,null,0,null,-1,-1,0,null,0,null,0,null,0,0,0,0,0,0,0,0,-1,null,null,0,0,0,0,0,0,0,0,-1,null,null,0,0,0]
[null,null,null,null,null,null,null,null,null,null,null,null,null,null,null,null,null,null,null,null,null,null,null,null,null,null,null,null,null,null,null,0,null,null,null,null,null,null,null,null,null,null,null,null,null,null,null,null,null,0,null,-1,-1,0,null,0,null,0,null,0,0,0,0,0,0,0,0,-1,null,null,0,0,0,0,0,0,0,0,-1,null,null,0,0,0]
[null,null,null,null,null,null,null,null,null,null,null,null,null,null,null,null,null,null,null,null,null,null,null,null,null,null,null,null,null,null,null,0,null,null,null,null,null,null,null,null,null,null,null,null,null,null,null,null,null,0,null,-1,-1,0,null,0,null,0,null,0,0,0,0,0,0,0,0,-1,null,null,0,0,0,0,0,0,0,0,-1,null,null,0,0,0]
[null,null,null,null,null,null,null,null,null,null,null,null,null,null,null,null,null,null,null,null,null,null,null,null,null,null,null,null,null,null,null,0,null,null,null,null,null,null,null,null,null,null,null,null,null,null,null,null,null,0,null,-1,-1,0,null,0,null,0,null,0,0,0,0,0,0,0,0,-1,null,null,0,0,0,0,0,0,0,0,-1,null,null,0,0,0]
[null,null,null,null,null,null,null,null,null,null,null,null,null,null,null,null,null,null,null,null,null,null,null,null,null,null,null,null,null,null,null,0,null,null,null,null,null,null,null,null,null,null,null,null,null,null,null,null,null,0,null,-1,-1,0,null,0,null,0,null,0,0,0,0,0,0,0,0,-1,null,null,0,0,0,0,0,0,0,0,-1,null,null,0,0,0]
[null,null,null,null,null,null,null,null,null,null,null,null,null,null,null,null,null,null,null,null,null,null,null,null,null,null,null,null,null,null,null,0,null,null,null,null,null,null,null,null,null,null,null,null,null,null,null,null,null,0,null,-1,-1,0,null,0,null,0,null,0,0,0,0,0,0,0,0,-1,null,null,0,0,0,0,0,0,0,0,-1,null,null,0,0,0]
[null,null,null,null,null,null,null,null,null,null,null,null,null,null,null,null,null,null,null,null,null,null,null,null,null,null,null,null,null,null,null,0,null,null,null,null,null,null,null,null,null,null,null,null,null,null,null,null,null,0,null,-1,-1,0,null,0,null,0,null,0,0,0,0,0,0,0,0,-1,null,null,0,0,0,0,0,0,0,0,-1,null,null,0,0,0]
[null,null,null,null,null,null,null,null,null,null,null,null,null,null,null,null,null,null,null,null,null,null,null,null,null,null,null,null,null,null,null,0,null,null,null,null,null,null,null,null,null,null,null,null,null,null,null,null,null,0,null,-1,-1,0,null,0,null,0,null,0,0,0,0,0,0,0,0,-1,null,null,0,0,0,0,0,0,0,0,-1,null,null,0,0,0]
[null,null,null,null,null,null,null,null,null,null,null,null,null,null,null,null,null,null,null,null,null,null,null,null,null,null,null,null,null,null,null,0,null,null,null,null,null,null,null,null,null,null,null,null,null,null,null,null,null,0,null,-1,-1,0,null,0,null,0,null,0,0,0,0,0,0,0,0,-1,null,null,0,0,0,0,0,0,0,0,-1,null,null,0,0,0]
[null,null,null,null,null,null,null,null,null,null,null,null,null,null,null,null,null,null,null,null,null,null,null,null,null,null,null,null,null,null,null,0,null,null,null,null,null,null,null,null,null,null,null,null,null,null,null,null,null,0,null,-1,-1,0,null,0,null,0,null,0,0,0,0,0,0,0,0,-1,null,null,0,0,0,0,0,0,0,0,-1,null,null,0,0,0]
[null,null,null,null,null,null,null,null,null,null,null,null,null,null,null,null,null,null,null,null,null,null,null,null,null,null,null,null,null,null,null,0,null,null,null,null,null,null,null,null,null,null,null,null,null,null,null,null,null,0,null,-1,-1,0,null,0,null,0,null,0,0,0,0,0,0,0,0,-1,null,null,0,0,0,0,0,0,0,0,-1,null,null,0,0,0]
[null,null,null,null,null,null,null,null,null,null,null,null,null,null,null,null,null,null,null,null,null,null,null,null,null,null,null,null,null,null,null,0,null,null,null,null,null,null,null,null,null,null,null,null,null,null,null,null,null,0,null,-1,-1,0,null,0,null,0,null,0,0,0,0,0,0,0,0,-1,null,null,0,0,0,0,0,0,0,0,-1,null,null,0,0,0]
[null,null,null,null,null,null,null,null,null,null,null,null,null,null,null,null,null,null,null,null,null,null,null,null,null,null,null,null,null,null,null,0,null,null,null,null,null,null,null,null,null,null,null,null,null,null,null,null,null,0,null,-1,-1,0,null,0,null,0,null,0,0,0,0,0,0,0,0,-1,null,null,0,0,0,0,0,0,0,0,-1,null,null,0,0,0]
[null,null,null,null,null,null,null,null,null,null,null,null,null,null,null,null,null,null,null,null,null,null,null,null,null,null,null,null,null,null,null,0,null,null,null,null,null,null,null,null,null,null,null,null,null,null,null,null,null,0,null,-1,-1,0,null,0,null,0,null,0,0,0,0,0,0,0,0,-1,null,null,0,0,0,0,0,0,0,0,-1,null,null,0,0,0]
[null,null,null,null,null,null,null,null,null,null,null,null,null,null,null,null,null,null,null,null,null,null,null,null,null,null,null,null,null,null,null,0,null,null,null,null,null,null,null,null,null,null,null,null,null,null,null,null,null,0,null,-1,-1,0,null,0,null,0,null,0,0,0,0,0,0,0,0,-1,null,null,0,0,0,0,0,0,0,0,-1,null,null,0,0,0]
[null,null,null,null,null,null,null,null,null,null,null,null,null,null,null,null,null,null,null,null,null,null,null,null,null,null,null,null,null,null,null,0,null,null,null,null,null,null,null,null,null,null,null,null,null,null,null,null,null,0,null,-1,-1,0,null,0,null,0,null,0,0,0,0,0,0,0,0,-1,null,null,0,0,0,0,0,0,0,0,-1,null,null,0,0,0]
[null,null,null,null,null,null,null,null,null,null,null,null,null,null,null,null,null,null,null,null,null,null,null,null,null,null,null,null,null,null,null,0,null,null,null,null,null,null,null,null,null,null,null,null,null,null,null,null,null,0,null,-1,-1,0,null,0,null,0,null,0,0,0,0,0,0,0,0,-1,null,null,0,0,0,0,0,0,0,0,-1,null,null,0,0,0]
[null,null,null,null,null,null,null,null,null,null,null,null,null,null,null,null,null,null,null,null,null,null,null,null,null,null,null,null,null,null,null,0,null,null,null,null,null,null,null,null,null,null,null,null,null,null,null,null,null,0,null,-1,-1,0,null,0,null,0,null,0,0,0,0,0,0,0,0,-1,null,null,0,0,0,0,0,0,0,0,-1,null,null,0,0,0]
[null,null,null,null,null,null,null,null,null,null,null,null,null,null,null,null,null,null,null,null,null,null,null,null,null,null,null,null,null,null,null,0,null,null,null,null,null,null,null,null,null,null,null,null,null,null,null,null,null,0,null,-1,-1,0,null,0,null,0,null,0,0,0,0,0,0,0,0,-1,null,null,0,0,0,0,0,0,0,0,-1,null,null,0,0,0]
[null,null,null,null,null,null,null,null,null,null,null,null,null,null,null,null,null,null,null,null,null,null,null,null,null,null,null,null,null,null,null,0,null,null,null,null,null,null,null,null,null,null,null,null,null,null,null,null,null,0,null,-1,-1,0,null,0,null,0,null,0,0,0,0,0,0,0,0,-1,null,null,0,0,0,0,0,0,0,0,-1,null,null,0,0,0]
[null,null,null,null,null,null,null,null,null,null,null,null,null,null,null,null,null,null,null,null,null,null,null,null,null,null,null,null,null,null,null,0,null,null,null,null,null,null,null,null,null,null,null,null,null,null,null,null,null,0,null,-1,-1,0,null,0,null,0,null,0,0,0,0,0,0,0,0,-1,null,null,0,0,0,0,0,0,0,0,-1,null,null,0,0,0]
[null,null,null,null,null,null,null,null,null,null,null,null,null,null,null,null,null,null,null,null,null,null,null,null,null,null,null,null,null,null,null,0,null,null,null,null,null,null,null,null,null,null,null,null,null,null,null,null,null,0,null,-1,-1,0,null,0,null,0,null,0,0,0,0,0,0,0,0,-1,null,null,0,0,0,0,0,0,0,0,-1,null,null,0,0,0]
[null,null,null,null,null,null,null,null,null,null,null,null,null,null,null,null,null,null,null,null,null,null,null,null,null,null,null,null,null,null,null,0,null,null,null,null,null,null,null,null,null,null,null,null,null,null,null,null,null,0,null,-1,-1,0,null,0,null,0,null,0,0,0,0,0,0,0,0,-1,null,null,0,0,0,0,0,0,0,0,-1,null,null,0,0,0]
[null,null,null,null,null,null,null,null,null,null,null,null,null,null,null,null,null,null,null,null,null,null,null,null,null,null,null,null,null,null,null,0,null,null,null,null,null,null,null,null,null,null,null,null,null,null,null,null,null,0,null,-1,-1,0,null,0,null,0,null,0,0,0,0,0,0,0,0,-1,null,null,0,0,0,0,0,0,0,0,-1,null,null,0,0,0]
[null,null,null,null,null,null,null,null,null,null,null,null,null,null,null,null,null,null,null,null,null,null,null,null,null,null,null,null,null,null,null,0,null,null,null,null,null,null,null,null,null,null,null,null,null,null,null,null,null,0,null,-1,-1,0,null,0,null,0,null,0,0,0,0,0,0,0,0,-1,null,null,0,0,0,0,0,0,0,0,-1,null,null,0,0,0]
[null,null,null,null,null,null,null,null,null,null,null,null,null,null,null,null,null,null,null,null,null,null,null,null,null,null,null,null,null,null,null,0,null,null,null,null,null,null,null,null,null,null,null,null,null,null,null,null,null,0,null,-1,-1,0,null,0,null,0,null,0,0,0,0,0,0,0,0,-1,null,null,0,0,0,0,0,0,0,0,-1,null,null,0,0,0]
[null,null,null,null,null,null,null,null,null,null,null,null,null,null,null,null,null,null,null,null,null,null,null,null,null,null,null,null,null,null,null,0,null,null,null,null,null,null,null,null,null,null,null,null,null,null,null,null,null,0,null,-1,-1,0,null,0,null,0,null,0,0,0,0,0,0,0,0,-1,null,null,0,0,0,0,0,0,0,0,-1,null,null,0,0,0]
[null,null,null,null,null,null,null,null,null,null,null,null,null,null,null,null,null,null,null,null,null,null,null,null,null,null,null,null,null,null,null,0,null,null,null,null,null,null,null,null,null,null,null,null,null,null,null,null,null,0,null,-1,-1,0,null,0,null,0,null,0,0,0,0,0,0,0,0,-1,null,null,0,0,0,0,0,0,0,0,-1,null,null,0,0,0]
[null,null,null,null,null,null,null,null,null,null,null,null,null,null,null,null,null,null,null,null,null,null,null,null,null,null,null,null,null,null,null,0,null,null,null,null,null,null,null,null,null,null,null,null,null,null,null,null,null,0,null,-1,-1,0,null,0,null,0,null,0,0,0,0,0,0,0,0,-1,null,null,0,0,0,0,0,0,0,0,-1,null,null,0,0,0]
[null,null,null,null,null,null,null,null,null,null,null,null,null,null,null,null,null,null,null,null,null,null,null,null,null,null,null,null,null,null,null,0,null,null,null,null,null,null,null,null,null,null,null,null,null,null,null,null,null,0,null,-1,-1,0,null,0,null,0,null,0,0,0,0,0,0,0,0,-1,null,null,0,0,0,0,0,0,0,0,-1,null,null,0,0,0]
[null,null,null,null,null,null,null,null,null,null,null,null,null,null,null,null,null,null,null,null,null,null,null,null,null,null,null,null,null,null,null,0,null,null,null,null,null,null,null,null,null,null,null,null,null,null,null,null,null,0,null,-1,-1,0,null,0,null,0,null,0,0,0,0,0,0,0,0,-1,null,null,0,0,0,0,0,0,0,0,-1,null,null,0,0,0]
[null,null,null,null,null,null,null,null,null,null,null,null,null,null,null,null,null,null,null,null,null,null,null,null,null,null,null,null,null,null,null,0,null,null,null,null,null,null,null,null,null,null,null,null,null,null,null,null,null,0,null,-1,-1,0,null,0,null,0,null,0,0,0,0,0,0,0,0,-1,null,null,0,0,0,0,0,0,0,0,-1,null,null,0,0,0]
[null,null,null,null,null,null,null,null,null,null,null,null,null,null,null,null,null,null,null,null,null,null,null,null,null,null,null,null,null,null,null,0,null,null,null,null,null,null,null,null,null,null,null,null,null,null,null,null,null,0,null,-1,-1,0,null,0,null,0,null,0,0,0,0,0,0,0,0,-1,null,null,0,0,0,0,0,0,0,0,-1,null,null,0,0,0]
[null,null,null,null,null,null,null,null,null,null,null,null,null,null,null,null,null,null,null,null,null,null,null,null,null,null,null,null,null,null,null,0,null,null,null,null,null,null,null,null,null,null,null,null,null,null,null,null,null,0,null,-1,-1,0,null,0,null,0,null,0,0,0,0,0,0,0,0,-1,null,null,0,0,0,0,0,0,0,0,-1,null,null,0,0,0]
[null,null,null,null,null,null,null,null,null,null,null,null,null,null,null,null,null,null,null,null,null,null,null,null,null,null,null,null,null,null,null,0,null,null,null,null,null,null,null,null,null,null,null,null,null,null,null,null,null,0,null,-1,-1,0,null,0,null,0,null,0,0,0,0,0,0,0,0,-1,null,null,0,0,0,0,0,0,0,0,-1,null,null,0,0,0]
[null,null,null,null,null,null,null,null,null,null,null,null,null,null,null,null,null,null,null,null,null,null,null,null,null,null,null,null,null,null,null,0,null,null,null,null,null,null,null,null,null,null,null,null,null,null,null,null,null,0,null,-1,-1,0,null,0,null,0,null,0,0,0,0,0,0,0,0,-1,null,null,0,0,0,0,0,0,0,0,-1,null,null,0,0,0]
[null,null,null,null,null,null,null,null,null,null,null,null,null,null,null,null,null,null,null,null,null,null,null,null,null,null,null,null,null,null,null,0,null,null,null,null,null,null,null,null,null,null,null,null,null,null,null,null,null,0,null,-1,-1,0,null,0,null,0,null,0,0,0,0,0,0,0,0,-1,null,null,0,0,0,0,0,0,0,0,-1,null,null,0,0,0]
[null,null,null,null,null,null,null,null,null,null,null,null,null,null,null,null,null,null,null,null,null,null,null,null,null,null,null,null,null,null,null,0,null,null,null,null,null,null,null,null,null,null,null,null,null,null,null,null,null,0,null,-1,-1,0,null,0,null,0,null,0,0,0,0,0,0,0,0,-1,null,null,0,0,0,0,0,0,0,0,-1,null,null,0,0,0]
[null,null,null,null,null,null,null,null,null,null,null,null,null,null,null,null,null,null,null,null,null,null,null,null,null,null,null,null,null,null,null,0,null,null,null,null,null,null,null,null,null,null,null,null,null,null,null,null,null,0,null,-1,-1,0,null,0,null,0,null,0,0,0,0,0,0,0,0,-1,null,null,0,0,0,0,0,0,0,0,-1,null,null,0,0,0]
[null,null,null,null,null,null,null,null,null,null,null,null,null,null,null,null,null,null,null,null,null,null,null,null,null,null,null,null,null,null,null,0,null,null,null,null,null,null,null,null,null,null,null,null,null,null,null,null,null,0,null,-1,-1,0,null,0,null,0,null,0,0,0,0,0,0,0,0,-1,null,null,0,0,0,0,0,0,0,0,-1,null,null,0,0,0]
[null,null,null,null,null,null,null,null,null,null,null,null,null,null,null,null,null,null,null,null,null,null,null,null,null,null,null,null,null,null,null,0,null,null,null,null,null,null,null,null,null,null,null,null,null,null,null,null,null,0,null,-1,-1,0,null,0,null,0,null,0,0,0,0,0,0,0,0,-1,null,null,0,0,0,0,0,0,0,0,-1,null,null,0,0,0]
[null,null,null,null,null,null,null,null,null,null,null,null,null,null,null,null,null,null,null,null,null,null,null,null,null,null,null,null,null,null,null,0,null,null,null,null,null,null,null,null,null,null,null,null,null,null,null,null,null,0,null,-1,-1,0,null,0,null,0,null,0,0,0,0,0,0,0,0,-1,null,null,0,0,0,0,0,0,0,0,-1,null,null,0,0,0]
[null,null,null,null,null,null,null,null,null,null,null,null,null,null,null,null,null,null,null,null,null,null,null,null,null,null,null,null,null,null,null,0,null,null,null,null,null,null,null,null,null,null,null,null,null,null,null,null,null,0,null,-1,-1,0,null,0,null,0,null,0,0,0,0,0,0,0,0,-1,null,null,0,0,0,0,0,0,0,0,-1,null,null,0,0,0]
[null,null,null,null,null,null,null,null,null,null,null,null,null,null,null,null,null,null,null,null,null,null,null,null,null,null,null,null,null,null,null,0,null,null,null,null,null,null,null,null,null,null,null,null,null,null,null,null,null,0,null,-1,-1,0,null,0,null,0,null,0,0,0,0,0,0,0,0,-1,null,null,0,0,0,0,0,0,0,0,-1,null,null,0,0,0]
[null,null,null,null,null,null,null,null,null,null,null,null,null,null,null,null,null,null,null,null,null,null,null,null,null,null,null,null,null,null,null,0,null,null,null,null,null,null,null,null,null,null,null,null,null,null,null,null,null,0,null,-1,-1,0,null,0,null,0,null,0,0,0,0,0,0,0,0,-1,null,null,0,0,0,0,0,0,0,0,-1,null,null,0,0,0]
[null,null,null,null,null,null,null,null,null,null,null,null,null,null,null,null,null,null,null,null,null,null,null,null,null,null,null,null,null,null,null,0,null,null,null,null,null,null,null,null,null,null,null,null,null,null,null,null,null,0,null,-1,-1,0,null,0,null,0,null,0,0,0,0,0,0,0,0,-1,null,null,0,0,0,0,0,0,0,0,-1,null,null,0,0,0]
[null,null,null,null,null,null,null,null,null,null,null,null,null,null,null,null,null,null,null,null,null,null,null,null,null,null,null,null,null,null,null,0,null,null,null,null,null,null,null,null,null,null,null,null,null,null,null,null,null,0,null,-1,-1,0,null,0,null,0,null,0,0,0,0,0,0,0,0,-1,null,null,0,0,0,0,0,0,0,0,-1,null,null,0,0,0]
[null,null,null,null,null,null,null,null,null,null,null,null,null,null,null,null,null,null,null,null,null,null,null,null,null,null,null,null,null,null,null,0,null,null,null,null,null,null,null,null,null,null,null,null,null,null,null,null,null,0,null,-1,-1,0,null,0,null,0,null,0,0,0,0,0,0,0,0,-1,null,null,0,0,0,0,0,0,0,0,-1,null,null,0,0,0]
[null,null,null,null,null,null,null,null,null,null,null,null,null,null,null,null,null,null,null,null,null,null,null,null,null,null,null,null,null,null,null,0,null,null,null,null,null,null,null,null,null,null,null,null,null,null,null,null,null,0,null,-1,-1,0,null,0,null,0,null,0,0,0,0,0,0,0,0,-1,null,null,0,0,0,0,0,0,0,0,-1,null,null,0,0,0]
[null,null,null,null,null,null,null,null,null,null,null,null,null,null,null,null,null,null,null,null,null,null,null,null,null,null,null,null,null,null,null,0,null,null,null,null,null,null,null,null,null,null,null,null,null,null,null,null,null,0,null,-1,-1,0,null,0,null,0,null,0,0,0,0,0,0,0,0,-1,null,null,0,0,0,0,0,0,0,0,-1,null,null,0,0,0]
[null,null,null,null,null,null,null,null,null,null,null,null,null,null,null,null,null,null,null,null,null,null,null,null,null,null,null,null,null,null,null,0,null,null,null,null,null,null,null,null,null,null,null,null,null,null,null,null,null,0,null,-1,-1,0,null,0,null,0,null,0,0,0,0,0,0,0,0,-1,null,null,0,0,0,0,0,0,0,0,-1,null,null,0,0,0]
[null,null,null,null,null,null,null,null,null,null,null,null,null,null,null,null,null,null,null,null,null,null,null,null,null,null,null,null,null,null,null,0,null,null,null,null,null,null,null,null,null,null,null,null,null,null,null,null,null,0,null,{"$f":"COUNTA(AJ376:AU376)-1","v":-1},{"$f":"COUNTA(R376:AC376)-1","v":-1},0,null,{"$f":"((H376/1000)*(L376/1000))*D376","v":0},null,{"$f":"(((H376+L376)*2)/1000)*D376","v":0},null,{"$f":"IF(P376,1,0)","v":0},{"$f":"IF(R376,1,0)","v":0},{"$f":"IF(T376,1,0)","v":0},{"$f":"IF(V376,1,0)","v":0},{"$f":"IF(X376,1,0)","v":0},{"$f":"IF(Z376,1,0)","v":0},{"$f":"IF(AB376,1,0)","v":0},{"$f":"IF(AD376,1,0)","v":0},-1,null,null,{"$f":"IF(AH376,1,0)","v":0},{"$f":"IF(AJ376,1,0)","v":0},{"$f":"IF(AL376,1,0)","v":0},{"$f":"IF(AN376,1,0)","v":0},{"$f":"IF(AP376,1,0)","v":0},{"$f":"IF(AR376,1,0)","v":0},{"$f":"IF(AT376,1,0)","v":0},{"$f":"IF(AV376,1,0)","v":0},-1,null,null,{"$f":"(CA376*BP376)*D376","v":0},{"$f":"SUM(P376:AE376)","v":0},{"$f":"SUM(AH376:AW376)","v":0}]
[null,null,null,null,null,null,null,null,null,null,null,null,null,null,null,null,null,null,null,null,null,null,null,null,null,null,null,null,null,null,null,{"$f":"COUNT(P377,AD377)+IF(BA377>0,BA377)","v":0},null,null,null,null,null,null,null,null,null,null,null,null,null,null,null,null,null,{"$f":"COUNT(AH377,AV377)+IF(AZ377>0,AZ377)","v":0},null,-1,-1,{"$f":"D377*(AF377*AX377)","v":0},null,0,null,0,null,0,0,0,0,0,0,0,0,{"$f":"SUM(BH377:BO377)-1","v":-1},null,null,0,0,0,0,0,0,0,0,{"$f":"SUM(BS377:BZ377)-1","v":-1},null,null,0,0,0]
[null,null,null,null,null,null,null,null,null,null,null,null,null,null,null,null,null,null,null,null,null,null,null,null,null,null,null,null,null,null,null,0,null,null,null,null,null,null,null,null,null,null,null,null,null,null,null,null,null,0,null,-1,-1,0,null,0,null,0,null,0,0,0,0,0,0,0,0,-1,null,null,0,0,0,0,0,0,0,0,-1,null,null,0,0,0]
[null,null,null,null,null,null,null,null,null,null,null,null,null,null,null,null,null,null,null,null,null,null,null,null,null,null,null,null,null,null,null,0,null,null,null,null,null,null,null,null,null,null,null,null,null,null,null,null,null,0,null,-1,-1,0,null,0,null,0,null,0,0,0,0,0,0,0,0,-1,null,null,0,0,0,0,0,0,0,0,-1,null,null,0,0,0]
[null,null,null,null,null,null,null,null,null,null,null,null,null,null,null,null,null,null,null,null,null,null,null,null,null,null,null,null,null,null,null,0,null,null,null,null,null,null,null,null,null,null,null,null,null,null,null,null,null,0,null,-1,-1,0,null,0,null,0,null,0,0,0,0,0,0,0,0,-1,null,null,0,0,0,0,0,0,0,0,-1,null,null,0,0,0]
[null,null,null,null,null,null,null,null,null,null,null,null,null,null,null,null,null,null,null,null,null,null,null,null,null,null,null,null,null,null,null,0,null,null,null,null,null,null,null,null,null,null,null,null,null,null,null,null,null,0,null,-1,-1,0,null,0,null,0,null,0,0,0,0,0,0,0,0,-1,null,null,0,0,0,0,0,0,0,0,-1,null,null,0,0,0]
[null,null,null,null,null,null,null,null,null,null,null,null,null,null,null,null,null,null,null,null,null,null,null,null,null,null,null,null,null,null,null,0,null,null,null,null,null,null,null,null,null,null,null,null,null,null,null,null,null,0,null,-1,-1,0,null,0,null,0,null,0,0,0,0,0,0,0,0,-1,null,null,0,0,0,0,0,0,0,0,-1,null,null,0,0,0]
[null,null,null,null,null,null,null,null,null,null,null,null,null,null,null,null,null,null,null,null,null,null,null,null,null,null,null,null,null,null,null,0,null,null,null,null,null,null,null,null,null,null,null,null,null,null,null,null,null,0,null,-1,-1,0,null,0,null,0,null,0,0,0,0,0,0,0,0,-1,null,null,0,0,0,0,0,0,0,0,-1,null,null,0,0,0]
[null,null,null,null,null,null,null,null,null,null,null,null,null,null,null,null,null,null,null,null,null,null,null,null,null,null,null,null,null,null,null,0,null,null,null,null,null,null,null,null,null,null,null,null,null,null,null,null,null,0,null,-1,-1,0,null,0,null,0,null,0,0,0,0,0,0,0,0,-1,null,null,0,0,0,0,0,0,0,0,-1,null,null,0,0,0]
[null,null,null,null,null,null,null,null,null,null,null,null,null,null,null,null,null,null,null,null,null,null,null,null,null,null,null,null,null,null,null,0,null,null,null,null,null,null,null,null,null,null,null,null,null,null,null,null,null,0,null,-1,-1,0,null,0,null,0,null,0,0,0,0,0,0,0,0,-1,null,null,0,0,0,0,0,0,0,0,-1,null,null,0,0,0]
[null,null,null,null,null,null,null,null,null,null,null,null,null,null,null,null,null,null,null,null,null,null,null,null,null,null,null,null,null,null,null,0,null,null,null,null,null,null,null,null,null,null,null,null,null,null,null,null,null,0,null,-1,-1,0,null,0,null,0,null,0,0,0,0,0,0,0,0,-1,null,null,0,0,0,0,0,0,0,0,-1,null,null,0,0,0]
[null,null,null,null,null,null,null,null,null,null,null,null,null,null,null,null,null,null,null,null,null,null,null,null,null,null,null,null,null,null,null,0,null,null,null,null,null,null,null,null,null,null,null,null,null,null,null,null,null,0,null,-1,-1,0,null,0,null,0,null,0,0,0,0,0,0,0,0,-1,null,null,0,0,0,0,0,0,0,0,-1,null,null,0,0,0]
[null,null,null,null,null,null,null,null,null,null,null,null,null,null,null,null,null,null,null,null,null,null,null,null,null,null,null,null,null,null,null,0,null,null,null,null,null,null,null,null,null,null,null,null,null,null,null,null,null,0,null,-1,-1,0,null,0,null,0,null,0,0,0,0,0,0,0,0,-1,null,null,0,0,0,0,0,0,0,0,-1,null,null,0,0,0]
[null,null,null,null,null,null,null,null,null,null,null,null,null,null,null,null,null,null,null,null,null,null,null,null,null,null,null,null,null,null,null,0,null,null,null,null,null,null,null,null,null,null,null,null,null,null,null,null,null,0,null,-1,-1,0,null,0,null,0,null,0,0,0,0,0,0,0,0,-1,null,null,0,0,0,0,0,0,0,0,-1,null,null,0,0,0]
[null,null,null,null,null,null,null,null,null,null,null,null,null,null,null,null,null,null,null,null,null,null,null,null,null,null,null,null,null,null,null,0,null,null,null,null,null,null,null,null,null,null,null,null,null,null,null,null,null,0,null,-1,-1,0,null,0,null,0,null,0,0,0,0,0,0,0,0,-1,null,null,0,0,0,0,0,0,0,0,-1,null,null,0,0,0]
[null,null,null,null,null,null,null,null,null,null,null,null,null,null,null,null,null,null,null,null,null,null,null,null,null,null,null,null,null,null,null,0,null,null,null,null,null,null,null,null,null,null,null,null,null,null,null,null,null,0,null,-1,-1,0,null,0,null,0,null,0,0,0,0,0,0,0,0,-1,null,null,0,0,0,0,0,0,0,0,-1,null,null,0,0,0]
[null,null,null,null,null,null,null,null,null,null,null,null,null,null,null,null,null,null,null,null,null,null,null,null,null,null,null,null,null,null,null,0,null,null,null,null,null,null,null,null,null,null,null,null,null,null,null,null,null,0,null,-1,-1,0,null,0,null,0,null,0,0,0,0,0,0,0,0,-1,null,null,0,0,0,0,0,0,0,0,-1,null,null,0,0,0]
[null,null,null,null,null,null,null,null,null,null,null,null,null,null,null,null,null,null,null,null,null,null,null,null,null,null,null,null,null,null,null,0,null,null,null,null,null,null,null,null,null,null,null,null,null,null,null,null,null,0,null,-1,-1,0,null,0,null,0,null,0,0,0,0,0,0,0,0,-1,null,null,0,0,0,0,0,0,0,0,-1,null,null,0,0,0]
[null,null,null,null,null,null,null,null,null,null,null,null,null,null,null,null,null,null,null,null,null,null,null,null,null,null,null,null,null,null,null,0,null,null,null,null,null,null,null,null,null,null,null,null,null,null,null,null,null,0,null,-1,-1,0,null,0,null,0,null,0,0,0,0,0,0,0,0,-1,null,null,0,0,0,0,0,0,0,0,-1,null,null,0,0,0]
[null,null,null,null,null,null,null,null,null,null,null,null,null,null,null,null,null,null,null,null,null,null,null,null,null,null,null,null,null,null,null,0,null,null,null,null,null,null,null,null,null,null,null,null,null,null,null,null,null,0,null,-1,-1,0,null,0,null,0,null,0,0,0,0,0,0,0,0,-1,null,null,0,0,0,0,0,0,0,0,-1,null,null,0,0,0]
[null,null,null,null,null,null,null,null,null,null,null,null,null,null,null,null,null,null,null,null,null,null,null,null,null,null,null,null,null,null,null,0,null,null,null,null,null,null,null,null,null,null,null,null,null,null,null,null,null,0,null,-1,-1,0,null,0,null,0,null,0,0,0,0,0,0,0,0,-1,null,null,0,0,0,0,0,0,0,0,-1,null,null,0,0,0]
[null,null,null,null,null,null,null,null,null,null,null,null,null,null,null,null,null,null,null,null,null,null,null,null,null,null,null,null,null,null,null,0,null,null,null,null,null,null,null,null,null,null,null,null,null,null,null,null,null,0,null,-1,-1,0,null,0,null,0,null,0,0,0,0,0,0,0,0,-1,null,null,0,0,0,0,0,0,0,0,-1,null,null,0,0,0]
[null,null,null,null,null,null,null,null,null,null,null,null,null,null,null,null,null,null,null,null,null,null,null,null,null,null,null,null,null,null,null,0,null,null,null,null,null,null,null,null,null,null,null,null,null,null,null,null,null,0,null,-1,-1,0,null,0,null,0,null,0,0,0,0,0,0,0,0,-1,null,null,0,0,0,0,0,0,0,0,-1,null,null,0,0,0]
[null,null,null,null,null,null,null,null,null,null,null,null,null,null,null,null,null,null,null,null,null,null,null,null,null,null,null,null,null,null,null,0,null,null,null,null,null,null,null,null,null,null,null,null,null,null,null,null,null,0,null,-1,-1,0,null,0,null,0,null,0,0,0,0,0,0,0,0,-1,null,null,0,0,0,0,0,0,0,0,-1,null,null,0,0,0]
[null,null,null,null,null,null,null,null,null,null,null,null,null,null,null,null,null,null,null,null,null,null,null,null,null,null,null,null,null,null,null,0,null,null,null,null,null,null,null,null,null,null,null,null,null,null,null,null,null,0,null,-1,-1,0,null,0,null,0,null,0,0,0,0,0,0,0,0,-1,null,null,0,0,0,0,0,0,0,0,-1,null,null,0,0,0]
[null,null,null,null,null,null,null,null,null,null,null,null,null,null,null,null,null,null,null,null,null,null,null,null,null,null,null,null,null,null,null,0,null,null,null,null,null,null,null,null,null,null,null,null,null,null,null,null,null,0,null,-1,-1,0,null,0,null,0,null,0,0,0,0,0,0,0,0,-1,null,null,0,0,0,0,0,0,0,0,-1,null,null,0,0,0]
[null,null,null,null,null,null,null,null,null,null,null,null,null,null,null,null,null,null,null,null,null,null,null,null,null,null,null,null,null,null,null,0,null,null,null,null,null,null,null,null,null,null,null,null,null,null,null,null,null,0,null,-1,-1,0,null,0,null,0,null,0,0,0,0,0,0,0,0,-1,null,null,0,0,0,0,0,0,0,0,-1,null,null,0,0,0]
[null,null,null,null,null,null,null,null,null,null,null,null,null,null,null,null,null,null,null,null,null,null,null,null,null,null,null,null,null,null,null,0,null,null,null,null,null,null,null,null,null,null,null,null,null,null,null,null,null,0,null,-1,-1,0,null,0,null,0,null,0,0,0,0,0,0,0,0,-1,null,null,0,0,0,0,0,0,0,0,-1,null,null,0,0,0]
[null,null,null,null,null,null,null,null,null,null,null,null,null,null,null,null,null,null,null,null,null,null,null,null,null,null,null,null,null,null,null,0,null,null,null,null,null,null,null,null,null,null,null,null,null,null,null,null,null,0,null,-1,-1,0,null,0,null,0,null,0,0,0,0,0,0,0,0,-1,null,null,0,0,0,0,0,0,0,0,-1,null,null,0,0,0]
[null,null,null,null,null,null,null,null,null,null,null,null,null,null,null,null,null,null,null,null,null,null,null,null,null,null,null,null,null,null,null,0,null,null,null,null,null,null,null,null,null,null,null,null,null,null,null,null,null,0,null,-1,-1,0,null,0,null,0,null,0,0,0,0,0,0,0,0,-1,null,null,0,0,0,0,0,0,0,0,-1,null,null,0,0,0]
[null,null,null,null,null,null,null,null,null,null,null,null,null,null,null,null,null,null,null,null,null,null,null,null,null,null,null,null,null,null,null,0,null,null,null,null,null,null,null,null,null,null,null,null,null,null,null,null,null,0,null,-1,-1,0,null,0,null,0,null,0,0,0,0,0,0,0,0,-1,null,null,0,0,0,0,0,0,0,0,-1,null,null,0,0,0]
[null,null,null,null,null,null,null,null,null,null,null,null,null,null,null,null,null,null,null,null,null,null,null,null,null,null,null,null,null,null,null,0,null,null,null,null,null,null,null,null,null,null,null,null,null,null,null,null,null,0,null,-1,-1,0,null,0,null,0,null,0,0,0,0,0,0,0,0,-1,null,null,0,0,0,0,0,0,0,0,-1,null,null,0,0,0]
[null,null,null,null,null,null,null,null,null,null,null,null,null,null,null,null,null,null,null,null,null,null,null,null,null,null,null,null,null,null,null,0,null,null,null,null,null,null,null,null,null,null,null,null,null,null,null,null,null,0,null,-1,-1,0,null,0,null,0,null,0,0,0,0,0,0,0,0,-1,null,null,0,0,0,0,0,0,0,0,-1,null,null,0,0,0]
[null,null,null,null,null,null,null,null,null,null,null,null,null,null,null,null,null,null,null,null,null,null,null,null,null,null,null,null,null,null,null,0,null,null,null,null,null,null,null,null,null,null,null,null,null,null,null,null,null,0,null,-1,-1,0,null,0,null,0,null,0,0,0,0,0,0,0,0,-1,null,null,0,0,0,0,0,0,0,0,-1,null,null,0,0,0]
[null,null,null,null,null,null,null,null,null,null,null,null,null,null,null,null,null,null,null,null,null,null,null,null,null,null,null,null,null,null,null,0,null,null,null,null,null,null,null,null,null,null,null,null,null,null,null,null,null,0,null,-1,-1,0,null,0,null,0,null,0,0,0,0,0,0,0,0,-1,null,null,0,0,0,0,0,0,0,0,-1,null,null,0,0,0]
[null,null,null,null,null,null,null,null,null,null,null,null,null,null,null,null,null,null,null,null,null,null,null,null,null,null,null,null,null,null,null,0,null,null,null,null,null,null,null,null,null,null,null,null,null,null,null,null,null,0,null,-1,-1,0,null,0,null,0,null,0,0,0,0,0,0,0,0,-1,null,null,0,0,0,0,0,0,0,0,-1,null,null,0,0,0]
[null,null,null,null,null,null,null,null,null,null,null,null,null,null,null,null,null,null,null,null,null,null,null,null,null,null,null,null,null,null,null,0,null,null,null,null,null,null,null,null,null,null,null,null,null,null,null,null,null,0,null,-1,-1,0,null,0,null,0,null,0,0,0,0,0,0,0,0,-1,null,null,0,0,0,0,0,0,0,0,-1,null,null,0,0,0]
[null,null,null,null,null,null,null,null,null,null,null,null,null,null,null,null,null,null,null,null,null,null,null,null,null,null,null,null,null,null,null,0,null,null,null,null,null,null,null,null,null,null,null,null,null,null,null,null,null,0,null,-1,-1,0,null,0,null,0,null,0,0,0,0,0,0,0,0,-1,null,null,0,0,0,0,0,0,0,0,-1,null,null,0,0,0]
[null,null,null,null,null,null,null,null,null,null,null,null,null,null,null,null,null,null,null,null,null,null,null,null,null,null,null,null,null,null,null,0,null,null,null,null,null,null,null,null,null,null,null,null,null,null,null,null,null,0,null,-1,-1,0,null,0,null,0,null,0,0,0,0,0,0,0,0,-1,null,null,0,0,0,0,0,0,0,0,-1,null,null,0,0,0]
[null,null,null,null,null,null,null,null,null,null,null,null,null,null,null,null,null,null,null,null,null,null,null,null,null,null,null,null,null,null,null,0,null,null,null,null,null,null,null,null,null,null,null,null,null,null,null,null,null,0,null,-1,-1,0,null,0,null,0,null,0,0,0,0,0,0,0,0,-1,null,null,0,0,0,0,0,0,0,0,-1,null,null,0,0,0]
[null,null,null,null,null,null,null,null,null,null,null,null,null,null,null,null,null,null,null,null,null,null,null,null,null,null,null,null,null,null,null,0,null,null,null,null,null,null,null,null,null,null,null,null,null,null,null,null,null,0,null,-1,-1,0,null,0,null,0,null,0,0,0,0,0,0,0,0,-1,null,null,0,0,0,0,0,0,0,0,-1,null,null,0,0,0]
[null,null,null,null,null,null,null,null,null,null,null,null,null,null,null,null,null,null,null,null,null,null,null,null,null,null,null,null,null,null,null,0,null,null,null,null,null,null,null,null,null,null,null,null,null,null,null,null,null,0,null,-1,-1,0,null,0,null,0,null,0,0,0,0,0,0,0,0,-1,null,null,0,0,0,0,0,0,0,0,-1,null,null,0,0,0]
[null,null,null,null,null,null,null,null,null,null,null,null,null,null,null,null,null,null,null,null,null,null,null,null,null,null,null,null,null,null,null,0,null,null,null,null,null,null,null,null,null,null,null,null,null,null,null,null,null,0,null,-1,-1,0,null,0,null,0,null,0,0,0,0,0,0,0,0,-1,null,null,0,0,0,0,0,0,0,0,-1,null,null,0,0,0]
[null,null,null,null,null,null,null,null,null,null,null,null,null,null,null,null,null,null,null,null,null,null,null,null,null,null,null,null,null,null,null,0,null,null,null,null,null,null,null,null,null,null,null,null,null,null,null,null,null,0,null,-1,-1,0,null,0,null,0,null,0,0,0,0,0,0,0,0,-1,null,null,0,0,0,0,0,0,0,0,-1,null,null,0,0,0]
[null,null,null,null,null,null,null,null,null,null,null,null,null,null,null,null,null,null,null,null,null,null,null,null,null,null,null,null,null,null,null,0,null,null,null,null,null,null,null,null,null,null,null,null,null,null,null,null,null,0,null,-1,-1,0,null,0,null,0,null,0,0,0,0,0,0,0,0,-1,null,null,0,0,0,0,0,0,0,0,-1,null,null,0,0,0]
[null,null,null,null,null,null,null,null,null,null,null,null,null,null,null,null,null,null,null,null,null,null,null,null,null,null,null,null,null,null,null,0,null,null,null,null,null,null,null,null,null,null,null,null,null,null,null,null,null,0,null,-1,-1,0,null,0,null,0,null,0,0,0,0,0,0,0,0,-1,null,null,0,0,0,0,0,0,0,0,-1,null,null,0,0,0]
[null,null,null,null,null,null,null,null,null,null,null,null,null,null,null,null,null,null,null,null,null,null,null,null,null,null,null,null,null,null,null,0,null,null,null,null,null,null,null,null,null,null,null,null,null,null,null,null,null,0,null,-1,-1,0,null,0,null,0,null,0,0,0,0,0,0,0,0,-1,null,null,0,0,0,0,0,0,0,0,-1,null,null,0,0,0]
[null,null,null,null,null,null,null,null,null,null,null,null,null,null,null,null,null,null,null,null,null,null,null,null,null,null,null,null,null,null,null,0,null,null,null,null,null,null,null,null,null,null,null,null,null,null,null,null,null,0,null,-1,-1,0,null,0,null,0,null,0,0,0,0,0,0,0,0,-1,null,null,0,0,0,0,0,0,0,0,-1,null,null,0,0,0]
[null,null,null,null,null,null,null,null,null,null,null,null,null,null,null,null,null,null,null,null,null,null,null,null,null,null,null,null,null,null,null,0,null,null,null,null,null,null,null,null,null,null,null,null,null,null,null,null,null,0,null,-1,-1,0,null,0,null,0,null,0,0,0,0,0,0,0,0,-1,null,null,0,0,0,0,0,0,0,0,-1,null,null,0,0,0]
[null,null,null,null,null,null,null,null,null,null,null,null,null,null,null,null,null,null,null,null,null,null,null,null,null,null,null,null,null,null,null,0,null,null,null,null,null,null,null,null,null,null,null,null,null,null,null,null,null,0,null,-1,-1,0,null,0,null,0,null,0,0,0,0,0,0,0,0,-1,null,null,0,0,0,0,0,0,0,0,-1,null,null,0,0,0]
[null,null,null,null,null,null,null,null,null,null,null,null,null,null,null,null,null,null,null,null,null,null,null,null,null,null,null,null,null,null,null,0,null,null,null,null,null,null,null,null,null,null,null,null,null,null,null,null,null,0,null,-1,-1,0,null,0,null,0,null,0,0,0,0,0,0,0,0,-1,null,null,0,0,0,0,0,0,0,0,-1,null,null,0,0,0]
[null,null,null,null,null,null,null,null,null,null,null,null,null,null,null,null,null,null,null,null,null,null,null,null,null,null,null,null,null,null,null,0,null,null,null,null,null,null,null,null,null,null,null,null,null,null,null,null,null,0,null,-1,-1,0,null,0,null,0,null,0,0,0,0,0,0,0,0,-1,null,null,0,0,0,0,0,0,0,0,-1,null,null,0,0,0]
[null,null,null,null,null,null,null,null,null,null,null,null,null,null,null,null,null,null,null,null,null,null,null,null,null,null,null,null,null,null,null,0,null,null,null,null,null,null,null,null,null,null,null,null,null,null,null,null,null,0,null,-1,-1,0,null,0,null,0,null,0,0,0,0,0,0,0,0,-1,null,null,0,0,0,0,0,0,0,0,-1,null,null,0,0,0]
[null,null,null,null,null,null,null,null,null,null,null,null,null,null,null,null,null,null,null,null,null,null,null,null,null,null,null,null,null,null,null,0,null,null,null,null,null,null,null,null,null,null,null,null,null,null,null,null,null,0,null,-1,-1,0,null,0,null,0,null,0,0,0,0,0,0,0,0,-1,null,null,0,0,0,0,0,0,0,0,-1,null,null,0,0,0]
[null,null,null,null,null,null,null,null,null,null,null,null,null,null,null,null,null,null,null,null,null,null,null,null,null,null,null,null,null,null,null,0,null,null,null,null,null,null,null,null,null,null,null,null,null,null,null,null,null,0,null,-1,-1,0,null,0,null,0,null,0,0,0,0,0,0,0,0,-1,null,null,0,0,0,0,0,0,0,0,-1,null,null,0,0,0]
[null,null,null,null,null,null,null,null,null,null,null,null,null,null,null,null,null,null,null,null,null,null,null,null,null,null,null,null,null,null,null,0,null,null,null,null,null,null,null,null,null,null,null,null,null,null,null,null,null,0,null,-1,-1,0,null,0,null,0,null,0,0,0,0,0,0,0,0,-1,null,null,0,0,0,0,0,0,0,0,-1,null,null,0,0,0]
[null,null,null,null,null,null,null,null,null,null,null,null,null,null,null,null,null,null,null,null,null,null,null,null,null,null,null,null,null,null,null,0,null,null,null,null,null,null,null,null,null,null,null,null,null,null,null,null,null,0,null,-1,-1,0,null,0,null,0,null,0,0,0,0,0,0,0,0,-1,null,null,0,0,0,0,0,0,0,0,-1,null,null,0,0,0]
[null,null,null,null,null,null,null,null,null,null,null,null,null,null,null,null,null,null,null,null,null,null,null,null,null,null,null,null,null,null,null,0,null,null,null,null,null,null,null,null,null,null,null,null,null,null,null,null,null,0,null,-1,-1,0,null,0,null,0,null,0,0,0,0,0,0,0,0,-1,null,null,0,0,0,0,0,0,0,0,-1,null,null,0,0,0]
[null,null,null,null,null,null,null,null,null,null,null,null,null,null,null,null,null,null,null,null,null,null,null,null,null,null,null,null,null,null,null,0,null,null,null,null,null,null,null,null,null,null,null,null,null,null,null,null,null,0,null,-1,-1,0,null,0,null,0,null,0,0,0,0,0,0,0,0,-1,null,null,0,0,0,0,0,0,0,0,-1,null,null,0,0,0]
[null,null,null,null,null,null,null,null,null,null,null,null,null,null,null,null,null,null,null,null,null,null,null,null,null,null,null,null,null,null,null,0,null,null,null,null,null,null,null,null,null,null,null,null,null,null,null,null,null,0,null,-1,-1,0,null,0,null,0,null,0,0,0,0,0,0,0,0,-1,null,null,0,0,0,0,0,0,0,0,-1,null,null,0,0,0]
[null,null,null,null,null,null,null,null,null,null,null,null,null,null,null,null,null,null,null,null,null,null,null,null,null,null,null,null,null,null,null,0,null,null,null,null,null,null,null,null,null,null,null,null,null,null,null,null,null,0,null,-1,-1,0,null,0,null,0,null,0,0,0,0,0,0,0,0,-1,null,null,0,0,0,0,0,0,0,0,-1,null,null,0,0,0]
[null,null,null,null,null,null,null,null,null,null,null,null,null,null,null,null,null,null,null,null,null,null,null,null,null,null,null,null,null,null,null,0,null,null,null,null,null,null,null,null,null,null,null,null,null,null,null,null,null,0,null,-1,-1,0,null,0,null,0,null,0,0,0,0,0,0,0,0,-1,null,null,0,0,0,0,0,0,0,0,-1,null,null,0,0,0]
[null,null,null,null,null,null,null,null,null,null,null,null,null,null,null,null,null,null,null,null,null,null,null,null,null,null,null,null,null,null,null,0,null,null,null,null,null,null,null,null,null,null,null,null,null,null,null,null,null,0,null,-1,-1,0,null,0,null,0,null,0,0,0,0,0,0,0,0,-1,null,null,0,0,0,0,0,0,0,0,-1,null,null,0,0,0]
[null,null,null,null,null,null,null,null,null,null,null,null,null,null,null,null,null,null,null,null,null,null,null,null,null,null,null,null,null,null,null,0,null,null,null,null,null,null,null,null,null,null,null,null,null,null,null,null,null,0,null,-1,-1,0,null,0,null,0,null,0,0,0,0,0,0,0,0,-1,null,null,0,0,0,0,0,0,0,0,-1,null,null,0,0,0]
[null,null,null,null,null,null,null,null,null,null,null,null,null,null,null,null,null,null,null,null,null,null,null,null,null,null,null,null,null,null,null,0,null,null,null,null,null,null,null,null,null,null,null,null,null,null,null,null,null,0,null,{"$f":"COUNTA(AJ440:AU440)-1","v":-1},{"$f":"COUNTA(R440:AC440)-1","v":-1},0,null,{"$f":"((H440/1000)*(L440/1000))*D440","v":0},null,{"$f":"(((H440+L440)*2)/1000)*D440","v":0},null,{"$f":"IF(P440,1,0)","v":0},{"$f":"IF(R440,1,0)","v":0},{"$f":"IF(T440,1,0)","v":0},{"$f":"IF(V440,1,0)","v":0},{"$f":"IF(X440,1,0)","v":0},{"$f":"IF(Z440,1,0)","v":0},{"$f":"IF(AB440,1,0)","v":0},{"$f":"IF(AD440,1,0)","v":0},-1,null,null,{"$f":"IF(AH440,1,0)","v":0},{"$f":"IF(AJ440,1,0)","v":0},{"$f":"IF(AL440,1,0)","v":0},{"$f":"IF(AN440,1,0)","v":0},{"$f":"IF(AP440,1,0)","v":0},{"$f":"IF(AR440,1,0)","v":0},{"$f":"IF(AT440,1,0)","v":0},{"$f":"IF(AV440,1,0)","v":0},-1,null,null,{"$f":"(CA440*BP440)*D440","v":0},{"$f":"SUM(P440:AE440)","v":0},{"$f":"SUM(AH440:AW440)","v":0}]
[null,null,null,null,null,null,null,null,null,null,null,null,null,null,null,null,null,null,null,null,null,null,null,null,null,null,null,null,null,null,null,{"$f":"COUNT(P441,AD441)+IF(BA441>0,BA441)","v":0},null,null,null,null,null,null,null,null,null,null,null,null,null,null,null,null,null,{"$f":"COUNT(AH441,AV441)+IF(AZ441>0,AZ441)","v":0},null,-1,-1,{"$f":"D441*(AF441*AX441)","v":0},null,0,null,0,null,0,0,0,0,0,0,0,0,{"$f":"SUM(BH441:BO441)-1","v":-1},null,null,0,0,0,0,0,0,0,0,{"$f":"SUM(BS441:BZ441)-1","v":-1},null,null,0,0,0]
[null,null,null,null,null,null,null,null,null,null,null,null,null,null,null,null,null,null,null,null,null,null,null,null,null,null,null,null,null,null,null,0,null,null,null,null,null,null,null,null,null,null,null,null,null,null,null,null,null,0,null,-1,-1,0,null,0,null,0,null,0,0,0,0,0,0,0,0,-1,null,null,0,0,0,0,0,0,0,0,-1,null,null,0,0,0]
[null,null,null,null,null,null,null,null,null,null,null,null,null,null,null,null,null,null,null,null,null,null,null,null,null,null,null,null,null,null,null,0,null,null,null,null,null,null,null,null,null,null,null,null,null,null,null,null,null,0,null,-1,-1,0,null,0,null,0,null,0,0,0,0,0,0,0,0,-1,null,null,0,0,0,0,0,0,0,0,-1,null,null,0,0,0]
[null,null,null,null,null,null,null,null,null,null,null,null,null,null,null,null,null,null,null,null,null,null,null,null,null,null,null,null,null,null,null,0,null,null,null,null,null,null,null,null,null,null,null,null,null,null,null,null,null,0,null,-1,-1,0,null,0,null,0,null,0,0,0,0,0,0,0,0,-1,null,null,0,0,0,0,0,0,0,0,-1,null,null,0,0,0]
[null,null,null,null,null,null,null,null,null,null,null,null,null,null,null,null,null,null,null,null,null,null,null,null,null,null,null,null,null,null,null,0,null,null,null,null,null,null,null,null,null,null,null,null,null,null,null,null,null,0,null,-1,-1,0,null,0,null,0,null,0,0,0,0,0,0,0,0,-1,null,null,0,0,0,0,0,0,0,0,-1,null,null,0,0,0]
[null,null,null,null,null,null,null,null,null,null,null,null,null,null,null,null,null,null,null,null,null,null,null,null,null,null,null,null,null,null,null,0,null,null,null,null,null,null,null,null,null,null,null,null,null,null,null,null,null,0,null,-1,-1,0,null,0,null,0,null,0,0,0,0,0,0,0,0,-1,null,null,0,0,0,0,0,0,0,0,-1,null,null,0,0,0]
[null,null,null,null,null,null,null,null,null,null,null,null,null,null,null,null,null,null,null,null,null,null,null,null,null,null,null,null,null,null,null,0,null,null,null,null,null,null,null,null,null,null,null,null,null,null,null,null,null,0,null,-1,-1,0,null,0,null,0,null,0,0,0,0,0,0,0,0,-1,null,null,0,0,0,0,0,0,0,0,-1,null,null,0,0,0]
[null,null,null,null,null,null,null,null,null,null,null,null,null,null,null,null,null,null,null,null,null,null,null,null,null,null,null,null,null,null,null,0,null,null,null,null,null,null,null,null,null,null,null,null,null,null,null,null,null,0,null,-1,-1,0,null,0,null,0,null,0,0,0,0,0,0,0,0,-1,null,null,0,0,0,0,0,0,0,0,-1,null,null,0,0,0]
[null,null,null,null,null,null,null,null,null,null,null,null,null,null,null,null,null,null,null,null,null,null,null,null,null,null,null,null,null,null,null,0,null,null,null,null,null,null,null,null,null,null,null,null,null,null,null,null,null,0,null,-1,-1,0,null,0,null,0,null,0,0,0,0,0,0,0,0,-1,null,null,0,0,0,0,0,0,0,0,-1,null,null,0,0,0]
[null,null,null,null,null,null,null,null,null,null,null,null,null,null,null,null,null,null,null,null,null,null,null,null,null,null,null,null,null,null,null,0,null,null,null,null,null,null,null,null,null,null,null,null,null,null,null,null,null,0,null,-1,-1,0,null,0,null,0,null,0,0,0,0,0,0,0,0,-1,null,null,0,0,0,0,0,0,0,0,-1,null,null,0,0,0]
[null,null,null,null,null,null,null,null,null,null,null,null,null,null,null,null,null,null,null,null,null,null,null,null,null,null,null,null,null,null,null,0,null,null,null,null,null,null,null,null,null,null,null,null,null,null,null,null,null,0,null,-1,-1,0,null,0,null,0,null,0,0,0,0,0,0,0,0,-1,null,null,0,0,0,0,0,0,0,0,-1,null,null,0,0,0]
[null,null,null,null,null,null,null,null,null,null,null,null,null,null,null,null,null,null,null,null,null,null,null,null,null,null,null,null,null,null,null,0,null,null,null,null,null,null,null,null,null,null,null,null,null,null,null,null,null,0,null,-1,-1,0,null,0,null,0,null,0,0,0,0,0,0,0,0,-1,null,null,0,0,0,0,0,0,0,0,-1,null,null,0,0,0]
[null,null,null,null,null,null,null,null,null,null,null,null,null,null,null,null,null,null,null,null,null,null,null,null,null,null,null,null,null,null,null,0,null,null,null,null,null,null,null,null,null,null,null,null,null,null,null,null,null,0,null,-1,-1,0,null,0,null,0,null,0,0,0,0,0,0,0,0,-1,null,null,0,0,0,0,0,0,0,0,-1,null,null,0,0,0]
[null,null,null,null,null,null,null,null,null,null,null,null,null,null,null,null,null,null,null,null,null,null,null,null,null,null,null,null,null,null,null,0,null,null,null,null,null,null,null,null,null,null,null,null,null,null,null,null,null,0,null,-1,-1,0,null,0,null,0,null,0,0,0,0,0,0,0,0,-1,null,null,0,0,0,0,0,0,0,0,-1,null,null,0,0,0]
[null,null,null,null,null,null,null,null,null,null,null,null,null,null,null,null,null,null,null,null,null,null,null,null,null,null,null,null,null,null,null,0,null,null,null,null,null,null,null,null,null,null,null,null,null,null,null,null,null,0,null,-1,-1,0,null,0,null,0,null,0,0,0,0,0,0,0,0,-1,null,null,0,0,0,0,0,0,0,0,-1,null,null,0,0,0]
[null,null,null,null,null,null,null,null,null,null,null,null,null,null,null,null,null,null,null,null,null,null,null,null,null,null,null,null,null,null,null,0,null,null,null,null,null,null,null,null,null,null,null,null,null,null,null,null,null,0,null,-1,-1,0,null,0,null,0,null,0,0,0,0,0,0,0,0,-1,null,null,0,0,0,0,0,0,0,0,-1,null,null,0,0,0]
[null,null,null,null,null,null,null,null,null,null,null,null,null,null,null,null,null,null,null,null,null,null,null,null,null,null,null,null,null,null,null,0,null,null,null,null,null,null,null,null,null,null,null,null,null,null,null,null,null,0,null,-1,-1,0,null,0,null,0,null,0,0,0,0,0,0,0,0,-1,null,null,0,0,0,0,0,0,0,0,-1,null,null,0,0,0]
[null,null,null,null,null,null,null,null,null,null,null,null,null,null,null,null,null,null,null,null,null,null,null,null,null,null,null,null,null,null,null,0,null,null,null,null,null,null,null,null,null,null,null,null,null,null,null,null,null,0,null,-1,-1,0,null,0,null,0,null,0,0,0,0,0,0,0,0,-1,null,null,0,0,0,0,0,0,0,0,-1,null,null,0,0,0]
[null,null,null,null,null,null,null,null,null,null,null,null,null,null,null,null,null,null,null,null,null,null,null,null,null,null,null,null,null,null,null,0,null,null,null,null,null,null,null,null,null,null,null,null,null,null,null,null,null,0,null,-1,-1,0,null,0,null,0,null,0,0,0,0,0,0,0,0,-1,null,null,0,0,0,0,0,0,0,0,-1,null,null,0,0,0]
[null,null,null,null,null,null,null,null,null,null,null,null,null,null,null,null,null,null,null,null,null,null,null,null,null,null,null,null,null,null,null,0,null,null,null,null,null,null,null,null,null,null,null,null,null,null,null,null,null,0,null,-1,-1,0,null,0,null,0,null,0,0,0,0,0,0,0,0,-1,null,null,0,0,0,0,0,0,0,0,-1,null,null,0,0,0]
[null,null,null,null,null,null,null,null,null,null,null,null,null,null,null,null,null,null,null,null,null,null,null,null,null,null,null,null,null,null,null,0,null,null,null,null,null,null,null,null,null,null,null,null,null,null,null,null,null,0,null,-1,-1,0,null,0,null,0,null,0,0,0,0,0,0,0,0,-1,null,null,0,0,0,0,0,0,0,0,-1,null,null,0,0,0]
[null,null,null,null,null,null,null,null,null,null,null,null,null,null,null,null,null,null,null,null,null,null,null,null,null,null,null,null,null,null,null,0,null,null,null,null,null,null,null,null,null,null,null,null,null,null,null,null,null,0,null,-1,-1,0,null,0,null,0,null,0,0,0,0,0,0,0,0,-1,null,null,0,0,0,0,0,0,0,0,-1,null,null,0,0,0]
[null,null,null,null,null,null,null,null,null,null,null,null,null,null,null,null,null,null,null,null,null,null,null,null,null,null,null,null,null,null,null,0,null,null,null,null,null,null,null,null,null,null,null,null,null,null,null,null,null,0,null,-1,-1,0,null,0,null,0,null,0,0,0,0,0,0,0,0,-1,null,null,0,0,0,0,0,0,0,0,-1,null,null,0,0,0]
[null,null,null,null,null,null,null,null,null,null,null,null,null,null,null,null,null,null,null,null,null,null,null,null,null,null,null,null,null,null,null,0,null,null,null,null,null,null,null,null,null,null,null,null,null,null,null,null,null,0,null,-1,-1,0,null,0,null,0,null,0,0,0,0,0,0,0,0,-1,null,null,0,0,0,0,0,0,0,0,-1,null,null,0,0,0]
[null,null,null,null,null,null,null,null,null,null,null,null,null,null,null,null,null,null,null,null,null,null,null,null,null,null,null,null,null,null,null,0,null,null,null,null,null,null,null,null,null,null,null,null,null,null,null,null,null,0,null,-1,-1,0,null,0,null,0,null,0,0,0,0,0,0,0,0,-1,null,null,0,0,0,0,0,0,0,0,-1,null,null,0,0,0]
[null,null,null,null,null,null,null,null,null,null,null,null,null,null,null,null,null,null,null,null,null,null,null,null,null,null,null,null,null,null,null,0,null,null,null,null,null,null,null,null,null,null,null,null,null,null,null,null,null,0,null,-1,-1,0,null,0,null,0,null,0,0,0,0,0,0,0,0,-1,null,null,0,0,0,0,0,0,0,0,-1,null,null,0,0,0]
[null,null,null,null,null,null,null,null,null,null,null,null,null,null,null,null,null,null,null,null,null,null,null,null,null,null,null,null,null,null,null,0,null,null,null,null,null,null,null,null,null,null,null,null,null,null,null,null,null,0,null,-1,-1,0,null,0,null,0,null,0,0,0,0,0,0,0,0,-1,null,null,0,0,0,0,0,0,0,0,-1,null,null,0,0,0]
[null,null,null,null,null,null,null,null,null,null,null,null,null,null,null,null,null,null,null,null,null,null,null,null,null,null,null,null,null,null,null,0,null,null,null,null,null,null,null,null,null,null,null,null,null,null,null,null,null,0,null,-1,-1,0,null,0,null,0,null,0,0,0,0,0,0,0,0,-1,null,null,0,0,0,0,0,0,0,0,-1,null,null,0,0,0]
[null,null,null,null,null,null,null,null,null,null,null,null,null,null,null,null,null,null,null,null,null,null,null,null,null,null,null,null,null,null,null,0,null,null,null,null,null,null,null,null,null,null,null,null,null,null,null,null,null,0,null,-1,-1,0,null,0,null,0,null,0,0,0,0,0,0,0,0,-1,null,null,0,0,0,0,0,0,0,0,-1,null,null,0,0,0]
[null,null,null,null,null,null,null,null,null,null,null,null,null,null,null,null,null,null,null,null,null,null,null,null,null,null,null,null,null,null,null,0,null,null,null,null,null,null,null,null,null,null,null,null,null,null,null,null,null,0,null,-1,-1,0,null,0,null,0,null,0,0,0,0,0,0,0,0,-1,null,null,0,0,0,0,0,0,0,0,-1,null,null,0,0,0]
[null,null,null,null,null,null,null,null,null,null,null,null,null,null,null,null,null,null,null,null,null,null,null,null,null,null,null,null,null,null,null,0,null,null,null,null,null,null,null,null,null,null,null,null,null,null,null,null,null,0,null,-1,-1,0,null,0,null,0,null,0,0,0,0,0,0,0,0,-1,null,null,0,0,0,0,0,0,0,0,-1,null,null,0,0,0]
[null,null,null,null,null,null,null,null,null,null,null,null,null,null,null,null,null,null,null,null,null,null,null,null,null,null,null,null,null,null,null,0,null,null,null,null,null,null,null,null,null,null,null,null,null,null,null,null,null,0,null,-1,-1,0,null,0,null,0,null,0,0,0,0,0,0,0,0,-1,null,null,0,0,0,0,0,0,0,0,-1,null,null,0,0,0]
[null,null,null,null,null,null,null,null,null,null,null,null,null,null,null,null,null,null,null,null,null,null,null,null,null,null,null,null,null,null,null,0,null,null,null,null,null,null,null,null,null,null,null,null,null,null,null,null,null,0,null,-1,-1,0,null,0,null,0,null,0,0,0,0,0,0,0,0,-1,null,null,0,0,0,0,0,0,0,0,-1,null,null,0,0,0]
[null,null,null,null,null,null,null,null,null,null,null,null,null,null,null,null,null,null,null,null,null,null,null,null,null,null,null,null,null,null,null,0,null,null,null,null,null,null,null,null,null,null,null,null,null,null,null,null,null,0,null,-1,-1,0,null,0,null,0,null,0,0,0,0,0,0,0,0,-1,null,null,0,0,0,0,0,0,0,0,-1,null,null,0,0,0]
[null,null,null,null,null,null,null,null,null,null,null,null,null,null,null,null,null,null,null,null,null,null,null,null,null,null,null,null,null,null,null,0,null,null,null,null,null,null,null,null,null,null,null,null,null,null,null,null,null,0,null,-1,-1,0,null,0,null,0,null,0,0,0,0,0,0,0,0,-1,null,null,0,0,0,0,0,0,0,0,-1,null,null,0,0,0]
[null,null,null,null,null,null,null,null,null,null,null,null,null,null,null,null,null,null,null,null,null,null,null,null,null,null,null,null,null,null,null,0,null,null,null,null,null,null,null,null,null,null,null,null,null,null,null,null,null,0,null,-1,-1,0,null,0,null,0,null,0,0,0,0,0,0,0,0,-1,null,null,0,0,0,0,0,0,0,0,-1,null,null,0,0,0]
[null,null,null,null,null,null,null,null,null,null,null,null,null,null,null,null,null,null,null,null,null,null,null,null,null,null,null,null,null,null,null,0,null,null,null,null,null,null,null,null,null,null,null,null,null,null,null,null,null,0,null,-1,-1,0,null,0,null,0,null,0,0,0,0,0,0,0,0,-1,null,null,0,0,0,0,0,0,0,0,-1,null,null,0,0,0]
[null,null,null,null,null,null,null,null,null,null,null,null,null,null,null,null,null,null,null,null,null,null,null,null,null,null,null,null,null,null,null,0,null,null,null,null,null,null,null,null,null,null,null,null,null,null,null,null,null,0,null,-1,-1,0,null,0,null,0,null,0,0,0,0,0,0,0,0,-1,null,null,0,0,0,0,0,0,0,0,-1,null,null,0,0,0]
[null,null,null,null,null,null,null,null,null,null,null,null,null,null,null,null,null,null,null,null,null,null,null,null,null,null,null,null,null,null,null,0,null,null,null,null,null,null,null,null,null,null,null,null,null,null,null,null,null,0,null,-1,-1,0,null,0,null,0,null,0,0,0,0,0,0,0,0,-1,null,null,0,0,0,0,0,0,0,0,-1,null,null,0,0,0]
[null,null,null,null,null,null,null,null,null,null,null,null,null,null,null,null,null,null,null,null,null,null,null,null,null,null,null,null,null,null,null,0,null,null,null,null,null,null,null,null,null,null,null,null,null,null,null,null,null,0,null,-1,-1,0,null,0,null,0,null,0,0,0,0,0,0,0,0,-1,null,null,0,0,0,0,0,0,0,0,-1,null,null,0,0,0]
[null,null,null,null,null,null,null,null,null,null,null,null,null,null,null,null,null,null,null,null,null,null,null,null,null,null,null,null,null,null,null,0,null,null,null,null,null,null,null,null,null,null,null,null,null,null,null,null,null,0,null,-1,-1,0,null,0,null,0,null,0,0,0,0,0,0,0,0,-1,null,null,0,0,0,0,0,0,0,0,-1,null,null,0,0,0]
[null,null,null,null,null,null,null,null,null,null,null,null,null,null,null,null,null,null,null,null,null,null,null,null,null,null,null,null,null,null,null,0,null,null,null,null,null,null,null,null,null,null,null,null,null,null,null,null,null,0,null,-1,-1,0,null,0,null,0,null,0,0,0,0,0,0,0,0,-1,null,null,0,0,0,0,0,0,0,0,-1,null,null,0,0,0]
[null,null,null,null,null,null,null,null,null,null,null,null,null,null,null,null,null,null,null,null,null,null,null,null,null,null,null,null,null,null,null,0,null,null,null,null,null,null,null,null,null,null,null,null,null,null,null,null,null,0,null,-1,-1,0,null,0,null,0,null,0,0,0,0,0,0,0,0,-1,null,null,0,0,0,0,0,0,0,0,-1,null,null,0,0,0]
[null,null,null,null,null,null,null,null,null,null,null,null,null,null,null,null,null,null,null,null,null,null,null,null,null,null,null,null,null,null,null,0,null,null,null,null,null,null,null,null,null,null,null,null,null,null,null,null,null,0,null,-1,-1,0,null,0,null,0,null,0,0,0,0,0,0,0,0,-1,null,null,0,0,0,0,0,0,0,0,-1,null,null,0,0,0]
[null,null,null,null,null,null,null,null,null,null,null,null,null,null,null,null,null,null,null,null,null,null,null,null,null,null,null,null,null,null,null,0,null,null,null,null,null,null,null,null,null,null,null,null,null,null,null,null,null,0,null,-1,-1,0,null,0,null,0,null,0,0,0,0,0,0,0,0,-1,null,null,0,0,0,0,0,0,0,0,-1,null,null,0,0,0]
[null,null,null,null,null,null,null,null,null,null,null,null,null,null,null,null,null,null,null,null,null,null,null,null,null,null,null,null,null,null,null,0,null,null,null,null,null,null,null,null,null,null,null,null,null,null,null,null,null,0,null,-1,-1,0,null,0,null,0,null,0,0,0,0,0,0,0,0,-1,null,null,0,0,0,0,0,0,0,0,-1,null,null,0,0,0]
[null,null,null,null,null,null,null,null,null,null,null,null,null,null,null,null,null,null,null,null,null,null,null,null,null,null,null,null,null,null,null,0,null,null,null,null,null,null,null,null,null,null,null,null,null,null,null,null,null,0,null,-1,-1,0,null,0,null,0,null,0,0,0,0,0,0,0,0,-1,null,null,0,0,0,0,0,0,0,0,-1,null,null,0,0,0]
[null,null,null,null,null,null,null,null,null,null,null,null,null,null,null,null,null,null,null,null,null,null,null,null,null,null,null,null,null,null,null,0,null,null,null,null,null,null,null,null,null,null,null,null,null,null,null,null,null,0,null,-1,-1,0,null,0,null,0,null,0,0,0,0,0,0,0,0,-1,null,null,0,0,0,0,0,0,0,0,-1,null,null,0,0,0]
[null,null,null,null,null,null,null,null,null,null,null,null,null,null,null,null,null,null,null,null,null,null,null,null,null,null,null,null,null,null,null,0,null,null,null,null,null,null,null,null,null,null,null,null,null,null,null,null,null,0,null,-1,-1,0,null,0,null,0,null,0,0,0,0,0,0,0,0,-1,null,null,0,0,0,0,0,0,0,0,-1,null,null,0,0,0]
[null,null,null,null,null,null,null,null,null,null,null,null,null,null,null,null,null,null,null,null,null,null,null,null,null,null,null,null,null,null,null,0,null,null,null,null,null,null,null,null,null,null,null,null,null,null,null,null,null,0,null,-1,-1,0,null,0,null,0,null,0,0,0,0,0,0,0,0,-1,null,null,0,0,0,0,0,0,0,0,-1,null,null,0,0,0]
[null,null,null,null,null,null,null,null,null,null,null,null,null,null,null,null,null,null,null,null,null,null,null,null,null,null,null,null,null,null,null,0,null,null,null,null,null,null,null,null,null,null,null,null,null,null,null,null,null,0,null,-1,-1,0,null,0,null,0,null,0,0,0,0,0,0,0,0,-1,null,null,0,0,0,0,0,0,0,0,-1,null,null,0,0,0]
[null,null,null,null,null,null,null,null,null,null,null,null,null,null,null,null,null,null,null,null,null,null,null,null,null,null,null,null,null,null,null,0,null,null,null,null,null,null,null,null,null,null,null,null,null,null,null,null,null,0,null,-1,-1,0,null,0,null,0,null,0,0,0,0,0,0,0,0,-1,null,null,0,0,0,0,0,0,0,0,-1,null,null,0,0,0]
[null,null,null,null,null,null,null,null,null,null,null,null,null,null,null,null,null,null,null,null,null,null,null,null,null,null,null,null,null,null,null,0,null,null,null,null,null,null,null,null,null,null,null,null,null,null,null,null,null,0,null,-1,-1,0,null,0,null,0,null,0,0,0,0,0,0,0,0,-1,null,null,0,0,0,0,0,0,0,0,-1,null,null,0,0,0]
[null,null,null,null,null,null,null,null,null,null,null,null,null,null,null,null,null,null,null,null,null,null,null,null,null,null,null,null,null,null,null,0,null,null,null,null,null,null,null,null,null,null,null,null,null,null,null,null,null,0,null,-1,-1,0,null,0,null,0,null,0,0,0,0,0,0,0,0,-1,null,null,0,0,0,0,0,0,0,0,-1,null,null,0,0,0]
[null,null,null,null,null,null,null,null,null,null,null,null,null,null,null,null,null,null,null,null,null,null,null,null,null,null,null,null,null,null,null,0,null,null,null,null,null,null,null,null,null,null,null,null,null,null,null,null,null,0,null,-1,-1,0,null,0,null,0,null,0,0,0,0,0,0,0,0,-1,null,null,0,0,0,0,0,0,0,0,-1,null,null,0,0,0]
[null,null,null,null,null,null,null,null,null,null,null,null,null,null,null,null,null,null,null,null,null,null,null,null,null,null,null,null,null,null,null,0,null,null,null,null,null,null,null,null,null,null,null,null,null,null,null,null,null,0,null,-1,-1,0,null,0,null,0,null,0,0,0,0,0,0,0,0,-1,null,null,0,0,0,0,0,0,0,0,-1,null,null,0,0,0]
[null,null,null,null,null,null,null,null,null,null,null,null,null,null,null,null,null,null,null,null,null,null,null,null,null,null,null,null,null,null,null,0,null,null,null,null,null,null,null,null,null,null,null,null,null,null,null,null,null,0,null,-1,-1,0,null,0,null,0,null,0,0,0,0,0,0,0,0,-1,null,null,0,0,0,0,0,0,0,0,-1,null,null,0,0,0]
[null,null,null,null,null,null,null,null,null,null,null,null,null,null,null,null,null,null,null,null,null,null,null,null,null,null,null,null,null,null,null,0,null,null,null,null,null,null,null,null,null,null,null,null,null,null,null,null,null,0,null,-1,-1,0,null,0,null,0,null,0,0,0,0,0,0,0,0,-1,null,null,0,0,0,0,0,0,0,0,-1,null,null,0,0,0]
[null,null,null,null,null,null,null,null,null,null,null,null,null,null,null,null,null,null,null,null,null,null,null,null,null,null,null,null,null,null,null,0,null,null,null,null,null,null,null,null,null,null,null,null,null,null,null,null,null,0,null,-1,-1,0,null,0,null,0,null,0,0,0,0,0,0,0,0,-1,null,null,0,0,0,0,0,0,0,0,-1,null,null,0,0,0]
[null,null,null,null,null,null,null,null,null,null,null,null,null,null,null,null,null,null,null,null,null,null,null,null,null,null,null,null,null,null,null,0,null,null,null,null,null,null,null,null,null,null,null,null,null,null,null,null,null,0,null,-1,-1,0,null,0,null,0,null,0,0,0,0,0,0,0,0,-1,null,null,0,0,0,0,0,0,0,0,-1,null,null,0,0,0]
[null,null,null,null,null,null,null,null,null,null,null,null,null,null,null,null,null,null,null,null,null,null,null,null,null,null,null,null,null,null,null,0,null,null,null,null,null,null,null,null,null,null,null,null,null,null,null,null,null,0,null,-1,-1,0,null,0,null,0,null,0,0,0,0,0,0,0,0,-1,null,null,0,0,0,0,0,0,0,0,-1,null,null,0,0,0]
[null,null,null,null,null,null,null,null,null,null,null,null,null,null,null,null,null,null,null,null,null,null,null,null,null,null,null,null,null,null,null,0,null,null,null,null,null,null,null,null,null,null,null,null,null,null,null,null,null,0,null,-1,-1,0,null,0,null,0,null,0,0,0,0,0,0,0,0,-1,null,null,0,0,0,0,0,0,0,0,-1,null,null,0,0,0]
[null,null,null,null,null,null,null,null,null,null,null,null,null,null,null,null,null,null,null,null,null,null,null,null,null,null,null,null,null,null,null,0,null,null,null,null,null,null,null,null,null,null,null,null,null,null,null,null,null,0,null,-1,-1,0,null,0,null,0,null,0,0,0,0,0,0,0,0,-1,null,null,0,0,0,0,0,0,0,0,-1,null,null,0,0,0]
[null,null,null,null,null,null,null,null,null,null,null,null,null,null,null,null,null,null,null,null,null,null,null,null,null,null,null,null,null,null,null,0,null,null,null,null,null,null,null,null,null,null,null,null,null,null,null,null,null,0,null,{"$f":"COUNTA(AJ504:AU504)-1","v":-1},{"$f":"COUNTA(R504:AC504)-1","v":-1},0,null,{"$f":"((H504/1000)*(L504/1000))*D504","v":0},null,{"$f":"(((H504+L504)*2)/1000)*D504","v":0},null,{"$f":"IF(P504,1,0)","v":0},{"$f":"IF(R504,1,0)","v":0},{"$f":"IF(T504,1,0)","v":0},{"$f":"IF(V504,1,0)","v":0},{"$f":"IF(X504,1,0)","v":0},{"$f":"IF(Z504,1,0)","v":0},{"$f":"IF(AB504,1,0)","v":0},{"$f":"IF(AD504,1,0)","v":0},-1,null,null,{"$f":"IF(AH504,1,0)","v":0},{"$f":"IF(AJ504,1,0)","v":0},{"$f":"IF(AL504,1,0)","v":0},{"$f":"IF(AN504,1,0)","v":0},{"$f":"IF(AP504,1,0)","v":0},{"$f":"IF(AR504,1,0)","v":0},{"$f":"IF(AT504,1,0)","v":0},{"$f":"IF(AV504,1,0)","v":0},-1,null,null,{"$f":"(CA504*BP504)*D504","v":0},{"$f":"SUM(P504:AE504)","v":0},{"$f":"SUM(AH504:AW504)","v":0}]
[null,null,null,null,null,null,null,null,null,null,null,null,null,null,null,null,null,null,null,null,null,null,null,null,null,null,null,null,null,null,null,{"$f":"COUNT(P505,AD505)+IF(BA505>0,BA505)","v":0},null,null,null,null,null,null,null,null,null,null,null,null,null,null,null,null,null,{"$f":"COUNT(AH505,AV505)+IF(AZ505>0,AZ505)","v":0},null,-1,-1,{"$f":"D505*(AF505*AX505)","v":0},null,0,null,0,null,0,0,0,0,0,0,0,0,{"$f":"SUM(BH505:BO505)-1","v":-1},null,null,0,0,0,0,0,0,0,0,{"$f":"SUM(BS505:BZ505)-1","v":-1},null,null,0,0,0]
[null,null,null,null,null,null,null,null,null,null,null,null,null,null,null,null,null,null,null,null,null,null,null,null,null,null,null,null,null,null,null,0,null,null,null,null,null,null,null,null,null,null,null,null,null,null,null,null,null,0,null,-1,-1,0,null,0,null,0,null,0,0,0,0,0,0,0,0,-1,null,null,0,0,0,0,0,0,0,0,-1,null,null,0,0,0]
[null,null,null,null,null,null,null,null,null,null,null,null,null,null,null,null,null,null,null,null,null,null,null,null,null,null,null,null,null,null,null,0,null,null,null,null,null,null,null,null,null,null,null,null,null,null,null,null,null,0,null,-1,-1,0,null,0,null,0,null,0,0,0,0,0,0,0,0,-1,null,null,0,0,0,0,0,0,0,0,-1,null,null,0,0,0]
[null,null,null,null,null,null,null,null,null,null,null,null,null,null,null,null,null,null,null,null,null,null,null,null,null,null,null,null,null,null,null,0,null,null,null,null,null,null,null,null,null,null,null,null,null,null,null,null,null,0,null,-1,-1,0,null,0,null,0,null,0,0,0,0,0,0,0,0,-1,null,null,0,0,0,0,0,0,0,0,-1,null,null,0,0,0]
[null,null,null,null,null,null,null,null,null,null,null,null,null,null,null,null,null,null,null,null,null,null,null,null,null,null,null,null,null,null,null,0,null,null,null,null,null,null,null,null,null,null,null,null,null,null,null,null,null,0,null,-1,-1,0,null,0,null,0,null,0,0,0,0,0,0,0,0,-1,null,null,0,0,0,0,0,0,0,0,-1,null,null,0,0,0]
[null,null,null,null,null,null,null,null,null,null,null,null,null,null,null,null,null,null,null,null,null,null,null,null,null,null,null,null,null,null,null,0,null,null,null,null,null,null,null,null,null,null,null,null,null,null,null,null,null,0,null,-1,-1,0,null,0,null,0,null,0,0,0,0,0,0,0,0,-1,null,null,0,0,0,0,0,0,0,0,-1,null,null,0,0,0]
[null,null,null,null,null,null,null,null,null,null,null,null,null,null,null,null,null,null,null,null,null,null,null,null,null,null,null,null,null,null,null,0,null,null,null,null,null,null,null,null,null,null,null,null,null,null,null,null,null,0,null,-1,-1,0,null,0,null,0,null,0,0,0,0,0,0,0,0,-1,null,null,0,0,0,0,0,0,0,0,-1,null,null,0,0,0]
[null,null,null,null,null,null,null,null,null,null,null,null,null,null,null,null,null,null,null,null,null,null,null,null,null,null,null,null,null,null,null,0,null,null,null,null,null,null,null,null,null,null,null,null,null,null,null,null,null,0,null,-1,-1,0,null,0,null,0,null,0,0,0,0,0,0,0,0,-1,null,null,0,0,0,0,0,0,0,0,-1,null,null,0,0,0]
[null,null,null,null,null,null,null,null,null,null,null,null,null,null,null,null,null,null,null,null,null,null,null,null,null,null,null,null,null,null,null,0,null,null,null,null,null,null,null,null,null,null,null,null,null,null,null,null,null,0,null,-1,-1,0,null,0,null,0,null,0,0,0,0,0,0,0,0,-1,null,null,0,0,0,0,0,0,0,0,-1,null,null,0,0,0]
[null,null,null,null,null,null,null,null,null,null,null,null,null,null,null,null,null,null,null,null,null,null,null,null,null,null,null,null,null,null,null,0,null,null,null,null,null,null,null,null,null,null,null,null,null,null,null,null,null,0,null,-1,-1,0,null,0,null,0,null,0,0,0,0,0,0,0,0,-1,null,null,0,0,0,0,0,0,0,0,-1,null,null,0,0,0]
[null,null,null,null,null,null,null,null,null,null,null,null,null,null,null,null,null,null,null,null,null,null,null,null,null,null,null,null,null,null,null,0,null,null,null,null,null,null,null,null,null,null,null,null,null,null,null,null,null,0,null,-1,-1,0,null,0,null,0,null,0,0,0,0,0,0,0,0,-1,null,null,0,0,0,0,0,0,0,0,-1,null,null,0,0,0]
[null,null,null,null,null,null,null,null,null,null,null,null,null,null,null,null,null,null,null,null,null,null,null,null,null,null,null,null,null,null,null,0,null,null,null,null,null,null,null,null,null,null,null,null,null,null,null,null,null,0,null,-1,-1,0,null,0,null,0,null,0,0,0,0,0,0,0,0,-1,null,null,0,0,0,0,0,0,0,0,-1,null,null,0,0,0]
[null,null,null,null,null,null,null,null,null,null,null,null,null,null,null,null,null,null,null,null,null,null,null,null,null,null,null,null,null,null,null,0,null,null,null,null,null,null,null,null,null,null,null,null,null,null,null,null,null,0,null,-1,-1,0,null,0,null,0,null,0,0,0,0,0,0,0,0,-1,null,null,0,0,0,0,0,0,0,0,-1,null,null,0,0,0]
[null,null,null,null,null,null,null,null,null,null,null,null,null,null,null,null,null,null,null,null,null,null,null,null,null,null,null,null,null,null,null,0,null,null,null,null,null,null,null,null,null,null,null,null,null,null,null,null,null,0,null,-1,-1,0,null,0,null,0,null,0,0,0,0,0,0,0,0,-1,null,null,0,0,0,0,0,0,0,0,-1,null,null,0,0,0]
[null,null,null,null,null,null,null,null,null,null,null,null,null,null,null,null,null,null,null,null,null,null,null,null,null,null,null,null,null,null,null,0,null,null,null,null,null,null,null,null,null,null,null,null,null,null,null,null,null,0,null,-1,-1,0,null,0,null,0,null,0,0,0,0,0,0,0,0,-1,null,null,0,0,0,0,0,0,0,0,-1,null,null,0,0,0]
[null,null,null,null,null,null,null,null,null,null,null,null,null,null,null,null,null,null,null,null,null,null,null,null,null,null,null,null,null,null,null,0,null,null,null,null,null,null,null,null,null,null,null,null,null,null,null,null,null,0,null,-1,-1,0,null,0,null,0,null,0,0,0,0,0,0,0,0,-1,null,null,0,0,0,0,0,0,0,0,-1,null,null,0,0,0]
[null,null,null,null,null,null,null,null,null,null,null,null,null,null,null,null,null,null,null,null,null,null,null,null,null,null,null,null,null,null,null,0,null,null,null,null,null,null,null,null,null,null,null,null,null,null,null,null,null,0,null,-1,-1,0,null,0,null,0,null,0,0,0,0,0,0,0,0,-1,null,null,0,0,0,0,0,0,0,0,-1,null,null,0,0,0]
[null,null,null,null,null,null,null,null,null,null,null,null,null,null,null,null,null,null,null,null,null,null,null,null,null,null,null,null,null,null,null,0,null,null,null,null,null,null,null,null,null,null,null,null,null,null,null,null,null,0,null,-1,-1,0,null,0,null,0,null,0,0,0,0,0,0,0,0,-1,null,null,0,0,0,0,0,0,0,0,-1,null,null,0,0,0]
[null,null,null,null,null,null,null,null,null,null,null,null,null,null,null,null,null,null,null,null,null,null,null,null,null,null,null,null,null,null,null,0,null,null,null,null,null,null,null,null,null,null,null,null,null,null,null,null,null,0,null,-1,-1,0,null,0,null,0,null,0,0,0,0,0,0,0,0,-1,null,null,0,0,0,0,0,0,0,0,-1,null,null,0,0,0]
[null,null,null,null,null,null,null,null,null,null,null,null,null,null,null,null,null,null,null,null,null,null,null,null,null,null,null,null,null,null,null,0,null,null,null,null,null,null,null,null,null,null,null,null,null,null,null,null,null,0,null,-1,-1,0,null,0,null,0,null,0,0,0,0,0,0,0,0,-1,null,null,0,0,0,0,0,0,0,0,-1,null,null,0,0,0]
[null,null,null,null,null,null,null,null,null,null,null,null,null,null,null,null,null,null,null,null,null,null,null,null,null,null,null,null,null,null,null,0,null,null,null,null,null,null,null,null,null,null,null,null,null,null,null,null,null,0,null,-1,-1,0,null,0,null,0,null,0,0,0,0,0,0,0,0,-1,null,null,0,0,0,0,0,0,0,0,-1,null,null,0,0,0]
[null,null,null,null,null,null,null,null,null,null,null,null,null,null,null,null,null,null,null,null,null,null,null,null,null,null,null,null,null,null,null,0,null,null,null,null,null,null,null,null,null,null,null,null,null,null,null,null,null,0,null,-1,-1,0,null,0,null,0,null,0,0,0,0,0,0,0,0,-1,null,null,0,0,0,0,0,0,0,0,-1,null,null,0,0,0]
[null,null,null,null,null,null,null,null,null,null,null,null,null,null,null,null,null,null,null,null,null,null,null,null,null,null,null,null,null,null,null,0,null,null,null,null,null,null,null,null,null,null,null,null,null,null,null,null,null,0,null,-1,-1,0,null,0,null,0,null,0,0,0,0,0,0,0,0,-1,null,null,0,0,0,0,0,0,0,0,-1,null,null,0,0,0]
[null,null,null,null,null,null,null,null,null,null,null,null,null,null,null,null,null,null,null,null,null,null,null,null,null,null,null,null,null,null,null,0,null,null,null,null,null,null,null,null,null,null,null,null,null,null,null,null,null,0,null,-1,-1,0,null,0,null,0,null,0,0,0,0,0,0,0,0,-1,null,null,0,0,0,0,0,0,0,0,-1,null,null,0,0,0]
[null,null,null,null,null,null,null,null,null,null,null,null,null,null,null,null,null,null,null,null,null,null,null,null,null,null,null,null,null,null,null,0,null,null,null,null,null,null,null,null,null,null,null,null,null,null,null,null,null,0,null,-1,-1,0,null,0,null,0,null,0,0,0,0,0,0,0,0,-1,null,null,0,0,0,0,0,0,0,0,-1,null,null,0,0,0]
[null,null,null,null,null,null,null,null,null,null,null,null,null,null,null,null,null,null,null,null,null,null,null,null,null,null,null,null,null,null,null,0,null,null,null,null,null,null,null,null,null,null,null,null,null,null,null,null,null,0,null,-1,-1,0,null,0,null,0,null,0,0,0,0,0,0,0,0,-1,null,null,0,0,0,0,0,0,0,0,-1,null,null,0,0,0]
[null,null,null,null,null,null,null,null,null,null,null,null,null,null,null,null,null,null,null,null,null,null,null,null,null,null,null,null,null,null,null,0,null,null,null,null,null,null,null,null,null,null,null,null,null,null,null,null,null,0,null,-1,-1,0,null,0,null,0,null,0,0,0,0,0,0,0,0,-1,null,null,0,0,0,0,0,0,0,0,-1,null,null,0,0,0]
[null,null,null,null,null,null,null,null,null,null,null,null,null,null,null,null,null,null,null,null,null,null,null,null,null,null,null,null,null,null,null,0,null,null,null,null,null,null,null,null,null,null,null,null,null,null,null,null,null,0,null,-1,-1,0,null,0,null,0,null,0,0,0,0,0,0,0,0,-1,null,null,0,0,0,0,0,0,0,0,-1,null,null,0,0,0]
[null,null,null,null,null,null,null,null,null,null,null,null,null,null,null,null,null,null,null,null,null,null,null,null,null,null,null,null,null,null,null,0,null,null,null,null,null,null,null,null,null,null,null,null,null,null,null,null,null,0,null,-1,-1,0,null,0,null,0,null,0,0,0,0,0,0,0,0,-1,null,null,0,0,0,0,0,0,0,0,-1,null,null,0,0,0]
[null,null,null,null,null,null,null,null,null,null,null,null,null,null,null,null,null,null,null,null,null,null,null,null,null,null,null,null,null,null,null,0,null,null,null,null,null,null,null,null,null,null,null,null,null,null,null,null,null,0,null,-1,-1,0,null,0,null,0,null,0,0,0,0,0,0,0,0,-1,null,null,0,0,0,0,0,0,0,0,-1,null,null,0,0,0]
[null,null,null,null,null,null,null,null,null,null,null,null,null,null,null,null,null,null,null,null,null,null,null,null,null,null,null,null,null,null,null,0,null,null,null,null,null,null,null,null,null,null,null,null,null,null,null,null,null,0,null,-1,-1,0,null,0,null,0,null,0,0,0,0,0,0,0,0,-1,null,null,0,0,0,0,0,0,0,0,-1,null,null,0,0,0]
[null,null,null,null,null,null,null,null,null,null,null,null,null,null,null,null,null,null,null,null,null,null,null,null,null,null,null,null,null,null,null,0,null,null,null,null,null,null,null,null,null,null,null,null,null,null,null,null,null,0,null,-1,-1,0,null,0,null,0,null,0,0,0,0,0,0,0,0,-1,null,null,0,0,0,0,0,0,0,0,-1,null,null,0,0,0]
[null,null,null,null,null,null,null,null,null,null,null,null,null,null,null,null,null,null,null,null,null,null,null,null,null,null,null,null,null,null,null,0,null,null,null,null,null,null,null,null,null,null,null,null,null,null,null,null,null,0,null,-1,-1,0,null,0,null,0,null,0,0,0,0,0,0,0,0,-1,null,null,0,0,0,0,0,0,0,0,-1,null,null,0,0,0]
[null,null,null,null,null,null,null,null,null,null,null,null,null,null,null,null,null,null,null,null,null,null,null,null,null,null,null,null,null,null,null,0,null,null,null,null,null,null,null,null,null,null,null,null,null,null,null,null,null,0,null,-1,-1,0,null,0,null,0,null,0,0,0,0,0,0,0,0,-1,null,null,0,0,0,0,0,0,0,0,-1,null,null,0,0,0]
[null,null,null,null,null,null,null,null,null,null,null,null,null,null,null,null,null,null,null,null,null,null,null,null,null,null,null,null,null,null,null,0,null,null,null,null,null,null,null,null,null,null,null,null,null,null,null,null,null,0,null,-1,-1,0,null,0,null,0,null,0,0,0,0,0,0,0,0,-1,null,null,0,0,0,0,0,0,0,0,-1,null,null,0,0,0]
[null,null,null,null,null,null,null,null,null,null,null,null,null,null,null,null,null,null,null,null,null,null,null,null,null,null,null,null,null,null,null,0,null,null,null,null,null,null,null,null,null,null,null,null,null,null,null,null,null,0,null,-1,-1,0,null,0,null,0,null,0,0,0,0,0,0,0,0,-1,null,null,0,0,0,0,0,0,0,0,-1,null,null,0,0,0]
[null,null,null,null,null,null,null,null,null,null,null,null,null,null,null,null,null,null,null,null,null,null,null,null,null,null,null,null,null,null,null,0,null,null,null,null,null,null,null,null,null,null,null,null,null,null,null,null,null,0,null,-1,-1,0,null,0,null,0,null,0,0,0,0,0,0,0,0,-1,null,null,0,0,0,0,0,0,0,0,-1,null,null,0,0,0]
[null,null,null,null,null,null,null,null,null,null,null,null,null,null,null,null,null,null,null,null,null,null,null,null,null,null,null,null,null,null,null,0,null,null,null,null,null,null,null,null,null,null,null,null,null,null,null,null,null,0,null,-1,-1,0,null,0,null,0,null,0,0,0,0,0,0,0,0,-1,null,null,0,0,0,0,0,0,0,0,-1,null,null,0,0,0]
[null,null,null,null,null,null,null,null,null,null,null,null,null,null,null,null,null,null,null,null,null,null,null,null,null,null,null,null,null,null,null,0,null,null,null,null,null,null,null,null,null,null,null,null,null,null,null,null,null,0,null,-1,-1,0,null,0,null,0,null,0,0,0,0,0,0,0,0,-1,null,null,0,0,0,0,0,0,0,0,-1,null,null,0,0,0]
[null,null,null,null,null,null,null,null,null,null,null,null,null,null,null,null,null,null,null,null,null,null,null,null,null,null,null,null,null,null,null,0,null,null,null,null,null,null,null,null,null,null,null,null,null,null,null,null,null,0,null,-1,-1,0,null,0,null,0,null,0,0,0,0,0,0,0,0,-1,null,null,0,0,0,0,0,0,0,0,-1,null,null,0,0,0]
[null,null,null,null,null,null,null,null,null,null,null,null,null,null,null,null,null,null,null,null,null,null,null,null,null,null,null,null,null,null,null,0,null,null,null,null,null,null,null,null,null,null,null,null,null,null,null,null,null,0,null,-1,-1,0,null,0,null,0,null,0,0,0,0,0,0,0,0,-1,null,null,0,0,0,0,0,0,0,0,-1,null,null,0,0,0]
[null,null,null,null,null,null,null,null,null,null,null,null,null,null,null,null,null,null,null,null,null,null,null,null,null,null,null,null,null,null,null,0,null,null,null,null,null,null,null,null,null,null,null,null,null,null,null,null,null,0,null,-1,-1,0,null,0,null,0,null,0,0,0,0,0,0,0,0,-1,null,null,0,0,0,0,0,0,0,0,-1,null,null,0,0,0]
[null,null,null,null,null,null,null,null,null,null,null,null,null,null,null,null,null,null,null,null,null,null,null,null,null,null,null,null,null,null,null,0,null,null,null,null,null,null,null,null,null,null,null,null,null,null,null,null,null,0,null,-1,-1,0,null,0,null,0,null,0,0,0,0,0,0,0,0,-1,null,null,0,0,0,0,0,0,0,0,-1,null,null,0,0,0]
[null,null,null,null,null,null,null,null,null,null,null,null,null,null,null,null,null,null,null,null,null,null,null,null,null,null,null,null,null,null,null,0,null,null,null,null,null,null,null,null,null,null,null,null,null,null,null,null,null,0,null,-1,-1,0,null,0,null,0,null,0,0,0,0,0,0,0,0,-1,null,null,0,0,0,0,0,0,0,0,-1,null,null,0,0,0]
[null,null,null,null,null,null,null,null,null,null,null,null,null,null,null,null,null,null,null,null,null,null,null,null,null,null,null,null,null,null,null,0,null,null,null,null,null,null,null,null,null,null,null,null,null,null,null,null,null,0,null,-1,-1,0,null,0,null,0,null,0,0,0,0,0,0,0,0,-1,null,null,0,0,0,0,0,0,0,0,-1,null,null,0,0,0]
[null,null,null,null,null,null,null,null,null,null,null,null,null,null,null,null,null,null,null,null,null,null,null,null,null,null,null,null,null,null,null,0,null,null,null,null,null,null,null,null,null,null,null,null,null,null,null,null,null,0,null,-1,-1,0,null,0,null,0,null,0,0,0,0,0,0,0,0,-1,null,null,0,0,0,0,0,0,0,0,-1,null,null,0,0,0]
[null,null,null,null,null,null,null,null,null,null,null,null,null,null,null,null,null,null,null,null,null,null,null,null,null,null,null,null,null,null,null,0,null,null,null,null,null,null,null,null,null,null,null,null,null,null,null,null,null,0,null,-1,-1,0,null,0,null,0,null,0,0,0,0,0,0,0,0,-1,null,null,0,0,0,0,0,0,0,0,-1,null,null,0,0,0]
[null,null,null,null,null,null,null,null,null,null,null,null,null,null,null,null,null,null,null,null,null,null,null,null,null,null,null,null,null,null,null,0,null,null,null,null,null,null,null,null,null,null,null,null,null,null,null,null,null,0,null,-1,-1,0,null,0,null,0,null,0,0,0,0,0,0,0,0,-1,null,null,0,0,0,0,0,0,0,0,-1,null,null,0,0,0]
[null,null,null,null,null,null,null,null,null,null,null,null,null,null,null,null,null,null,null,null,null,null,null,null,null,null,null,null,null,null,null,0,null,null,null,null,null,null,null,null,null,null,null,null,null,null,null,null,null,0,null,-1,-1,0,null,0,null,0,null,0,0,0,0,0,0,0,0,-1,null,null,0,0,0,0,0,0,0,0,-1,null,null,0,0,0]
[null,null,null,null,null,null,null,null,null,null,null,null,null,null,null,null,null,null,null,null,null,null,null,null,null,null,null,null,null,null,null,0,null,null,null,null,null,null,null,null,null,null,null,null,null,null,null,null,null,0,null,-1,-1,0,null,0,null,0,null,0,0,0,0,0,0,0,0,-1,null,null,0,0,0,0,0,0,0,0,-1,null,null,0,0,0]
[null,null,null,null,null,null,null,null,null,null,null,null,null,null,null,null,null,null,null,null,null,null,null,null,null,null,null,null,null,null,null,0,null,null,null,null,null,null,null,null,null,null,null,null,null,null,null,null,null,0,null,-1,-1,0,null,0,null,0,null,0,0,0,0,0,0,0,0,-1,null,null,0,0,0,0,0,0,0,0,-1,null,null,0,0,0]
[null,null,null,null,null,null,null,null,null,null,null,null,null,null,null,null,null,null,null,null,null,null,null,null,null,null,null,null,null,null,null,0,null,null,null,null,null,null,null,null,null,null,null,null,null,null,null,null,null,0,null,-1,-1,0,null,0,null,0,null,0,0,0,0,0,0,0,0,-1,null,null,0,0,0,0,0,0,0,0,-1,null,null,0,0,0]
[null,null,null,null,null,null,null,null,null,null,null,null,null,null,null,null,null,null,null,null,null,null,null,null,null,null,null,null,null,null,null,0,null,null,null,null,null,null,null,null,null,null,null,null,null,null,null,null,null,0,null,-1,-1,0,null,0,null,0,null,0,0,0,0,0,0,0,0,-1,null,null,0,0,0,0,0,0,0,0,-1,null,null,0,0,0]
[null,null,null,null,null,null,null,null,null,null,null,null,null,null,null,null,null,null,null,null,null,null,null,null,null,null,null,null,null,null,null,0,null,null,null,null,null,null,null,null,null,null,null,null,null,null,null,null,null,0,null,-1,-1,0,null,0,null,0,null,0,0,0,0,0,0,0,0,-1,null,null,0,0,0,0,0,0,0,0,-1,null,null,0,0,0]
[null,null,null,null,null,null,null,null,null,null,null,null,null,null,null,null,null,null,null,null,null,null,null,null,null,null,null,null,null,null,null,0,null,null,null,null,null,null,null,null,null,null,null,null,null,null,null,null,null,0,null,-1,-1,0,null,0,null,0,null,0,0,0,0,0,0,0,0,-1,null,null,0,0,0,0,0,0,0,0,-1,null,null,0,0,0]
[null,null,null,null,null,null,null,null,null,null,null,null,null,null,null,null,null,null,null,null,null,null,null,null,null,null,null,null,null,null,null,0,null,null,null,null,null,null,null,null,null,null,null,null,null,null,null,null,null,0,null,-1,-1,0,null,0,null,0,null,0,0,0,0,0,0,0,0,-1,null,null,0,0,0,0,0,0,0,0,-1,null,null,0,0,0]
[null,null,null,null,null,null,null,null,null,null,null,null,null,null,null,null,null,null,null,null,null,null,null,null,null,null,null,null,null,null,null,0,null,null,null,null,null,null,null,null,null,null,null,null,null,null,null,null,null,0,null,-1,-1,0,null,0,null,0,null,0,0,0,0,0,0,0,0,-1,null,null,0,0,0,0,0,0,0,0,-1,null,null,0,0,0]
[null,null,null,null,null,null,null,null,null,null,null,null,null,null,null,null,null,null,null,null,null,null,null,null,null,null,null,null,null,null,null,0,null,null,null,null,null,null,null,null,null,null,null,null,null,null,null,null,null,0,null,-1,-1,0,null,0,null,0,null,0,0,0,0,0,0,0,0,-1,null,null,0,0,0,0,0,0,0,0,-1,null,null,0,0,0]
[null,null,null,null,null,null,null,null,null,null,null,null,null,null,null,null,null,null,null,null,null,null,null,null,null,null,null,null,null,null,null,0,null,null,null,null,null,null,null,null,null,null,null,null,null,null,null,null,null,0,null,-1,-1,0,null,0,null,0,null,0,0,0,0,0,0,0,0,-1,null,null,0,0,0,0,0,0,0,0,-1,null,null,0,0,0]
[null,null,null,null,null,null,null,null,null,null,null,null,null,null,null,null,null,null,null,null,null,null,null,null,null,null,null,null,null,null,null,0,null,null,null,null,null,null,null,null,null,null,null,null,null,null,null,null,null,0,null,-1,-1,0,null,0,null,0,null,0,0,0,0,0,0,0,0,-1,null,null,0,0,0,0,0,0,0,0,-1,null,null,0,0,0]
[null,null,null,null,null,null,null,null,null,null,null,null,null,null,null,null,null,null,null,null,null,null,null,null,null,null,null,null,null,null,null,0,null,null,null,null,null,null,null,null,null,null,null,null,null,null,null,null,null,0,null,-1,-1,0,null,0,null,0,null,0,0,0,0,0,0,0,0,-1,null,null,0,0,0,0,0,0,0,0,-1,null,null,0,0,0]
[null,null,null,null,null,null,null,null,null,null,null,null,null,null,null,null,null,null,null,null,null,null,null,null,null,null,null,null,null,null,null,0,null,null,null,null,null,null,null,null,null,null,null,null,null,null,null,null,null,0,null,-1,-1,0,null,0,null,0,null,0,0,0,0,0,0,0,0,-1,null,null,0,0,0,0,0,0,0,0,-1,null,null,0,0,0]
[null,null,null,null,null,null,null,null,null,null,null,null,null,null,null,null,null,null,null,null,null,null,null,null,null,null,null,null,null,null,null,0,null,null,null,null,null,null,null,null,null,null,null,null,null,null,null,null,null,0,null,-1,-1,0,null,0,null,0,null,0,0,0,0,0,0,0,0,-1,null,null,0,0,0,0,0,0,0,0,-1,null,null,0,0,0]
[null,null,null,null,null,null,null,null,null,null,null,null,null,null,null,null,null,null,null,null,null,null,null,null,null,null,null,null,null,null,null,0,null,null,null,null,null,null,null,null,null,null,null,null,null,null,null,null,null,0,null,{"$f":"COUNTA(AJ568:AU568)-1","v":-1},{"$f":"COUNTA(R568:AC568)-1","v":-1},0,null,{"$f":"((H568/1000)*(L568/1000))*D568","v":0},null,{"$f":"(((H568+L568)*2)/1000)*D568","v":0},null,{"$f":"IF(P568,1,0)","v":0},{"$f":"IF(R568,1,0)","v":0},{"$f":"IF(T568,1,0)","v":0},{"$f":"IF(V568,1,0)","v":0},{"$f":"IF(X568,1,0)","v":0},{"$f":"IF(Z568,1,0)","v":0},{"$f":"IF(AB568,1,0)","v":0},{"$f":"IF(AD568,1,0)","v":0},-1,null,null,{"$f":"IF(AH568,1,0)","v":0},{"$f":"IF(AJ568,1,0)","v":0},{"$f":"IF(AL568,1,0)","v":0},{"$f":"IF(AN568,1,0)","v":0},{"$f":"IF(AP568,1,0)","v":0},{"$f":"IF(AR568,1,0)","v":0},{"$f":"IF(AT568,1,0)","v":0},{"$f":"IF(AV568,1,0)","v":0},-1,null,null,{"$f":"(CA568*BP568)*D568","v":0},{"$f":"SUM(P568:AE568)","v":0},{"$f":"SUM(AH568:AW568)","v":0}]
[null,null,null,null,null,null,null,null,null,null,null,null,null,null,null,null,null,null,null,null,null,null,null,null,null,null,null,null,null,null,null,{"$f":"COUNT(P569,AD569)+IF(BA569>0,BA569)","v":0},null,null,null,null,null,null,null,null,null,null,null,null,null,null,null,null,null,{"$f":"COUNT(AH569,AV569)+IF(AZ569>0,AZ569)","v":0},null,-1,-1,{"$f":"D569*(AF569*AX569)","v":0},null,0,null,0,null,0,0,0,0,0,0,0,0,{"$f":"SUM(BH569:BO569)-1","v":-1},null,null,0,0,0,0,0,0,0,0,{"$f":"SUM(BS569:BZ569)-1","v":-1},null,null,0,0,0]
[null,null,null,null,null,null,null,null,null,null,null,null,null,null,null,null,null,null,null,null,null,null,null,null,null,null,null,null,null,null,null,0,null,null,null,null,null,null,null,null,null,null,null,null,null,null,null,null,null,0,null,-1,-1,0,null,0,null,0,null,0,0,0,0,0,0,0,0,-1,null,null,0,0,0,0,0,0,0,0,-1,null,null,0,0,0]
[null,null,null,null,null,null,null,null,null,null,null,null,null,null,null,null,null,null,null,null,null,null,null,null,null,null,null,null,null,null,null,0,null,null,null,null,null,null,null,null,null,null,null,null,null,null,null,null,null,0,null,-1,-1,0,null,0,null,0,null,0,0,0,0,0,0,0,0,-1,null,null,0,0,0,0,0,0,0,0,-1,null,null,0,0,0]
[null,null,null,null,null,null,null,null,null,null,null,null,null,null,null,null,null,null,null,null,null,null,null,null,null,null,null,null,null,null,null,0,null,null,null,null,null,null,null,null,null,null,null,null,null,null,null,null,null,0,null,-1,-1,0,null,0,null,0,null,0,0,0,0,0,0,0,0,-1,null,null,0,0,0,0,0,0,0,0,-1,null,null,0,0,0]
[null,null,null,null,null,null,null,null,null,null,null,null,null,null,null,null,null,null,null,null,null,null,null,null,null,null,null,null,null,null,null,0,null,null,null,null,null,null,null,null,null,null,null,null,null,null,null,null,null,0,null,-1,-1,0,null,0,null,0,null,0,0,0,0,0,0,0,0,-1,null,null,0,0,0,0,0,0,0,0,-1,null,null,0,0,0]
[null,null,null,null,null,null,null,null,null,null,null,null,null,null,null,null,null,null,null,null,null,null,null,null,null,null,null,null,null,null,null,0,null,null,null,null,null,null,null,null,null,null,null,null,null,null,null,null,null,0,null,-1,-1,0,null,0,null,0,null,0,0,0,0,0,0,0,0,-1,null,null,0,0,0,0,0,0,0,0,-1,null,null,0,0,0]
[null,null,null,null,null,null,null,null,null,null,null,null,null,null,null,null,null,null,null,null,null,null,null,null,null,null,null,null,null,null,null,0,null,null,null,null,null,null,null,null,null,null,null,null,null,null,null,null,null,0,null,-1,-1,0,null,0,null,0,null,0,0,0,0,0,0,0,0,-1,null,null,0,0,0,0,0,0,0,0,-1,null,null,0,0,0]
[null,null,null,null,null,null,null,null,null,null,null,null,null,null,null,null,null,null,null,null,null,null,null,null,null,null,null,null,null,null,null,0,null,null,null,null,null,null,null,null,null,null,null,null,null,null,null,null,null,0,null,-1,-1,0,null,0,null,0,null,0,0,0,0,0,0,0,0,-1,null,null,0,0,0,0,0,0,0,0,-1,null,null,0,0,0]
[null,null,null,null,null,null,null,null,null,null,null,null,null,null,null,null,null,null,null,null,null,null,null,null,null,null,null,null,null,null,null,0,null,null,null,null,null,null,null,null,null,null,null,null,null,null,null,null,null,0,null,-1,-1,0,null,0,null,0,null,0,0,0,0,0,0,0,0,-1,null,null,0,0,0,0,0,0,0,0,-1,null,null,0,0,0]
[null,null,null,null,null,null,null,null,null,null,null,null,null,null,null,null,null,null,null,null,null,null,null,null,null,null,null,null,null,null,null,0,null,null,null,null,null,null,null,null,null,null,null,null,null,null,null,null,null,0,null,-1,-1,0,null,0,null,0,null,0,0,0,0,0,0,0,0,-1,null,null,0,0,0,0,0,0,0,0,-1,null,null,0,0,0]
[null,null,null,null,null,null,null,null,null,null,null,null,null,null,null,null,null,null,null,null,null,null,null,null,null,null,null,null,null,null,null,0,null,null,null,null,null,null,null,null,null,null,null,null,null,null,null,null,null,0,null,-1,-1,0,null,0,null,0,null,0,0,0,0,0,0,0,0,-1,null,null,0,0,0,0,0,0,0,0,-1,null,null,0,0,0]
[null,null,null,null,null,null,null,null,null,null,null,null,null,null,null,null,null,null,null,null,null,null,null,null,null,null,null,null,null,null,null,0,null,null,null,null,null,null,null,null,null,null,null,null,null,null,null,null,null,0,null,-1,-1,0,null,0,null,0,null,0,0,0,0,0,0,0,0,-1,null,null,0,0,0,0,0,0,0,0,-1,null,null,0,0,0]
[null,null,null,null,null,null,null,null,null,null,null,null,null,null,null,null,null,null,null,null,null,null,null,null,null,null,null,null,null,null,null,null,null,null,null,null,null,null,null,null,null,null,null,null,null,null,null,null,null,null,null,null,null,{"$f":"SUM(BB56:BB580)","v":0},null,{"$f":"SUM(BD56:BD580)","v":0},{"$f":"SUM(BE56:BE580)","v":0},0,0,0,0,0,0,0,0,0,0,-525,0,0,0,0,0,0,0,0,0,0,-525,0,0,0,0,0,0,0,0,0]

{"sheet":"Schelling","index":2,"n_rows":119,"n_cols":13,"rows_kept":119,"cut":false,"hidden":true,"merged":[]}
["Pos.","Stk.","Länge X mm","Breite Y mm","Material","Dicke mm","Kunde Zeile 1","Kunde Zeile 2","Kunde Zeile 3","Objekt","Lieferort","Lieferort","Lieferdatum \n(Wunsch)"]
[{"$f":"Stückliste!A56","v":0},{"$f":"Stückliste!D56","v":0},{"$f":"Stückliste!H56","v":0},{"$f":"Stückliste!L56","v":0},{"$f":"Stückliste!Y22","v":0},{"$f":"Stückliste!AQ22","v":8},{"$f":"Stückliste!D5","v":0},{"$f":"Stückliste!D9","v":0},{"$f":"Stückliste!D11","v":0},{"$f":"Stückliste!AC11","v":0},{"$f":"Stückliste!AF11","v":0},{"$f":"Stückliste!AC13","v":0},{"$f":"Stückliste!AG17","v":"00:00:00"}]
[{"$f":"Stückliste!A57","v":0},{"$f":"Stückliste!D57","v":0},{"$f":"Stückliste!H57","v":0},{"$f":"Stückliste!L57","v":0},{"$f":"E2","v":0},8,0,0,0,0,0,0,{"$f":"M2","v":"00:00:00"}]
[{"$f":"Stückliste!A58","v":0},{"$f":"Stückliste!D58","v":0},{"$f":"Stückliste!H58","v":0},{"$f":"Stückliste!L58","v":0},{"$f":"E3","v":0},{"$f":"F3","v":8},{"$f":"G3","v":0},{"$f":"H3","v":0},{"$f":"I3","v":0},{"$f":"J3","v":0},{"$f":"K3","v":0},{"$f":"L3","v":0},{"$f":"M3","v":"00:00:00"}]
[{"$f":"Stückliste!A59","v":0},{"$f":"Stückliste!D59","v":0},{"$f":"Stückliste!H59","v":0},{"$f":"Stückliste!L59","v":0},0,8,0,0,0,0,0,0,"00:00:00"]
[{"$f":"Stückliste!A60","v":0},{"$f":"Stückliste!D60","v":0},{"$f":"Stückliste!H60","v":0},{"$f":"Stückliste!L60","v":0},0,8,0,0,0,0,0,0,"00:00:00"]
[{"$f":"Stückliste!A61","v":0},{"$f":"Stückliste!D61","v":0},{"$f":"Stückliste!H61","v":0},{"$f":"Stückliste!L61","v":0},0,8,0,0,0,0,0,0,"00:00:00"]
[{"$f":"Stückliste!A62","v":0},{"$f":"Stückliste!D62","v":0},{"$f":"Stückliste!H62","v":0},{"$f":"Stückliste!L62","v":0},0,8,0,0,0,0,0,0,"00:00:00"]
[{"$f":"Stückliste!A63","v":0},{"$f":"Stückliste!D63","v":0},{"$f":"Stückliste!H63","v":0},{"$f":"Stückliste!L63","v":0},0,8,0,0,0,0,0,0,"00:00:00"]
[{"$f":"Stückliste!A64","v":0},{"$f":"Stückliste!D64","v":0},{"$f":"Stückliste!H64","v":0},{"$f":"Stückliste!L64","v":0},0,8,0,0,0,0,0,0,"00:00:00"]
[{"$f":"Stückliste!A65","v":0},{"$f":"Stückliste!D65","v":0},{"$f":"Stückliste!H65","v":0},{"$f":"Stückliste!L65","v":0},0,8,0,0,0,0,0,0,"00:00:00"]
[{"$f":"Stückliste!A66","v":0},{"$f":"Stückliste!D66","v":0},{"$f":"Stückliste!H66","v":0},{"$f":"Stückliste!L66","v":0},0,8,0,0,0,0,0,0,"00:00:00"]
[{"$f":"Stückliste!A67","v":0},{"$f":"Stückliste!D67","v":0},{"$f":"Stückliste!H67","v":0},{"$f":"Stückliste!L67","v":0},0,8,0,0,0,0,0,0,"00:00:00"]
[{"$f":"Stückliste!A68","v":0},{"$f":"Stückliste!D68","v":0},{"$f":"Stückliste!H68","v":0},{"$f":"Stückliste!L68","v":0},0,8,0,0,0,0,0,0,"00:00:00"]
[{"$f":"Stückliste!A69","v":0},{"$f":"Stückliste!D69","v":0},{"$f":"Stückliste!H69","v":0},{"$f":"Stückliste!L69","v":0},0,8,0,0,0,0,0,0,"00:00:00"]
[{"$f":"Stückliste!A70","v":0},{"$f":"Stückliste!D70","v":0},{"$f":"Stückliste!H70","v":0},{"$f":"Stückliste!L70","v":0},0,8,0,0,0,0,0,0,"00:00:00"]
[{"$f":"Stückliste!A71","v":0},{"$f":"Stückliste!D71","v":0},{"$f":"Stückliste!H71","v":0},{"$f":"Stückliste!L71","v":0},0,8,0,0,0,0,0,0,"00:00:00"]
[{"$f":"Stückliste!A72","v":0},{"$f":"Stückliste!D72","v":0},{"$f":"Stückliste!H72","v":0},{"$f":"Stückliste!L72","v":0},0,8,0,0,0,0,0,0,"00:00:00"]
[{"$f":"Stückliste!A73","v":0},{"$f":"Stückliste!D73","v":0},{"$f":"Stückliste!H73","v":0},{"$f":"Stückliste!L73","v":0},0,8,0,0,0,0,0,0,"00:00:00"]
[{"$f":"Stückliste!A74","v":0},{"$f":"Stückliste!D74","v":0},{"$f":"Stückliste!H74","v":0},{"$f":"Stückliste!L74","v":0},0,8,0,0,0,0,0,0,"00:00:00"]
[{"$f":"Stückliste!A75","v":0},{"$f":"Stückliste!D75","v":0},{"$f":"Stückliste!H75","v":0},{"$f":"Stückliste!L75","v":0},0,8,0,0,0,0,0,0,"00:00:00"]
[{"$f":"Stückliste!A76","v":0},{"$f":"Stückliste!D76","v":0},{"$f":"Stückliste!H76","v":0},{"$f":"Stückliste!L76","v":0},0,8,0,0,0,0,0,0,"00:00:00"]
[{"$f":"Stückliste!A77","v":0},{"$f":"Stückliste!D77","v":0},{"$f":"Stückliste!H77","v":0},{"$f":"Stückliste!L77","v":0},0,8,0,0,0,0,0,0,"00:00:00"]
[{"$f":"Stückliste!A78","v":0},{"$f":"Stückliste!D78","v":0},{"$f":"Stückliste!H78","v":0},{"$f":"Stückliste!L78","v":0},0,8,0,0,0,0,0,0,"00:00:00"]
[{"$f":"Stückliste!A79","v":0},{"$f":"Stückliste!D79","v":0},{"$f":"Stückliste!H79","v":0},{"$f":"Stückliste!L79","v":0},0,8,0,0,0,0,0,0,"00:00:00"]
[{"$f":"Stückliste!A80","v":0},{"$f":"Stückliste!D80","v":0},{"$f":"Stückliste!H80","v":0},{"$f":"Stückliste!L80","v":0},0,8,0,0,0,0,0,0,"00:00:00"]
[{"$f":"Stückliste!A81","v":0},{"$f":"Stückliste!D81","v":0},{"$f":"Stückliste!H81","v":0},{"$f":"Stückliste!L81","v":0},0,8,0,0,0,0,0,0,"00:00:00"]
[{"$f":"Stückliste!A82","v":0},{"$f":"Stückliste!D82","v":0},{"$f":"Stückliste!H82","v":0},{"$f":"Stückliste!L82","v":0},0,8,0,0,0,0,0,0,"00:00:00"]
[{"$f":"Stückliste!A83","v":0},{"$f":"Stückliste!D83","v":0},{"$f":"Stückliste!H83","v":0},{"$f":"Stückliste!L83","v":0},0,8,0,0,0,0,0,0,"00:00:00"]
[{"$f":"Stückliste!A84","v":0},{"$f":"Stückliste!D84","v":0},{"$f":"Stückliste!H84","v":0},{"$f":"Stückliste!L84","v":0},0,8,0,0,0,0,0,0,"00:00:00"]
[{"$f":"Stückliste!A85","v":0},{"$f":"Stückliste!D85","v":0},{"$f":"Stückliste!H85","v":0},{"$f":"Stückliste!L85","v":0},0,8,0,0,0,0,0,0,"00:00:00"]
[{"$f":"Stückliste!A86","v":0},{"$f":"Stückliste!D86","v":0},{"$f":"Stückliste!H86","v":0},{"$f":"Stückliste!L86","v":0},0,8,0,0,0,0,0,0,"00:00:00"]
[{"$f":"Stückliste!A87","v":0},{"$f":"Stückliste!D87","v":0},{"$f":"Stückliste!H87","v":0},{"$f":"Stückliste!L87","v":0},0,8,0,0,0,0,0,0,"00:00:00"]
[{"$f":"Stückliste!A88","v":0},{"$f":"Stückliste!D88","v":0},{"$f":"Stückliste!H88","v":0},{"$f":"Stückliste!L88","v":0},0,8,0,0,0,0,0,0,"00:00:00"]
[{"$f":"Stückliste!A89","v":0},{"$f":"Stückliste!D89","v":0},{"$f":"Stückliste!H89","v":0},{"$f":"Stückliste!L89","v":0},0,8,0,0,0,0,0,0,"00:00:00"]
[{"$f":"Stückliste!#REF!","v":{"$error":"#REF!"}},{"$f":"Stückliste!#REF!","v":{"$error":"#REF!"}},{"$f":"Stückliste!#REF!","v":{"$error":"#REF!"}},{"$f":"Stückliste!#REF!","v":{"$error":"#REF!"}},0,8,0,0,0,0,0,0,"00:00:00"]
[{"$f":"Stückliste!#REF!","v":{"$error":"#REF!"}},{"$f":"Stückliste!#REF!","v":{"$error":"#REF!"}},{"$f":"Stückliste!#REF!","v":{"$error":"#REF!"}},{"$f":"Stückliste!#REF!","v":{"$error":"#REF!"}},0,8,0,0,0,0,0,0,"00:00:00"]
[{"$f":"Stückliste!#REF!","v":{"$error":"#REF!"}},{"$f":"Stückliste!#REF!","v":{"$error":"#REF!"}},{"$f":"Stückliste!#REF!","v":{"$error":"#REF!"}},{"$f":"Stückliste!#REF!","v":{"$error":"#REF!"}},0,8,0,0,0,0,0,0,"00:00:00"]
[{"$f":"Stückliste!#REF!","v":{"$error":"#REF!"}},{"$f":"Stückliste!#REF!","v":{"$error":"#REF!"}},{"$f":"Stückliste!#REF!","v":{"$error":"#REF!"}},{"$f":"Stückliste!#REF!","v":{"$error":"#REF!"}},0,8,0,0,0,0,0,0,"00:00:00"]
[{"$f":"Stückliste!#REF!","v":{"$error":"#REF!"}},{"$f":"Stückliste!#REF!","v":{"$error":"#REF!"}},{"$f":"Stückliste!#REF!","v":{"$error":"#REF!"}},{"$f":"Stückliste!#REF!","v":{"$error":"#REF!"}},0,8,0,0,0,0,0,0,"00:00:00"]
[{"$f":"Stückliste!#REF!","v":{"$error":"#REF!"}},{"$f":"Stückliste!#REF!","v":{"$error":"#REF!"}},{"$f":"Stückliste!#REF!","v":{"$error":"#REF!"}},{"$f":"Stückliste!#REF!","v":{"$error":"#REF!"}},0,8,0,0,0,0,0,0,"00:00:00"]
[{"$f":"Stückliste!#REF!","v":{"$error":"#REF!"}},{"$f":"Stückliste!#REF!","v":{"$error":"#REF!"}},{"$f":"Stückliste!#REF!","v":{"$error":"#REF!"}},{"$f":"Stückliste!#REF!","v":{"$error":"#REF!"}},0,8,0,0,0,0,0,0,"00:00:00"]
[{"$f":"Stückliste!#REF!","v":{"$error":"#REF!"}},{"$f":"Stückliste!#REF!","v":{"$error":"#REF!"}},{"$f":"Stückliste!#REF!","v":{"$error":"#REF!"}},{"$f":"Stückliste!#REF!","v":{"$error":"#REF!"}},0,8,0,0,0,0,0,0,"00:00:00"]
[{"$f":"Stückliste!#REF!","v":{"$error":"#REF!"}},{"$f":"Stückliste!#REF!","v":{"$error":"#REF!"}},{"$f":"Stückliste!#REF!","v":{"$error":"#REF!"}},{"$f":"Stückliste!#REF!","v":{"$error":"#REF!"}},0,8,0,0,0,0,0,0,"00:00:00"]
[{"$f":"Stückliste!#REF!","v":{"$error":"#REF!"}},{"$f":"Stückliste!#REF!","v":{"$error":"#REF!"}},{"$f":"Stückliste!#REF!","v":{"$error":"#REF!"}},{"$f":"Stückliste!#REF!","v":{"$error":"#REF!"}},0,8,0,0,0,0,0,0,"00:00:00"]
[{"$f":"Stückliste!#REF!","v":{"$error":"#REF!"}},{"$f":"Stückliste!#REF!","v":{"$error":"#REF!"}},{"$f":"Stückliste!#REF!","v":{"$error":"#REF!"}},{"$f":"Stückliste!#REF!","v":{"$error":"#REF!"}},0,8,0,0,0,0,0,0,"00:00:00"]
[{"$f":"Stückliste!#REF!","v":{"$error":"#REF!"}},{"$f":"Stückliste!#REF!","v":{"$error":"#REF!"}},{"$f":"Stückliste!#REF!","v":{"$error":"#REF!"}},{"$f":"Stückliste!#REF!","v":{"$error":"#REF!"}},0,8,0,0,0,0,0,0,"00:00:00"]
[{"$f":"Stückliste!#REF!","v":{"$error":"#REF!"}},{"$f":"Stückliste!#REF!","v":{"$error":"#REF!"}},{"$f":"Stückliste!#REF!","v":{"$error":"#REF!"}},{"$f":"Stückliste!#REF!","v":{"$error":"#REF!"}},0,8,0,0,0,0,0,0,"00:00:00"]
[{"$f":"Stückliste!#REF!","v":{"$error":"#REF!"}},{"$f":"Stückliste!#REF!","v":{"$error":"#REF!"}},{"$f":"Stückliste!#REF!","v":{"$error":"#REF!"}},{"$f":"Stückliste!#REF!","v":{"$error":"#REF!"}},0,8,0,0,0,0,0,0,"00:00:00"]
[{"$f":"Stückliste!#REF!","v":{"$error":"#REF!"}},{"$f":"Stückliste!#REF!","v":{"$error":"#REF!"}},{"$f":"Stückliste!#REF!","v":{"$error":"#REF!"}},{"$f":"Stückliste!#REF!","v":{"$error":"#REF!"}},0,8,0,0,0,0,0,0,"00:00:00"]
[{"$f":"Stückliste!#REF!","v":{"$error":"#REF!"}},{"$f":"Stückliste!#REF!","v":{"$error":"#REF!"}},{"$f":"Stückliste!#REF!","v":{"$error":"#REF!"}},{"$f":"Stückliste!#REF!","v":{"$error":"#REF!"}},0,8,0,0,0,0,0,0,"00:00:00"]
[{"$f":"Stückliste!#REF!","v":{"$error":"#REF!"}},{"$f":"Stückliste!#REF!","v":{"$error":"#REF!"}},{"$f":"Stückliste!#REF!","v":{"$error":"#REF!"}},{"$f":"Stückliste!#REF!","v":{"$error":"#REF!"}},0,8,0,0,0,0,0,0,"00:00:00"]
[{"$f":"Stückliste!#REF!","v":{"$error":"#REF!"}},{"$f":"Stückliste!#REF!","v":{"$error":"#REF!"}},{"$f":"Stückliste!#REF!","v":{"$error":"#REF!"}},{"$f":"Stückliste!#REF!","v":{"$error":"#REF!"}},0,8,0,0,0,0,0,0,"00:00:00"]
[{"$f":"Stückliste!#REF!","v":{"$error":"#REF!"}},{"$f":"Stückliste!#REF!","v":{"$error":"#REF!"}},{"$f":"Stückliste!#REF!","v":{"$error":"#REF!"}},{"$f":"Stückliste!#REF!","v":{"$error":"#REF!"}},0,8,0,0,0,0,0,0,"00:00:00"]
[{"$f":"Stückliste!#REF!","v":{"$error":"#REF!"}},{"$f":"Stückliste!#REF!","v":{"$error":"#REF!"}},{"$f":"Stückliste!#REF!","v":{"$error":"#REF!"}},{"$f":"Stückliste!#REF!","v":{"$error":"#REF!"}},0,8,0,0,0,0,0,0,"00:00:00"]
[{"$f":"Stückliste!#REF!","v":{"$error":"#REF!"}},{"$f":"Stückliste!#REF!","v":{"$error":"#REF!"}},{"$f":"Stückliste!#REF!","v":{"$error":"#REF!"}},{"$f":"Stückliste!#REF!","v":{"$error":"#REF!"}},0,8,0,0,0,0,0,0,"00:00:00"]
[{"$f":"Stückliste!#REF!","v":{"$error":"#REF!"}},{"$f":"Stückliste!#REF!","v":{"$error":"#REF!"}},{"$f":"Stückliste!#REF!","v":{"$error":"#REF!"}},{"$f":"Stückliste!#REF!","v":{"$error":"#REF!"}},0,8,0,0,0,0,0,0,"00:00:00"]
[{"$f":"Stückliste!#REF!","v":{"$error":"#REF!"}},{"$f":"Stückliste!#REF!","v":{"$error":"#REF!"}},{"$f":"Stückliste!#REF!","v":{"$error":"#REF!"}},{"$f":"Stückliste!#REF!","v":{"$error":"#REF!"}},0,8,0,0,0,0,0,0,"00:00:00"]
[{"$f":"Stückliste!#REF!","v":{"$error":"#REF!"}},{"$f":"Stückliste!#REF!","v":{"$error":"#REF!"}},{"$f":"Stückliste!#REF!","v":{"$error":"#REF!"}},{"$f":"Stückliste!#REF!","v":{"$error":"#REF!"}},0,8,0,0,0,0,0,0,"00:00:00"]
[{"$f":"Stückliste!#REF!","v":{"$error":"#REF!"}},{"$f":"Stückliste!#REF!","v":{"$error":"#REF!"}},{"$f":"Stückliste!#REF!","v":{"$error":"#REF!"}},{"$f":"Stückliste!#REF!","v":{"$error":"#REF!"}},0,8,0,0,0,0,0,0,"00:00:00"]
[{"$f":"Stückliste!#REF!","v":{"$error":"#REF!"}},{"$f":"Stückliste!#REF!","v":{"$error":"#REF!"}},{"$f":"Stückliste!#REF!","v":{"$error":"#REF!"}},{"$f":"Stückliste!#REF!","v":{"$error":"#REF!"}},0,8,0,0,0,0,0,0,"00:00:00"]
[{"$f":"Stückliste!#REF!","v":{"$error":"#REF!"}},{"$f":"Stückliste!#REF!","v":{"$error":"#REF!"}},{"$f":"Stückliste!#REF!","v":{"$error":"#REF!"}},{"$f":"Stückliste!#REF!","v":{"$error":"#REF!"}},0,8,0,0,0,0,0,0,"00:00:00"]
[{"$f":"Stückliste!#REF!","v":{"$error":"#REF!"}},{"$f":"Stückliste!#REF!","v":{"$error":"#REF!"}},{"$f":"Stückliste!#REF!","v":{"$error":"#REF!"}},{"$f":"Stückliste!#REF!","v":{"$error":"#REF!"}},0,8,0,0,0,0,0,0,"00:00:00"]
[{"$f":"Stückliste!#REF!","v":{"$error":"#REF!"}},{"$f":"Stückliste!#REF!","v":{"$error":"#REF!"}},{"$f":"Stückliste!#REF!","v":{"$error":"#REF!"}},{"$f":"Stückliste!#REF!","v":{"$error":"#REF!"}},0,8,0,0,0,0,0,0,"00:00:00"]
[{"$f":"Stückliste!#REF!","v":{"$error":"#REF!"}},{"$f":"Stückliste!#REF!","v":{"$error":"#REF!"}},{"$f":"Stückliste!#REF!","v":{"$error":"#REF!"}},{"$f":"Stückliste!#REF!","v":{"$error":"#REF!"}},0,8,0,0,0,0,0,0,"00:00:00"]
[{"$f":"Stückliste!#REF!","v":{"$error":"#REF!"}},{"$f":"Stückliste!#REF!","v":{"$error":"#REF!"}},{"$f":"Stückliste!#REF!","v":{"$error":"#REF!"}},{"$f":"Stückliste!#REF!","v":{"$error":"#REF!"}},0,8,0,0,0,0,0,0,"00:00:00"]
[{"$f":"Stückliste!#REF!","v":{"$error":"#REF!"}},{"$f":"Stückliste!#REF!","v":{"$error":"#REF!"}},{"$f":"Stückliste!#REF!","v":{"$error":"#REF!"}},{"$f":"Stückliste!#REF!","v":{"$error":"#REF!"}},0,8,0,0,0,0,0,0,"00:00:00"]
[{"$f":"Stückliste!#REF!","v":{"$error":"#REF!"}},{"$f":"Stückliste!#REF!","v":{"$error":"#REF!"}},{"$f":"Stückliste!#REF!","v":{"$error":"#REF!"}},{"$f":"Stückliste!#REF!","v":{"$error":"#REF!"}},{"$f":"E67","v":0},{"$f":"F67","v":8},{"$f":"G67","v":0},{"$f":"H67","v":0},{"$f":"I67","v":0},{"$f":"J67","v":0},{"$f":"K67","v":0},{"$f":"L67","v":0},{"$f":"M67","v":"00:00:00"}]
[{"$f":"Stückliste!#REF!","v":{"$error":"#REF!"}},{"$f":"Stückliste!#REF!","v":{"$error":"#REF!"}},{"$f":"Stückliste!#REF!","v":{"$error":"#REF!"}},{"$f":"Stückliste!#REF!","v":{"$error":"#REF!"}},0,8,0,0,0,0,0,0,"00:00:00"]
[{"$f":"Stückliste!#REF!","v":{"$error":"#REF!"}},{"$f":"Stückliste!#REF!","v":{"$error":"#REF!"}},{"$f":"Stückliste!#REF!","v":{"$error":"#REF!"}},{"$f":"Stückliste!#REF!","v":{"$error":"#REF!"}},0,8,0,0,0,0,0,0,"00:00:00"]
[{"$f":"Stückliste!#REF!","v":{"$error":"#REF!"}},{"$f":"Stückliste!#REF!","v":{"$error":"#REF!"}},{"$f":"Stückliste!#REF!","v":{"$error":"#REF!"}},{"$f":"Stückliste!#REF!","v":{"$error":"#REF!"}},0,8,0,0,0,0,0,0,"00:00:00"]
[{"$f":"Stückliste!#REF!","v":{"$error":"#REF!"}},{"$f":"Stückliste!#REF!","v":{"$error":"#REF!"}},{"$f":"Stückliste!#REF!","v":{"$error":"#REF!"}},{"$f":"Stückliste!#REF!","v":{"$error":"#REF!"}},0,8,0,0,0,0,0,0,"00:00:00"]
[{"$f":"Stückliste!#REF!","v":{"$error":"#REF!"}},{"$f":"Stückliste!#REF!","v":{"$error":"#REF!"}},{"$f":"Stückliste!#REF!","v":{"$error":"#REF!"}},{"$f":"Stückliste!#REF!","v":{"$error":"#REF!"}},0,8,0,0,0,0,0,0,"00:00:00"]
[{"$f":"Stückliste!#REF!","v":{"$error":"#REF!"}},{"$f":"Stückliste!#REF!","v":{"$error":"#REF!"}},{"$f":"Stückliste!#REF!","v":{"$error":"#REF!"}},{"$f":"Stückliste!#REF!","v":{"$error":"#REF!"}},0,8,0,0,0,0,0,0,"00:00:00"]
[{"$f":"Stückliste!#REF!","v":{"$error":"#REF!"}},{"$f":"Stückliste!#REF!","v":{"$error":"#REF!"}},{"$f":"Stückliste!#REF!","v":{"$error":"#REF!"}},{"$f":"Stückliste!#REF!","v":{"$error":"#REF!"}},0,8,0,0,0,0,0,0,"00:00:00"]
[{"$f":"Stückliste!#REF!","v":{"$error":"#REF!"}},{"$f":"Stückliste!#REF!","v":{"$error":"#REF!"}},{"$f":"Stückliste!#REF!","v":{"$error":"#REF!"}},{"$f":"Stückliste!#REF!","v":{"$error":"#REF!"}},0,8,0,0,0,0,0,0,"00:00:00"]
[{"$f":"Stückliste!#REF!","v":{"$error":"#REF!"}},{"$f":"Stückliste!#REF!","v":{"$error":"#REF!"}},{"$f":"Stückliste!#REF!","v":{"$error":"#REF!"}},{"$f":"Stückliste!#REF!","v":{"$error":"#REF!"}},0,8,0,0,0,0,0,0,"00:00:00"]
[{"$f":"Stückliste!#REF!","v":{"$error":"#REF!"}},{"$f":"Stückliste!#REF!","v":{"$error":"#REF!"}},{"$f":"Stückliste!#REF!","v":{"$error":"#REF!"}},{"$f":"Stückliste!#REF!","v":{"$error":"#REF!"}},0,8,0,0,0,0,0,0,"00:00:00"]
[{"$f":"Stückliste!#REF!","v":{"$error":"#REF!"}},{"$f":"Stückliste!#REF!","v":{"$error":"#REF!"}},{"$f":"Stückliste!#REF!","v":{"$error":"#REF!"}},{"$f":"Stückliste!#REF!","v":{"$error":"#REF!"}},0,8,0,0,0,0,0,0,"00:00:00"]
[{"$f":"Stückliste!#REF!","v":{"$error":"#REF!"}},{"$f":"Stückliste!#REF!","v":{"$error":"#REF!"}},{"$f":"Stückliste!#REF!","v":{"$error":"#REF!"}},{"$f":"Stückliste!#REF!","v":{"$error":"#REF!"}},0,8,0,0,0,0,0,0,"00:00:00"]
[{"$f":"Stückliste!#REF!","v":{"$error":"#REF!"}},{"$f":"Stückliste!#REF!","v":{"$error":"#REF!"}},{"$f":"Stückliste!#REF!","v":{"$error":"#REF!"}},{"$f":"Stückliste!#REF!","v":{"$error":"#REF!"}},0,8,0,0,0,0,0,0,"00:00:00"]
[{"$f":"Stückliste!#REF!","v":{"$error":"#REF!"}},{"$f":"Stückliste!#REF!","v":{"$error":"#REF!"}},{"$f":"Stückliste!#REF!","v":{"$error":"#REF!"}},{"$f":"Stückliste!#REF!","v":{"$error":"#REF!"}},0,8,0,0,0,0,0,0,"00:00:00"]
[{"$f":"Stückliste!#REF!","v":{"$error":"#REF!"}},{"$f":"Stückliste!#REF!","v":{"$error":"#REF!"}},{"$f":"Stückliste!#REF!","v":{"$error":"#REF!"}},{"$f":"Stückliste!#REF!","v":{"$error":"#REF!"}},0,8,0,0,0,0,0,0,"00:00:00"]
[{"$f":"Stückliste!#REF!","v":{"$error":"#REF!"}},{"$f":"Stückliste!#REF!","v":{"$error":"#REF!"}},{"$f":"Stückliste!#REF!","v":{"$error":"#REF!"}},{"$f":"Stückliste!#REF!","v":{"$error":"#REF!"}},0,8,0,0,0,0,0,0,"00:00:00"]
[{"$f":"Stückliste!#REF!","v":{"$error":"#REF!"}},{"$f":"Stückliste!#REF!","v":{"$error":"#REF!"}},{"$f":"Stückliste!#REF!","v":{"$error":"#REF!"}},{"$f":"Stückliste!#REF!","v":{"$error":"#REF!"}},0,8,0,0,0,0,0,0,"00:00:00"]
[{"$f":"Stückliste!#REF!","v":{"$error":"#REF!"}},{"$f":"Stückliste!#REF!","v":{"$error":"#REF!"}},{"$f":"Stückliste!#REF!","v":{"$error":"#REF!"}},{"$f":"Stückliste!#REF!","v":{"$error":"#REF!"}},0,8,0,0,0,0,0,0,"00:00:00"]
[{"$f":"Stückliste!#REF!","v":{"$error":"#REF!"}},{"$f":"Stückliste!#REF!","v":{"$error":"#REF!"}},{"$f":"Stückliste!#REF!","v":{"$error":"#REF!"}},{"$f":"Stückliste!#REF!","v":{"$error":"#REF!"}},0,8,0,0,0,0,0,0,"00:00:00"]
[{"$f":"Stückliste!#REF!","v":{"$error":"#REF!"}},{"$f":"Stückliste!#REF!","v":{"$error":"#REF!"}},{"$f":"Stückliste!#REF!","v":{"$error":"#REF!"}},{"$f":"Stückliste!#REF!","v":{"$error":"#REF!"}},0,8,0,0,0,0,0,0,"00:00:00"]
[{"$f":"Stückliste!#REF!","v":{"$error":"#REF!"}},{"$f":"Stückliste!#REF!","v":{"$error":"#REF!"}},{"$f":"Stückliste!#REF!","v":{"$error":"#REF!"}},{"$f":"Stückliste!#REF!","v":{"$error":"#REF!"}},0,8,0,0,0,0,0,0,"00:00:00"]
[{"$f":"Stückliste!#REF!","v":{"$error":"#REF!"}},{"$f":"Stückliste!#REF!","v":{"$error":"#REF!"}},{"$f":"Stückliste!#REF!","v":{"$error":"#REF!"}},{"$f":"Stückliste!#REF!","v":{"$error":"#REF!"}},0,8,0,0,0,0,0,0,"00:00:00"]
[{"$f":"Stückliste!#REF!","v":{"$error":"#REF!"}},{"$f":"Stückliste!#REF!","v":{"$error":"#REF!"}},{"$f":"Stückliste!#REF!","v":{"$error":"#REF!"}},{"$f":"Stückliste!#REF!","v":{"$error":"#REF!"}},0,8,0,0,0,0,0,0,"00:00:00"]
[{"$f":"Stückliste!#REF!","v":{"$error":"#REF!"}},{"$f":"Stückliste!#REF!","v":{"$error":"#REF!"}},{"$f":"Stückliste!#REF!","v":{"$error":"#REF!"}},{"$f":"Stückliste!#REF!","v":{"$error":"#REF!"}},0,8,0,0,0,0,0,0,"00:00:00"]
[{"$f":"Stückliste!#REF!","v":{"$error":"#REF!"}},{"$f":"Stückliste!#REF!","v":{"$error":"#REF!"}},{"$f":"Stückliste!#REF!","v":{"$error":"#REF!"}},{"$f":"Stückliste!#REF!","v":{"$error":"#REF!"}},0,8,0,0,0,0,0,0,"00:00:00"]
[{"$f":"Stückliste!#REF!","v":{"$error":"#REF!"}},{"$f":"Stückliste!#REF!","v":{"$error":"#REF!"}},{"$f":"Stückliste!#REF!","v":{"$error":"#REF!"}},{"$f":"Stückliste!#REF!","v":{"$error":"#REF!"}},0,8,0,0,0,0,0,0,"00:00:00"]
[{"$f":"Stückliste!#REF!","v":{"$error":"#REF!"}},{"$f":"Stückliste!#REF!","v":{"$error":"#REF!"}},{"$f":"Stückliste!#REF!","v":{"$error":"#REF!"}},{"$f":"Stückliste!#REF!","v":{"$error":"#REF!"}},0,8,0,0,0,0,0,0,"00:00:00"]
[{"$f":"Stückliste!#REF!","v":{"$error":"#REF!"}},{"$f":"Stückliste!#REF!","v":{"$error":"#REF!"}},{"$f":"Stückliste!#REF!","v":{"$error":"#REF!"}},{"$f":"Stückliste!#REF!","v":{"$error":"#REF!"}},0,8,0,0,0,0,0,0,"00:00:00"]
[{"$f":"Stückliste!#REF!","v":{"$error":"#REF!"}},{"$f":"Stückliste!#REF!","v":{"$error":"#REF!"}},{"$f":"Stückliste!#REF!","v":{"$error":"#REF!"}},{"$f":"Stückliste!#REF!","v":{"$error":"#REF!"}},0,8,0,0,0,0,0,0,"00:00:00"]
[{"$f":"Stückliste!#REF!","v":{"$error":"#REF!"}},{"$f":"Stückliste!#REF!","v":{"$error":"#REF!"}},{"$f":"Stückliste!#REF!","v":{"$error":"#REF!"}},{"$f":"Stückliste!#REF!","v":{"$error":"#REF!"}},0,8,0,0,0,0,0,0,"00:00:00"]
[{"$f":"Stückliste!#REF!","v":{"$error":"#REF!"}},{"$f":"Stückliste!#REF!","v":{"$error":"#REF!"}},{"$f":"Stückliste!#REF!","v":{"$error":"#REF!"}},{"$f":"Stückliste!#REF!","v":{"$error":"#REF!"}},0,8,0,0,0,0,0,0,"00:00:00"]
[{"$f":"Stückliste!#REF!","v":{"$error":"#REF!"}},{"$f":"Stückliste!#REF!","v":{"$error":"#REF!"}},{"$f":"Stückliste!#REF!","v":{"$error":"#REF!"}},{"$f":"Stückliste!#REF!","v":{"$error":"#REF!"}},0,8,0,0,0,0,0,0,"00:00:00"]
[{"$f":"Stückliste!#REF!","v":{"$error":"#REF!"}},{"$f":"Stückliste!#REF!","v":{"$error":"#REF!"}},{"$f":"Stückliste!#REF!","v":{"$error":"#REF!"}},{"$f":"Stückliste!#REF!","v":{"$error":"#REF!"}},0,8,0,0,0,0,0,0,"00:00:00"]
[{"$f":"Stückliste!#REF!","v":{"$error":"#REF!"}},{"$f":"Stückliste!#REF!","v":{"$error":"#REF!"}},{"$f":"Stückliste!#REF!","v":{"$error":"#REF!"}},{"$f":"Stückliste!#REF!","v":{"$error":"#REF!"}},0,8,0,0,0,0,0,0,"00:00:00"]
[{"$f":"Stückliste!#REF!","v":{"$error":"#REF!"}},{"$f":"Stückliste!#REF!","v":{"$error":"#REF!"}},{"$f":"Stückliste!#REF!","v":{"$error":"#REF!"}},{"$f":"Stückliste!#REF!","v":{"$error":"#REF!"}},0,8,0,0,0,0,0,0,"00:00:00"]
[{"$f":"Stückliste!#REF!","v":{"$error":"#REF!"}},{"$f":"Stückliste!#REF!","v":{"$error":"#REF!"}},{"$f":"Stückliste!#REF!","v":{"$error":"#REF!"}},{"$f":"Stückliste!#REF!","v":{"$error":"#REF!"}},0,8,0,0,0,0,0,0,"00:00:00"]
[{"$f":"Stückliste!#REF!","v":{"$error":"#REF!"}},{"$f":"Stückliste!#REF!","v":{"$error":"#REF!"}},{"$f":"Stückliste!#REF!","v":{"$error":"#REF!"}},{"$f":"Stückliste!#REF!","v":{"$error":"#REF!"}},0,8,0,0,0,0,0,0,"00:00:00"]
[{"$f":"Stückliste!#REF!","v":{"$error":"#REF!"}},{"$f":"Stückliste!#REF!","v":{"$error":"#REF!"}},{"$f":"Stückliste!#REF!","v":{"$error":"#REF!"}},{"$f":"Stückliste!#REF!","v":{"$error":"#REF!"}},0,8,0,0,0,0,0,0,"00:00:00"]
[{"$f":"Stückliste!#REF!","v":{"$error":"#REF!"}},{"$f":"Stückliste!#REF!","v":{"$error":"#REF!"}},{"$f":"Stückliste!#REF!","v":{"$error":"#REF!"}},{"$f":"Stückliste!#REF!","v":{"$error":"#REF!"}},0,8,0,0,0,0,0,0,"00:00:00"]
[{"$f":"Stückliste!#REF!","v":{"$error":"#REF!"}},{"$f":"Stückliste!#REF!","v":{"$error":"#REF!"}},{"$f":"Stückliste!#REF!","v":{"$error":"#REF!"}},{"$f":"Stückliste!#REF!","v":{"$error":"#REF!"}},0,8,0,0,0,0,0,0,"00:00:00"]
[{"$f":"Stückliste!#REF!","v":{"$error":"#REF!"}},{"$f":"Stückliste!#REF!","v":{"$error":"#REF!"}},{"$f":"Stückliste!#REF!","v":{"$error":"#REF!"}},{"$f":"Stückliste!#REF!","v":{"$error":"#REF!"}},0,8,0,0,0,0,0,0,"00:00:00"]
[{"$f":"Stückliste!#REF!","v":{"$error":"#REF!"}},{"$f":"Stückliste!#REF!","v":{"$error":"#REF!"}},{"$f":"Stückliste!#REF!","v":{"$error":"#REF!"}},{"$f":"Stückliste!#REF!","v":{"$error":"#REF!"}},0,8,0,0,0,0,0,0,"00:00:00"]
[{"$f":"Stückliste!#REF!","v":{"$error":"#REF!"}},{"$f":"Stückliste!#REF!","v":{"$error":"#REF!"}},{"$f":"Stückliste!#REF!","v":{"$error":"#REF!"}},{"$f":"Stückliste!#REF!","v":{"$error":"#REF!"}},0,8,0,0,0,0,0,0,"00:00:00"]
[{"$f":"Stückliste!#REF!","v":{"$error":"#REF!"}},{"$f":"Stückliste!#REF!","v":{"$error":"#REF!"}},{"$f":"Stückliste!#REF!","v":{"$error":"#REF!"}},{"$f":"Stückliste!#REF!","v":{"$error":"#REF!"}},0,8,0,0,0,0,0,0,"00:00:00"]
[{"$f":"Stückliste!#REF!","v":{"$error":"#REF!"}},{"$f":"Stückliste!#REF!","v":{"$error":"#REF!"}},{"$f":"Stückliste!#REF!","v":{"$error":"#REF!"}},{"$f":"Stückliste!#REF!","v":{"$error":"#REF!"}},0,8,0,0,0,0,0,0,"00:00:00"]
[{"$f":"Stückliste!#REF!","v":{"$error":"#REF!"}},{"$f":"Stückliste!#REF!","v":{"$error":"#REF!"}},{"$f":"Stückliste!#REF!","v":{"$error":"#REF!"}},{"$f":"Stückliste!#REF!","v":{"$error":"#REF!"}},0,8,0,0,0,0,0,0,"00:00:00"]
[{"$f":"Stückliste!#REF!","v":{"$error":"#REF!"}},{"$f":"Stückliste!#REF!","v":{"$error":"#REF!"}},{"$f":"Stückliste!#REF!","v":{"$error":"#REF!"}},{"$f":"Stückliste!#REF!","v":{"$error":"#REF!"}},0,8,0,0,0,0,0,0,"00:00:00"]
[{"$f":"Stückliste!#REF!","v":{"$error":"#REF!"}},{"$f":"Stückliste!#REF!","v":{"$error":"#REF!"}},{"$f":"Stückliste!#REF!","v":{"$error":"#REF!"}},{"$f":"Stückliste!#REF!","v":{"$error":"#REF!"}},0,8,0,0,0,0,0,0,"00:00:00"]
[{"$f":"Stückliste!#REF!","v":{"$error":"#REF!"}},{"$f":"Stückliste!#REF!","v":{"$error":"#REF!"}},{"$f":"Stückliste!#REF!","v":{"$error":"#REF!"}},{"$f":"Stückliste!#REF!","v":{"$error":"#REF!"}},0,8,0,0,0,0,0,0,"00:00:00"]
[{"$f":"Stückliste!#REF!","v":{"$error":"#REF!"}},{"$f":"Stückliste!#REF!","v":{"$error":"#REF!"}},{"$f":"Stückliste!#REF!","v":{"$error":"#REF!"}},{"$f":"Stückliste!#REF!","v":{"$error":"#REF!"}},0,8,0,0,0,0,0,0,"00:00:00"]
[{"$f":"Stückliste!#REF!","v":{"$error":"#REF!"}},{"$f":"Stückliste!#REF!","v":{"$error":"#REF!"}},{"$f":"Stückliste!#REF!","v":{"$error":"#REF!"}},{"$f":"Stückliste!#REF!","v":{"$error":"#REF!"}},0,8,0,0,0,0,0,0,"00:00:00"]

{"sheet":"Alphacam","index":3,"n_rows":120,"n_cols":23,"rows_kept":120,"cut":false,"hidden":true,"merged":[[0,7,0,14],[0,15,0,22],[0,0,1,0],[0,1,1,1],[0,2,1,2],[0,3,1,3],[0,4,1,4],[0,5,0,6]]}
["Auftrag-Nr.","Bohrloch-Durchmesser","Dicke","Pos.","Stück","Plattenformat",null,"Raster X",null,null,null,null,null,null,null,"Raster Y"]
[null,null,null,null,null,"Länge X mm","Breite Y mm","XA","X1","X2","X3","X4","X5","X6","XB","YA","Y1","Y2","Y3","Y4","Y5","Y6","YB"]
[{"$f":"Stückliste!AN1","v":0},{"$f":"Stückliste!AV1","v":0},{"$f":"Stückliste!AQ22","v":8},{"$f":"Stückliste!A56","v":0},{"$f":"Stückliste!D56","v":0},{"$f":"Stückliste!H56","v":0},{"$f":"Stückliste!L56","v":0},{"$f":"Stückliste!P56","v":0},{"$f":"Stückliste!R56","v":0},{"$f":"Stückliste!T56","v":0},{"$f":"Stückliste!V56","v":0},{"$f":"Stückliste!X56","v":0},{"$f":"Stückliste!Z56","v":0},{"$f":"Stückliste!AB56","v":0},{"$f":"Stückliste!AD56","v":0},{"$f":"Stückliste!AH56","v":0},{"$f":"Stückliste!AJ56","v":0},{"$f":"Stückliste!AL56","v":0},{"$f":"Stückliste!AN56","v":0},{"$f":"Stückliste!AP56","v":0},{"$f":"Stückliste!AR56","v":0},{"$f":"Stückliste!AT56","v":0},{"$f":"Stückliste!AV56","v":0}]
[{"$f":"A3","v":0},0,{"$f":"C3","v":8},{"$f":"Stückliste!A57","v":0},{"$f":"Stückliste!D57","v":0},{"$f":"Stückliste!H57","v":0},{"$f":"Stückliste!L57","v":0},{"$f":"Stückliste!P57","v":0},{"$f":"Stückliste!R57","v":0},{"$f":"Stückliste!T57","v":0},{"$f":"Stückliste!V57","v":0},{"$f":"Stückliste!X57","v":0},{"$f":"Stückliste!Z57","v":0},{"$f":"Stückliste!AB57","v":0},{"$f":"Stückliste!AD57","v":0},{"$f":"Stückliste!AH57","v":0},{"$f":"Stückliste!AJ57","v":0},{"$f":"Stückliste!AL57","v":0},{"$f":"Stückliste!AN57","v":0},{"$f":"Stückliste!AP57","v":0},{"$f":"Stückliste!AR57","v":0},{"$f":"Stückliste!AT57","v":0},{"$f":"Stückliste!AV57","v":0}]
[0,0,{"$f":"C4","v":8},{"$f":"Stückliste!A58","v":0},{"$f":"Stückliste!D58","v":0},{"$f":"Stückliste!H58","v":0},{"$f":"Stückliste!L58","v":0},{"$f":"Stückliste!P58","v":0},{"$f":"Stückliste!R58","v":0},{"$f":"Stückliste!T58","v":0},{"$f":"Stückliste!V58","v":0},{"$f":"Stückliste!X58","v":0},{"$f":"Stückliste!Z58","v":0},{"$f":"Stückliste!AB58","v":0},{"$f":"Stückliste!AD58","v":0},{"$f":"Stückliste!AH58","v":0},{"$f":"Stückliste!AJ58","v":0},{"$f":"Stückliste!AL58","v":0},{"$f":"Stückliste!AN58","v":0},{"$f":"Stückliste!AP58","v":0},{"$f":"Stückliste!AR58","v":0},{"$f":"Stückliste!AT58","v":0},{"$f":"Stückliste!AV58","v":0}]
[0,0,8,{"$f":"Stückliste!A59","v":0},{"$f":"Stückliste!D59","v":0},{"$f":"Stückliste!H59","v":0},{"$f":"Stückliste!L59","v":0},{"$f":"Stückliste!P59","v":0},{"$f":"Stückliste!R59","v":0},{"$f":"Stückliste!T59","v":0},{"$f":"Stückliste!V59","v":0},{"$f":"Stückliste!X59","v":0},{"$f":"Stückliste!Z59","v":0},{"$f":"Stückliste!AB59","v":0},{"$f":"Stückliste!AD59","v":0},{"$f":"Stückliste!AH59","v":0},{"$f":"Stückliste!AJ59","v":0},{"$f":"Stückliste!AL59","v":0},{"$f":"Stückliste!AN59","v":0},{"$f":"Stückliste!AP59","v":0},{"$f":"Stückliste!AR59","v":0},{"$f":"Stückliste!AT59","v":0},{"$f":"Stückliste!AV59","v":0}]
[0,0,8,{"$f":"Stückliste!A60","v":0},{"$f":"Stückliste!D60","v":0},{"$f":"Stückliste!H60","v":0},{"$f":"Stückliste!L60","v":0},{"$f":"Stückliste!P60","v":0},{"$f":"Stückliste!R60","v":0},{"$f":"Stückliste!T60","v":0},{"$f":"Stückliste!V60","v":0},{"$f":"Stückliste!X60","v":0},{"$f":"Stückliste!Z60","v":0},{"$f":"Stückliste!AB60","v":0},{"$f":"Stückliste!AD60","v":0},{"$f":"Stückliste!AH60","v":0},{"$f":"Stückliste!AJ60","v":0},{"$f":"Stückliste!AL60","v":0},{"$f":"Stückliste!AN60","v":0},{"$f":"Stückliste!AP60","v":0},{"$f":"Stückliste!AR60","v":0},{"$f":"Stückliste!AT60","v":0},{"$f":"Stückliste!AV60","v":0}]
[0,0,8,{"$f":"Stückliste!A61","v":0},{"$f":"Stückliste!D61","v":0},{"$f":"Stückliste!H61","v":0},{"$f":"Stückliste!L61","v":0},{"$f":"Stückliste!P61","v":0},{"$f":"Stückliste!R61","v":0},{"$f":"Stückliste!T61","v":0},{"$f":"Stückliste!V61","v":0},{"$f":"Stückliste!X61","v":0},{"$f":"Stückliste!Z61","v":0},{"$f":"Stückliste!AB61","v":0},{"$f":"Stückliste!AD61","v":0},{"$f":"Stückliste!AH61","v":0},{"$f":"Stückliste!AJ61","v":0},{"$f":"Stückliste!AL61","v":0},{"$f":"Stückliste!AN61","v":0},{"$f":"Stückliste!AP61","v":0},{"$f":"Stückliste!AR61","v":0},{"$f":"Stückliste!AT61","v":0},{"$f":"Stückliste!AV61","v":0}]
[0,0,8,{"$f":"Stückliste!A62","v":0},{"$f":"Stückliste!D62","v":0},{"$f":"Stückliste!H62","v":0},{"$f":"Stückliste!L62","v":0},{"$f":"Stückliste!P62","v":0},{"$f":"Stückliste!R62","v":0},{"$f":"Stückliste!T62","v":0},{"$f":"Stückliste!V62","v":0},{"$f":"Stückliste!X62","v":0},{"$f":"Stückliste!Z62","v":0},{"$f":"Stückliste!AB62","v":0},{"$f":"Stückliste!AD62","v":0},{"$f":"Stückliste!AH62","v":0},{"$f":"Stückliste!AJ62","v":0},{"$f":"Stückliste!AL62","v":0},{"$f":"Stückliste!AN62","v":0},{"$f":"Stückliste!AP62","v":0},{"$f":"Stückliste!AR62","v":0},{"$f":"Stückliste!AT62","v":0},{"$f":"Stückliste!AV62","v":0}]
[0,0,8,{"$f":"Stückliste!A63","v":0},{"$f":"Stückliste!D63","v":0},{"$f":"Stückliste!H63","v":0},{"$f":"Stückliste!L63","v":0},{"$f":"Stückliste!P63","v":0},{"$f":"Stückliste!R63","v":0},{"$f":"Stückliste!T63","v":0},{"$f":"Stückliste!V63","v":0},{"$f":"Stückliste!X63","v":0},{"$f":"Stückliste!Z63","v":0},{"$f":"Stückliste!AB63","v":0},{"$f":"Stückliste!AD63","v":0},{"$f":"Stückliste!AH63","v":0},{"$f":"Stückliste!AJ63","v":0},{"$f":"Stückliste!AL63","v":0},{"$f":"Stückliste!AN63","v":0},{"$f":"Stückliste!AP63","v":0},{"$f":"Stückliste!AR63","v":0},{"$f":"Stückliste!AT63","v":0},{"$f":"Stückliste!AV63","v":0}]
[0,0,8,{"$f":"Stückliste!A64","v":0},{"$f":"Stückliste!D64","v":0},{"$f":"Stückliste!H64","v":0},{"$f":"Stückliste!L64","v":0},{"$f":"Stückliste!P64","v":0},{"$f":"Stückliste!R64","v":0},{"$f":"Stückliste!T64","v":0},{"$f":"Stückliste!V64","v":0},{"$f":"Stückliste!X64","v":0},{"$f":"Stückliste!Z64","v":0},{"$f":"Stückliste!AB64","v":0},{"$f":"Stückliste!AD64","v":0},{"$f":"Stückliste!AH64","v":0},{"$f":"Stückliste!AJ64","v":0},{"$f":"Stückliste!AL64","v":0},{"$f":"Stückliste!AN64","v":0},{"$f":"Stückliste!AP64","v":0},{"$f":"Stückliste!AR64","v":0},{"$f":"Stückliste!AT64","v":0},{"$f":"Stückliste!AV64","v":0}]
[0,0,8,{"$f":"Stückliste!A65","v":0},{"$f":"Stückliste!D65","v":0},{"$f":"Stückliste!H65","v":0},{"$f":"Stückliste!L65","v":0},{"$f":"Stückliste!P65","v":0},{"$f":"Stückliste!R65","v":0},{"$f":"Stückliste!T65","v":0},{"$f":"Stückliste!V65","v":0},{"$f":"Stückliste!X65","v":0},{"$f":"Stückliste!Z65","v":0},{"$f":"Stückliste!AB65","v":0},{"$f":"Stückliste!AD65","v":0},{"$f":"Stückliste!AH65","v":0},{"$f":"Stückliste!AJ65","v":0},{"$f":"Stückliste!AL65","v":0},{"$f":"Stückliste!AN65","v":0},{"$f":"Stückliste!AP65","v":0},{"$f":"Stückliste!AR65","v":0},{"$f":"Stückliste!AT65","v":0},{"$f":"Stückliste!AV65","v":0}]
[0,0,8,{"$f":"Stückliste!A66","v":0},{"$f":"Stückliste!D66","v":0},{"$f":"Stückliste!H66","v":0},{"$f":"Stückliste!L66","v":0},{"$f":"Stückliste!P66","v":0},{"$f":"Stückliste!R66","v":0},{"$f":"Stückliste!T66","v":0},{"$f":"Stückliste!V66","v":0},{"$f":"Stückliste!X66","v":0},{"$f":"Stückliste!Z66","v":0},{"$f":"Stückliste!AB66","v":0},{"$f":"Stückliste!AD66","v":0},{"$f":"Stückliste!AH66","v":0},{"$f":"Stückliste!AJ66","v":0},{"$f":"Stückliste!AL66","v":0},{"$f":"Stückliste!AN66","v":0},{"$f":"Stückliste!AP66","v":0},{"$f":"Stückliste!AR66","v":0},{"$f":"Stückliste!AT66","v":0},{"$f":"Stückliste!AV66","v":0}]
[0,0,8,{"$f":"Stückliste!A67","v":0},{"$f":"Stückliste!D67","v":0},{"$f":"Stückliste!H67","v":0},{"$f":"Stückliste!L67","v":0},{"$f":"Stückliste!P67","v":0},{"$f":"Stückliste!R67","v":0},{"$f":"Stückliste!T67","v":0},{"$f":"Stückliste!V67","v":0},{"$f":"Stückliste!X67","v":0},{"$f":"Stückliste!Z67","v":0},{"$f":"Stückliste!AB67","v":0},{"$f":"Stückliste!AD67","v":0},{"$f":"Stückliste!AH67","v":0},{"$f":"Stückliste!AJ67","v":0},{"$f":"Stückliste!AL67","v":0},{"$f":"Stückliste!AN67","v":0},{"$f":"Stückliste!AP67","v":0},{"$f":"Stückliste!AR67","v":0},{"$f":"Stückliste!AT67","v":0},{"$f":"Stückliste!AV67","v":0}]
[0,0,8,{"$f":"Stückliste!A68","v":0},{"$f":"Stückliste!D68","v":0},{"$f":"Stückliste!H68","v":0},{"$f":"Stückliste!L68","v":0},{"$f":"Stückliste!P68","v":0},{"$f":"Stückliste!R68","v":0},{"$f":"Stückliste!T68","v":0},{"$f":"Stückliste!V68","v":0},{"$f":"Stückliste!X68","v":0},{"$f":"Stückliste!Z68","v":0},{"$f":"Stückliste!AB68","v":0},{"$f":"Stückliste!AD68","v":0},{"$f":"Stückliste!AH68","v":0},{"$f":"Stückliste!AJ68","v":0},{"$f":"Stückliste!AL68","v":0},{"$f":"Stückliste!AN68","v":0},{"$f":"Stückliste!AP68","v":0},{"$f":"Stückliste!AR68","v":0},{"$f":"Stückliste!AT68","v":0},{"$f":"Stückliste!AV68","v":0}]
[0,0,8,{"$f":"Stückliste!A69","v":0},{"$f":"Stückliste!D69","v":0},{"$f":"Stückliste!H69","v":0},{"$f":"Stückliste!L69","v":0},{"$f":"Stückliste!P69","v":0},{"$f":"Stückliste!R69","v":0},{"$f":"Stückliste!T69","v":0},{"$f":"Stückliste!V69","v":0},{"$f":"Stückliste!X69","v":0},{"$f":"Stückliste!Z69","v":0},{"$f":"Stückliste!AB69","v":0},{"$f":"Stückliste!AD69","v":0},{"$f":"Stückliste!AH69","v":0},{"$f":"Stückliste!AJ69","v":0},{"$f":"Stückliste!AL69","v":0},{"$f":"Stückliste!AN69","v":0},{"$f":"Stückliste!AP69","v":0},{"$f":"Stückliste!AR69","v":0},{"$f":"Stückliste!AT69","v":0},{"$f":"Stückliste!AV69","v":0}]
[0,0,8,{"$f":"Stückliste!A70","v":0},{"$f":"Stückliste!D70","v":0},{"$f":"Stückliste!H70","v":0},{"$f":"Stückliste!L70","v":0},{"$f":"Stückliste!P70","v":0},{"$f":"Stückliste!R70","v":0},{"$f":"Stückliste!T70","v":0},{"$f":"Stückliste!V70","v":0},{"$f":"Stückliste!X70","v":0},{"$f":"Stückliste!Z70","v":0},{"$f":"Stückliste!AB70","v":0},{"$f":"Stückliste!AD70","v":0},{"$f":"Stückliste!AH70","v":0},{"$f":"Stückliste!AJ70","v":0},{"$f":"Stückliste!AL70","v":0},{"$f":"Stückliste!AN70","v":0},{"$f":"Stückliste!AP70","v":0},{"$f":"Stückliste!AR70","v":0},{"$f":"Stückliste!AT70","v":0},{"$f":"Stückliste!AV70","v":0}]
[0,0,8,{"$f":"Stückliste!A71","v":0},{"$f":"Stückliste!D71","v":0},{"$f":"Stückliste!H71","v":0},{"$f":"Stückliste!L71","v":0},{"$f":"Stückliste!P71","v":0},{"$f":"Stückliste!R71","v":0},{"$f":"Stückliste!T71","v":0},{"$f":"Stückliste!V71","v":0},{"$f":"Stückliste!X71","v":0},{"$f":"Stückliste!Z71","v":0},{"$f":"Stückliste!AB71","v":0},{"$f":"Stückliste!AD71","v":0},{"$f":"Stückliste!AH71","v":0},{"$f":"Stückliste!AJ71","v":0},{"$f":"Stückliste!AL71","v":0},{"$f":"Stückliste!AN71","v":0},{"$f":"Stückliste!AP71","v":0},{"$f":"Stückliste!AR71","v":0},{"$f":"Stückliste!AT71","v":0},{"$f":"Stückliste!AV71","v":0}]
[0,0,8,{"$f":"Stückliste!A72","v":0},{"$f":"Stückliste!D72","v":0},{"$f":"Stückliste!H72","v":0},{"$f":"Stückliste!L72","v":0},{"$f":"Stückliste!P72","v":0},{"$f":"Stückliste!R72","v":0},{"$f":"Stückliste!T72","v":0},{"$f":"Stückliste!V72","v":0},{"$f":"Stückliste!X72","v":0},{"$f":"Stückliste!Z72","v":0},{"$f":"Stückliste!AB72","v":0},{"$f":"Stückliste!AD72","v":0},{"$f":"Stückliste!AH72","v":0},{"$f":"Stückliste!AJ72","v":0},{"$f":"Stückliste!AL72","v":0},{"$f":"Stückliste!AN72","v":0},{"$f":"Stückliste!AP72","v":0},{"$f":"Stückliste!AR72","v":0},{"$f":"Stückliste!AT72","v":0},{"$f":"Stückliste!AV72","v":0}]
[{"$f":"A19","v":0},{"$f":"B19","v":0},8,{"$f":"Stückliste!A73","v":0},{"$f":"Stückliste!D73","v":0},{"$f":"Stückliste!H73","v":0},{"$f":"Stückliste!L73","v":0},{"$f":"Stückliste!P73","v":0},{"$f":"Stückliste!R73","v":0},{"$f":"Stückliste!T73","v":0},{"$f":"Stückliste!V73","v":0},{"$f":"Stückliste!X73","v":0},{"$f":"Stückliste!Z73","v":0},{"$f":"Stückliste!AB73","v":0},{"$f":"Stückliste!AD73","v":0},{"$f":"Stückliste!AH73","v":0},{"$f":"Stückliste!AJ73","v":0},{"$f":"Stückliste!AL73","v":0},{"$f":"Stückliste!AN73","v":0},{"$f":"Stückliste!AP73","v":0},{"$f":"Stückliste!AR73","v":0},{"$f":"Stückliste!AT73","v":0},{"$f":"Stückliste!AV73","v":0}]
[0,0,8,{"$f":"Stückliste!A74","v":0},{"$f":"Stückliste!D74","v":0},{"$f":"Stückliste!H74","v":0},{"$f":"Stückliste!L74","v":0},{"$f":"Stückliste!P74","v":0},{"$f":"Stückliste!R74","v":0},{"$f":"Stückliste!T74","v":0},{"$f":"Stückliste!V74","v":0},{"$f":"Stückliste!X74","v":0},{"$f":"Stückliste!Z74","v":0},{"$f":"Stückliste!AB74","v":0},{"$f":"Stückliste!AD74","v":0},{"$f":"Stückliste!AH74","v":0},{"$f":"Stückliste!AJ74","v":0},{"$f":"Stückliste!AL74","v":0},{"$f":"Stückliste!AN74","v":0},{"$f":"Stückliste!AP74","v":0},{"$f":"Stückliste!AR74","v":0},{"$f":"Stückliste!AT74","v":0},{"$f":"Stückliste!AV74","v":0}]
[0,0,8,{"$f":"Stückliste!A75","v":0},{"$f":"Stückliste!D75","v":0},{"$f":"Stückliste!H75","v":0},{"$f":"Stückliste!L75","v":0},{"$f":"Stückliste!P75","v":0},{"$f":"Stückliste!R75","v":0},{"$f":"Stückliste!T75","v":0},{"$f":"Stückliste!V75","v":0},{"$f":"Stückliste!X75","v":0},{"$f":"Stückliste!Z75","v":0},{"$f":"Stückliste!AB75","v":0},{"$f":"Stückliste!AD75","v":0},{"$f":"Stückliste!AH75","v":0},{"$f":"Stückliste!AJ75","v":0},{"$f":"Stückliste!AL75","v":0},{"$f":"Stückliste!AN75","v":0},{"$f":"Stückliste!AP75","v":0},{"$f":"Stückliste!AR75","v":0},{"$f":"Stückliste!AT75","v":0},{"$f":"Stückliste!AV75","v":0}]
[0,0,8,{"$f":"Stückliste!A76","v":0},{"$f":"Stückliste!D76","v":0},{"$f":"Stückliste!H76","v":0},{"$f":"Stückliste!L76","v":0},{"$f":"Stückliste!P76","v":0},{"$f":"Stückliste!R76","v":0},{"$f":"Stückliste!T76","v":0},{"$f":"Stückliste!V76","v":0},{"$f":"Stückliste!X76","v":0},{"$f":"Stückliste!Z76","v":0},{"$f":"Stückliste!AB76","v":0},{"$f":"Stückliste!AD76","v":0},{"$f":"Stückliste!AH76","v":0},{"$f":"Stückliste!AJ76","v":0},{"$f":"Stückliste!AL76","v":0},{"$f":"Stückliste!AN76","v":0},{"$f":"Stückliste!AP76","v":0},{"$f":"Stückliste!AR76","v":0},{"$f":"Stückliste!AT76","v":0},{"$f":"Stückliste!AV76","v":0}]
[0,0,8,{"$f":"Stückliste!A77","v":0},{"$f":"Stückliste!D77","v":0},{"$f":"Stückliste!H77","v":0},{"$f":"Stückliste!L77","v":0},{"$f":"Stückliste!P77","v":0},{"$f":"Stückliste!R77","v":0},{"$f":"Stückliste!T77","v":0},{"$f":"Stückliste!V77","v":0},{"$f":"Stückliste!X77","v":0},{"$f":"Stückliste!Z77","v":0},{"$f":"Stückliste!AB77","v":0},{"$f":"Stückliste!AD77","v":0},{"$f":"Stückliste!AH77","v":0},{"$f":"Stückliste!AJ77","v":0},{"$f":"Stückliste!AL77","v":0},{"$f":"Stückliste!AN77","v":0},{"$f":"Stückliste!AP77","v":0},{"$f":"Stückliste!AR77","v":0},{"$f":"Stückliste!AT77","v":0},{"$f":"Stückliste!AV77","v":0}]
[0,0,8,{"$f":"Stückliste!A78","v":0},{"$f":"Stückliste!D78","v":0},{"$f":"Stückliste!H78","v":0},{"$f":"Stückliste!L78","v":0},{"$f":"Stückliste!P78","v":0},{"$f":"Stückliste!R78","v":0},{"$f":"Stückliste!T78","v":0},{"$f":"Stückliste!V78","v":0},{"$f":"Stückliste!X78","v":0},{"$f":"Stückliste!Z78","v":0},{"$f":"Stückliste!AB78","v":0},{"$f":"Stückliste!AD78","v":0},{"$f":"Stückliste!AH78","v":0},{"$f":"Stückliste!AJ78","v":0},{"$f":"Stückliste!AL78","v":0},{"$f":"Stückliste!AN78","v":0},{"$f":"Stückliste!AP78","v":0},{"$f":"Stückliste!AR78","v":0},{"$f":"Stückliste!AT78","v":0},{"$f":"Stückliste!AV78","v":0}]
[0,0,8,{"$f":"Stückliste!A79","v":0},{"$f":"Stückliste!D79","v":0},{"$f":"Stückliste!H79","v":0},{"$f":"Stückliste!L79","v":0},{"$f":"Stückliste!P79","v":0},{"$f":"Stückliste!R79","v":0},{"$f":"Stückliste!T79","v":0},{"$f":"Stückliste!V79","v":0},{"$f":"Stückliste!X79","v":0},{"$f":"Stückliste!Z79","v":0},{"$f":"Stückliste!AB79","v":0},{"$f":"Stückliste!AD79","v":0},{"$f":"Stückliste!AH79","v":0},{"$f":"Stückliste!AJ79","v":0},{"$f":"Stückliste!AL79","v":0},{"$f":"Stückliste!AN79","v":0},{"$f":"Stückliste!AP79","v":0},{"$f":"Stückliste!AR79","v":0},{"$f":"Stückliste!AT79","v":0},{"$f":"Stückliste!AV79","v":0}]
[0,0,8,{"$f":"Stückliste!A80","v":0},{"$f":"Stückliste!D80","v":0},{"$f":"Stückliste!H80","v":0},{"$f":"Stückliste!L80","v":0},{"$f":"Stückliste!P80","v":0},{"$f":"Stückliste!R80","v":0},{"$f":"Stückliste!T80","v":0},{"$f":"Stückliste!V80","v":0},{"$f":"Stückliste!X80","v":0},{"$f":"Stückliste!Z80","v":0},{"$f":"Stückliste!AB80","v":0},{"$f":"Stückliste!AD80","v":0},{"$f":"Stückliste!AH80","v":0},{"$f":"Stückliste!AJ80","v":0},{"$f":"Stückliste!AL80","v":0},{"$f":"Stückliste!AN80","v":0},{"$f":"Stückliste!AP80","v":0},{"$f":"Stückliste!AR80","v":0},{"$f":"Stückliste!AT80","v":0},{"$f":"Stückliste!AV80","v":0}]
[0,0,8,{"$f":"Stückliste!A81","v":0},{"$f":"Stückliste!D81","v":0},{"$f":"Stückliste!H81","v":0},{"$f":"Stückliste!L81","v":0},{"$f":"Stückliste!P81","v":0},{"$f":"Stückliste!R81","v":0},{"$f":"Stückliste!T81","v":0},{"$f":"Stückliste!V81","v":0},{"$f":"Stückliste!X81","v":0},{"$f":"Stückliste!Z81","v":0},{"$f":"Stückliste!AB81","v":0},{"$f":"Stückliste!AD81","v":0},{"$f":"Stückliste!AH81","v":0},{"$f":"Stückliste!AJ81","v":0},{"$f":"Stückliste!AL81","v":0},{"$f":"Stückliste!AN81","v":0},{"$f":"Stückliste!AP81","v":0},{"$f":"Stückliste!AR81","v":0},{"$f":"Stückliste!AT81","v":0},{"$f":"Stückliste!AV81","v":0}]
[0,0,8,{"$f":"Stückliste!A82","v":0},{"$f":"Stückliste!D82","v":0},{"$f":"Stückliste!H82","v":0},{"$f":"Stückliste!L82","v":0},{"$f":"Stückliste!P82","v":0},{"$f":"Stückliste!R82","v":0},{"$f":"Stückliste!T82","v":0},{"$f":"Stückliste!V82","v":0},{"$f":"Stückliste!X82","v":0},{"$f":"Stückliste!Z82","v":0},{"$f":"Stückliste!AB82","v":0},{"$f":"Stückliste!AD82","v":0},{"$f":"Stückliste!AH82","v":0},{"$f":"Stückliste!AJ82","v":0},{"$f":"Stückliste!AL82","v":0},{"$f":"Stückliste!AN82","v":0},{"$f":"Stückliste!AP82","v":0},{"$f":"Stückliste!AR82","v":0},{"$f":"Stückliste!AT82","v":0},{"$f":"Stückliste!AV82","v":0}]
[0,0,8,{"$f":"Stückliste!A83","v":0},{"$f":"Stückliste!D83","v":0},{"$f":"Stückliste!H83","v":0},{"$f":"Stückliste!L83","v":0},{"$f":"Stückliste!P83","v":0},{"$f":"Stückliste!R83","v":0},{"$f":"Stückliste!T83","v":0},{"$f":"Stückliste!V83","v":0},{"$f":"Stückliste!X83","v":0},{"$f":"Stückliste!Z83","v":0},{"$f":"Stückliste!AB83","v":0},{"$f":"Stückliste!AD83","v":0},{"$f":"Stückliste!AH83","v":0},{"$f":"Stückliste!AJ83","v":0},{"$f":"Stückliste!AL83","v":0},{"$f":"Stückliste!AN83","v":0},{"$f":"Stückliste!AP83","v":0},{"$f":"Stückliste!AR83","v":0},{"$f":"Stückliste!AT83","v":0},{"$f":"Stückliste!AV83","v":0}]
[0,0,8,{"$f":"Stückliste!A84","v":0},{"$f":"Stückliste!D84","v":0},{"$f":"Stückliste!H84","v":0},{"$f":"Stückliste!L84","v":0},{"$f":"Stückliste!P84","v":0},{"$f":"Stückliste!R84","v":0},{"$f":"Stückliste!T84","v":0},{"$f":"Stückliste!V84","v":0},{"$f":"Stückliste!X84","v":0},{"$f":"Stückliste!Z84","v":0},{"$f":"Stückliste!AB84","v":0},{"$f":"Stückliste!AD84","v":0},{"$f":"Stückliste!AH84","v":0},{"$f":"Stückliste!AJ84","v":0},{"$f":"Stückliste!AL84","v":0},{"$f":"Stückliste!AN84","v":0},{"$f":"Stückliste!AP84","v":0},{"$f":"Stückliste!AR84","v":0},{"$f":"Stückliste!AT84","v":0},{"$f":"Stückliste!AV84","v":0}]
[0,0,8,{"$f":"Stückliste!A85","v":0},{"$f":"Stückliste!D85","v":0},{"$f":"Stückliste!H85","v":0},{"$f":"Stückliste!L85","v":0},{"$f":"Stückliste!P85","v":0},{"$f":"Stückliste!R85","v":0},{"$f":"Stückliste!T85","v":0},{"$f":"Stückliste!V85","v":0},{"$f":"Stückliste!X85","v":0},{"$f":"Stückliste!Z85","v":0},{"$f":"Stückliste!AB85","v":0},{"$f":"Stückliste!AD85","v":0},{"$f":"Stückliste!AH85","v":0},{"$f":"Stückliste!AJ85","v":0},{"$f":"Stückliste!AL85","v":0},{"$f":"Stückliste!AN85","v":0},{"$f":"Stückliste!AP85","v":0},{"$f":"Stückliste!AR85","v":0},{"$f":"Stückliste!AT85","v":0},{"$f":"Stückliste!AV85","v":0}]
[0,0,8,{"$f":"Stückliste!A86","v":0},{"$f":"Stückliste!D86","v":0},{"$f":"Stückliste!H86","v":0},{"$f":"Stückliste!L86","v":0},{"$f":"Stückliste!P86","v":0},{"$f":"Stückliste!R86","v":0},{"$f":"Stückliste!T86","v":0},{"$f":"Stückliste!V86","v":0},{"$f":"Stückliste!X86","v":0},{"$f":"Stückliste!Z86","v":0},{"$f":"Stückliste!AB86","v":0},{"$f":"Stückliste!AD86","v":0},{"$f":"Stückliste!AH86","v":0},{"$f":"Stückliste!AJ86","v":0},{"$f":"Stückliste!AL86","v":0},{"$f":"Stückliste!AN86","v":0},{"$f":"Stückliste!AP86","v":0},{"$f":"Stückliste!AR86","v":0},{"$f":"Stückliste!AT86","v":0},{"$f":"Stückliste!AV86","v":0}]
[0,0,8,{"$f":"Stückliste!A87","v":0},{"$f":"Stückliste!D87","v":0},{"$f":"Stückliste!H87","v":0},{"$f":"Stückliste!L87","v":0},{"$f":"Stückliste!P87","v":0},{"$f":"Stückliste!R87","v":0},{"$f":"Stückliste!T87","v":0},{"$f":"Stückliste!V87","v":0},{"$f":"Stückliste!X87","v":0},{"$f":"Stückliste!Z87","v":0},{"$f":"Stückliste!AB87","v":0},{"$f":"Stückliste!AD87","v":0},{"$f":"Stückliste!AH87","v":0},{"$f":"Stückliste!AJ87","v":0},{"$f":"Stückliste!AL87","v":0},{"$f":"Stückliste!AN87","v":0},{"$f":"Stückliste!AP87","v":0},{"$f":"Stückliste!AR87","v":0},{"$f":"Stückliste!AT87","v":0},{"$f":"Stückliste!AV87","v":0}]
[0,0,8,{"$f":"Stückliste!A88","v":0},{"$f":"Stückliste!D88","v":0},{"$f":"Stückliste!H88","v":0},{"$f":"Stückliste!L88","v":0},{"$f":"Stückliste!P88","v":0},{"$f":"Stückliste!R88","v":0},{"$f":"Stückliste!T88","v":0},{"$f":"Stückliste!V88","v":0},{"$f":"Stückliste!X88","v":0},{"$f":"Stückliste!Z88","v":0},{"$f":"Stückliste!AB88","v":0},{"$f":"Stückliste!AD88","v":0},{"$f":"Stückliste!AH88","v":0},{"$f":"Stückliste!AJ88","v":0},{"$f":"Stückliste!AL88","v":0},{"$f":"Stückliste!AN88","v":0},{"$f":"Stückliste!AP88","v":0},{"$f":"Stückliste!AR88","v":0},{"$f":"Stückliste!AT88","v":0},{"$f":"Stückliste!AV88","v":0}]
[0,0,8,{"$f":"Stückliste!A89","v":0},{"$f":"Stückliste!D89","v":0},{"$f":"Stückliste!H89","v":0},{"$f":"Stückliste!L89","v":0},{"$f":"Stückliste!P89","v":0},{"$f":"Stückliste!R89","v":0},{"$f":"Stückliste!T89","v":0},{"$f":"Stückliste!V89","v":0},{"$f":"Stückliste!X89","v":0},{"$f":"Stückliste!Z89","v":0},{"$f":"Stückliste!AB89","v":0},{"$f":"Stückliste!AD89","v":0},{"$f":"Stückliste!AH89","v":0},{"$f":"Stückliste!AJ89","v":0},{"$f":"Stückliste!AL89","v":0},{"$f":"Stückliste!AN89","v":0},{"$f":"Stückliste!AP89","v":0},{"$f":"Stückliste!AR89","v":0},{"$f":"Stückliste!AT89","v":0},{"$f":"Stückliste!AV89","v":0}]
[0,0,8,{"$f":"Stückliste!#REF!","v":{"$error":"#REF!"}},{"$f":"Stückliste!#REF!","v":{"$error":"#REF!"}},{"$f":"Stückliste!#REF!","v":{"$error":"#REF!"}},{"$f":"Stückliste!#REF!","v":{"$error":"#REF!"}},{"$f":"Stückliste!#REF!","v":{"$error":"#REF!"}},{"$f":"Stückliste!#REF!","v":{"$error":"#REF!"}},{"$f":"Stückliste!#REF!","v":{"$error":"#REF!"}},{"$f":"Stückliste!#REF!","v":{"$error":"#REF!"}},{"$f":"Stückliste!#REF!","v":{"$error":"#REF!"}},{"$f":"Stückliste!#REF!","v":{"$error":"#REF!"}},{"$f":"Stückliste!#REF!","v":{"$error":"#REF!"}},{"$f":"Stückliste!#REF!","v":{"$error":"#REF!"}},{"$f":"Stückliste!#REF!","v":{"$error":"#REF!"}},{"$f":"Stückliste!#REF!","v":{"$error":"#REF!"}},{"$f":"Stückliste!#REF!","v":{"$error":"#REF!"}},{"$f":"Stückliste!#REF!","v":{"$error":"#REF!"}},{"$f":"Stückliste!#REF!","v":{"$error":"#REF!"}},{"$f":"Stückliste!#REF!","v":{"$error":"#REF!"}},{"$f":"Stückliste!#REF!","v":{"$error":"#REF!"}},{"$f":"Stückliste!#REF!","v":{"$error":"#REF!"}}]
[0,0,8,{"$f":"Stückliste!#REF!","v":{"$error":"#REF!"}},{"$f":"Stückliste!#REF!","v":{"$error":"#REF!"}},{"$f":"Stückliste!#REF!","v":{"$error":"#REF!"}},{"$f":"Stückliste!#REF!","v":{"$error":"#REF!"}},{"$f":"Stückliste!#REF!","v":{"$error":"#REF!"}},{"$f":"Stückliste!#REF!","v":{"$error":"#REF!"}},{"$f":"Stückliste!#REF!","v":{"$error":"#REF!"}},{"$f":"Stückliste!#REF!","v":{"$error":"#REF!"}},{"$f":"Stückliste!#REF!","v":{"$error":"#REF!"}},{"$f":"Stückliste!#REF!","v":{"$error":"#REF!"}},{"$f":"Stückliste!#REF!","v":{"$error":"#REF!"}},{"$f":"Stückliste!#REF!","v":{"$error":"#REF!"}},{"$f":"Stückliste!#REF!","v":{"$error":"#REF!"}},{"$f":"Stückliste!#REF!","v":{"$error":"#REF!"}},{"$f":"Stückliste!#REF!","v":{"$error":"#REF!"}},{"$f":"Stückliste!#REF!","v":{"$error":"#REF!"}},{"$f":"Stückliste!#REF!","v":{"$error":"#REF!"}},{"$f":"Stückliste!#REF!","v":{"$error":"#REF!"}},{"$f":"Stückliste!#REF!","v":{"$error":"#REF!"}},{"$f":"Stückliste!#REF!","v":{"$error":"#REF!"}}]
[0,0,8,{"$f":"Stückliste!#REF!","v":{"$error":"#REF!"}},{"$f":"Stückliste!#REF!","v":{"$error":"#REF!"}},{"$f":"Stückliste!#REF!","v":{"$error":"#REF!"}},{"$f":"Stückliste!#REF!","v":{"$error":"#REF!"}},{"$f":"Stückliste!#REF!","v":{"$error":"#REF!"}},{"$f":"Stückliste!#REF!","v":{"$error":"#REF!"}},{"$f":"Stückliste!#REF!","v":{"$error":"#REF!"}},{"$f":"Stückliste!#REF!","v":{"$error":"#REF!"}},{"$f":"Stückliste!#REF!","v":{"$error":"#REF!"}},{"$f":"Stückliste!#REF!","v":{"$error":"#REF!"}},{"$f":"Stückliste!#REF!","v":{"$error":"#REF!"}},{"$f":"Stückliste!#REF!","v":{"$error":"#REF!"}},{"$f":"Stückliste!#REF!","v":{"$error":"#REF!"}},{"$f":"Stückliste!#REF!","v":{"$error":"#REF!"}},{"$f":"Stückliste!#REF!","v":{"$error":"#REF!"}},{"$f":"Stückliste!#REF!","v":{"$error":"#REF!"}},{"$f":"Stückliste!#REF!","v":{"$error":"#REF!"}},{"$f":"Stückliste!#REF!","v":{"$error":"#REF!"}},{"$f":"Stückliste!#REF!","v":{"$error":"#REF!"}},{"$f":"Stückliste!#REF!","v":{"$error":"#REF!"}}]
[0,0,8,{"$f":"Stückliste!#REF!","v":{"$error":"#REF!"}},{"$f":"Stückliste!#REF!","v":{"$error":"#REF!"}},{"$f":"Stückliste!#REF!","v":{"$error":"#REF!"}},{"$f":"Stückliste!#REF!","v":{"$error":"#REF!"}},{"$f":"Stückliste!#REF!","v":{"$error":"#REF!"}},{"$f":"Stückliste!#REF!","v":{"$error":"#REF!"}},{"$f":"Stückliste!#REF!","v":{"$error":"#REF!"}},{"$f":"Stückliste!#REF!","v":{"$error":"#REF!"}},{"$f":"Stückliste!#REF!","v":{"$error":"#REF!"}},{"$f":"Stückliste!#REF!","v":{"$error":"#REF!"}},{"$f":"Stückliste!#REF!","v":{"$error":"#REF!"}},{"$f":"Stückliste!#REF!","v":{"$error":"#REF!"}},{"$f":"Stückliste!#REF!","v":{"$error":"#REF!"}},{"$f":"Stückliste!#REF!","v":{"$error":"#REF!"}},{"$f":"Stückliste!#REF!","v":{"$error":"#REF!"}},{"$f":"Stückliste!#REF!","v":{"$error":"#REF!"}},{"$f":"Stückliste!#REF!","v":{"$error":"#REF!"}},{"$f":"Stückliste!#REF!","v":{"$error":"#REF!"}},{"$f":"Stückliste!#REF!","v":{"$error":"#REF!"}},{"$f":"Stückliste!#REF!","v":{"$error":"#REF!"}}]
[0,0,8,{"$f":"Stückliste!#REF!","v":{"$error":"#REF!"}},{"$f":"Stückliste!#REF!","v":{"$error":"#REF!"}},{"$f":"Stückliste!#REF!","v":{"$error":"#REF!"}},{"$f":"Stückliste!#REF!","v":{"$error":"#REF!"}},{"$f":"Stückliste!#REF!","v":{"$error":"#REF!"}},{"$f":"Stückliste!#REF!","v":{"$error":"#REF!"}},{"$f":"Stückliste!#REF!","v":{"$error":"#REF!"}},{"$f":"Stückliste!#REF!","v":{"$error":"#REF!"}},{"$f":"Stückliste!#REF!","v":{"$error":"#REF!"}},{"$f":"Stückliste!#REF!","v":{"$error":"#REF!"}},{"$f":"Stückliste!#REF!","v":{"$error":"#REF!"}},{"$f":"Stückliste!#REF!","v":{"$error":"#REF!"}},{"$f":"Stückliste!#REF!","v":{"$error":"#REF!"}},{"$f":"Stückliste!#REF!","v":{"$error":"#REF!"}},{"$f":"Stückliste!#REF!","v":{"$error":"#REF!"}},{"$f":"Stückliste!#REF!","v":{"$error":"#REF!"}},{"$f":"Stückliste!#REF!","v":{"$error":"#REF!"}},{"$f":"Stückliste!#REF!","v":{"$error":"#REF!"}},{"$f":"Stückliste!#REF!","v":{"$error":"#REF!"}},{"$f":"Stückliste!#REF!","v":{"$error":"#REF!"}}]
[0,0,8,{"$f":"Stückliste!#REF!","v":{"$error":"#REF!"}},{"$f":"Stückliste!#REF!","v":{"$error":"#REF!"}},{"$f":"Stückliste!#REF!","v":{"$error":"#REF!"}},{"$f":"Stückliste!#REF!","v":{"$error":"#REF!"}},{"$f":"Stückliste!#REF!","v":{"$error":"#REF!"}},{"$f":"Stückliste!#REF!","v":{"$error":"#REF!"}},{"$f":"Stückliste!#REF!","v":{"$error":"#REF!"}},{"$f":"Stückliste!#REF!","v":{"$error":"#REF!"}},{"$f":"Stückliste!#REF!","v":{"$error":"#REF!"}},{"$f":"Stückliste!#REF!","v":{"$error":"#REF!"}},{"$f":"Stückliste!#REF!","v":{"$error":"#REF!"}},{"$f":"Stückliste!#REF!","v":{"$error":"#REF!"}},{"$f":"Stückliste!#REF!","v":{"$error":"#REF!"}},{"$f":"Stückliste!#REF!","v":{"$error":"#REF!"}},{"$f":"Stückliste!#REF!","v":{"$error":"#REF!"}},{"$f":"Stückliste!#REF!","v":{"$error":"#REF!"}},{"$f":"Stückliste!#REF!","v":{"$error":"#REF!"}},{"$f":"Stückliste!#REF!","v":{"$error":"#REF!"}},{"$f":"Stückliste!#REF!","v":{"$error":"#REF!"}},{"$f":"Stückliste!#REF!","v":{"$error":"#REF!"}}]
[0,0,8,{"$f":"Stückliste!#REF!","v":{"$error":"#REF!"}},{"$f":"Stückliste!#REF!","v":{"$error":"#REF!"}},{"$f":"Stückliste!#REF!","v":{"$error":"#REF!"}},{"$f":"Stückliste!#REF!","v":{"$error":"#REF!"}},{"$f":"Stückliste!#REF!","v":{"$error":"#REF!"}},{"$f":"Stückliste!#REF!","v":{"$error":"#REF!"}},{"$f":"Stückliste!#REF!","v":{"$error":"#REF!"}},{"$f":"Stückliste!#REF!","v":{"$error":"#REF!"}},{"$f":"Stückliste!#REF!","v":{"$error":"#REF!"}},{"$f":"Stückliste!#REF!","v":{"$error":"#REF!"}},{"$f":"Stückliste!#REF!","v":{"$error":"#REF!"}},{"$f":"Stückliste!#REF!","v":{"$error":"#REF!"}},{"$f":"Stückliste!#REF!","v":{"$error":"#REF!"}},{"$f":"Stückliste!#REF!","v":{"$error":"#REF!"}},{"$f":"Stückliste!#REF!","v":{"$error":"#REF!"}},{"$f":"Stückliste!#REF!","v":{"$error":"#REF!"}},{"$f":"Stückliste!#REF!","v":{"$error":"#REF!"}},{"$f":"Stückliste!#REF!","v":{"$error":"#REF!"}},{"$f":"Stückliste!#REF!","v":{"$error":"#REF!"}},{"$f":"Stückliste!#REF!","v":{"$error":"#REF!"}}]
[0,0,8,{"$f":"Stückliste!#REF!","v":{"$error":"#REF!"}},{"$f":"Stückliste!#REF!","v":{"$error":"#REF!"}},{"$f":"Stückliste!#REF!","v":{"$error":"#REF!"}},{"$f":"Stückliste!#REF!","v":{"$error":"#REF!"}},{"$f":"Stückliste!#REF!","v":{"$error":"#REF!"}},{"$f":"Stückliste!#REF!","v":{"$error":"#REF!"}},{"$f":"Stückliste!#REF!","v":{"$error":"#REF!"}},{"$f":"Stückliste!#REF!","v":{"$error":"#REF!"}},{"$f":"Stückliste!#REF!","v":{"$error":"#REF!"}},{"$f":"Stückliste!#REF!","v":{"$error":"#REF!"}},{"$f":"Stückliste!#REF!","v":{"$error":"#REF!"}},{"$f":"Stückliste!#REF!","v":{"$error":"#REF!"}},{"$f":"Stückliste!#REF!","v":{"$error":"#REF!"}},{"$f":"Stückliste!#REF!","v":{"$error":"#REF!"}},{"$f":"Stückliste!#REF!","v":{"$error":"#REF!"}},{"$f":"Stückliste!#REF!","v":{"$error":"#REF!"}},{"$f":"Stückliste!#REF!","v":{"$error":"#REF!"}},{"$f":"Stückliste!#REF!","v":{"$error":"#REF!"}},{"$f":"Stückliste!#REF!","v":{"$error":"#REF!"}},{"$f":"Stückliste!#REF!","v":{"$error":"#REF!"}}]
[0,0,8,{"$f":"Stückliste!#REF!","v":{"$error":"#REF!"}},{"$f":"Stückliste!#REF!","v":{"$error":"#REF!"}},{"$f":"Stückliste!#REF!","v":{"$error":"#REF!"}},{"$f":"Stückliste!#REF!","v":{"$error":"#REF!"}},{"$f":"Stückliste!#REF!","v":{"$error":"#REF!"}},{"$f":"Stückliste!#REF!","v":{"$error":"#REF!"}},{"$f":"Stückliste!#REF!","v":{"$error":"#REF!"}},{"$f":"Stückliste!#REF!","v":{"$error":"#REF!"}},{"$f":"Stückliste!#REF!","v":{"$error":"#REF!"}},{"$f":"Stückliste!#REF!","v":{"$error":"#REF!"}},{"$f":"Stückliste!#REF!","v":{"$error":"#REF!"}},{"$f":"Stückliste!#REF!","v":{"$error":"#REF!"}},{"$f":"Stückliste!#REF!","v":{"$error":"#REF!"}},{"$f":"Stückliste!#REF!","v":{"$error":"#REF!"}},{"$f":"Stückliste!#REF!","v":{"$error":"#REF!"}},{"$f":"Stückliste!#REF!","v":{"$error":"#REF!"}},{"$f":"Stückliste!#REF!","v":{"$error":"#REF!"}},{"$f":"Stückliste!#REF!","v":{"$error":"#REF!"}},{"$f":"Stückliste!#REF!","v":{"$error":"#REF!"}},{"$f":"Stückliste!#REF!","v":{"$error":"#REF!"}}]
[0,0,8,{"$f":"Stückliste!#REF!","v":{"$error":"#REF!"}},{"$f":"Stückliste!#REF!","v":{"$error":"#REF!"}},{"$f":"Stückliste!#REF!","v":{"$error":"#REF!"}},{"$f":"Stückliste!#REF!","v":{"$error":"#REF!"}},{"$f":"Stückliste!#REF!","v":{"$error":"#REF!"}},{"$f":"Stückliste!#REF!","v":{"$error":"#REF!"}},{"$f":"Stückliste!#REF!","v":{"$error":"#REF!"}},{"$f":"Stückliste!#REF!","v":{"$error":"#REF!"}},{"$f":"Stückliste!#REF!","v":{"$error":"#REF!"}},{"$f":"Stückliste!#REF!","v":{"$error":"#REF!"}},{"$f":"Stückliste!#REF!","v":{"$error":"#REF!"}},{"$f":"Stückliste!#REF!","v":{"$error":"#REF!"}},{"$f":"Stückliste!#REF!","v":{"$error":"#REF!"}},{"$f":"Stückliste!#REF!","v":{"$error":"#REF!"}},{"$f":"Stückliste!#REF!","v":{"$error":"#REF!"}},{"$f":"Stückliste!#REF!","v":{"$error":"#REF!"}},{"$f":"Stückliste!#REF!","v":{"$error":"#REF!"}},{"$f":"Stückliste!#REF!","v":{"$error":"#REF!"}},{"$f":"Stückliste!#REF!","v":{"$error":"#REF!"}},{"$f":"Stückliste!#REF!","v":{"$error":"#REF!"}}]
[0,0,8,{"$f":"Stückliste!#REF!","v":{"$error":"#REF!"}},{"$f":"Stückliste!#REF!","v":{"$error":"#REF!"}},{"$f":"Stückliste!#REF!","v":{"$error":"#REF!"}},{"$f":"Stückliste!#REF!","v":{"$error":"#REF!"}},{"$f":"Stückliste!#REF!","v":{"$error":"#REF!"}},{"$f":"Stückliste!#REF!","v":{"$error":"#REF!"}},{"$f":"Stückliste!#REF!","v":{"$error":"#REF!"}},{"$f":"Stückliste!#REF!","v":{"$error":"#REF!"}},{"$f":"Stückliste!#REF!","v":{"$error":"#REF!"}},{"$f":"Stückliste!#REF!","v":{"$error":"#REF!"}},{"$f":"Stückliste!#REF!","v":{"$error":"#REF!"}},{"$f":"Stückliste!#REF!","v":{"$error":"#REF!"}},{"$f":"Stückliste!#REF!","v":{"$error":"#REF!"}},{"$f":"Stückliste!#REF!","v":{"$error":"#REF!"}},{"$f":"Stückliste!#REF!","v":{"$error":"#REF!"}},{"$f":"Stückliste!#REF!","v":{"$error":"#REF!"}},{"$f":"Stückliste!#REF!","v":{"$error":"#REF!"}},{"$f":"Stückliste!#REF!","v":{"$error":"#REF!"}},{"$f":"Stückliste!#REF!","v":{"$error":"#REF!"}},{"$f":"Stückliste!#REF!","v":{"$error":"#REF!"}}]
[0,0,8,{"$f":"Stückliste!#REF!","v":{"$error":"#REF!"}},{"$f":"Stückliste!#REF!","v":{"$error":"#REF!"}},{"$f":"Stückliste!#REF!","v":{"$error":"#REF!"}},{"$f":"Stückliste!#REF!","v":{"$error":"#REF!"}},{"$f":"Stückliste!#REF!","v":{"$error":"#REF!"}},{"$f":"Stückliste!#REF!","v":{"$error":"#REF!"}},{"$f":"Stückliste!#REF!","v":{"$error":"#REF!"}},{"$f":"Stückliste!#REF!","v":{"$error":"#REF!"}},{"$f":"Stückliste!#REF!","v":{"$error":"#REF!"}},{"$f":"Stückliste!#REF!","v":{"$error":"#REF!"}},{"$f":"Stückliste!#REF!","v":{"$error":"#REF!"}},{"$f":"Stückliste!#REF!","v":{"$error":"#REF!"}},{"$f":"Stückliste!#REF!","v":{"$error":"#REF!"}},{"$f":"Stückliste!#REF!","v":{"$error":"#REF!"}},{"$f":"Stückliste!#REF!","v":{"$error":"#REF!"}},{"$f":"Stückliste!#REF!","v":{"$error":"#REF!"}},{"$f":"Stückliste!#REF!","v":{"$error":"#REF!"}},{"$f":"Stückliste!#REF!","v":{"$error":"#REF!"}},{"$f":"Stückliste!#REF!","v":{"$error":"#REF!"}},{"$f":"Stückliste!#REF!","v":{"$error":"#REF!"}}]
[0,0,8,{"$f":"Stückliste!#REF!","v":{"$error":"#REF!"}},{"$f":"Stückliste!#REF!","v":{"$error":"#REF!"}},{"$f":"Stückliste!#REF!","v":{"$error":"#REF!"}},{"$f":"Stückliste!#REF!","v":{"$error":"#REF!"}},{"$f":"Stückliste!#REF!","v":{"$error":"#REF!"}},{"$f":"Stückliste!#REF!","v":{"$error":"#REF!"}},{"$f":"Stückliste!#REF!","v":{"$error":"#REF!"}},{"$f":"Stückliste!#REF!","v":{"$error":"#REF!"}},{"$f":"Stückliste!#REF!","v":{"$error":"#REF!"}},{"$f":"Stückliste!#REF!","v":{"$error":"#REF!"}},{"$f":"Stückliste!#REF!","v":{"$error":"#REF!"}},{"$f":"Stückliste!#REF!","v":{"$error":"#REF!"}},{"$f":"Stückliste!#REF!","v":{"$error":"#REF!"}},{"$f":"Stückliste!#REF!","v":{"$error":"#REF!"}},{"$f":"Stückliste!#REF!","v":{"$error":"#REF!"}},{"$f":"Stückliste!#REF!","v":{"$error":"#REF!"}},{"$f":"Stückliste!#REF!","v":{"$error":"#REF!"}},{"$f":"Stückliste!#REF!","v":{"$error":"#REF!"}},{"$f":"Stückliste!#REF!","v":{"$error":"#REF!"}},{"$f":"Stückliste!#REF!","v":{"$error":"#REF!"}}]
[0,0,8,{"$f":"Stückliste!#REF!","v":{"$error":"#REF!"}},{"$f":"Stückliste!#REF!","v":{"$error":"#REF!"}},{"$f":"Stückliste!#REF!","v":{"$error":"#REF!"}},{"$f":"Stückliste!#REF!","v":{"$error":"#REF!"}},{"$f":"Stückliste!#REF!","v":{"$error":"#REF!"}},{"$f":"Stückliste!#REF!","v":{"$error":"#REF!"}},{"$f":"Stückliste!#REF!","v":{"$error":"#REF!"}},{"$f":"Stückliste!#REF!","v":{"$error":"#REF!"}},{"$f":"Stückliste!#REF!","v":{"$error":"#REF!"}},{"$f":"Stückliste!#REF!","v":{"$error":"#REF!"}},{"$f":"Stückliste!#REF!","v":{"$error":"#REF!"}},{"$f":"Stückliste!#REF!","v":{"$error":"#REF!"}},{"$f":"Stückliste!#REF!","v":{"$error":"#REF!"}},{"$f":"Stückliste!#REF!","v":{"$error":"#REF!"}},{"$f":"Stückliste!#REF!","v":{"$error":"#REF!"}},{"$f":"Stückliste!#REF!","v":{"$error":"#REF!"}},{"$f":"Stückliste!#REF!","v":{"$error":"#REF!"}},{"$f":"Stückliste!#REF!","v":{"$error":"#REF!"}},{"$f":"Stückliste!#REF!","v":{"$error":"#REF!"}},{"$f":"Stückliste!#REF!","v":{"$error":"#REF!"}}]
[0,0,8,{"$f":"Stückliste!#REF!","v":{"$error":"#REF!"}},{"$f":"Stückliste!#REF!","v":{"$error":"#REF!"}},{"$f":"Stückliste!#REF!","v":{"$error":"#REF!"}},{"$f":"Stückliste!#REF!","v":{"$error":"#REF!"}},{"$f":"Stückliste!#REF!","v":{"$error":"#REF!"}},{"$f":"Stückliste!#REF!","v":{"$error":"#REF!"}},{"$f":"Stückliste!#REF!","v":{"$error":"#REF!"}},{"$f":"Stückliste!#REF!","v":{"$error":"#REF!"}},{"$f":"Stückliste!#REF!","v":{"$error":"#REF!"}},{"$f":"Stückliste!#REF!","v":{"$error":"#REF!"}},{"$f":"Stückliste!#REF!","v":{"$error":"#REF!"}},{"$f":"Stückliste!#REF!","v":{"$error":"#REF!"}},{"$f":"Stückliste!#REF!","v":{"$error":"#REF!"}},{"$f":"Stückliste!#REF!","v":{"$error":"#REF!"}},{"$f":"Stückliste!#REF!","v":{"$error":"#REF!"}},{"$f":"Stückliste!#REF!","v":{"$error":"#REF!"}},{"$f":"Stückliste!#REF!","v":{"$error":"#REF!"}},{"$f":"Stückliste!#REF!","v":{"$error":"#REF!"}},{"$f":"Stückliste!#REF!","v":{"$error":"#REF!"}},{"$f":"Stückliste!#REF!","v":{"$error":"#REF!"}}]
[0,0,8,{"$f":"Stückliste!#REF!","v":{"$error":"#REF!"}},{"$f":"Stückliste!#REF!","v":{"$error":"#REF!"}},{"$f":"Stückliste!#REF!","v":{"$error":"#REF!"}},{"$f":"Stückliste!#REF!","v":{"$error":"#REF!"}},{"$f":"Stückliste!#REF!","v":{"$error":"#REF!"}},{"$f":"Stückliste!#REF!","v":{"$error":"#REF!"}},{"$f":"Stückliste!#REF!","v":{"$error":"#REF!"}},{"$f":"Stückliste!#REF!","v":{"$error":"#REF!"}},{"$f":"Stückliste!#REF!","v":{"$error":"#REF!"}},{"$f":"Stückliste!#REF!","v":{"$error":"#REF!"}},{"$f":"Stückliste!#REF!","v":{"$error":"#REF!"}},{"$f":"Stückliste!#REF!","v":{"$error":"#REF!"}},{"$f":"Stückliste!#REF!","v":{"$error":"#REF!"}},{"$f":"Stückliste!#REF!","v":{"$error":"#REF!"}},{"$f":"Stückliste!#REF!","v":{"$error":"#REF!"}},{"$f":"Stückliste!#REF!","v":{"$error":"#REF!"}},{"$f":"Stückliste!#REF!","v":{"$error":"#REF!"}},{"$f":"Stückliste!#REF!","v":{"$error":"#REF!"}},{"$f":"Stückliste!#REF!","v":{"$error":"#REF!"}},{"$f":"Stückliste!#REF!","v":{"$error":"#REF!"}}]
[0,0,8,{"$f":"Stückliste!#REF!","v":{"$error":"#REF!"}},{"$f":"Stückliste!#REF!","v":{"$error":"#REF!"}},{"$f":"Stückliste!#REF!","v":{"$error":"#REF!"}},{"$f":"Stückliste!#REF!","v":{"$error":"#REF!"}},{"$f":"Stückliste!#REF!","v":{"$error":"#REF!"}},{"$f":"Stückliste!#REF!","v":{"$error":"#REF!"}},{"$f":"Stückliste!#REF!","v":{"$error":"#REF!"}},{"$f":"Stückliste!#REF!","v":{"$error":"#REF!"}},{"$f":"Stückliste!#REF!","v":{"$error":"#REF!"}},{"$f":"Stückliste!#REF!","v":{"$error":"#REF!"}},{"$f":"Stückliste!#REF!","v":{"$error":"#REF!"}},{"$f":"Stückliste!#REF!","v":{"$error":"#REF!"}},{"$f":"Stückliste!#REF!","v":{"$error":"#REF!"}},{"$f":"Stückliste!#REF!","v":{"$error":"#REF!"}},{"$f":"Stückliste!#REF!","v":{"$error":"#REF!"}},{"$f":"Stückliste!#REF!","v":{"$error":"#REF!"}},{"$f":"Stückliste!#REF!","v":{"$error":"#REF!"}},{"$f":"Stückliste!#REF!","v":{"$error":"#REF!"}},{"$f":"Stückliste!#REF!","v":{"$error":"#REF!"}},{"$f":"Stückliste!#REF!","v":{"$error":"#REF!"}}]
[0,0,8,{"$f":"Stückliste!#REF!","v":{"$error":"#REF!"}},{"$f":"Stückliste!#REF!","v":{"$error":"#REF!"}},{"$f":"Stückliste!#REF!","v":{"$error":"#REF!"}},{"$f":"Stückliste!#REF!","v":{"$error":"#REF!"}},{"$f":"Stückliste!#REF!","v":{"$error":"#REF!"}},{"$f":"Stückliste!#REF!","v":{"$error":"#REF!"}},{"$f":"Stückliste!#REF!","v":{"$error":"#REF!"}},{"$f":"Stückliste!#REF!","v":{"$error":"#REF!"}},{"$f":"Stückliste!#REF!","v":{"$error":"#REF!"}},{"$f":"Stückliste!#REF!","v":{"$error":"#REF!"}},{"$f":"Stückliste!#REF!","v":{"$error":"#REF!"}},{"$f":"Stückliste!#REF!","v":{"$error":"#REF!"}},{"$f":"Stückliste!#REF!","v":{"$error":"#REF!"}},{"$f":"Stückliste!#REF!","v":{"$error":"#REF!"}},{"$f":"Stückliste!#REF!","v":{"$error":"#REF!"}},{"$f":"Stückliste!#REF!","v":{"$error":"#REF!"}},{"$f":"Stückliste!#REF!","v":{"$error":"#REF!"}},{"$f":"Stückliste!#REF!","v":{"$error":"#REF!"}},{"$f":"Stückliste!#REF!","v":{"$error":"#REF!"}},{"$f":"Stückliste!#REF!","v":{"$error":"#REF!"}}]
[0,0,8,{"$f":"Stückliste!#REF!","v":{"$error":"#REF!"}},{"$f":"Stückliste!#REF!","v":{"$error":"#REF!"}},{"$f":"Stückliste!#REF!","v":{"$error":"#REF!"}},{"$f":"Stückliste!#REF!","v":{"$error":"#REF!"}},{"$f":"Stückliste!#REF!","v":{"$error":"#REF!"}},{"$f":"Stückliste!#REF!","v":{"$error":"#REF!"}},{"$f":"Stückliste!#REF!","v":{"$error":"#REF!"}},{"$f":"Stückliste!#REF!","v":{"$error":"#REF!"}},{"$f":"Stückliste!#REF!","v":{"$error":"#REF!"}},{"$f":"Stückliste!#REF!","v":{"$error":"#REF!"}},{"$f":"Stückliste!#REF!","v":{"$error":"#REF!"}},{"$f":"Stückliste!#REF!","v":{"$error":"#REF!"}},{"$f":"Stückliste!#REF!","v":{"$error":"#REF!"}},{"$f":"Stückliste!#REF!","v":{"$error":"#REF!"}},{"$f":"Stückliste!#REF!","v":{"$error":"#REF!"}},{"$f":"Stückliste!#REF!","v":{"$error":"#REF!"}},{"$f":"Stückliste!#REF!","v":{"$error":"#REF!"}},{"$f":"Stückliste!#REF!","v":{"$error":"#REF!"}},{"$f":"Stückliste!#REF!","v":{"$error":"#REF!"}},{"$f":"Stückliste!#REF!","v":{"$error":"#REF!"}}]
[0,0,8,{"$f":"Stückliste!#REF!","v":{"$error":"#REF!"}},{"$f":"Stückliste!#REF!","v":{"$error":"#REF!"}},{"$f":"Stückliste!#REF!","v":{"$error":"#REF!"}},{"$f":"Stückliste!#REF!","v":{"$error":"#REF!"}},{"$f":"Stückliste!#REF!","v":{"$error":"#REF!"}},{"$f":"Stückliste!#REF!","v":{"$error":"#REF!"}},{"$f":"Stückliste!#REF!","v":{"$error":"#REF!"}},{"$f":"Stückliste!#REF!","v":{"$error":"#REF!"}},{"$f":"Stückliste!#REF!","v":{"$error":"#REF!"}},{"$f":"Stückliste!#REF!","v":{"$error":"#REF!"}},{"$f":"Stückliste!#REF!","v":{"$error":"#REF!"}},{"$f":"Stückliste!#REF!","v":{"$error":"#REF!"}},{"$f":"Stückliste!#REF!","v":{"$error":"#REF!"}},{"$f":"Stückliste!#REF!","v":{"$error":"#REF!"}},{"$f":"Stückliste!#REF!","v":{"$error":"#REF!"}},{"$f":"Stückliste!#REF!","v":{"$error":"#REF!"}},{"$f":"Stückliste!#REF!","v":{"$error":"#REF!"}},{"$f":"Stückliste!#REF!","v":{"$error":"#REF!"}},{"$f":"Stückliste!#REF!","v":{"$error":"#REF!"}},{"$f":"Stückliste!#REF!","v":{"$error":"#REF!"}}]
[0,0,8,{"$f":"Stückliste!#REF!","v":{"$error":"#REF!"}},{"$f":"Stückliste!#REF!","v":{"$error":"#REF!"}},{"$f":"Stückliste!#REF!","v":{"$error":"#REF!"}},{"$f":"Stückliste!#REF!","v":{"$error":"#REF!"}},{"$f":"Stückliste!#REF!","v":{"$error":"#REF!"}},{"$f":"Stückliste!#REF!","v":{"$error":"#REF!"}},{"$f":"Stückliste!#REF!","v":{"$error":"#REF!"}},{"$f":"Stückliste!#REF!","v":{"$error":"#REF!"}},{"$f":"Stückliste!#REF!","v":{"$error":"#REF!"}},{"$f":"Stückliste!#REF!","v":{"$error":"#REF!"}},{"$f":"Stückliste!#REF!","v":{"$error":"#REF!"}},{"$f":"Stückliste!#REF!","v":{"$error":"#REF!"}},{"$f":"Stückliste!#REF!","v":{"$error":"#REF!"}},{"$f":"Stückliste!#REF!","v":{"$error":"#REF!"}},{"$f":"Stückliste!#REF!","v":{"$error":"#REF!"}},{"$f":"Stückliste!#REF!","v":{"$error":"#REF!"}},{"$f":"Stückliste!#REF!","v":{"$error":"#REF!"}},{"$f":"Stückliste!#REF!","v":{"$error":"#REF!"}},{"$f":"Stückliste!#REF!","v":{"$error":"#REF!"}},{"$f":"Stückliste!#REF!","v":{"$error":"#REF!"}}]
[0,0,8,{"$f":"Stückliste!#REF!","v":{"$error":"#REF!"}},{"$f":"Stückliste!#REF!","v":{"$error":"#REF!"}},{"$f":"Stückliste!#REF!","v":{"$error":"#REF!"}},{"$f":"Stückliste!#REF!","v":{"$error":"#REF!"}},{"$f":"Stückliste!#REF!","v":{"$error":"#REF!"}},{"$f":"Stückliste!#REF!","v":{"$error":"#REF!"}},{"$f":"Stückliste!#REF!","v":{"$error":"#REF!"}},{"$f":"Stückliste!#REF!","v":{"$error":"#REF!"}},{"$f":"Stückliste!#REF!","v":{"$error":"#REF!"}},{"$f":"Stückliste!#REF!","v":{"$error":"#REF!"}},{"$f":"Stückliste!#REF!","v":{"$error":"#REF!"}},{"$f":"Stückliste!#REF!","v":{"$error":"#REF!"}},{"$f":"Stückliste!#REF!","v":{"$error":"#REF!"}},{"$f":"Stückliste!#REF!","v":{"$error":"#REF!"}},{"$f":"Stückliste!#REF!","v":{"$error":"#REF!"}},{"$f":"Stückliste!#REF!","v":{"$error":"#REF!"}},{"$f":"Stückliste!#REF!","v":{"$error":"#REF!"}},{"$f":"Stückliste!#REF!","v":{"$error":"#REF!"}},{"$f":"Stückliste!#REF!","v":{"$error":"#REF!"}},{"$f":"Stückliste!#REF!","v":{"$error":"#REF!"}}]
[0,0,8,{"$f":"Stückliste!#REF!","v":{"$error":"#REF!"}},{"$f":"Stückliste!#REF!","v":{"$error":"#REF!"}},{"$f":"Stückliste!#REF!","v":{"$error":"#REF!"}},{"$f":"Stückliste!#REF!","v":{"$error":"#REF!"}},{"$f":"Stückliste!#REF!","v":{"$error":"#REF!"}},{"$f":"Stückliste!#REF!","v":{"$error":"#REF!"}},{"$f":"Stückliste!#REF!","v":{"$error":"#REF!"}},{"$f":"Stückliste!#REF!","v":{"$error":"#REF!"}},{"$f":"Stückliste!#REF!","v":{"$error":"#REF!"}},{"$f":"Stückliste!#REF!","v":{"$error":"#REF!"}},{"$f":"Stückliste!#REF!","v":{"$error":"#REF!"}},{"$f":"Stückliste!#REF!","v":{"$error":"#REF!"}},{"$f":"Stückliste!#REF!","v":{"$error":"#REF!"}},{"$f":"Stückliste!#REF!","v":{"$error":"#REF!"}},{"$f":"Stückliste!#REF!","v":{"$error":"#REF!"}},{"$f":"Stückliste!#REF!","v":{"$error":"#REF!"}},{"$f":"Stückliste!#REF!","v":{"$error":"#REF!"}},{"$f":"Stückliste!#REF!","v":{"$error":"#REF!"}},{"$f":"Stückliste!#REF!","v":{"$error":"#REF!"}},{"$f":"Stückliste!#REF!","v":{"$error":"#REF!"}}]
[0,0,8,{"$f":"Stückliste!#REF!","v":{"$error":"#REF!"}},{"$f":"Stückliste!#REF!","v":{"$error":"#REF!"}},{"$f":"Stückliste!#REF!","v":{"$error":"#REF!"}},{"$f":"Stückliste!#REF!","v":{"$error":"#REF!"}},{"$f":"Stückliste!#REF!","v":{"$error":"#REF!"}},{"$f":"Stückliste!#REF!","v":{"$error":"#REF!"}},{"$f":"Stückliste!#REF!","v":{"$error":"#REF!"}},{"$f":"Stückliste!#REF!","v":{"$error":"#REF!"}},{"$f":"Stückliste!#REF!","v":{"$error":"#REF!"}},{"$f":"Stückliste!#REF!","v":{"$error":"#REF!"}},{"$f":"Stückliste!#REF!","v":{"$error":"#REF!"}},{"$f":"Stückliste!#REF!","v":{"$error":"#REF!"}},{"$f":"Stückliste!#REF!","v":{"$error":"#REF!"}},{"$f":"Stückliste!#REF!","v":{"$error":"#REF!"}},{"$f":"Stückliste!#REF!","v":{"$error":"#REF!"}},{"$f":"Stückliste!#REF!","v":{"$error":"#REF!"}},{"$f":"Stückliste!#REF!","v":{"$error":"#REF!"}},{"$f":"Stückliste!#REF!","v":{"$error":"#REF!"}},{"$f":"Stückliste!#REF!","v":{"$error":"#REF!"}},{"$f":"Stückliste!#REF!","v":{"$error":"#REF!"}}]
[0,0,8,{"$f":"Stückliste!#REF!","v":{"$error":"#REF!"}},{"$f":"Stückliste!#REF!","v":{"$error":"#REF!"}},{"$f":"Stückliste!#REF!","v":{"$error":"#REF!"}},{"$f":"Stückliste!#REF!","v":{"$error":"#REF!"}},{"$f":"Stückliste!#REF!","v":{"$error":"#REF!"}},{"$f":"Stückliste!#REF!","v":{"$error":"#REF!"}},{"$f":"Stückliste!#REF!","v":{"$error":"#REF!"}},{"$f":"Stückliste!#REF!","v":{"$error":"#REF!"}},{"$f":"Stückliste!#REF!","v":{"$error":"#REF!"}},{"$f":"Stückliste!#REF!","v":{"$error":"#REF!"}},{"$f":"Stückliste!#REF!","v":{"$error":"#REF!"}},{"$f":"Stückliste!#REF!","v":{"$error":"#REF!"}},{"$f":"Stückliste!#REF!","v":{"$error":"#REF!"}},{"$f":"Stückliste!#REF!","v":{"$error":"#REF!"}},{"$f":"Stückliste!#REF!","v":{"$error":"#REF!"}},{"$f":"Stückliste!#REF!","v":{"$error":"#REF!"}},{"$f":"Stückliste!#REF!","v":{"$error":"#REF!"}},{"$f":"Stückliste!#REF!","v":{"$error":"#REF!"}},{"$f":"Stückliste!#REF!","v":{"$error":"#REF!"}},{"$f":"Stückliste!#REF!","v":{"$error":"#REF!"}}]
[0,0,8,{"$f":"Stückliste!#REF!","v":{"$error":"#REF!"}},{"$f":"Stückliste!#REF!","v":{"$error":"#REF!"}},{"$f":"Stückliste!#REF!","v":{"$error":"#REF!"}},{"$f":"Stückliste!#REF!","v":{"$error":"#REF!"}},{"$f":"Stückliste!#REF!","v":{"$error":"#REF!"}},{"$f":"Stückliste!#REF!","v":{"$error":"#REF!"}},{"$f":"Stückliste!#REF!","v":{"$error":"#REF!"}},{"$f":"Stückliste!#REF!","v":{"$error":"#REF!"}},{"$f":"Stückliste!#REF!","v":{"$error":"#REF!"}},{"$f":"Stückliste!#REF!","v":{"$error":"#REF!"}},{"$f":"Stückliste!#REF!","v":{"$error":"#REF!"}},{"$f":"Stückliste!#REF!","v":{"$error":"#REF!"}},{"$f":"Stückliste!#REF!","v":{"$error":"#REF!"}},{"$f":"Stückliste!#REF!","v":{"$error":"#REF!"}},{"$f":"Stückliste!#REF!","v":{"$error":"#REF!"}},{"$f":"Stückliste!#REF!","v":{"$error":"#REF!"}},{"$f":"Stückliste!#REF!","v":{"$error":"#REF!"}},{"$f":"Stückliste!#REF!","v":{"$error":"#REF!"}},{"$f":"Stückliste!#REF!","v":{"$error":"#REF!"}},{"$f":"Stückliste!#REF!","v":{"$error":"#REF!"}}]
[0,0,8,{"$f":"Stückliste!#REF!","v":{"$error":"#REF!"}},{"$f":"Stückliste!#REF!","v":{"$error":"#REF!"}},{"$f":"Stückliste!#REF!","v":{"$error":"#REF!"}},{"$f":"Stückliste!#REF!","v":{"$error":"#REF!"}},{"$f":"Stückliste!#REF!","v":{"$error":"#REF!"}},{"$f":"Stückliste!#REF!","v":{"$error":"#REF!"}},{"$f":"Stückliste!#REF!","v":{"$error":"#REF!"}},{"$f":"Stückliste!#REF!","v":{"$error":"#REF!"}},{"$f":"Stückliste!#REF!","v":{"$error":"#REF!"}},{"$f":"Stückliste!#REF!","v":{"$error":"#REF!"}},{"$f":"Stückliste!#REF!","v":{"$error":"#REF!"}},{"$f":"Stückliste!#REF!","v":{"$error":"#REF!"}},{"$f":"Stückliste!#REF!","v":{"$error":"#REF!"}},{"$f":"Stückliste!#REF!","v":{"$error":"#REF!"}},{"$f":"Stückliste!#REF!","v":{"$error":"#REF!"}},{"$f":"Stückliste!#REF!","v":{"$error":"#REF!"}},{"$f":"Stückliste!#REF!","v":{"$error":"#REF!"}},{"$f":"Stückliste!#REF!","v":{"$error":"#REF!"}},{"$f":"Stückliste!#REF!","v":{"$error":"#REF!"}},{"$f":"Stückliste!#REF!","v":{"$error":"#REF!"}}]
[0,0,8,{"$f":"Stückliste!#REF!","v":{"$error":"#REF!"}},{"$f":"Stückliste!#REF!","v":{"$error":"#REF!"}},{"$f":"Stückliste!#REF!","v":{"$error":"#REF!"}},{"$f":"Stückliste!#REF!","v":{"$error":"#REF!"}},{"$f":"Stückliste!#REF!","v":{"$error":"#REF!"}},{"$f":"Stückliste!#REF!","v":{"$error":"#REF!"}},{"$f":"Stückliste!#REF!","v":{"$error":"#REF!"}},{"$f":"Stückliste!#REF!","v":{"$error":"#REF!"}},{"$f":"Stückliste!#REF!","v":{"$error":"#REF!"}},{"$f":"Stückliste!#REF!","v":{"$error":"#REF!"}},{"$f":"Stückliste!#REF!","v":{"$error":"#REF!"}},{"$f":"Stückliste!#REF!","v":{"$error":"#REF!"}},{"$f":"Stückliste!#REF!","v":{"$error":"#REF!"}},{"$f":"Stückliste!#REF!","v":{"$error":"#REF!"}},{"$f":"Stückliste!#REF!","v":{"$error":"#REF!"}},{"$f":"Stückliste!#REF!","v":{"$error":"#REF!"}},{"$f":"Stückliste!#REF!","v":{"$error":"#REF!"}},{"$f":"Stückliste!#REF!","v":{"$error":"#REF!"}},{"$f":"Stückliste!#REF!","v":{"$error":"#REF!"}},{"$f":"Stückliste!#REF!","v":{"$error":"#REF!"}}]
[0,0,8,{"$f":"Stückliste!#REF!","v":{"$error":"#REF!"}},{"$f":"Stückliste!#REF!","v":{"$error":"#REF!"}},{"$f":"Stückliste!#REF!","v":{"$error":"#REF!"}},{"$f":"Stückliste!#REF!","v":{"$error":"#REF!"}},{"$f":"Stückliste!#REF!","v":{"$error":"#REF!"}},{"$f":"Stückliste!#REF!","v":{"$error":"#REF!"}},{"$f":"Stückliste!#REF!","v":{"$error":"#REF!"}},{"$f":"Stückliste!#REF!","v":{"$error":"#REF!"}},{"$f":"Stückliste!#REF!","v":{"$error":"#REF!"}},{"$f":"Stückliste!#REF!","v":{"$error":"#REF!"}},{"$f":"Stückliste!#REF!","v":{"$error":"#REF!"}},{"$f":"Stückliste!#REF!","v":{"$error":"#REF!"}},{"$f":"Stückliste!#REF!","v":{"$error":"#REF!"}},{"$f":"Stückliste!#REF!","v":{"$error":"#REF!"}},{"$f":"Stückliste!#REF!","v":{"$error":"#REF!"}},{"$f":"Stückliste!#REF!","v":{"$error":"#REF!"}},{"$f":"Stückliste!#REF!","v":{"$error":"#REF!"}},{"$f":"Stückliste!#REF!","v":{"$error":"#REF!"}},{"$f":"Stückliste!#REF!","v":{"$error":"#REF!"}},{"$f":"Stückliste!#REF!","v":{"$error":"#REF!"}}]
[0,0,8,{"$f":"Stückliste!#REF!","v":{"$error":"#REF!"}},{"$f":"Stückliste!#REF!","v":{"$error":"#REF!"}},{"$f":"Stückliste!#REF!","v":{"$error":"#REF!"}},{"$f":"Stückliste!#REF!","v":{"$error":"#REF!"}},{"$f":"Stückliste!#REF!","v":{"$error":"#REF!"}},{"$f":"Stückliste!#REF!","v":{"$error":"#REF!"}},{"$f":"Stückliste!#REF!","v":{"$error":"#REF!"}},{"$f":"Stückliste!#REF!","v":{"$error":"#REF!"}},{"$f":"Stückliste!#REF!","v":{"$error":"#REF!"}},{"$f":"Stückliste!#REF!","v":{"$error":"#REF!"}},{"$f":"Stückliste!#REF!","v":{"$error":"#REF!"}},{"$f":"Stückliste!#REF!","v":{"$error":"#REF!"}},{"$f":"Stückliste!#REF!","v":{"$error":"#REF!"}},{"$f":"Stückliste!#REF!","v":{"$error":"#REF!"}},{"$f":"Stückliste!#REF!","v":{"$error":"#REF!"}},{"$f":"Stückliste!#REF!","v":{"$error":"#REF!"}},{"$f":"Stückliste!#REF!","v":{"$error":"#REF!"}},{"$f":"Stückliste!#REF!","v":{"$error":"#REF!"}},{"$f":"Stückliste!#REF!","v":{"$error":"#REF!"}},{"$f":"Stückliste!#REF!","v":{"$error":"#REF!"}}]
[0,0,8,{"$f":"Stückliste!#REF!","v":{"$error":"#REF!"}},{"$f":"Stückliste!#REF!","v":{"$error":"#REF!"}},{"$f":"Stückliste!#REF!","v":{"$error":"#REF!"}},{"$f":"Stückliste!#REF!","v":{"$error":"#REF!"}},{"$f":"Stückliste!#REF!","v":{"$error":"#REF!"}},{"$f":"Stückliste!#REF!","v":{"$error":"#REF!"}},{"$f":"Stückliste!#REF!","v":{"$error":"#REF!"}},{"$f":"Stückliste!#REF!","v":{"$error":"#REF!"}},{"$f":"Stückliste!#REF!","v":{"$error":"#REF!"}},{"$f":"Stückliste!#REF!","v":{"$error":"#REF!"}},{"$f":"Stückliste!#REF!","v":{"$error":"#REF!"}},{"$f":"Stückliste!#REF!","v":{"$error":"#REF!"}},{"$f":"Stückliste!#REF!","v":{"$error":"#REF!"}},{"$f":"Stückliste!#REF!","v":{"$error":"#REF!"}},{"$f":"Stückliste!#REF!","v":{"$error":"#REF!"}},{"$f":"Stückliste!#REF!","v":{"$error":"#REF!"}},{"$f":"Stückliste!#REF!","v":{"$error":"#REF!"}},{"$f":"Stückliste!#REF!","v":{"$error":"#REF!"}},{"$f":"Stückliste!#REF!","v":{"$error":"#REF!"}},{"$f":"Stückliste!#REF!","v":{"$error":"#REF!"}}]
[0,0,8,{"$f":"Stückliste!#REF!","v":{"$error":"#REF!"}},{"$f":"Stückliste!#REF!","v":{"$error":"#REF!"}},{"$f":"Stückliste!#REF!","v":{"$error":"#REF!"}},{"$f":"Stückliste!#REF!","v":{"$error":"#REF!"}},{"$f":"Stückliste!#REF!","v":{"$error":"#REF!"}},{"$f":"Stückliste!#REF!","v":{"$error":"#REF!"}},{"$f":"Stückliste!#REF!","v":{"$error":"#REF!"}},{"$f":"Stückliste!#REF!","v":{"$error":"#REF!"}},{"$f":"Stückliste!#REF!","v":{"$error":"#REF!"}},{"$f":"Stückliste!#REF!","v":{"$error":"#REF!"}},{"$f":"Stückliste!#REF!","v":{"$error":"#REF!"}},{"$f":"Stückliste!#REF!","v":{"$error":"#REF!"}},{"$f":"Stückliste!#REF!","v":{"$error":"#REF!"}},{"$f":"Stückliste!#REF!","v":{"$error":"#REF!"}},{"$f":"Stückliste!#REF!","v":{"$error":"#REF!"}},{"$f":"Stückliste!#REF!","v":{"$error":"#REF!"}},{"$f":"Stückliste!#REF!","v":{"$error":"#REF!"}},{"$f":"Stückliste!#REF!","v":{"$error":"#REF!"}},{"$f":"Stückliste!#REF!","v":{"$error":"#REF!"}},{"$f":"Stückliste!#REF!","v":{"$error":"#REF!"}}]
[0,0,{"$f":"C68","v":8},{"$f":"Stückliste!#REF!","v":{"$error":"#REF!"}},{"$f":"Stückliste!#REF!","v":{"$error":"#REF!"}},{"$f":"Stückliste!#REF!","v":{"$error":"#REF!"}},{"$f":"Stückliste!#REF!","v":{"$error":"#REF!"}},{"$f":"Stückliste!#REF!","v":{"$error":"#REF!"}},{"$f":"Stückliste!#REF!","v":{"$error":"#REF!"}},{"$f":"Stückliste!#REF!","v":{"$error":"#REF!"}},{"$f":"Stückliste!#REF!","v":{"$error":"#REF!"}},{"$f":"Stückliste!#REF!","v":{"$error":"#REF!"}},{"$f":"Stückliste!#REF!","v":{"$error":"#REF!"}},{"$f":"Stückliste!#REF!","v":{"$error":"#REF!"}},{"$f":"Stückliste!#REF!","v":{"$error":"#REF!"}},{"$f":"Stückliste!#REF!","v":{"$error":"#REF!"}},{"$f":"Stückliste!#REF!","v":{"$error":"#REF!"}},{"$f":"Stückliste!#REF!","v":{"$error":"#REF!"}},{"$f":"Stückliste!#REF!","v":{"$error":"#REF!"}},{"$f":"Stückliste!#REF!","v":{"$error":"#REF!"}},{"$f":"Stückliste!#REF!","v":{"$error":"#REF!"}},{"$f":"Stückliste!#REF!","v":{"$error":"#REF!"}},{"$f":"Stückliste!#REF!","v":{"$error":"#REF!"}}]
[0,0,8,{"$f":"Stückliste!#REF!","v":{"$error":"#REF!"}},{"$f":"Stückliste!#REF!","v":{"$error":"#REF!"}},{"$f":"Stückliste!#REF!","v":{"$error":"#REF!"}},{"$f":"Stückliste!#REF!","v":{"$error":"#REF!"}},{"$f":"Stückliste!#REF!","v":{"$error":"#REF!"}},{"$f":"Stückliste!#REF!","v":{"$error":"#REF!"}},{"$f":"Stückliste!#REF!","v":{"$error":"#REF!"}},{"$f":"Stückliste!#REF!","v":{"$error":"#REF!"}},{"$f":"Stückliste!#REF!","v":{"$error":"#REF!"}},{"$f":"Stückliste!#REF!","v":{"$error":"#REF!"}},{"$f":"Stückliste!#REF!","v":{"$error":"#REF!"}},{"$f":"Stückliste!#REF!","v":{"$error":"#REF!"}},{"$f":"Stückliste!#REF!","v":{"$error":"#REF!"}},{"$f":"Stückliste!#REF!","v":{"$error":"#REF!"}},{"$f":"Stückliste!#REF!","v":{"$error":"#REF!"}},{"$f":"Stückliste!#REF!","v":{"$error":"#REF!"}},{"$f":"Stückliste!#REF!","v":{"$error":"#REF!"}},{"$f":"Stückliste!#REF!","v":{"$error":"#REF!"}},{"$f":"Stückliste!#REF!","v":{"$error":"#REF!"}},{"$f":"Stückliste!#REF!","v":{"$error":"#REF!"}}]
[0,0,8,{"$f":"Stückliste!#REF!","v":{"$error":"#REF!"}},{"$f":"Stückliste!#REF!","v":{"$error":"#REF!"}},{"$f":"Stückliste!#REF!","v":{"$error":"#REF!"}},{"$f":"Stückliste!#REF!","v":{"$error":"#REF!"}},{"$f":"Stückliste!#REF!","v":{"$error":"#REF!"}},{"$f":"Stückliste!#REF!","v":{"$error":"#REF!"}},{"$f":"Stückliste!#REF!","v":{"$error":"#REF!"}},{"$f":"Stückliste!#REF!","v":{"$error":"#REF!"}},{"$f":"Stückliste!#REF!","v":{"$error":"#REF!"}},{"$f":"Stückliste!#REF!","v":{"$error":"#REF!"}},{"$f":"Stückliste!#REF!","v":{"$error":"#REF!"}},{"$f":"Stückliste!#REF!","v":{"$error":"#REF!"}},{"$f":"Stückliste!#REF!","v":{"$error":"#REF!"}},{"$f":"Stückliste!#REF!","v":{"$error":"#REF!"}},{"$f":"Stückliste!#REF!","v":{"$error":"#REF!"}},{"$f":"Stückliste!#REF!","v":{"$error":"#REF!"}},{"$f":"Stückliste!#REF!","v":{"$error":"#REF!"}},{"$f":"Stückliste!#REF!","v":{"$error":"#REF!"}},{"$f":"Stückliste!#REF!","v":{"$error":"#REF!"}},{"$f":"Stückliste!#REF!","v":{"$error":"#REF!"}}]
[0,0,8,{"$f":"Stückliste!#REF!","v":{"$error":"#REF!"}},{"$f":"Stückliste!#REF!","v":{"$error":"#REF!"}},{"$f":"Stückliste!#REF!","v":{"$error":"#REF!"}},{"$f":"Stückliste!#REF!","v":{"$error":"#REF!"}},{"$f":"Stückliste!#REF!","v":{"$error":"#REF!"}},{"$f":"Stückliste!#REF!","v":{"$error":"#REF!"}},{"$f":"Stückliste!#REF!","v":{"$error":"#REF!"}},{"$f":"Stückliste!#REF!","v":{"$error":"#REF!"}},{"$f":"Stückliste!#REF!","v":{"$error":"#REF!"}},{"$f":"Stückliste!#REF!","v":{"$error":"#REF!"}},{"$f":"Stückliste!#REF!","v":{"$error":"#REF!"}},{"$f":"Stückliste!#REF!","v":{"$error":"#REF!"}},{"$f":"Stückliste!#REF!","v":{"$error":"#REF!"}},{"$f":"Stückliste!#REF!","v":{"$error":"#REF!"}},{"$f":"Stückliste!#REF!","v":{"$error":"#REF!"}},{"$f":"Stückliste!#REF!","v":{"$error":"#REF!"}},{"$f":"Stückliste!#REF!","v":{"$error":"#REF!"}},{"$f":"Stückliste!#REF!","v":{"$error":"#REF!"}},{"$f":"Stückliste!#REF!","v":{"$error":"#REF!"}},{"$f":"Stückliste!#REF!","v":{"$error":"#REF!"}}]
[0,0,8,{"$f":"Stückliste!#REF!","v":{"$error":"#REF!"}},{"$f":"Stückliste!#REF!","v":{"$error":"#REF!"}},{"$f":"Stückliste!#REF!","v":{"$error":"#REF!"}},{"$f":"Stückliste!#REF!","v":{"$error":"#REF!"}},{"$f":"Stückliste!#REF!","v":{"$error":"#REF!"}},{"$f":"Stückliste!#REF!","v":{"$error":"#REF!"}},{"$f":"Stückliste!#REF!","v":{"$error":"#REF!"}},{"$f":"Stückliste!#REF!","v":{"$error":"#REF!"}},{"$f":"Stückliste!#REF!","v":{"$error":"#REF!"}},{"$f":"Stückliste!#REF!","v":{"$error":"#REF!"}},{"$f":"Stückliste!#REF!","v":{"$error":"#REF!"}},{"$f":"Stückliste!#REF!","v":{"$error":"#REF!"}},{"$f":"Stückliste!#REF!","v":{"$error":"#REF!"}},{"$f":"Stückliste!#REF!","v":{"$error":"#REF!"}},{"$f":"Stückliste!#REF!","v":{"$error":"#REF!"}},{"$f":"Stückliste!#REF!","v":{"$error":"#REF!"}},{"$f":"Stückliste!#REF!","v":{"$error":"#REF!"}},{"$f":"Stückliste!#REF!","v":{"$error":"#REF!"}},{"$f":"Stückliste!#REF!","v":{"$error":"#REF!"}},{"$f":"Stückliste!#REF!","v":{"$error":"#REF!"}}]
[0,0,8,{"$f":"Stückliste!#REF!","v":{"$error":"#REF!"}},{"$f":"Stückliste!#REF!","v":{"$error":"#REF!"}},{"$f":"Stückliste!#REF!","v":{"$error":"#REF!"}},{"$f":"Stückliste!#REF!","v":{"$error":"#REF!"}},{"$f":"Stückliste!#REF!","v":{"$error":"#REF!"}},{"$f":"Stückliste!#REF!","v":{"$error":"#REF!"}},{"$f":"Stückliste!#REF!","v":{"$error":"#REF!"}},{"$f":"Stückliste!#REF!","v":{"$error":"#REF!"}},{"$f":"Stückliste!#REF!","v":{"$error":"#REF!"}},{"$f":"Stückliste!#REF!","v":{"$error":"#REF!"}},{"$f":"Stückliste!#REF!","v":{"$error":"#REF!"}},{"$f":"Stückliste!#REF!","v":{"$error":"#REF!"}},{"$f":"Stückliste!#REF!","v":{"$error":"#REF!"}},{"$f":"Stückliste!#REF!","v":{"$error":"#REF!"}},{"$f":"Stückliste!#REF!","v":{"$error":"#REF!"}},{"$f":"Stückliste!#REF!","v":{"$error":"#REF!"}},{"$f":"Stückliste!#REF!","v":{"$error":"#REF!"}},{"$f":"Stückliste!#REF!","v":{"$error":"#REF!"}},{"$f":"Stückliste!#REF!","v":{"$error":"#REF!"}},{"$f":"Stückliste!#REF!","v":{"$error":"#REF!"}}]
[0,0,8,{"$f":"Stückliste!#REF!","v":{"$error":"#REF!"}},{"$f":"Stückliste!#REF!","v":{"$error":"#REF!"}},{"$f":"Stückliste!#REF!","v":{"$error":"#REF!"}},{"$f":"Stückliste!#REF!","v":{"$error":"#REF!"}},{"$f":"Stückliste!#REF!","v":{"$error":"#REF!"}},{"$f":"Stückliste!#REF!","v":{"$error":"#REF!"}},{"$f":"Stückliste!#REF!","v":{"$error":"#REF!"}},{"$f":"Stückliste!#REF!","v":{"$error":"#REF!"}},{"$f":"Stückliste!#REF!","v":{"$error":"#REF!"}},{"$f":"Stückliste!#REF!","v":{"$error":"#REF!"}},{"$f":"Stückliste!#REF!","v":{"$error":"#REF!"}},{"$f":"Stückliste!#REF!","v":{"$error":"#REF!"}},{"$f":"Stückliste!#REF!","v":{"$error":"#REF!"}},{"$f":"Stückliste!#REF!","v":{"$error":"#REF!"}},{"$f":"Stückliste!#REF!","v":{"$error":"#REF!"}},{"$f":"Stückliste!#REF!","v":{"$error":"#REF!"}},{"$f":"Stückliste!#REF!","v":{"$error":"#REF!"}},{"$f":"Stückliste!#REF!","v":{"$error":"#REF!"}},{"$f":"Stückliste!#REF!","v":{"$error":"#REF!"}},{"$f":"Stückliste!#REF!","v":{"$error":"#REF!"}}]
[0,0,8,{"$f":"Stückliste!#REF!","v":{"$error":"#REF!"}},{"$f":"Stückliste!#REF!","v":{"$error":"#REF!"}},{"$f":"Stückliste!#REF!","v":{"$error":"#REF!"}},{"$f":"Stückliste!#REF!","v":{"$error":"#REF!"}},{"$f":"Stückliste!#REF!","v":{"$error":"#REF!"}},{"$f":"Stückliste!#REF!","v":{"$error":"#REF!"}},{"$f":"Stückliste!#REF!","v":{"$error":"#REF!"}},{"$f":"Stückliste!#REF!","v":{"$error":"#REF!"}},{"$f":"Stückliste!#REF!","v":{"$error":"#REF!"}},{"$f":"Stückliste!#REF!","v":{"$error":"#REF!"}},{"$f":"Stückliste!#REF!","v":{"$error":"#REF!"}},{"$f":"Stückliste!#REF!","v":{"$error":"#REF!"}},{"$f":"Stückliste!#REF!","v":{"$error":"#REF!"}},{"$f":"Stückliste!#REF!","v":{"$error":"#REF!"}},{"$f":"Stückliste!#REF!","v":{"$error":"#REF!"}},{"$f":"Stückliste!#REF!","v":{"$error":"#REF!"}},{"$f":"Stückliste!#REF!","v":{"$error":"#REF!"}},{"$f":"Stückliste!#REF!","v":{"$error":"#REF!"}},{"$f":"Stückliste!#REF!","v":{"$error":"#REF!"}},{"$f":"Stückliste!#REF!","v":{"$error":"#REF!"}}]
[0,0,8,{"$f":"Stückliste!#REF!","v":{"$error":"#REF!"}},{"$f":"Stückliste!#REF!","v":{"$error":"#REF!"}},{"$f":"Stückliste!#REF!","v":{"$error":"#REF!"}},{"$f":"Stückliste!#REF!","v":{"$error":"#REF!"}},{"$f":"Stückliste!#REF!","v":{"$error":"#REF!"}},{"$f":"Stückliste!#REF!","v":{"$error":"#REF!"}},{"$f":"Stückliste!#REF!","v":{"$error":"#REF!"}},{"$f":"Stückliste!#REF!","v":{"$error":"#REF!"}},{"$f":"Stückliste!#REF!","v":{"$error":"#REF!"}},{"$f":"Stückliste!#REF!","v":{"$error":"#REF!"}},{"$f":"Stückliste!#REF!","v":{"$error":"#REF!"}},{"$f":"Stückliste!#REF!","v":{"$error":"#REF!"}},{"$f":"Stückliste!#REF!","v":{"$error":"#REF!"}},{"$f":"Stückliste!#REF!","v":{"$error":"#REF!"}},{"$f":"Stückliste!#REF!","v":{"$error":"#REF!"}},{"$f":"Stückliste!#REF!","v":{"$error":"#REF!"}},{"$f":"Stückliste!#REF!","v":{"$error":"#REF!"}},{"$f":"Stückliste!#REF!","v":{"$error":"#REF!"}},{"$f":"Stückliste!#REF!","v":{"$error":"#REF!"}},{"$f":"Stückliste!#REF!","v":{"$error":"#REF!"}}]
[0,0,8,{"$f":"Stückliste!#REF!","v":{"$error":"#REF!"}},{"$f":"Stückliste!#REF!","v":{"$error":"#REF!"}},{"$f":"Stückliste!#REF!","v":{"$error":"#REF!"}},{"$f":"Stückliste!#REF!","v":{"$error":"#REF!"}},{"$f":"Stückliste!#REF!","v":{"$error":"#REF!"}},{"$f":"Stückliste!#REF!","v":{"$error":"#REF!"}},{"$f":"Stückliste!#REF!","v":{"$error":"#REF!"}},{"$f":"Stückliste!#REF!","v":{"$error":"#REF!"}},{"$f":"Stückliste!#REF!","v":{"$error":"#REF!"}},{"$f":"Stückliste!#REF!","v":{"$error":"#REF!"}},{"$f":"Stückliste!#REF!","v":{"$error":"#REF!"}},{"$f":"Stückliste!#REF!","v":{"$error":"#REF!"}},{"$f":"Stückliste!#REF!","v":{"$error":"#REF!"}},{"$f":"Stückliste!#REF!","v":{"$error":"#REF!"}},{"$f":"Stückliste!#REF!","v":{"$error":"#REF!"}},{"$f":"Stückliste!#REF!","v":{"$error":"#REF!"}},{"$f":"Stückliste!#REF!","v":{"$error":"#REF!"}},{"$f":"Stückliste!#REF!","v":{"$error":"#REF!"}},{"$f":"Stückliste!#REF!","v":{"$error":"#REF!"}},{"$f":"Stückliste!#REF!","v":{"$error":"#REF!"}}]
[0,0,8,{"$f":"Stückliste!#REF!","v":{"$error":"#REF!"}},{"$f":"Stückliste!#REF!","v":{"$error":"#REF!"}},{"$f":"Stückliste!#REF!","v":{"$error":"#REF!"}},{"$f":"Stückliste!#REF!","v":{"$error":"#REF!"}},{"$f":"Stückliste!#REF!","v":{"$error":"#REF!"}},{"$f":"Stückliste!#REF!","v":{"$error":"#REF!"}},{"$f":"Stückliste!#REF!","v":{"$error":"#REF!"}},{"$f":"Stückliste!#REF!","v":{"$error":"#REF!"}},{"$f":"Stückliste!#REF!","v":{"$error":"#REF!"}},{"$f":"Stückliste!#REF!","v":{"$error":"#REF!"}},{"$f":"Stückliste!#REF!","v":{"$error":"#REF!"}},{"$f":"Stückliste!#REF!","v":{"$error":"#REF!"}},{"$f":"Stückliste!#REF!","v":{"$error":"#REF!"}},{"$f":"Stückliste!#REF!","v":{"$error":"#REF!"}},{"$f":"Stückliste!#REF!","v":{"$error":"#REF!"}},{"$f":"Stückliste!#REF!","v":{"$error":"#REF!"}},{"$f":"Stückliste!#REF!","v":{"$error":"#REF!"}},{"$f":"Stückliste!#REF!","v":{"$error":"#REF!"}},{"$f":"Stückliste!#REF!","v":{"$error":"#REF!"}},{"$f":"Stückliste!#REF!","v":{"$error":"#REF!"}}]
[0,0,8,{"$f":"Stückliste!#REF!","v":{"$error":"#REF!"}},{"$f":"Stückliste!#REF!","v":{"$error":"#REF!"}},{"$f":"Stückliste!#REF!","v":{"$error":"#REF!"}},{"$f":"Stückliste!#REF!","v":{"$error":"#REF!"}},{"$f":"Stückliste!#REF!","v":{"$error":"#REF!"}},{"$f":"Stückliste!#REF!","v":{"$error":"#REF!"}},{"$f":"Stückliste!#REF!","v":{"$error":"#REF!"}},{"$f":"Stückliste!#REF!","v":{"$error":"#REF!"}},{"$f":"Stückliste!#REF!","v":{"$error":"#REF!"}},{"$f":"Stückliste!#REF!","v":{"$error":"#REF!"}},{"$f":"Stückliste!#REF!","v":{"$error":"#REF!"}},{"$f":"Stückliste!#REF!","v":{"$error":"#REF!"}},{"$f":"Stückliste!#REF!","v":{"$error":"#REF!"}},{"$f":"Stückliste!#REF!","v":{"$error":"#REF!"}},{"$f":"Stückliste!#REF!","v":{"$error":"#REF!"}},{"$f":"Stückliste!#REF!","v":{"$error":"#REF!"}},{"$f":"Stückliste!#REF!","v":{"$error":"#REF!"}},{"$f":"Stückliste!#REF!","v":{"$error":"#REF!"}},{"$f":"Stückliste!#REF!","v":{"$error":"#REF!"}},{"$f":"Stückliste!#REF!","v":{"$error":"#REF!"}}]
[0,0,8,{"$f":"Stückliste!#REF!","v":{"$error":"#REF!"}},{"$f":"Stückliste!#REF!","v":{"$error":"#REF!"}},{"$f":"Stückliste!#REF!","v":{"$error":"#REF!"}},{"$f":"Stückliste!#REF!","v":{"$error":"#REF!"}},{"$f":"Stückliste!#REF!","v":{"$error":"#REF!"}},{"$f":"Stückliste!#REF!","v":{"$error":"#REF!"}},{"$f":"Stückliste!#REF!","v":{"$error":"#REF!"}},{"$f":"Stückliste!#REF!","v":{"$error":"#REF!"}},{"$f":"Stückliste!#REF!","v":{"$error":"#REF!"}},{"$f":"Stückliste!#REF!","v":{"$error":"#REF!"}},{"$f":"Stückliste!#REF!","v":{"$error":"#REF!"}},{"$f":"Stückliste!#REF!","v":{"$error":"#REF!"}},{"$f":"Stückliste!#REF!","v":{"$error":"#REF!"}},{"$f":"Stückliste!#REF!","v":{"$error":"#REF!"}},{"$f":"Stückliste!#REF!","v":{"$error":"#REF!"}},{"$f":"Stückliste!#REF!","v":{"$error":"#REF!"}},{"$f":"Stückliste!#REF!","v":{"$error":"#REF!"}},{"$f":"Stückliste!#REF!","v":{"$error":"#REF!"}},{"$f":"Stückliste!#REF!","v":{"$error":"#REF!"}},{"$f":"Stückliste!#REF!","v":{"$error":"#REF!"}}]
[0,0,8,{"$f":"Stückliste!#REF!","v":{"$error":"#REF!"}},{"$f":"Stückliste!#REF!","v":{"$error":"#REF!"}},{"$f":"Stückliste!#REF!","v":{"$error":"#REF!"}},{"$f":"Stückliste!#REF!","v":{"$error":"#REF!"}},{"$f":"Stückliste!#REF!","v":{"$error":"#REF!"}},{"$f":"Stückliste!#REF!","v":{"$error":"#REF!"}},{"$f":"Stückliste!#REF!","v":{"$error":"#REF!"}},{"$f":"Stückliste!#REF!","v":{"$error":"#REF!"}},{"$f":"Stückliste!#REF!","v":{"$error":"#REF!"}},{"$f":"Stückliste!#REF!","v":{"$error":"#REF!"}},{"$f":"Stückliste!#REF!","v":{"$error":"#REF!"}},{"$f":"Stückliste!#REF!","v":{"$error":"#REF!"}},{"$f":"Stückliste!#REF!","v":{"$error":"#REF!"}},{"$f":"Stückliste!#REF!","v":{"$error":"#REF!"}},{"$f":"Stückliste!#REF!","v":{"$error":"#REF!"}},{"$f":"Stückliste!#REF!","v":{"$error":"#REF!"}},{"$f":"Stückliste!#REF!","v":{"$error":"#REF!"}},{"$f":"Stückliste!#REF!","v":{"$error":"#REF!"}},{"$f":"Stückliste!#REF!","v":{"$error":"#REF!"}},{"$f":"Stückliste!#REF!","v":{"$error":"#REF!"}}]
[0,0,8,{"$f":"Stückliste!#REF!","v":{"$error":"#REF!"}},{"$f":"Stückliste!#REF!","v":{"$error":"#REF!"}},{"$f":"Stückliste!#REF!","v":{"$error":"#REF!"}},{"$f":"Stückliste!#REF!","v":{"$error":"#REF!"}},{"$f":"Stückliste!#REF!","v":{"$error":"#REF!"}},{"$f":"Stückliste!#REF!","v":{"$error":"#REF!"}},{"$f":"Stückliste!#REF!","v":{"$error":"#REF!"}},{"$f":"Stückliste!#REF!","v":{"$error":"#REF!"}},{"$f":"Stückliste!#REF!","v":{"$error":"#REF!"}},{"$f":"Stückliste!#REF!","v":{"$error":"#REF!"}},{"$f":"Stückliste!#REF!","v":{"$error":"#REF!"}},{"$f":"Stückliste!#REF!","v":{"$error":"#REF!"}},{"$f":"Stückliste!#REF!","v":{"$error":"#REF!"}},{"$f":"Stückliste!#REF!","v":{"$error":"#REF!"}},{"$f":"Stückliste!#REF!","v":{"$error":"#REF!"}},{"$f":"Stückliste!#REF!","v":{"$error":"#REF!"}},{"$f":"Stückliste!#REF!","v":{"$error":"#REF!"}},{"$f":"Stückliste!#REF!","v":{"$error":"#REF!"}},{"$f":"Stückliste!#REF!","v":{"$error":"#REF!"}},{"$f":"Stückliste!#REF!","v":{"$error":"#REF!"}}]
[{"$f":"A83","v":0},{"$f":"B83","v":0},8,{"$f":"Stückliste!#REF!","v":{"$error":"#REF!"}},{"$f":"Stückliste!#REF!","v":{"$error":"#REF!"}},{"$f":"Stückliste!#REF!","v":{"$error":"#REF!"}},{"$f":"Stückliste!#REF!","v":{"$error":"#REF!"}},{"$f":"Stückliste!#REF!","v":{"$error":"#REF!"}},{"$f":"Stückliste!#REF!","v":{"$error":"#REF!"}},{"$f":"Stückliste!#REF!","v":{"$error":"#REF!"}},{"$f":"Stückliste!#REF!","v":{"$error":"#REF!"}},{"$f":"Stückliste!#REF!","v":{"$error":"#REF!"}},{"$f":"Stückliste!#REF!","v":{"$error":"#REF!"}},{"$f":"Stückliste!#REF!","v":{"$error":"#REF!"}},{"$f":"Stückliste!#REF!","v":{"$error":"#REF!"}},{"$f":"Stückliste!#REF!","v":{"$error":"#REF!"}},{"$f":"Stückliste!#REF!","v":{"$error":"#REF!"}},{"$f":"Stückliste!#REF!","v":{"$error":"#REF!"}},{"$f":"Stückliste!#REF!","v":{"$error":"#REF!"}},{"$f":"Stückliste!#REF!","v":{"$error":"#REF!"}},{"$f":"Stückliste!#REF!","v":{"$error":"#REF!"}},{"$f":"Stückliste!#REF!","v":{"$error":"#REF!"}},{"$f":"Stückliste!#REF!","v":{"$error":"#REF!"}}]
[0,0,8,{"$f":"Stückliste!#REF!","v":{"$error":"#REF!"}},{"$f":"Stückliste!#REF!","v":{"$error":"#REF!"}},{"$f":"Stückliste!#REF!","v":{"$error":"#REF!"}},{"$f":"Stückliste!#REF!","v":{"$error":"#REF!"}},{"$f":"Stückliste!#REF!","v":{"$error":"#REF!"}},{"$f":"Stückliste!#REF!","v":{"$error":"#REF!"}},{"$f":"Stückliste!#REF!","v":{"$error":"#REF!"}},{"$f":"Stückliste!#REF!","v":{"$error":"#REF!"}},{"$f":"Stückliste!#REF!","v":{"$error":"#REF!"}},{"$f":"Stückliste!#REF!","v":{"$error":"#REF!"}},{"$f":"Stückliste!#REF!","v":{"$error":"#REF!"}},{"$f":"Stückliste!#REF!","v":{"$error":"#REF!"}},{"$f":"Stückliste!#REF!","v":{"$error":"#REF!"}},{"$f":"Stückliste!#REF!","v":{"$error":"#REF!"}},{"$f":"Stückliste!#REF!","v":{"$error":"#REF!"}},{"$f":"Stückliste!#REF!","v":{"$error":"#REF!"}},{"$f":"Stückliste!#REF!","v":{"$error":"#REF!"}},{"$f":"Stückliste!#REF!","v":{"$error":"#REF!"}},{"$f":"Stückliste!#REF!","v":{"$error":"#REF!"}},{"$f":"Stückliste!#REF!","v":{"$error":"#REF!"}}]
[0,0,8,{"$f":"Stückliste!#REF!","v":{"$error":"#REF!"}},{"$f":"Stückliste!#REF!","v":{"$error":"#REF!"}},{"$f":"Stückliste!#REF!","v":{"$error":"#REF!"}},{"$f":"Stückliste!#REF!","v":{"$error":"#REF!"}},{"$f":"Stückliste!#REF!","v":{"$error":"#REF!"}},{"$f":"Stückliste!#REF!","v":{"$error":"#REF!"}},{"$f":"Stückliste!#REF!","v":{"$error":"#REF!"}},{"$f":"Stückliste!#REF!","v":{"$error":"#REF!"}},{"$f":"Stückliste!#REF!","v":{"$error":"#REF!"}},{"$f":"Stückliste!#REF!","v":{"$error":"#REF!"}},{"$f":"Stückliste!#REF!","v":{"$error":"#REF!"}},{"$f":"Stückliste!#REF!","v":{"$error":"#REF!"}},{"$f":"Stückliste!#REF!","v":{"$error":"#REF!"}},{"$f":"Stückliste!#REF!","v":{"$error":"#REF!"}},{"$f":"Stückliste!#REF!","v":{"$error":"#REF!"}},{"$f":"Stückliste!#REF!","v":{"$error":"#REF!"}},{"$f":"Stückliste!#REF!","v":{"$error":"#REF!"}},{"$f":"Stückliste!#REF!","v":{"$error":"#REF!"}},{"$f":"Stückliste!#REF!","v":{"$error":"#REF!"}},{"$f":"Stückliste!#REF!","v":{"$error":"#REF!"}}]
[0,0,8,{"$f":"Stückliste!#REF!","v":{"$error":"#REF!"}},{"$f":"Stückliste!#REF!","v":{"$error":"#REF!"}},{"$f":"Stückliste!#REF!","v":{"$error":"#REF!"}},{"$f":"Stückliste!#REF!","v":{"$error":"#REF!"}},{"$f":"Stückliste!#REF!","v":{"$error":"#REF!"}},{"$f":"Stückliste!#REF!","v":{"$error":"#REF!"}},{"$f":"Stückliste!#REF!","v":{"$error":"#REF!"}},{"$f":"Stückliste!#REF!","v":{"$error":"#REF!"}},{"$f":"Stückliste!#REF!","v":{"$error":"#REF!"}},{"$f":"Stückliste!#REF!","v":{"$error":"#REF!"}},{"$f":"Stückliste!#REF!","v":{"$error":"#REF!"}},{"$f":"Stückliste!#REF!","v":{"$error":"#REF!"}},{"$f":"Stückliste!#REF!","v":{"$error":"#REF!"}},{"$f":"Stückliste!#REF!","v":{"$error":"#REF!"}},{"$f":"Stückliste!#REF!","v":{"$error":"#REF!"}},{"$f":"Stückliste!#REF!","v":{"$error":"#REF!"}},{"$f":"Stückliste!#REF!","v":{"$error":"#REF!"}},{"$f":"Stückliste!#REF!","v":{"$error":"#REF!"}},{"$f":"Stückliste!#REF!","v":{"$error":"#REF!"}},{"$f":"Stückliste!#REF!","v":{"$error":"#REF!"}}]
[0,0,8,{"$f":"Stückliste!#REF!","v":{"$error":"#REF!"}},{"$f":"Stückliste!#REF!","v":{"$error":"#REF!"}},{"$f":"Stückliste!#REF!","v":{"$error":"#REF!"}},{"$f":"Stückliste!#REF!","v":{"$error":"#REF!"}},{"$f":"Stückliste!#REF!","v":{"$error":"#REF!"}},{"$f":"Stückliste!#REF!","v":{"$error":"#REF!"}},{"$f":"Stückliste!#REF!","v":{"$error":"#REF!"}},{"$f":"Stückliste!#REF!","v":{"$error":"#REF!"}},{"$f":"Stückliste!#REF!","v":{"$error":"#REF!"}},{"$f":"Stückliste!#REF!","v":{"$error":"#REF!"}},{"$f":"Stückliste!#REF!","v":{"$error":"#REF!"}},{"$f":"Stückliste!#REF!","v":{"$error":"#REF!"}},{"$f":"Stückliste!#REF!","v":{"$error":"#REF!"}},{"$f":"Stückliste!#REF!","v":{"$error":"#REF!"}},{"$f":"Stückliste!#REF!","v":{"$error":"#REF!"}},{"$f":"Stückliste!#REF!","v":{"$error":"#REF!"}},{"$f":"Stückliste!#REF!","v":{"$error":"#REF!"}},{"$f":"Stückliste!#REF!","v":{"$error":"#REF!"}},{"$f":"Stückliste!#REF!","v":{"$error":"#REF!"}},{"$f":"Stückliste!#REF!","v":{"$error":"#REF!"}}]
[0,0,8,{"$f":"Stückliste!#REF!","v":{"$error":"#REF!"}},{"$f":"Stückliste!#REF!","v":{"$error":"#REF!"}},{"$f":"Stückliste!#REF!","v":{"$error":"#REF!"}},{"$f":"Stückliste!#REF!","v":{"$error":"#REF!"}},{"$f":"Stückliste!#REF!","v":{"$error":"#REF!"}},{"$f":"Stückliste!#REF!","v":{"$error":"#REF!"}},{"$f":"Stückliste!#REF!","v":{"$error":"#REF!"}},{"$f":"Stückliste!#REF!","v":{"$error":"#REF!"}},{"$f":"Stückliste!#REF!","v":{"$error":"#REF!"}},{"$f":"Stückliste!#REF!","v":{"$error":"#REF!"}},{"$f":"Stückliste!#REF!","v":{"$error":"#REF!"}},{"$f":"Stückliste!#REF!","v":{"$error":"#REF!"}},{"$f":"Stückliste!#REF!","v":{"$error":"#REF!"}},{"$f":"Stückliste!#REF!","v":{"$error":"#REF!"}},{"$f":"Stückliste!#REF!","v":{"$error":"#REF!"}},{"$f":"Stückliste!#REF!","v":{"$error":"#REF!"}},{"$f":"Stückliste!#REF!","v":{"$error":"#REF!"}},{"$f":"Stückliste!#REF!","v":{"$error":"#REF!"}},{"$f":"Stückliste!#REF!","v":{"$error":"#REF!"}},{"$f":"Stückliste!#REF!","v":{"$error":"#REF!"}}]
[0,0,8,{"$f":"Stückliste!#REF!","v":{"$error":"#REF!"}},{"$f":"Stückliste!#REF!","v":{"$error":"#REF!"}},{"$f":"Stückliste!#REF!","v":{"$error":"#REF!"}},{"$f":"Stückliste!#REF!","v":{"$error":"#REF!"}},{"$f":"Stückliste!#REF!","v":{"$error":"#REF!"}},{"$f":"Stückliste!#REF!","v":{"$error":"#REF!"}},{"$f":"Stückliste!#REF!","v":{"$error":"#REF!"}},{"$f":"Stückliste!#REF!","v":{"$error":"#REF!"}},{"$f":"Stückliste!#REF!","v":{"$error":"#REF!"}},{"$f":"Stückliste!#REF!","v":{"$error":"#REF!"}},{"$f":"Stückliste!#REF!","v":{"$error":"#REF!"}},{"$f":"Stückliste!#REF!","v":{"$error":"#REF!"}},{"$f":"Stückliste!#REF!","v":{"$error":"#REF!"}},{"$f":"Stückliste!#REF!","v":{"$error":"#REF!"}},{"$f":"Stückliste!#REF!","v":{"$error":"#REF!"}},{"$f":"Stückliste!#REF!","v":{"$error":"#REF!"}},{"$f":"Stückliste!#REF!","v":{"$error":"#REF!"}},{"$f":"Stückliste!#REF!","v":{"$error":"#REF!"}},{"$f":"Stückliste!#REF!","v":{"$error":"#REF!"}},{"$f":"Stückliste!#REF!","v":{"$error":"#REF!"}}]
[0,0,8,{"$f":"Stückliste!#REF!","v":{"$error":"#REF!"}},{"$f":"Stückliste!#REF!","v":{"$error":"#REF!"}},{"$f":"Stückliste!#REF!","v":{"$error":"#REF!"}},{"$f":"Stückliste!#REF!","v":{"$error":"#REF!"}},{"$f":"Stückliste!#REF!","v":{"$error":"#REF!"}},{"$f":"Stückliste!#REF!","v":{"$error":"#REF!"}},{"$f":"Stückliste!#REF!","v":{"$error":"#REF!"}},{"$f":"Stückliste!#REF!","v":{"$error":"#REF!"}},{"$f":"Stückliste!#REF!","v":{"$error":"#REF!"}},{"$f":"Stückliste!#REF!","v":{"$error":"#REF!"}},{"$f":"Stückliste!#REF!","v":{"$error":"#REF!"}},{"$f":"Stückliste!#REF!","v":{"$error":"#REF!"}},{"$f":"Stückliste!#REF!","v":{"$error":"#REF!"}},{"$f":"Stückliste!#REF!","v":{"$error":"#REF!"}},{"$f":"Stückliste!#REF!","v":{"$error":"#REF!"}},{"$f":"Stückliste!#REF!","v":{"$error":"#REF!"}},{"$f":"Stückliste!#REF!","v":{"$error":"#REF!"}},{"$f":"Stückliste!#REF!","v":{"$error":"#REF!"}},{"$f":"Stückliste!#REF!","v":{"$error":"#REF!"}},{"$f":"Stückliste!#REF!","v":{"$error":"#REF!"}}]
[0,0,8,{"$f":"Stückliste!#REF!","v":{"$error":"#REF!"}},{"$f":"Stückliste!#REF!","v":{"$error":"#REF!"}},{"$f":"Stückliste!#REF!","v":{"$error":"#REF!"}},{"$f":"Stückliste!#REF!","v":{"$error":"#REF!"}},{"$f":"Stückliste!#REF!","v":{"$error":"#REF!"}},{"$f":"Stückliste!#REF!","v":{"$error":"#REF!"}},{"$f":"Stückliste!#REF!","v":{"$error":"#REF!"}},{"$f":"Stückliste!#REF!","v":{"$error":"#REF!"}},{"$f":"Stückliste!#REF!","v":{"$error":"#REF!"}},{"$f":"Stückliste!#REF!","v":{"$error":"#REF!"}},{"$f":"Stückliste!#REF!","v":{"$error":"#REF!"}},{"$f":"Stückliste!#REF!","v":{"$error":"#REF!"}},{"$f":"Stückliste!#REF!","v":{"$error":"#REF!"}},{"$f":"Stückliste!#REF!","v":{"$error":"#REF!"}},{"$f":"Stückliste!#REF!","v":{"$error":"#REF!"}},{"$f":"Stückliste!#REF!","v":{"$error":"#REF!"}},{"$f":"Stückliste!#REF!","v":{"$error":"#REF!"}},{"$f":"Stückliste!#REF!","v":{"$error":"#REF!"}},{"$f":"Stückliste!#REF!","v":{"$error":"#REF!"}},{"$f":"Stückliste!#REF!","v":{"$error":"#REF!"}}]
[0,0,8,{"$f":"Stückliste!#REF!","v":{"$error":"#REF!"}},{"$f":"Stückliste!#REF!","v":{"$error":"#REF!"}},{"$f":"Stückliste!#REF!","v":{"$error":"#REF!"}},{"$f":"Stückliste!#REF!","v":{"$error":"#REF!"}},{"$f":"Stückliste!#REF!","v":{"$error":"#REF!"}},{"$f":"Stückliste!#REF!","v":{"$error":"#REF!"}},{"$f":"Stückliste!#REF!","v":{"$error":"#REF!"}},{"$f":"Stückliste!#REF!","v":{"$error":"#REF!"}},{"$f":"Stückliste!#REF!","v":{"$error":"#REF!"}},{"$f":"Stückliste!#REF!","v":{"$error":"#REF!"}},{"$f":"Stückliste!#REF!","v":{"$error":"#REF!"}},{"$f":"Stückliste!#REF!","v":{"$error":"#REF!"}},{"$f":"Stückliste!#REF!","v":{"$error":"#REF!"}},{"$f":"Stückliste!#REF!","v":{"$error":"#REF!"}},{"$f":"Stückliste!#REF!","v":{"$error":"#REF!"}},{"$f":"Stückliste!#REF!","v":{"$error":"#REF!"}},{"$f":"Stückliste!#REF!","v":{"$error":"#REF!"}},{"$f":"Stückliste!#REF!","v":{"$error":"#REF!"}},{"$f":"Stückliste!#REF!","v":{"$error":"#REF!"}},{"$f":"Stückliste!#REF!","v":{"$error":"#REF!"}}]
[0,0,8,{"$f":"Stückliste!#REF!","v":{"$error":"#REF!"}},{"$f":"Stückliste!#REF!","v":{"$error":"#REF!"}},{"$f":"Stückliste!#REF!","v":{"$error":"#REF!"}},{"$f":"Stückliste!#REF!","v":{"$error":"#REF!"}},{"$f":"Stückliste!#REF!","v":{"$error":"#REF!"}},{"$f":"Stückliste!#REF!","v":{"$error":"#REF!"}},{"$f":"Stückliste!#REF!","v":{"$error":"#REF!"}},{"$f":"Stückliste!#REF!","v":{"$error":"#REF!"}},{"$f":"Stückliste!#REF!","v":{"$error":"#REF!"}},{"$f":"Stückliste!#REF!","v":{"$error":"#REF!"}},{"$f":"Stückliste!#REF!","v":{"$error":"#REF!"}},{"$f":"Stückliste!#REF!","v":{"$error":"#REF!"}},{"$f":"Stückliste!#REF!","v":{"$error":"#REF!"}},{"$f":"Stückliste!#REF!","v":{"$error":"#REF!"}},{"$f":"Stückliste!#REF!","v":{"$error":"#REF!"}},{"$f":"Stückliste!#REF!","v":{"$error":"#REF!"}},{"$f":"Stückliste!#REF!","v":{"$error":"#REF!"}},{"$f":"Stückliste!#REF!","v":{"$error":"#REF!"}},{"$f":"Stückliste!#REF!","v":{"$error":"#REF!"}},{"$f":"Stückliste!#REF!","v":{"$error":"#REF!"}}]
[0,0,8,{"$f":"Stückliste!#REF!","v":{"$error":"#REF!"}},{"$f":"Stückliste!#REF!","v":{"$error":"#REF!"}},{"$f":"Stückliste!#REF!","v":{"$error":"#REF!"}},{"$f":"Stückliste!#REF!","v":{"$error":"#REF!"}},{"$f":"Stückliste!#REF!","v":{"$error":"#REF!"}},{"$f":"Stückliste!#REF!","v":{"$error":"#REF!"}},{"$f":"Stückliste!#REF!","v":{"$error":"#REF!"}},{"$f":"Stückliste!#REF!","v":{"$error":"#REF!"}},{"$f":"Stückliste!#REF!","v":{"$error":"#REF!"}},{"$f":"Stückliste!#REF!","v":{"$error":"#REF!"}},{"$f":"Stückliste!#REF!","v":{"$error":"#REF!"}},{"$f":"Stückliste!#REF!","v":{"$error":"#REF!"}},{"$f":"Stückliste!#REF!","v":{"$error":"#REF!"}},{"$f":"Stückliste!#REF!","v":{"$error":"#REF!"}},{"$f":"Stückliste!#REF!","v":{"$error":"#REF!"}},{"$f":"Stückliste!#REF!","v":{"$error":"#REF!"}},{"$f":"Stückliste!#REF!","v":{"$error":"#REF!"}},{"$f":"Stückliste!#REF!","v":{"$error":"#REF!"}},{"$f":"Stückliste!#REF!","v":{"$error":"#REF!"}},{"$f":"Stückliste!#REF!","v":{"$error":"#REF!"}}]
[0,0,8,{"$f":"Stückliste!#REF!","v":{"$error":"#REF!"}},{"$f":"Stückliste!#REF!","v":{"$error":"#REF!"}},{"$f":"Stückliste!#REF!","v":{"$error":"#REF!"}},{"$f":"Stückliste!#REF!","v":{"$error":"#REF!"}},{"$f":"Stückliste!#REF!","v":{"$error":"#REF!"}},{"$f":"Stückliste!#REF!","v":{"$error":"#REF!"}},{"$f":"Stückliste!#REF!","v":{"$error":"#REF!"}},{"$f":"Stückliste!#REF!","v":{"$error":"#REF!"}},{"$f":"Stückliste!#REF!","v":{"$error":"#REF!"}},{"$f":"Stückliste!#REF!","v":{"$error":"#REF!"}},{"$f":"Stückliste!#REF!","v":{"$error":"#REF!"}},{"$f":"Stückliste!#REF!","v":{"$error":"#REF!"}},{"$f":"Stückliste!#REF!","v":{"$error":"#REF!"}},{"$f":"Stückliste!#REF!","v":{"$error":"#REF!"}},{"$f":"Stückliste!#REF!","v":{"$error":"#REF!"}},{"$f":"Stückliste!#REF!","v":{"$error":"#REF!"}},{"$f":"Stückliste!#REF!","v":{"$error":"#REF!"}},{"$f":"Stückliste!#REF!","v":{"$error":"#REF!"}},{"$f":"Stückliste!#REF!","v":{"$error":"#REF!"}},{"$f":"Stückliste!#REF!","v":{"$error":"#REF!"}}]
[0,0,8,{"$f":"Stückliste!#REF!","v":{"$error":"#REF!"}},{"$f":"Stückliste!#REF!","v":{"$error":"#REF!"}},{"$f":"Stückliste!#REF!","v":{"$error":"#REF!"}},{"$f":"Stückliste!#REF!","v":{"$error":"#REF!"}},{"$f":"Stückliste!#REF!","v":{"$error":"#REF!"}},{"$f":"Stückliste!#REF!","v":{"$error":"#REF!"}},{"$f":"Stückliste!#REF!","v":{"$error":"#REF!"}},{"$f":"Stückliste!#REF!","v":{"$error":"#REF!"}},{"$f":"Stückliste!#REF!","v":{"$error":"#REF!"}},{"$f":"Stückliste!#REF!","v":{"$error":"#REF!"}},{"$f":"Stückliste!#REF!","v":{"$error":"#REF!"}},{"$f":"Stückliste!#REF!","v":{"$error":"#REF!"}},{"$f":"Stückliste!#REF!","v":{"$error":"#REF!"}},{"$f":"Stückliste!#REF!","v":{"$error":"#REF!"}},{"$f":"Stückliste!#REF!","v":{"$error":"#REF!"}},{"$f":"Stückliste!#REF!","v":{"$error":"#REF!"}},{"$f":"Stückliste!#REF!","v":{"$error":"#REF!"}},{"$f":"Stückliste!#REF!","v":{"$error":"#REF!"}},{"$f":"Stückliste!#REF!","v":{"$error":"#REF!"}},{"$f":"Stückliste!#REF!","v":{"$error":"#REF!"}}]
[0,0,8,{"$f":"Stückliste!#REF!","v":{"$error":"#REF!"}},{"$f":"Stückliste!#REF!","v":{"$error":"#REF!"}},{"$f":"Stückliste!#REF!","v":{"$error":"#REF!"}},{"$f":"Stückliste!#REF!","v":{"$error":"#REF!"}},{"$f":"Stückliste!#REF!","v":{"$error":"#REF!"}},{"$f":"Stückliste!#REF!","v":{"$error":"#REF!"}},{"$f":"Stückliste!#REF!","v":{"$error":"#REF!"}},{"$f":"Stückliste!#REF!","v":{"$error":"#REF!"}},{"$f":"Stückliste!#REF!","v":{"$error":"#REF!"}},{"$f":"Stückliste!#REF!","v":{"$error":"#REF!"}},{"$f":"Stückliste!#REF!","v":{"$error":"#REF!"}},{"$f":"Stückliste!#REF!","v":{"$error":"#REF!"}},{"$f":"Stückliste!#REF!","v":{"$error":"#REF!"}},{"$f":"Stückliste!#REF!","v":{"$error":"#REF!"}},{"$f":"Stückliste!#REF!","v":{"$error":"#REF!"}},{"$f":"Stückliste!#REF!","v":{"$error":"#REF!"}},{"$f":"Stückliste!#REF!","v":{"$error":"#REF!"}},{"$f":"Stückliste!#REF!","v":{"$error":"#REF!"}},{"$f":"Stückliste!#REF!","v":{"$error":"#REF!"}},{"$f":"Stückliste!#REF!","v":{"$error":"#REF!"}}]
[0,0,8,{"$f":"Stückliste!#REF!","v":{"$error":"#REF!"}},{"$f":"Stückliste!#REF!","v":{"$error":"#REF!"}},{"$f":"Stückliste!#REF!","v":{"$error":"#REF!"}},{"$f":"Stückliste!#REF!","v":{"$error":"#REF!"}},{"$f":"Stückliste!#REF!","v":{"$error":"#REF!"}},{"$f":"Stückliste!#REF!","v":{"$error":"#REF!"}},{"$f":"Stückliste!#REF!","v":{"$error":"#REF!"}},{"$f":"Stückliste!#REF!","v":{"$error":"#REF!"}},{"$f":"Stückliste!#REF!","v":{"$error":"#REF!"}},{"$f":"Stückliste!#REF!","v":{"$error":"#REF!"}},{"$f":"Stückliste!#REF!","v":{"$error":"#REF!"}},{"$f":"Stückliste!#REF!","v":{"$error":"#REF!"}},{"$f":"Stückliste!#REF!","v":{"$error":"#REF!"}},{"$f":"Stückliste!#REF!","v":{"$error":"#REF!"}},{"$f":"Stückliste!#REF!","v":{"$error":"#REF!"}},{"$f":"Stückliste!#REF!","v":{"$error":"#REF!"}},{"$f":"Stückliste!#REF!","v":{"$error":"#REF!"}},{"$f":"Stückliste!#REF!","v":{"$error":"#REF!"}},{"$f":"Stückliste!#REF!","v":{"$error":"#REF!"}},{"$f":"Stückliste!#REF!","v":{"$error":"#REF!"}}]
[0,0,8,{"$f":"Stückliste!#REF!","v":{"$error":"#REF!"}},{"$f":"Stückliste!#REF!","v":{"$error":"#REF!"}},{"$f":"Stückliste!#REF!","v":{"$error":"#REF!"}},{"$f":"Stückliste!#REF!","v":{"$error":"#REF!"}},{"$f":"Stückliste!#REF!","v":{"$error":"#REF!"}},{"$f":"Stückliste!#REF!","v":{"$error":"#REF!"}},{"$f":"Stückliste!#REF!","v":{"$error":"#REF!"}},{"$f":"Stückliste!#REF!","v":{"$error":"#REF!"}},{"$f":"Stückliste!#REF!","v":{"$error":"#REF!"}},{"$f":"Stückliste!#REF!","v":{"$error":"#REF!"}},{"$f":"Stückliste!#REF!","v":{"$error":"#REF!"}},{"$f":"Stückliste!#REF!","v":{"$error":"#REF!"}},{"$f":"Stückliste!#REF!","v":{"$error":"#REF!"}},{"$f":"Stückliste!#REF!","v":{"$error":"#REF!"}},{"$f":"Stückliste!#REF!","v":{"$error":"#REF!"}},{"$f":"Stückliste!#REF!","v":{"$error":"#REF!"}},{"$f":"Stückliste!#REF!","v":{"$error":"#REF!"}},{"$f":"Stückliste!#REF!","v":{"$error":"#REF!"}},{"$f":"Stückliste!#REF!","v":{"$error":"#REF!"}},{"$f":"Stückliste!#REF!","v":{"$error":"#REF!"}}]
[0,0,8,{"$f":"Stückliste!#REF!","v":{"$error":"#REF!"}},{"$f":"Stückliste!#REF!","v":{"$error":"#REF!"}},{"$f":"Stückliste!#REF!","v":{"$error":"#REF!"}},{"$f":"Stückliste!#REF!","v":{"$error":"#REF!"}},{"$f":"Stückliste!#REF!","v":{"$error":"#REF!"}},{"$f":"Stückliste!#REF!","v":{"$error":"#REF!"}},{"$f":"Stückliste!#REF!","v":{"$error":"#REF!"}},{"$f":"Stückliste!#REF!","v":{"$error":"#REF!"}},{"$f":"Stückliste!#REF!","v":{"$error":"#REF!"}},{"$f":"Stückliste!#REF!","v":{"$error":"#REF!"}},{"$f":"Stückliste!#REF!","v":{"$error":"#REF!"}},{"$f":"Stückliste!#REF!","v":{"$error":"#REF!"}},{"$f":"Stückliste!#REF!","v":{"$error":"#REF!"}},{"$f":"Stückliste!#REF!","v":{"$error":"#REF!"}},{"$f":"Stückliste!#REF!","v":{"$error":"#REF!"}},{"$f":"Stückliste!#REF!","v":{"$error":"#REF!"}},{"$f":"Stückliste!#REF!","v":{"$error":"#REF!"}},{"$f":"Stückliste!#REF!","v":{"$error":"#REF!"}},{"$f":"Stückliste!#REF!","v":{"$error":"#REF!"}},{"$f":"Stückliste!#REF!","v":{"$error":"#REF!"}}]
[0,0,8,{"$f":"Stückliste!#REF!","v":{"$error":"#REF!"}},{"$f":"Stückliste!#REF!","v":{"$error":"#REF!"}},{"$f":"Stückliste!#REF!","v":{"$error":"#REF!"}},{"$f":"Stückliste!#REF!","v":{"$error":"#REF!"}},{"$f":"Stückliste!#REF!","v":{"$error":"#REF!"}},{"$f":"Stückliste!#REF!","v":{"$error":"#REF!"}},{"$f":"Stückliste!#REF!","v":{"$error":"#REF!"}},{"$f":"Stückliste!#REF!","v":{"$error":"#REF!"}},{"$f":"Stückliste!#REF!","v":{"$error":"#REF!"}},{"$f":"Stückliste!#REF!","v":{"$error":"#REF!"}},{"$f":"Stückliste!#REF!","v":{"$error":"#REF!"}},{"$f":"Stückliste!#REF!","v":{"$error":"#REF!"}},{"$f":"Stückliste!#REF!","v":{"$error":"#REF!"}},{"$f":"Stückliste!#REF!","v":{"$error":"#REF!"}},{"$f":"Stückliste!#REF!","v":{"$error":"#REF!"}},{"$f":"Stückliste!#REF!","v":{"$error":"#REF!"}},{"$f":"Stückliste!#REF!","v":{"$error":"#REF!"}},{"$f":"Stückliste!#REF!","v":{"$error":"#REF!"}},{"$f":"Stückliste!#REF!","v":{"$error":"#REF!"}},{"$f":"Stückliste!#REF!","v":{"$error":"#REF!"}}]
[0,0,8,{"$f":"Stückliste!#REF!","v":{"$error":"#REF!"}},{"$f":"Stückliste!#REF!","v":{"$error":"#REF!"}},{"$f":"Stückliste!#REF!","v":{"$error":"#REF!"}},{"$f":"Stückliste!#REF!","v":{"$error":"#REF!"}},{"$f":"Stückliste!#REF!","v":{"$error":"#REF!"}},{"$f":"Stückliste!#REF!","v":{"$error":"#REF!"}},{"$f":"Stückliste!#REF!","v":{"$error":"#REF!"}},{"$f":"Stückliste!#REF!","v":{"$error":"#REF!"}},{"$f":"Stückliste!#REF!","v":{"$error":"#REF!"}},{"$f":"Stückliste!#REF!","v":{"$error":"#REF!"}},{"$f":"Stückliste!#REF!","v":{"$error":"#REF!"}},{"$f":"Stückliste!#REF!","v":{"$error":"#REF!"}},{"$f":"Stückliste!#REF!","v":{"$error":"#REF!"}},{"$f":"Stückliste!#REF!","v":{"$error":"#REF!"}},{"$f":"Stückliste!#REF!","v":{"$error":"#REF!"}},{"$f":"Stückliste!#REF!","v":{"$error":"#REF!"}},{"$f":"Stückliste!#REF!","v":{"$error":"#REF!"}},{"$f":"Stückliste!#REF!","v":{"$error":"#REF!"}},{"$f":"Stückliste!#REF!","v":{"$error":"#REF!"}},{"$f":"Stückliste!#REF!","v":{"$error":"#REF!"}}]
[0,0,8,{"$f":"Stückliste!#REF!","v":{"$error":"#REF!"}},{"$f":"Stückliste!#REF!","v":{"$error":"#REF!"}},{"$f":"Stückliste!#REF!","v":{"$error":"#REF!"}},{"$f":"Stückliste!#REF!","v":{"$error":"#REF!"}},{"$f":"Stückliste!#REF!","v":{"$error":"#REF!"}},{"$f":"Stückliste!#REF!","v":{"$error":"#REF!"}},{"$f":"Stückliste!#REF!","v":{"$error":"#REF!"}},{"$f":"Stückliste!#REF!","v":{"$error":"#REF!"}},{"$f":"Stückliste!#REF!","v":{"$error":"#REF!"}},{"$f":"Stückliste!#REF!","v":{"$error":"#REF!"}},{"$f":"Stückliste!#REF!","v":{"$error":"#REF!"}},{"$f":"Stückliste!#REF!","v":{"$error":"#REF!"}},{"$f":"Stückliste!#REF!","v":{"$error":"#REF!"}},{"$f":"Stückliste!#REF!","v":{"$error":"#REF!"}},{"$f":"Stückliste!#REF!","v":{"$error":"#REF!"}},{"$f":"Stückliste!#REF!","v":{"$error":"#REF!"}},{"$f":"Stückliste!#REF!","v":{"$error":"#REF!"}},{"$f":"Stückliste!#REF!","v":{"$error":"#REF!"}},{"$f":"Stückliste!#REF!","v":{"$error":"#REF!"}},{"$f":"Stückliste!#REF!","v":{"$error":"#REF!"}}]
[0,0,8,{"$f":"Stückliste!#REF!","v":{"$error":"#REF!"}},{"$f":"Stückliste!#REF!","v":{"$error":"#REF!"}},{"$f":"Stückliste!#REF!","v":{"$error":"#REF!"}},{"$f":"Stückliste!#REF!","v":{"$error":"#REF!"}},{"$f":"Stückliste!#REF!","v":{"$error":"#REF!"}},{"$f":"Stückliste!#REF!","v":{"$error":"#REF!"}},{"$f":"Stückliste!#REF!","v":{"$error":"#REF!"}},{"$f":"Stückliste!#REF!","v":{"$error":"#REF!"}},{"$f":"Stückliste!#REF!","v":{"$error":"#REF!"}},{"$f":"Stückliste!#REF!","v":{"$error":"#REF!"}},{"$f":"Stückliste!#REF!","v":{"$error":"#REF!"}},{"$f":"Stückliste!#REF!","v":{"$error":"#REF!"}},{"$f":"Stückliste!#REF!","v":{"$error":"#REF!"}},{"$f":"Stückliste!#REF!","v":{"$error":"#REF!"}},{"$f":"Stückliste!#REF!","v":{"$error":"#REF!"}},{"$f":"Stückliste!#REF!","v":{"$error":"#REF!"}},{"$f":"Stückliste!#REF!","v":{"$error":"#REF!"}},{"$f":"Stückliste!#REF!","v":{"$error":"#REF!"}},{"$f":"Stückliste!#REF!","v":{"$error":"#REF!"}},{"$f":"Stückliste!#REF!","v":{"$error":"#REF!"}}]
[0,0,8,{"$f":"Stückliste!#REF!","v":{"$error":"#REF!"}},{"$f":"Stückliste!#REF!","v":{"$error":"#REF!"}},{"$f":"Stückliste!#REF!","v":{"$error":"#REF!"}},{"$f":"Stückliste!#REF!","v":{"$error":"#REF!"}},{"$f":"Stückliste!#REF!","v":{"$error":"#REF!"}},{"$f":"Stückliste!#REF!","v":{"$error":"#REF!"}},{"$f":"Stückliste!#REF!","v":{"$error":"#REF!"}},{"$f":"Stückliste!#REF!","v":{"$error":"#REF!"}},{"$f":"Stückliste!#REF!","v":{"$error":"#REF!"}},{"$f":"Stückliste!#REF!","v":{"$error":"#REF!"}},{"$f":"Stückliste!#REF!","v":{"$error":"#REF!"}},{"$f":"Stückliste!#REF!","v":{"$error":"#REF!"}},{"$f":"Stückliste!#REF!","v":{"$error":"#REF!"}},{"$f":"Stückliste!#REF!","v":{"$error":"#REF!"}},{"$f":"Stückliste!#REF!","v":{"$error":"#REF!"}},{"$f":"Stückliste!#REF!","v":{"$error":"#REF!"}},{"$f":"Stückliste!#REF!","v":{"$error":"#REF!"}},{"$f":"Stückliste!#REF!","v":{"$error":"#REF!"}},{"$f":"Stückliste!#REF!","v":{"$error":"#REF!"}},{"$f":"Stückliste!#REF!","v":{"$error":"#REF!"}}]
[0,0,8,{"$f":"Stückliste!#REF!","v":{"$error":"#REF!"}},{"$f":"Stückliste!#REF!","v":{"$error":"#REF!"}},{"$f":"Stückliste!#REF!","v":{"$error":"#REF!"}},{"$f":"Stückliste!#REF!","v":{"$error":"#REF!"}},{"$f":"Stückliste!#REF!","v":{"$error":"#REF!"}},{"$f":"Stückliste!#REF!","v":{"$error":"#REF!"}},{"$f":"Stückliste!#REF!","v":{"$error":"#REF!"}},{"$f":"Stückliste!#REF!","v":{"$error":"#REF!"}},{"$f":"Stückliste!#REF!","v":{"$error":"#REF!"}},{"$f":"Stückliste!#REF!","v":{"$error":"#REF!"}},{"$f":"Stückliste!#REF!","v":{"$error":"#REF!"}},{"$f":"Stückliste!#REF!","v":{"$error":"#REF!"}},{"$f":"Stückliste!#REF!","v":{"$error":"#REF!"}},{"$f":"Stückliste!#REF!","v":{"$error":"#REF!"}},{"$f":"Stückliste!#REF!","v":{"$error":"#REF!"}},{"$f":"Stückliste!#REF!","v":{"$error":"#REF!"}},{"$f":"Stückliste!#REF!","v":{"$error":"#REF!"}},{"$f":"Stückliste!#REF!","v":{"$error":"#REF!"}},{"$f":"Stückliste!#REF!","v":{"$error":"#REF!"}},{"$f":"Stückliste!#REF!","v":{"$error":"#REF!"}}]
[0,0,8,{"$f":"Stückliste!#REF!","v":{"$error":"#REF!"}},{"$f":"Stückliste!#REF!","v":{"$error":"#REF!"}},{"$f":"Stückliste!#REF!","v":{"$error":"#REF!"}},{"$f":"Stückliste!#REF!","v":{"$error":"#REF!"}},{"$f":"Stückliste!#REF!","v":{"$error":"#REF!"}},{"$f":"Stückliste!#REF!","v":{"$error":"#REF!"}},{"$f":"Stückliste!#REF!","v":{"$error":"#REF!"}},{"$f":"Stückliste!#REF!","v":{"$error":"#REF!"}},{"$f":"Stückliste!#REF!","v":{"$error":"#REF!"}},{"$f":"Stückliste!#REF!","v":{"$error":"#REF!"}},{"$f":"Stückliste!#REF!","v":{"$error":"#REF!"}},{"$f":"Stückliste!#REF!","v":{"$error":"#REF!"}},{"$f":"Stückliste!#REF!","v":{"$error":"#REF!"}},{"$f":"Stückliste!#REF!","v":{"$error":"#REF!"}},{"$f":"Stückliste!#REF!","v":{"$error":"#REF!"}},{"$f":"Stückliste!#REF!","v":{"$error":"#REF!"}},{"$f":"Stückliste!#REF!","v":{"$error":"#REF!"}},{"$f":"Stückliste!#REF!","v":{"$error":"#REF!"}},{"$f":"Stückliste!#REF!","v":{"$error":"#REF!"}},{"$f":"Stückliste!#REF!","v":{"$error":"#REF!"}}]
[0,0,8,{"$f":"Stückliste!#REF!","v":{"$error":"#REF!"}},{"$f":"Stückliste!#REF!","v":{"$error":"#REF!"}},{"$f":"Stückliste!#REF!","v":{"$error":"#REF!"}},{"$f":"Stückliste!#REF!","v":{"$error":"#REF!"}},{"$f":"Stückliste!#REF!","v":{"$error":"#REF!"}},{"$f":"Stückliste!#REF!","v":{"$error":"#REF!"}},{"$f":"Stückliste!#REF!","v":{"$error":"#REF!"}},{"$f":"Stückliste!#REF!","v":{"$error":"#REF!"}},{"$f":"Stückliste!#REF!","v":{"$error":"#REF!"}},{"$f":"Stückliste!#REF!","v":{"$error":"#REF!"}},{"$f":"Stückliste!#REF!","v":{"$error":"#REF!"}},{"$f":"Stückliste!#REF!","v":{"$error":"#REF!"}},{"$f":"Stückliste!#REF!","v":{"$error":"#REF!"}},{"$f":"Stückliste!#REF!","v":{"$error":"#REF!"}},{"$f":"Stückliste!#REF!","v":{"$error":"#REF!"}},{"$f":"Stückliste!#REF!","v":{"$error":"#REF!"}},{"$f":"Stückliste!#REF!","v":{"$error":"#REF!"}},{"$f":"Stückliste!#REF!","v":{"$error":"#REF!"}},{"$f":"Stückliste!#REF!","v":{"$error":"#REF!"}},{"$f":"Stückliste!#REF!","v":{"$error":"#REF!"}}]
[0,0,8,{"$f":"Stückliste!#REF!","v":{"$error":"#REF!"}},{"$f":"Stückliste!#REF!","v":{"$error":"#REF!"}},{"$f":"Stückliste!#REF!","v":{"$error":"#REF!"}},{"$f":"Stückliste!#REF!","v":{"$error":"#REF!"}},{"$f":"Stückliste!#REF!","v":{"$error":"#REF!"}},{"$f":"Stückliste!#REF!","v":{"$error":"#REF!"}},{"$f":"Stückliste!#REF!","v":{"$error":"#REF!"}},{"$f":"Stückliste!#REF!","v":{"$error":"#REF!"}},{"$f":"Stückliste!#REF!","v":{"$error":"#REF!"}},{"$f":"Stückliste!#REF!","v":{"$error":"#REF!"}},{"$f":"Stückliste!#REF!","v":{"$error":"#REF!"}},{"$f":"Stückliste!#REF!","v":{"$error":"#REF!"}},{"$f":"Stückliste!#REF!","v":{"$error":"#REF!"}},{"$f":"Stückliste!#REF!","v":{"$error":"#REF!"}},{"$f":"Stückliste!#REF!","v":{"$error":"#REF!"}},{"$f":"Stückliste!#REF!","v":{"$error":"#REF!"}},{"$f":"Stückliste!#REF!","v":{"$error":"#REF!"}},{"$f":"Stückliste!#REF!","v":{"$error":"#REF!"}},{"$f":"Stückliste!#REF!","v":{"$error":"#REF!"}},{"$f":"Stückliste!#REF!","v":{"$error":"#REF!"}}]
[0,0,8,{"$f":"Stückliste!#REF!","v":{"$error":"#REF!"}},{"$f":"Stückliste!#REF!","v":{"$error":"#REF!"}},{"$f":"Stückliste!#REF!","v":{"$error":"#REF!"}},{"$f":"Stückliste!#REF!","v":{"$error":"#REF!"}},{"$f":"Stückliste!#REF!","v":{"$error":"#REF!"}},{"$f":"Stückliste!#REF!","v":{"$error":"#REF!"}},{"$f":"Stückliste!#REF!","v":{"$error":"#REF!"}},{"$f":"Stückliste!#REF!","v":{"$error":"#REF!"}},{"$f":"Stückliste!#REF!","v":{"$error":"#REF!"}},{"$f":"Stückliste!#REF!","v":{"$error":"#REF!"}},{"$f":"Stückliste!#REF!","v":{"$error":"#REF!"}},{"$f":"Stückliste!#REF!","v":{"$error":"#REF!"}},{"$f":"Stückliste!#REF!","v":{"$error":"#REF!"}},{"$f":"Stückliste!#REF!","v":{"$error":"#REF!"}},{"$f":"Stückliste!#REF!","v":{"$error":"#REF!"}},{"$f":"Stückliste!#REF!","v":{"$error":"#REF!"}},{"$f":"Stückliste!#REF!","v":{"$error":"#REF!"}},{"$f":"Stückliste!#REF!","v":{"$error":"#REF!"}},{"$f":"Stückliste!#REF!","v":{"$error":"#REF!"}},{"$f":"Stückliste!#REF!","v":{"$error":"#REF!"}}]
[0,0,8,{"$f":"Stückliste!#REF!","v":{"$error":"#REF!"}},{"$f":"Stückliste!#REF!","v":{"$error":"#REF!"}},{"$f":"Stückliste!#REF!","v":{"$error":"#REF!"}},{"$f":"Stückliste!#REF!","v":{"$error":"#REF!"}},{"$f":"Stückliste!#REF!","v":{"$error":"#REF!"}},{"$f":"Stückliste!#REF!","v":{"$error":"#REF!"}},{"$f":"Stückliste!#REF!","v":{"$error":"#REF!"}},{"$f":"Stückliste!#REF!","v":{"$error":"#REF!"}},{"$f":"Stückliste!#REF!","v":{"$error":"#REF!"}},{"$f":"Stückliste!#REF!","v":{"$error":"#REF!"}},{"$f":"Stückliste!#REF!","v":{"$error":"#REF!"}},{"$f":"Stückliste!#REF!","v":{"$error":"#REF!"}},{"$f":"Stückliste!#REF!","v":{"$error":"#REF!"}},{"$f":"Stückliste!#REF!","v":{"$error":"#REF!"}},{"$f":"Stückliste!#REF!","v":{"$error":"#REF!"}},{"$f":"Stückliste!#REF!","v":{"$error":"#REF!"}},{"$f":"Stückliste!#REF!","v":{"$error":"#REF!"}},{"$f":"Stückliste!#REF!","v":{"$error":"#REF!"}},{"$f":"Stückliste!#REF!","v":{"$error":"#REF!"}},{"$f":"Stückliste!#REF!","v":{"$error":"#REF!"}}]
[0,0,8,{"$f":"Stückliste!#REF!","v":{"$error":"#REF!"}},{"$f":"Stückliste!#REF!","v":{"$error":"#REF!"}},{"$f":"Stückliste!#REF!","v":{"$error":"#REF!"}},{"$f":"Stückliste!#REF!","v":{"$error":"#REF!"}},{"$f":"Stückliste!#REF!","v":{"$error":"#REF!"}},{"$f":"Stückliste!#REF!","v":{"$error":"#REF!"}},{"$f":"Stückliste!#REF!","v":{"$error":"#REF!"}},{"$f":"Stückliste!#REF!","v":{"$error":"#REF!"}},{"$f":"Stückliste!#REF!","v":{"$error":"#REF!"}},{"$f":"Stückliste!#REF!","v":{"$error":"#REF!"}},{"$f":"Stückliste!#REF!","v":{"$error":"#REF!"}},{"$f":"Stückliste!#REF!","v":{"$error":"#REF!"}},{"$f":"Stückliste!#REF!","v":{"$error":"#REF!"}},{"$f":"Stückliste!#REF!","v":{"$error":"#REF!"}},{"$f":"Stückliste!#REF!","v":{"$error":"#REF!"}},{"$f":"Stückliste!#REF!","v":{"$error":"#REF!"}},{"$f":"Stückliste!#REF!","v":{"$error":"#REF!"}},{"$f":"Stückliste!#REF!","v":{"$error":"#REF!"}},{"$f":"Stückliste!#REF!","v":{"$error":"#REF!"}},{"$f":"Stückliste!#REF!","v":{"$error":"#REF!"}}]
[0,0,8,{"$f":"Stückliste!#REF!","v":{"$error":"#REF!"}},{"$f":"Stückliste!#REF!","v":{"$error":"#REF!"}},{"$f":"Stückliste!#REF!","v":{"$error":"#REF!"}},{"$f":"Stückliste!#REF!","v":{"$error":"#REF!"}},{"$f":"Stückliste!#REF!","v":{"$error":"#REF!"}},{"$f":"Stückliste!#REF!","v":{"$error":"#REF!"}},{"$f":"Stückliste!#REF!","v":{"$error":"#REF!"}},{"$f":"Stückliste!#REF!","v":{"$error":"#REF!"}},{"$f":"Stückliste!#REF!","v":{"$error":"#REF!"}},{"$f":"Stückliste!#REF!","v":{"$error":"#REF!"}},{"$f":"Stückliste!#REF!","v":{"$error":"#REF!"}},{"$f":"Stückliste!#REF!","v":{"$error":"#REF!"}},{"$f":"Stückliste!#REF!","v":{"$error":"#REF!"}},{"$f":"Stückliste!#REF!","v":{"$error":"#REF!"}},{"$f":"Stückliste!#REF!","v":{"$error":"#REF!"}},{"$f":"Stückliste!#REF!","v":{"$error":"#REF!"}},{"$f":"Stückliste!#REF!","v":{"$error":"#REF!"}},{"$f":"Stückliste!#REF!","v":{"$error":"#REF!"}},{"$f":"Stückliste!#REF!","v":{"$error":"#REF!"}},{"$f":"Stückliste!#REF!","v":{"$error":"#REF!"}}]
[0,0,8,{"$f":"Stückliste!#REF!","v":{"$error":"#REF!"}},{"$f":"Stückliste!#REF!","v":{"$error":"#REF!"}},{"$f":"Stückliste!#REF!","v":{"$error":"#REF!"}},{"$f":"Stückliste!#REF!","v":{"$error":"#REF!"}},{"$f":"Stückliste!#REF!","v":{"$error":"#REF!"}},{"$f":"Stückliste!#REF!","v":{"$error":"#REF!"}},{"$f":"Stückliste!#REF!","v":{"$error":"#REF!"}},{"$f":"Stückliste!#REF!","v":{"$error":"#REF!"}},{"$f":"Stückliste!#REF!","v":{"$error":"#REF!"}},{"$f":"Stückliste!#REF!","v":{"$error":"#REF!"}},{"$f":"Stückliste!#REF!","v":{"$error":"#REF!"}},{"$f":"Stückliste!#REF!","v":{"$error":"#REF!"}},{"$f":"Stückliste!#REF!","v":{"$error":"#REF!"}},{"$f":"Stückliste!#REF!","v":{"$error":"#REF!"}},{"$f":"Stückliste!#REF!","v":{"$error":"#REF!"}},{"$f":"Stückliste!#REF!","v":{"$error":"#REF!"}},{"$f":"Stückliste!#REF!","v":{"$error":"#REF!"}},{"$f":"Stückliste!#REF!","v":{"$error":"#REF!"}},{"$f":"Stückliste!#REF!","v":{"$error":"#REF!"}},{"$f":"Stückliste!#REF!","v":{"$error":"#REF!"}}]
[0,0,8,{"$f":"Stückliste!#REF!","v":{"$error":"#REF!"}},{"$f":"Stückliste!#REF!","v":{"$error":"#REF!"}},{"$f":"Stückliste!#REF!","v":{"$error":"#REF!"}},{"$f":"Stückliste!#REF!","v":{"$error":"#REF!"}},{"$f":"Stückliste!#REF!","v":{"$error":"#REF!"}},{"$f":"Stückliste!#REF!","v":{"$error":"#REF!"}},{"$f":"Stückliste!#REF!","v":{"$error":"#REF!"}},{"$f":"Stückliste!#REF!","v":{"$error":"#REF!"}},{"$f":"Stückliste!#REF!","v":{"$error":"#REF!"}},{"$f":"Stückliste!#REF!","v":{"$error":"#REF!"}},{"$f":"Stückliste!#REF!","v":{"$error":"#REF!"}},{"$f":"Stückliste!#REF!","v":{"$error":"#REF!"}},{"$f":"Stückliste!#REF!","v":{"$error":"#REF!"}},{"$f":"Stückliste!#REF!","v":{"$error":"#REF!"}},{"$f":"Stückliste!#REF!","v":{"$error":"#REF!"}},{"$f":"Stückliste!#REF!","v":{"$error":"#REF!"}},{"$f":"Stückliste!#REF!","v":{"$error":"#REF!"}},{"$f":"Stückliste!#REF!","v":{"$error":"#REF!"}},{"$f":"Stückliste!#REF!","v":{"$error":"#REF!"}},{"$f":"Stückliste!#REF!","v":{"$error":"#REF!"}}]
[0,0,8,{"$f":"Stückliste!#REF!","v":{"$error":"#REF!"}},{"$f":"Stückliste!#REF!","v":{"$error":"#REF!"}},{"$f":"Stückliste!#REF!","v":{"$error":"#REF!"}},{"$f":"Stückliste!#REF!","v":{"$error":"#REF!"}},{"$f":"Stückliste!#REF!","v":{"$error":"#REF!"}},{"$f":"Stückliste!#REF!","v":{"$error":"#REF!"}},{"$f":"Stückliste!#REF!","v":{"$error":"#REF!"}},{"$f":"Stückliste!#REF!","v":{"$error":"#REF!"}},{"$f":"Stückliste!#REF!","v":{"$error":"#REF!"}},{"$f":"Stückliste!#REF!","v":{"$error":"#REF!"}},{"$f":"Stückliste!#REF!","v":{"$error":"#REF!"}},{"$f":"Stückliste!#REF!","v":{"$error":"#REF!"}},{"$f":"Stückliste!#REF!","v":{"$error":"#REF!"}},{"$f":"Stückliste!#REF!","v":{"$error":"#REF!"}},{"$f":"Stückliste!#REF!","v":{"$error":"#REF!"}},{"$f":"Stückliste!#REF!","v":{"$error":"#REF!"}},{"$f":"Stückliste!#REF!","v":{"$error":"#REF!"}},{"$f":"Stückliste!#REF!","v":{"$error":"#REF!"}},{"$f":"Stückliste!#REF!","v":{"$error":"#REF!"}},{"$f":"Stückliste!#REF!","v":{"$error":"#REF!"}}]
[0,0,8,{"$f":"Stückliste!#REF!","v":{"$error":"#REF!"}},{"$f":"Stückliste!#REF!","v":{"$error":"#REF!"}},{"$f":"Stückliste!#REF!","v":{"$error":"#REF!"}},{"$f":"Stückliste!#REF!","v":{"$error":"#REF!"}},{"$f":"Stückliste!#REF!","v":{"$error":"#REF!"}},{"$f":"Stückliste!#REF!","v":{"$error":"#REF!"}},{"$f":"Stückliste!#REF!","v":{"$error":"#REF!"}},{"$f":"Stückliste!#REF!","v":{"$error":"#REF!"}},{"$f":"Stückliste!#REF!","v":{"$error":"#REF!"}},{"$f":"Stückliste!#REF!","v":{"$error":"#REF!"}},{"$f":"Stückliste!#REF!","v":{"$error":"#REF!"}},{"$f":"Stückliste!#REF!","v":{"$error":"#REF!"}},{"$f":"Stückliste!#REF!","v":{"$error":"#REF!"}},{"$f":"Stückliste!#REF!","v":{"$error":"#REF!"}},{"$f":"Stückliste!#REF!","v":{"$error":"#REF!"}},{"$f":"Stückliste!#REF!","v":{"$error":"#REF!"}},{"$f":"Stückliste!#REF!","v":{"$error":"#REF!"}},{"$f":"Stückliste!#REF!","v":{"$error":"#REF!"}},{"$f":"Stückliste!#REF!","v":{"$error":"#REF!"}},{"$f":"Stückliste!#REF!","v":{"$error":"#REF!"}}]
[0,0,8,{"$f":"Stückliste!#REF!","v":{"$error":"#REF!"}},{"$f":"Stückliste!#REF!","v":{"$error":"#REF!"}},{"$f":"Stückliste!#REF!","v":{"$error":"#REF!"}},{"$f":"Stückliste!#REF!","v":{"$error":"#REF!"}},{"$f":"Stückliste!#REF!","v":{"$error":"#REF!"}},{"$f":"Stückliste!#REF!","v":{"$error":"#REF!"}},{"$f":"Stückliste!#REF!","v":{"$error":"#REF!"}},{"$f":"Stückliste!#REF!","v":{"$error":"#REF!"}},{"$f":"Stückliste!#REF!","v":{"$error":"#REF!"}},{"$f":"Stückliste!#REF!","v":{"$error":"#REF!"}},{"$f":"Stückliste!#REF!","v":{"$error":"#REF!"}},{"$f":"Stückliste!#REF!","v":{"$error":"#REF!"}},{"$f":"Stückliste!#REF!","v":{"$error":"#REF!"}},{"$f":"Stückliste!#REF!","v":{"$error":"#REF!"}},{"$f":"Stückliste!#REF!","v":{"$error":"#REF!"}},{"$f":"Stückliste!#REF!","v":{"$error":"#REF!"}},{"$f":"Stückliste!#REF!","v":{"$error":"#REF!"}},{"$f":"Stückliste!#REF!","v":{"$error":"#REF!"}},{"$f":"Stückliste!#REF!","v":{"$error":"#REF!"}},{"$f":"Stückliste!#REF!","v":{"$error":"#REF!"}}]
[0,0,{"$f":"C119","v":8},{"$f":"Stückliste!#REF!","v":{"$error":"#REF!"}},{"$f":"Stückliste!#REF!","v":{"$error":"#REF!"}},{"$f":"Stückliste!#REF!","v":{"$error":"#REF!"}},{"$f":"Stückliste!#REF!","v":{"$error":"#REF!"}},{"$f":"Stückliste!#REF!","v":{"$error":"#REF!"}},{"$f":"Stückliste!#REF!","v":{"$error":"#REF!"}},{"$f":"Stückliste!#REF!","v":{"$error":"#REF!"}},{"$f":"Stückliste!#REF!","v":{"$error":"#REF!"}},{"$f":"Stückliste!#REF!","v":{"$error":"#REF!"}},{"$f":"Stückliste!#REF!","v":{"$error":"#REF!"}},{"$f":"Stückliste!#REF!","v":{"$error":"#REF!"}},{"$f":"Stückliste!#REF!","v":{"$error":"#REF!"}},{"$f":"Stückliste!#REF!","v":{"$error":"#REF!"}},{"$f":"Stückliste!#REF!","v":{"$error":"#REF!"}},{"$f":"Stückliste!#REF!","v":{"$error":"#REF!"}},{"$f":"Stückliste!#REF!","v":{"$error":"#REF!"}},{"$f":"Stückliste!#REF!","v":{"$error":"#REF!"}},{"$f":"Stückliste!#REF!","v":{"$error":"#REF!"}},{"$f":"Stückliste!#REF!","v":{"$error":"#REF!"}},{"$f":"Stückliste!#REF!","v":{"$error":"#REF!"}}]

{"sheet":"Originalbestellung","index":4,"n_rows":162,"n_cols":51,"rows_kept":162,"cut":false,"hidden":true,"merged":[[82,14,82,28],[84,14,84,28],[84,0,84,13],[82,0,82,13],[82,29,82,38],[84,29,84,54],[87,44,87,54],[88,0,88,54],[103,27,103,32],[103,15,103,21],[101,0,102,26],[101,27,101,54],[100,0,100,13],[100,22,100,25],[100,15,100,21],[83,0,83,54],[85,0,85,54],[86,0,86,54],[87,39,87,43],[87,33,87,38],[97,0,97,1],[97,2,97,26],[97,27,97,28],[97,29,97,54],[11,39,11,43],[11,44,11,49],[82,39,82,43],[82,44,82,47],[79,0,79,54],[76,0,76,13],[78,0,78,13],[75,0,75,54],[77,0,77,54],[76,14,76,53],[56,14,56,21],[58,14,58,21],[57,0,57,38],[55,0,55,38],[54,35,54,38],[54,26,54,28],[54,14,54,21],[59,0,59,38],[52,0,52,13],[56,22,56,38],[52,26,52,28],[52,29,52,34],[52,35,52,38],[52,14,52,21],[56,40,56,46],[58,40,58,47],[99,34,100,53],[96,27,96,54],[113,30,113,35],[113,36,113,41],[113,42,113,54],[112,30,112,35],[112,36,112,41],[112,42,112,54],[111,42,111,54],[100,27,100,32],[111,36,111,41],[71,0,74,38],[87,0,87,13],[87,14,87,32],[71,39,74,54],[81,0,81,54],[58,0,58,13],[58,22,58,38],[80,0,80,13],[78,14,78,53],[80,14,80,53],[106,34,107,53],[115,30,115,35],[115,36,115,41],[115,42,115,54],[116,30,116,35],[116,36,116,41],[142,0,145,38],[116,14,116,23],[116,24,116,29],[117,0,141,54],[116,6,116,13],[161,0,161,54],[151,14,151,53],[153,14,153,53],[155,14,155,53],[157,14,157,53],[155,0,155,13],[153,0,153,13],[156,0,156,54],[147,14,147,53],[160,0,160,54],[152,0,152,54],[154,0,154,54],[149,14,149,53],[114,42,114,54],[114,36,114,41],[114,0,114,5],[115,0,115,5],[115,24,115,29],[151,0,151,13],[159,14,159,53],[114,6,114,13],[114,14,114,23],[114,24,114,29],[148,0,148,54],[116,42,116,54],[115,14,115,23],[114,30,114,35],[116,0,116,5],[115,6,115,13],[142,39,145,54],[146,0,146,54],[149,0,149,13],[147,0,147,13],[158,0,158,54],[159,0,159,13],[157,0,157,13],[150,0,150,54],[112,0,112,5],[112,6,112,13],[105,27,105,32],[105,22,105,26],[105,0,105,13],[105,15,105,21],[107,27,107,32],[112,14,112,23],[112,24,112,29],[111,0,111,5],[111,6,111,13],[111,14,111,23],[111,24,111,29],[111,30,111,35],[108,27,109,54],[113,0,113,5],[113,6,113,13],[113,14,113,23],[113,24,113,29],[94,14,94,53],[89,14,89,32],[104,0,104,26],[104,27,104,33],[102,27,102,33],[103,0,103,13],[102,34,103,53],[103,22,103,26],[99,0,99,16],[99,26,100,26],[94,0,94,13],[96,0,96,26],[95,0,95,54],[93,0,93,54],[92,0,92,1],[92,2,92,3],[92,14,92,53],[89,0,89,13],[92,4,92,13],[90,0,91,54],[54,29,54,34],[54,0,54,13],[56,0,56,13],[47,27,47,31],[50,29,50,34],[50,35,50,38],[50,14,50,21],[50,22,50,25],[50,0,50,13],[50,26,50,28],[54,22,54,25],[45,50,45,52],[43,37,43,41],[47,42,47,49],[47,50,47,52],[48,0,48,54],[31,0,47,13],[31,14,31,17],[31,18,31,21],[31,22,31,26],[35,14,35,17],[41,22,41,26],[41,27,41,31],[43,50,43,52],[45,14,45,17],[45,18,45,21],[45,22,45,26],[45,27,45,31],[45,32,45,36],[45,37,45,41],[45,42,45,49],[43,42,43,49],[43,14,43,17],[43,18,43,21],[43,22,43,26],[43,27,43,31],[39,22,39,26],[39,32,39,36],[41,37,41,41],[41,32,41,36],[39,27,39,31],[43,32,43,36],[35,27,35,31],[35,22,35,26],[37,37,37,41],[42,14,42,54],[37,14,37,17],[35,32,35,36],[35,50,35,52],[37,32,37,36],[35,37,35,41],[35,42,35,49],[37,50,37,52],[37,18,37,21],[35,18,35,21],[31,42,31,49],[33,14,33,17],[32,14,32,54],[31,32,31,36],[31,37,31,41],[33,32,33,36],[33,37,33,41],[36,14,36,54],[37,22,37,26],[37,27,37,31],[26,0,26,54],[25,0,25,13],[25,44,25,54],[29,22,29,26],[29,27,29,31],[27,33,27,54],[27,0,27,13],[29,0,29,13],[27,14,27,32],[28,0,28,54],[23,0,23,54],[24,0,24,54],[22,0,22,13],[25,14,25,32],[25,39,25,43],[19,0,19,54],[20,14,20,19],[20,31,20,33],[20,43,20,48],[20,0,20,13],[20,20,20,25],[20,34,20,37],[20,49,20,54],[18,14,18,19],[18,31,18,33],[18,43,18,48],[18,0,18,13],[18,20,18,25],[18,34,18,37],[18,49,18,54],[21,0,21,54],[22,14,22,53],[15,0,15,54],[16,14,16,19],[16,31,16,33],[16,43,16,48],[16,0,16,13],[16,20,16,25],[16,34,16,37],[16,49,16,54],[17,0,17,54],[0,0,3,38],[5,0,5,13],[0,39,3,54],[6,0,6,54],[4,0,4,54],[5,14,5,53],[29,32,29,36],[29,37,29,41],[29,42,29,49],[29,50,29,52],[7,14,7,53],[8,0,8,54],[7,0,7,13],[12,0,12,54],[9,14,9,53],[10,0,10,54],[11,14,11,28],[11,29,11,31],[9,0,9,13],[11,0,11,13],[13,14,13,28],[13,29,13,54],[13,0,13,13],[14,0,14,54],[30,0,30,54],[29,14,29,17],[29,18,29,21],[44,14,44,54],[39,18,39,21],[39,37,39,41],[39,42,39,49],[39,50,39,52],[41,42,41,49],[41,50,41,52],[39,14,39,17],[40,14,40,54],[41,18,41,21],[31,50,31,52],[33,18,33,21],[33,22,33,26],[33,27,33,31],[33,50,33,52],[37,42,37,49],[38,14,38,54],[34,14,34,54],[41,14,41,17],[33,42,33,49],[31,27,31,31],[46,14,46,54],[49,0,49,38],[51,0,51,38],[53,0,53,38],[47,14,47,17],[47,18,47,21],[47,22,47,26],[47,32,47,36],[47,37,47,41],[52,22,52,25],[52,42,52,47],[50,42,50,47],[89,33,89,54],[98,0,98,26],[110,42,110,54],[110,36,110,41],[110,14,110,23],[104,34,105,53],[98,27,98,54],[106,0,106,26],[106,27,106,33],[107,0,107,13],[110,6,110,13],[108,0,109,26],[107,15,107,21],[107,22,107,26],[110,30,110,35],[110,0,110,5],[110,24,110,29],[99,27,99,33]]}
["Auftragsblatt"]
[]
[]
[]
[]
["Kunde:",null,null,null,null,null,null,null,null,null,null,null,null,null,{"$f":"Stückliste!D5","v":0}]
[]
["Ort:",null,null,null,null,null,null,null,null,null,null,null,null,null,{"$f":"Stückliste!D11","v":0}]
[]
["Baustelle:",null,null,null,null,null,null,null,null,null,null,null,null,null,{"$f":"Stückliste!AC11","v":0}]
[]
["Vorgang Gasser:",null,null,null,null,null,null,null,null,null,null,null,null,null,null,null,null,null,null,null,null,null,null,null,null,null,null,null,null,null,null,null,null,null,null,null,null,null,"Bohrung:",{"$f":"Stückliste!AV1","v":0},null,null,null,null,"mm"]
[]
[]
[]
[]
["Plattenpreis:",null,null,null,null,null,null,null,null,null,null,null,null,null,null,null,null,null,null,null," Fr./m2",null,null,null,null,null,null,null,null,null,"Rab.:",null,null,null," %",null,null,null,null,null,null,null,"= netto",{"$f":"(O17/100)*(100-AF17)","v":0},null,null,null,null,null," Fr./m2"]
[]
["Schnittpreis:",null,null,null,null,null,null,null,null,null,null,null,null,null,null,null,null,null,null,null," Fr./ml",null,null,null,null,null,null,null,null,null,"Rab.:",null,null,null," %",null,null,null,null,null,null,null,"= netto",{"$f":"(O19/100)*(100-AF19)","v":0},null,null,null,null,null," Fr./ml"]
[]
["Lochpreis:",null,null,null,null,null,null,null,null,null,null,null,null,null,null,null,null,null,null,null," Fr./Stk.",null,null,null,null,null,null,null,null,null,"Rab.:",null,null,null," %",null,null,null,null,null,null,null,"= netto",{"$f":"(O21/100)*(100-AF21)","v":0},null,null,null,null,null," Fr./Stk."]
[]
["Bemerkungen:",null,null,null,null,null,null,null,null,null,null,null,null,null,{"$f":"Stückliste!AA45","v":0}]
[]
[]
["Material:",null,null,null,null,null,null,null,null,null,null,null,null,null,{"$f":"Stückliste!F22","v":0},null,null,null,null,null,null,null,null,null,null,null,null,null,null,null,null,null,null,null,null,null,null,null,"Dicke:",{"$f":"Stückliste!AQ22","v":8},null,null,null,null,"mm"]
[]
["Farbe:",null,null,null,null,null,null,null,null,null,null,null,null,null,{"$f":"Stückliste!Y22","v":0}]
[]
["Originalplatten:",null,null,null,null,null,null,null,null,null,null,null,null,null,null,null,null,null,"Stk. ",null,null,null,"3070",null,null,null,null,"mm   x ",null,null,null,null,"1270",null,null,null,null,"mm   =",null,null,null,null,{"$f":"O30*((W30/1000)*(AG30/1000))","v":0},null,null,null,null,null,null,null,"m2 "]
[]
[null,null,null,null,null,null,null,null,null,null,null,null,null,null,null,null,null,null,"Stk. ",null,null,null,"2530",null,null,null,null,"mm   x ",null,null,null,null,"1270",null,null,null,null,"mm   =",null,null,null,null,{"$f":"O32*((W32/1000)*(AG32/1000))","v":0},null,null,null,null,null,null,null,"m2 "]
[]
[null,null,null,null,null,null,null,null,null,null,null,null,null,null,null,null,null,null,"Stk. ",null,null,null,"2030",null,null,null,null,"mm   x ",null,null,null,null,"1270",null,null,null,null,"mm   =",null,null,null,null,{"$f":"O34*((W34/1000)*(AG34/1000))","v":0},null,null,null,null,null,null,null,"m2 "]
[]
[null,null,null,null,null,null,null,null,null,null,null,null,null,null,null,null,null,null,"Stk. ",null,null,null,"3070",null,null,null,null,"mm   x ",null,null,null,null,"950",null,null,null,null,"mm   =",null,null,null,null,{"$f":"O36*((W36/1000)*(AG36/1000))","v":0},null,null,null,null,null,null,null,"m2 "]
[]
[null,null,null,null,null,null,null,null,null,null,null,null,null,null,null,null,null,null,"Stk. ",null,null,null,"2530",null,null,null,null,"mm   x ",null,null,null,null,"950",null,null,null,null,"mm   =",null,null,null,null,{"$f":"O38*((W38/1000)*(AG38/1000))","v":0},null,null,null,null,null,null,null,"m2 "]
[]
[null,null,null,null,null,null,null,null,null,null,null,null,null,null,null,null,null,null,"Stk. ",null,null,null,null,null,null,null,null,"mm   x ",null,null,null,null,null,null,null,null,null,"mm   =",null,null,null,null,{"$f":"O40*((W40/1000)*(AG40/1000))","v":0},null,null,null,null,null,null,null,"m2 "]
[]
[null,null,null,null,null,null,null,null,null,null,null,null,null,null,null,null,null,null,"Stk. ",null,null,null,null,null,null,null,null,"mm   x ",null,null,null,null,null,null,null,null,null,"mm   =",null,null,null,null,{"$f":"O42*((W42/1000)*(AG42/1000))","v":0},null,null,null,null,null,null,null,"m2 "]
[]
[null,null,null,null,null,null,null,null,null,null,null,null,null,null,null,null,null,null,"Stk. ",null,null,null,null,null,null,null,null,"mm   x ",null,null,null,null,null,null,null,null,null,"mm   =",null,null,null,null,{"$f":"O44*((W44/1000)*(AG44/1000))","v":0},null,null,null,null,null,null,null,"m2 "]
[]
[null,null,null,null,null,null,null,null,null,null,null,null,null,null,null,null,null,null,"Stk. ",null,null,null,null,null,null,null,null,"mm   x ",null,null,null,null,null,null,null,null,null,"mm   =",null,null,null,null,{"$f":"O46*((W46/1000)*(AG46/1000))","v":0},null,null,null,null,null,null,null,"m2 "]
[]
[null,null,null,null,null,null,null,null,null,null,null,null,null,null,null,null,null,null,"Stk. ",null,null,null,null,null,null,null,null,"mm   x ",null,null,null,null,null,null,null,null,null,"mm   =",null,null,null,null,{"$f":"O48*((W48/1000)*(AG48/1000))","v":0},null,null,null,null,null,null,null,"m2 "]
[]
[]
["Plattenverbrauch:",null,null,null,null,null,null,null,null,null,null,null,null,null,{"$f":"SUM(AQ30:AX48)","v":0},null,null,null,null,null,null,null," m2  ",null,null,null,"=",null,null,100,null,null,null,null,null," %  "]
[]
["Ausnutzung:",null,null,null,null,null,null,null,null,null,null,null,null,null,{"$f":"Stückliste!K53","v":0},null,null,null,null,null,null,null," m2  ",null,null,null,"=",null,null,{"$f":"(AD51/O51)*O53","v":{"$error":"#DIV/0!"}},null,null,null,null,null," %  "]
[]
["Abfall / Verschnitt:",null,null,null,null,null,null,null,null,null,null,null,null,null,{"$f":"O51-O53","v":0},null,null,null,null,null,null,null," m2  ",null,null,null,"=",null,null,{"$f":"(AD51/O51)*O55","v":{"$error":"#DIV/0!"}},null,null,null,null,null," %  "]
[]
["Kantenschnitt:",null,null,null,null,null,null,null,null,null,null,null,null,null,{"$f":"Stückliste!AH53","v":0},null,null,null,null,null,null,null," ml",null,null,null,null,null,null,null,null,null,null,null,null,null,null,null,null,null,{"$f":"IF(AN26=8,15,23)","v":15}]
[]
["Anzahl Löcher:",null,null,null,null,null,null,null,null,null,null,null,null,null,{"$f":"Stückliste!AT53","v":0},null,null,null,null,null,null,null," Stk."]
[]
[]
[]
[]
[]
[]
[]
[]
[]
[]
[]
[]
["Arbeitsrapport"]
[]
[]
[]
[]
["Kunde:",null,null,null,null,null,null,null,null,null,null,null,null,null,{"$f":"O6","v":0}]
[]
["Ort:",null,null,null,null,null,null,null,null,null,null,null,null,null,{"$f":"O8","v":0}]
[]
["Baustelle:",null,null,null,null,null,null,null,null,null,null,null,null,null,{"$f":"O10","v":0}]
[]
["Vorgang Gasser:",null,null,null,null,null,null,null,null,null,null,null,null,null,{"$f":"O12","v":0},null,null,null,null,null,null,null,null,null,null,null,null,null,null,"Bohrung:",null,null,null,null,null,null,null,null,null,{"$f":"AN12","v":0},null,null,null,null,"mm"]
[]
[null,null,null,null,null,null,null,null,null,null,null,null,null,null,{"$f":"O14","v":0}]
[]
[]
["Material:",null,null,null,null,null,null,null,null,null,null,null,null,null,{"$f":"O26","v":0},null,null,null,null,null,null,null,null,null,null,null,null,null,null,null,null,null,null,"Dicke:",null,null,null,null,null,{"$f":"AN26","v":8},null,null,null,null,"mm"]
[]
["Farbe:",null,null,null,null,null,null,null,null,null,null,null,null,null,{"$f":"O28","v":0}]
[]
[]
[null,null,null,null,"Zubehör:"]
[]
["Bemerkungen:",null,null,null,null,null,null,null,null,null,null,null,null,null,{"$f":"Stückliste!AA45","v":0}]
[]
[]
[null,null,"Bearbeitung",null,null,null,null,null,null,null,null,null,null,null,null,null,null,null,null,null,null,null,null,null,null,null,null,null,null,"Termine"]
[]
[null,null,null,null,null,null,null,null,null,null,null,null,null,null,null,null,null,null,null,null,null,null,null,null,null,null,null,null,null,null,null,null,null,null,{"$f":"Stückliste!AG17","v":"00:00:00"}]
["Gewicht:",null,null,null,null,null,null,null,null,null,null,null,null,null,null,{"$f":"O51*(AN26*1.875)","v":0},null,null,null,null,null,null,"kg",null,null,null,null,"WT:"]
[]
[]
["Schnittmeter:",null,null,null,null,null,null,null,null,null,null,null,null,null,null,{"$f":"Stückliste!AH53","v":0},null,null,null,null,null,null,"m1",null,null,null,null,"AT:"]
[]
["Bohrungen:",null,null,null,null,null,null,null,null,null,null,null,null,null,null,{"$f":"Stückliste!AT53","v":0},null,null,null,null,null,null,"Stk",null,null,null,null,"WE:"]
[]
["Schnittzeit",null,null,null,null,null,null,null,null,null,null,null,null,null,null,null,null,null,null,null,null,null," Std.",null,null,null,null,"Info:"]
[]
[]
["Datum",null,null,null,null,null,"Arbeiter",null,null,null,null,null,null,null,"Arbeitsgang",null,null,null,null,null,null,null,null,null,"Beginn",null,null,null,null,null,"Ende",null,null,null,null,null,"TOTAL",null,null,null,null,null,"Bemerkungen"]
[null,null,null,null,null,null,null,null,null,null,null,null,null,null,"bestellen",null,null,null,null,null,null,null,null,null,null,null,null,null,null,null,null,null,null,null,null,null,{"$f":"AE112-Y112","v":0}]
[null,null,null,null,null,null,"Naim",null,null,null,null,null,null,null,"optimieren",null,null,null,null,null,null,null,null,null,null,null,null,null,null,null,null,null,null,null,null,null,0]
[null,null,null,null,null,null,null,null,null,null,null,null,null,null,"schneiden",null,null,null,null,null,null,null,null,null,null,null,null,null,null,null,null,null,null,null,null,null,0]
[null,null,null,null,null,null,null,null,null,null,null,null,null,null,"schneiden",null,null,null,null,null,null,null,null,null,null,null,null,null,null,null,null,null,null,null,null,null,0]
[null,null,null,null,null,null,null,null,null,null,null,null,null,null,"bohren",null,null,null,null,null,null,null,null,null,null,null,null,null,null,null,null,null,null,null,null,null,0]
[null,null,null,null,null,null,null,null,null,null,null,null,null,null,"bohren",null,null,null,null,null,null,null,null,null,null,null,null,null,null,null,null,null,null,null,null,null,0]
[]
[]
[]
[]
[]
[]
[]
[]
[]
[]
[]
[]
[]
[]
[]
[]
[]
[]
[]
[]
[]
[]
[]
[]
[]
["KOMMISSION"]
[]
[]
[]
[]
["Kunde:",null,null,null,null,null,null,null,null,null,null,null,null,null,{"$f":"O6","v":0}]
[]
["Ort:",null,null,null,null,null,null,null,null,null,null,null,null,null,{"$f":"O8","v":0}]
[]
["Baustelle:",null,null,null,null,null,null,null,null,null,null,null,null,null,{"$f":"O10","v":0}]
[]
["Vorgang Gasser:",null,null,null,null,null,null,null,null,null,null,null,null,null,{"$f":"O12","v":0}]
[]
[null,null,null,null,null,null,null,null,null,null,null,null,null,null,{"$f":"O14","v":0}]
[]
["Listen-Nr.:"]
[]
["Pos.-Nr.:"]
[]
["Gasser Baumaterialien AG, 7324 Vilters           Tel: 081 / 735 33 07"]

{"sheet":"Farben","index":5,"n_rows":140,"n_cols":19,"rows_kept":140,"cut":false,"hidden":true,"merged":[]}
[]
[]
[]
[]
["Schrauben","Beige N 811","SwisspearlFarben02","SwisspearlFarben07","Swisspearl Carat","Bauplatten","Duripanel","Plancolor","Fermacell","Knauf","Rockpanel","Dreischichtplatte","MDF","Swissfiber",null,"Plattenmaterial",null,"SB","Stärke"]
["Beige N 811","Beige N 811","Beige N 801","Beige N 811","Carat N 7020","Eterplan","Duripanel 1","Plancolor N 1015","Fermacell10","Knauf12.5","Rockpanel","Dreischichtplatte","MDF","Swissfiber",null,"Swisspearl Farben 02",null,"Naim",4]
["Beige N 813","Beige N 813","Beige N 802","Beige N 813","Carat N 7021","Eterplan Plus 10","Duripanel 2","Plancolor N 2010","Fermacell12.5","Knauf15",null,null,null,null,null,"Swisspearl Farben 07",null,"René",5]
["Blaun N 411","Blaun N 411","Beige T 803","Blaun N 411","Carat N 7022","Eterplan Plus 12",null,"Plancolor N 4010","Fermacell15","Knauf18",null,null,null,null,null,"Swisspearl Carat",null,null,6]
["Blau N 412","Blau N 412","Blau N 401","Blau N 412","Carat N 7030","Eterplan Plus 15",null,"Plancolor N 6505","Fermacell18","Knauf20",null,null,null,null,null,"Bauplatten",null,null,7]
["Braun N 915","Braun N 915","Blau N 402","Braun N 915","Carat N 7031","Eterplan Plus 20",null,"Plancolor N 6510",null,null,null,null,null,null,null,"Duripanel geschl",null,null,8]
["Gelb N 611","Gelb N 611","Blau T 403","Gelb N 611","Carat N 7032","Eterplan Plus 6",null,"Plancolor N 6520",null,null,null,null,null,null,null,"Duripanel ungeschl",null,null,9]
["Gelb N 612","Gelb N 612","Blau T 404","Gelb N 612","Carat N 7040","Eterplan Plus 8",null,null,null,null,null,null,null,null,null,"Gipskartonplatten",null,null,10]
["Grau N 211","Grau N 211","Blau T 405","Grau N 211","Carat N 7041",null,null,null,null,null,null,null,null,null,null,"Knauf",null,null,12]
["Grau N 212","Grau N 212","Blau T 405","Grau N 212","Carat N 7043",null,null,null,null,null,null,null,null,null,null,"Plancolor",null,null,14]
["Grau N 213","Grau N 213","Braun TN 901","Grau N 213","Carat N 7050",null,null,null,null,null,null,null,null,null,null,"Welleternit",null,null,15]
["Grau N 214","Grau N 214","Braun TN 902","Grau N 214","Carat N 7051",null,null,null,null,null,null,null,null,null,null,"Fermacell",null,null,16]
["Grau N 215","Grau N 215","Braun TN 903","Grau N 215","Carat N 7060",null,null,null,null,null,null,null,null,null,null,"Rockpanel",null,null,18]
["Grün N 511","Grün N 511","Braun TN 904","Grün N 511","Carat N 7061",null,null,null,null,null,null,null,null,null,null,"Dreischichtplatte",null,null,20]
["Grün N 512","Grün N 512","Gelb T 601","Grün N 512","Carat N 7070",null,null,null,null,null,null,null,null,null,null,"MDF",null,null,22]
["Grün N 513","Grün N 513","Gelb T 602","Grün N 513","Carat N 7071",null,null,null,null,null,null,null,null,null,null,"Swissfibre",null,null,24]
["Grün N 514","Grün N 514","Gelb T 603","Grün N 514","Carat N 7073",null,null,null,null,null,null,null,null,null,null,null,null,null,25]
["Grün N 515","Grün N 515","Grau N 201","Grün N 515","Carat N 7080",null,null,null,null,null,null,null,null,null,null,null,null,null,28]
["Orange N 711","Orange N 711","Grau N 202","Orange N 711","Carat N 7081",null,null,null,null,null,null,null,null,null,null,null,null,null,30]
["Rot N 312","Rot N 312","Grau N 203","Rot N 312","Carat N 7082",null,null,null,null,null,null,null,null,null,null,null,null,null,32]
["Schwarz N 012","Schwarz N 012","Grau N 204","Schwarz N 012","Carat N 7090",null,null,null,null,null,null,null,null,null,null,null,null,null,36]
["Weiss N 112","Weiss N 112","Grau T 205","Weiss N 112","Carat N 7091",null,null,null,null,null,null,null,null,null,null,null,null,null,37]
["Beige P 812","Beige P 812","Grau T 206","Beige P 812","Xpressiv 5747",null,null,null,null,null,null,null,null,null,null,null,null,null,40]
["Blau P 413","Blau P 413","Grau T 207","Blau P 413"]
["Blau P 414","Blau P 414","Grau T 208","Blau P 414"]
["Gelb P 613","Gelb P 613","Grün N 501","Gelb P 613"]
["Gelb P 614","Gelb P 614","Grün N 502","Gelb P 614"]
["Gelb P 615","Gelb P 615","Grün N 503","Gelb P 615"]
["Gelb P 616","Gelb P 616","Grün T 504","Gelb P 616"]
["Gelb P 617","Gelb P 617","Orange T 701","Gelb P 617"]
["Grau P 216","Grau P 216","Rot N 301","Grau P 216"]
["Grün P 516","Grün P 516","Rot N 302","Grün P 516"]
["Grün P 517","Grün P 517","Rot N 303","Grün P 517"]
["Grün P 518","Grün P 518","Rot T 304","Grün P 518"]
["Grün P 519","Grün P 519","Rot T 306","Grün P 519"]
["Orange P 712","Orange P 712","Rot T 307","Orange P 712"]
["Rot P 313","Rot P 313","Schwarz T 001","Rot P 313"]
["Rot P 314","Rot P 314","Schwarz T 002","Rot P 314"]
["Rot P 315","Rot P 315","Weiss N 101","Rot P 315"]
["Schwarz P 011","Schwarz P 011","Weiss T 102","Schwarz P 011"]
["Weiss P 111","Weiss P 111","Weiss T 103","Weiss P 111"]
["Weiss P 113","Weiss P 113",null,"Weiss P 113"]
["Braun TR 911","Braun TR 911",null,"Braun TR 911"]
["Braun TR 912","Braun TR 912",null,"Braun TR 912"]
["Braun TR 913","Braun TR 913",null,"Braun TR 913"]
["Braun TR 914","Braun TR 914",null,"Braun TR 914"]
["Rot TR 311","Rot TR 311",null,"Rot TR 311"]
["Carat N 7020","Carat N 7020"]
["Carat N 7021","Carat N 7021"]
["Carat N 7022","Carat N 7022"]
["Carat N 7030","Carat N 7030"]
["Carat N 7031","Carat N 7031"]
["Carat N 7032","Carat N 7032"]
["Carat N 7040","Carat N 7040"]
["Carat N 7041","Carat N 7041"]
["Carat N 7043","Carat N 7043"]
["Carat N 7050","Carat N 7050"]
["Carat N 7051","Carat N 7051"]
["Carat N 7060","Carat N 7060"]
["Carat N 7061","Carat N 7061"]
["Carat N 7070","Carat N 7070"]
["Carat N 7071","Carat N 7071"]
["Carat N 7073","Carat N 7073"]
["Carat N 7080","Carat N 7080"]
["Carat N 7081","Carat N 7081"]
["Carat N 7082","Carat N 7082"]
["Carat N 7090","Carat N 7090"]
["Carat N 7091","Carat N 7091"]
["Xpressiv 5747","Xpressiv 5747"]
["Beige N 801","Beige N 801"]
["Beige N 802","Beige N 802"]
["Beige T 803","Beige T 803"]
["Blau N 401","Blau N 401"]
["Blau N 402","Blau N 402"]
["Blau T 403","Blau T 403"]
["Blau T 404","Blau T 404"]
["Blau T 405","Blau T 405"]
["Blau T 405","Blau T 405"]
["Braun TN 901","Braun TN 901"]
["Braun TN 902","Braun TN 902"]
["Braun TN 903","Braun TN 903"]
["Braun TN 904","Braun TN 904"]
["Gelb T 601","Gelb T 601"]
["Gelb T 602","Gelb T 602"]
["Gelb T 603","Gelb T 603"]
["Grau N 201","Grau N 201"]
["Grau N 202","Grau N 202"]
["Grau N 203","Grau N 203"]
["Grau N 204","Grau N 204"]
["Grau T 205","Grau T 205"]
["Grau T 206","Grau T 206"]
["Grau T 207","Grau T 207"]
["Grau T 208","Grau T 208"]
["Grün N 501","Grün N 501"]
["Grün N 502","Grün N 502"]
["Grün N 503","Grün N 503"]
["Grün T 504","Grün T 504"]
["Orange T 701","Orange T 701"]
["Rot N 301","Rot N 301"]
["Rot N 302","Rot N 302"]
["Rot N 303","Rot N 303"]
["Rot T 304","Rot T 304"]
["Rot T 306","Rot T 306"]
["Rot T 307","Rot T 307"]
["Schwarz T 001","Schwarz T 001"]
["Schwarz T 002","Schwarz T 002"]
["Weiss N 101","Weiss N 101"]
["Weiss T 102","Weiss T 102"]
["Weiss T 103","Weiss T 103"]
[null,"Eterplan"]
[null,"Eterplan Plus 10"]
[null,"Eterplan Plus 12"]
[null,"Eterplan Plus 15"]
[null,"Eterplan Plus 20"]
[null,"Eterplan Plus 6"]
[null,"Eterplan Plus 8"]
[null,"Duripanel 1"]
[null,"Duripanel 2"]
[null,"Plancolor N 1015"]
[null,"Plancolor N 2010"]
[null,"Plancolor N 4010"]
[null,"Plancolor N 6505"]
[null,"Plancolor N 6510"]
[null,"Plancolor N 6520"]
[null,"Fermacell10"]
[null,"Fermacell12.5"]
[null,"Fermacell15"]
[null,"Fermacell18"]
[null,"Knauf12.5"]
[null,"Knauf15"]
[null,"Knauf18"]
[null,"Knauf20"]
[null,"Rockpanel"]
[null,"Dreischichtplatte"]
[null,"MDF"]
[null,"Swissfiber"]